Workbook

Sheet Tabelle1
A1: Pallete | B1: Code
A2: 1 | B2: aaa | D2: =COUNTIF($B$2:$B$13,B2) -> 2
A3: 2 | B3: abb | D3: =COUNTIF($B$2:$B$13,B3) -> 1
A4: 3 | B4: aba | D4: =COUNTIF($B$2:$B$13,B4) -> 2
A5: 4 | B5: aaa | D5: =COUNTIF($B$2:$B$13,B5) -> 2
A6: 5 | B6: abc | D6: =COUNTIF($B$2:$B$13,B6) -> 2
A7: 6 | B7: abd | D7: =COUNTIF($B$2:$B$13,B7) -> 1
A8: 7 | B8: cde | D8: =COUNTIF($B$2:$B$13,B8) -> 1
B9: cdf | D9: =COUNTIF($B$2:$B$13,B9) -> 1
B10: cdg | D10: =COUNTIF($B$2:$B$13,B10) -> 1
A11: 8 | B11: aba | D11: =COUNTIF($B$2:$B$13,B11) -> 2
A12: 9 | B12: abc | D12: =COUNTIF($B$2:$B$13,B12) -> 2
A13: 10 | B13: dge | D13: =COUNTIF($B$2:$B$13,B13) -> 1

Sheet Tabelle2
A1: Pallete | B1: Code
B2: {=IFERROR(INDEX(Tabelle1!$B$2:$B$13,MATCH(0,COUNTIF(Tabelle2!$B$1:B1,Tabelle1!$B$2:$B$13),0)),"")} -> aaa | D2: B1=WENNFEHLER(INDEX(Tabelle1!$B$2:$B$13;VERGLEICH(0;ZÄHLENWENN(Tabelle2!$B$1:B1;Tabelle1!$B$2:$B$13);0));"")
B3: {=IFERROR(INDEX(Tabelle1!$B$2:$B$13,MATCH(0,COUNTIF(Tabelle2!$B$1:B2,Tabelle1!$B$2:$B$13),0)),"")} -> abb
B4: {=IFERROR(INDEX(Tabelle1!$B$2:$B$13,MATCH(0,COUNTIF(Tabelle2!$B$1:B3,Tabelle1!$B$2:$B$13),0)),"")} -> aba
B5: {=IFERROR(INDEX(Tabelle1!$B$2:$B$13,MATCH(0,COUNTIF(Tabelle2!$B$1:B4,Tabelle1!$B$2:$B$13),0)),"")} -> abc
B6: {=IFERROR(INDEX(Tabelle1!$B$2:$B$13,MATCH(0,COUNTIF(Tabelle2!$B$1:B5,Tabelle1!$B$2:$B$13),0)),"")} -> abd
B7: {=IFERROR(INDEX(Tabelle1!$B$2:$B$13,MATCH(0,COUNTIF(Tabelle2!$B$1:B6,Tabelle1!$B$2:$B$13),0)),"")} -> cde
B8: {=IFERROR(INDEX(Tabelle1!$B$2:$B$13,MATCH(0,COUNTIF(Tabelle2!$B$1:B7,Tabelle1!$B$2:$B$13),0)),"")} -> cdf
B9: {=IFERROR(INDEX(Tabelle1!$B$2:$B$13,MATCH(0,COUNTIF(Tabelle2!$B$1:B8,Tabelle1!$B$2:$B$13),0)),"")} -> cdg
B10: {=IFERROR(INDEX(Tabelle1!$B$2:$B$13,MATCH(0,COUNTIF(Tabelle2!$B$1:B9,Tabelle1!$B$2:$B$13),0)),"")} -> dge
B11: {=IFERROR(INDEX(Tabelle1!$B$2:$B$13,MATCH(0,COUNTIF(Tabelle2!$B$1:B10,Tabelle1!$B$2:$B$13),0)),"")}
B12: {=IFERROR(INDEX(Tabelle1!$B$2:$B$13,MATCH(0,COUNTIF(Tabelle2!$B$1:B11,Tabelle1!$B$2:$B$13),0)),"")}
A13: Wunschergebnis: | B13: {=IFERROR(INDEX(Tabelle1!$B$2:$B$13,MATCH(0,COUNTIF(Tabelle2!$B$1:B12,Tabelle1!$B$2:$B$13),0)),"")}
A14: Pallete | B14: Code
A15: 1, 4 | B15: aaa
A16: 2 | B16: abb
A17: 3, 8 | B17: aba
A18: 5, 9 | B18: abc
A19: 6 | B19: abd
A20: 7 | B20: cde
A21: 7 | B21: cdf
A22: 7 | B22: cdg
A23: 10 | B23: dge
