Workbook

Sheet Kalender
A1: 2021 | B1: 1 | C1: 2 | D1: 3 | E1: 4 | F1: 5 | G1: 6 | H1: 7 | I1: 8 | J1: 9 | K1: 10 | L1: 11 | M1: 12 | N1: 13 | O1: 14 | P1: 15 | Q1: 16 | R1: 17 | S1: 18 | T1: 19 | U1: 20 | V1: 21 | W1: 22 | X1: 23 | Y1: 24 | Z1: 25 | AA1: 26 | AB1: 27 | AC1: 28 | AD1: 29 | AE1: 30 | AF1: 31
A2: Januar | B2: =DATEVALUE(B$1&$A2&$A$1) -> 44197 | C2: =DATEVALUE(C$1&$A2&$A$1) -> 44198 | D2: =DATEVALUE(D$1&$A2&$A$1) -> 44199 | E2: =DATEVALUE(E$1&$A2&$A$1) -> 44200 | F2: =DATEVALUE(F$1&$A2&$A$1) -> 44201 | G2: =DATEVALUE(G$1&$A2&$A$1) -> 44202 | H2: =DATEVALUE(H$1&$A2&$A$1) -> 44203 | I2: =DATEVALUE(I$1&$A2&$A$1) -> 44204 | ... AF2: =DATEVALUE(AF$1&$A2&$A$1) -> 44227 | AH2: Januar
B3: =IF(ISERROR(VLOOKUP(DATEVALUE(B$1&"."&$AG3&"."&$A$1),Feiertage!$A$2:$B$26,2,)),"",VLOOKUP(DATEVALUE(B$1&"."&$AG3&"."&$A$1),Feiertage!$A$2:$B$26,2,)) -> Neujahr | C3: =IF(ISERROR(VLOOKUP(DATEVALUE(C$1&"."&$AG3&"."&$A$1),Feiertage!$A$2:$B$26,2,)),"",VLOOKUP(DATEVALUE(C$1&"."&$AG3&"."&$A$1),Feiertage!$A$2:$B$26,2,)) | D3: =IF(ISERROR(VLOOKUP(DATEVALUE(D$1&"."&$AG3&"."&$A$1),Feiertage!$A$2:$B$26,2,)),"",VLOOKUP(DATEVALUE(D$1&"."&$AG3&"."&$A$1),Feiertage!$A$2:$B$26,2,)) | E3: =IF(ISERROR(VLOOKUP(DATEVALUE(E$1&"."&$AG3&"."&$A$1),Feiertage!$A$2:$B$26,2,)),"",VLOOKUP(DATEVALUE(E$1&"."&$AG3&"."&$A$1),Feiertage!$A$2:$B$26,2,)) | F3: =IF(ISERROR(VLOOKUP(DATEVALUE(F$1&"."&$AG3&"."&$A$1),Feiertage!$A$2:$B$26,2,)),"",VLOOKUP(DATEVALUE(F$1&"."&$AG3&"."&$A$1),Feiertage!$A$2:$B$26,2,)) | G3: =IF(ISERROR(VLOOKUP(DATEVALUE(G$1&"."&$AG3&"."&$A$1),Feiertage!$A$2:$B$26,2,)),"",VLOOKUP(DATEVALUE(G$1&"."&$AG3&"."&$A$1),Feiertage!$A$2:$B$26,2,)) -> hl. 3 Könige | H3: =IF(ISERROR(VLOOKUP(DATEVALUE(H$1&"."&$AG3&"."&$A$1),Feiertage!$A$2:$B$26,2,)),"",VLOOKUP(DATEVALUE(H$1&"."&$AG3&"."&$A$1),Feiertage!$A$2:$B$26,2,)) | I3: =IF(ISERROR(VLOOKUP(DATEVALUE(I$1&"."&$AG3&"."&$A$1),Feiertage!$A$2:$B$26,2,)),"",VLOOKUP(DATEVALUE(I$1&"."&$AG3&"."&$A$1),Feiertage!$A$2:$B$26,2,)) | ... AF3: =IF(ISERROR(VLOOKUP(DATEVALUE(AF$1&"."&$AG3&"."&$A$1),Feiertage!$A$2:$B$26,2,)),"",VLOOKUP(DATEVALUE(AF$1&"."&$AG3&"."&$A$1),Feiertage!$A$2:$B$26,2,)) | AG3: 1
A4: Februar | B4: =DATEVALUE(B$1&$A4&$A$1) -> 44228 | C4: =DATEVALUE(C$1&$A4&$A$1) -> 44229 | D4: =DATEVALUE(D$1&$A4&$A$1) -> 44230 | E4: =DATEVALUE(E$1&$A4&$A$1) -> 44231 | F4: =DATEVALUE(F$1&$A4&$A$1) -> 44232 | G4: =DATEVALUE(G$1&$A4&$A$1) -> 44233 | H4: =DATEVALUE(H$1&$A4&$A$1) -> 44234 | I4: =DATEVALUE(I$1&$A4&$A$1) -> 44235 | ... AC4: =DATEVALUE(AC$1&$A4&$A$1) -> 44255 | AD4: =IF(ISERROR(DATEVALUE(AD$1&$A4&$A$1)),"",(DATEVALUE(AD$1&$A4&$A$1))) | AH4: Februar
B5: =IF(ISERROR(VLOOKUP(DATEVALUE(B$1&"."&$AG5&"."&$A$1),Feiertage!$A$2:$B$26,2,)),"",VLOOKUP(DATEVALUE(B$1&"."&$AG5&"."&$A$1),Feiertage!$A$2:$B$26,2,)) | C5: =IF(ISERROR(VLOOKUP(DATEVALUE(C$1&"."&$AG5&"."&$A$1),Feiertage!$A$2:$B$26,2,)),"",VLOOKUP(DATEVALUE(C$1&"."&$AG5&"."&$A$1),Feiertage!$A$2:$B$26,2,)) | D5: =IF(ISERROR(VLOOKUP(DATEVALUE(D$1&"."&$AG5&"."&$A$1),Feiertage!$A$2:$B$26,2,)),"",VLOOKUP(DATEVALUE(D$1&"."&$AG5&"."&$A$1),Feiertage!$A$2:$B$26,2,)) | E5: =IF(ISERROR(VLOOKUP(DATEVALUE(E$1&"."&$AG5&"."&$A$1),Feiertage!$A$2:$B$26,2,)),"",VLOOKUP(DATEVALUE(E$1&"."&$AG5&"."&$A$1),Feiertage!$A$2:$B$26,2,)) | F5: =IF(ISERROR(VLOOKUP(DATEVALUE(F$1&"."&$AG5&"."&$A$1),Feiertage!$A$2:$B$26,2,)),"",VLOOKUP(DATEVALUE(F$1&"."&$AG5&"."&$A$1),Feiertage!$A$2:$B$26,2,)) | G5: =IF(ISERROR(VLOOKUP(DATEVALUE(G$1&"."&$AG5&"."&$A$1),Feiertage!$A$2:$B$26,2,)),"",VLOOKUP(DATEVALUE(G$1&"."&$AG5&"."&$A$1),Feiertage!$A$2:$B$26,2,)) | H5: =IF(ISERROR(VLOOKUP(DATEVALUE(H$1&"."&$AG5&"."&$A$1),Feiertage!$A$2:$B$26,2,)),"",VLOOKUP(DATEVALUE(H$1&"."&$AG5&"."&$A$1),Feiertage!$A$2:$B$26,2,)) | I5: =IF(ISERROR(VLOOKUP(DATEVALUE(I$1&"."&$AG5&"."&$A$1),Feiertage!$A$2:$B$26,2,)),"",VLOOKUP(DATEVALUE(I$1&"."&$AG5&"."&$A$1),Feiertage!$A$2:$B$26,2,)) | ... AC5: =IF(ISERROR(VLOOKUP(DATEVALUE(AC$1&"."&$AG5&"."&$A$1),Feiertage!$A$2:$B$26,2,)),"",VLOOKUP(DATEVALUE(AC$1&"."&$AG5&"."&$A$1),Feiertage!$A$2:$B$26,2,)) | AG5: 2
A6: März | B6: =DATEVALUE(B$1&$A6&$A$1) -> 44256 | C6: =DATEVALUE(C$1&$A6&$A$1) -> 44257 | D6: =DATEVALUE(D$1&$A6&$A$1) -> 44258 | E6: =DATEVALUE(E$1&$A6&$A$1) -> 44259 | F6: =DATEVALUE(F$1&$A6&$A$1) -> 44260 | G6: =DATEVALUE(G$1&$A6&$A$1) -> 44261 | H6: =DATEVALUE(H$1&$A6&$A$1) -> 44262 | I6: =DATEVALUE(I$1&$A6&$A$1) -> 44263 | ... AF6: =DATEVALUE(AF$1&$A6&$A$1) -> 44286 | AH6: März
B7: =IF(ISERROR(VLOOKUP(DATEVALUE(B$1&"."&$AG7&"."&$A$1),Feiertage!$A$2:$B$26,2,)),"",VLOOKUP(DATEVALUE(B$1&"."&$AG7&"."&$A$1),Feiertage!$A$2:$B$26,2,)) | C7: =IF(ISERROR(VLOOKUP(DATEVALUE(C$1&"."&$AG7&"."&$A$1),Feiertage!$A$2:$B$26,2,)),"",VLOOKUP(DATEVALUE(C$1&"."&$AG7&"."&$A$1),Feiertage!$A$2:$B$26,2,)) | D7: =IF(ISERROR(VLOOKUP(DATEVALUE(D$1&"."&$AG7&"."&$A$1),Feiertage!$A$2:$B$26,2,)),"",VLOOKUP(DATEVALUE(D$1&"."&$AG7&"."&$A$1),Feiertage!$A$2:$B$26,2,)) | E7: =IF(ISERROR(VLOOKUP(DATEVALUE(E$1&"."&$AG7&"."&$A$1),Feiertage!$A$2:$B$26,2,)),"",VLOOKUP(DATEVALUE(E$1&"."&$AG7&"."&$A$1),Feiertage!$A$2:$B$26,2,)) | F7: =IF(ISERROR(VLOOKUP(DATEVALUE(F$1&"."&$AG7&"."&$A$1),Feiertage!$A$2:$B$26,2,)),"",VLOOKUP(DATEVALUE(F$1&"."&$AG7&"."&$A$1),Feiertage!$A$2:$B$26,2,)) | G7: =IF(ISERROR(VLOOKUP(DATEVALUE(G$1&"."&$AG7&"."&$A$1),Feiertage!$A$2:$B$26,2,)),"",VLOOKUP(DATEVALUE(G$1&"."&$AG7&"."&$A$1),Feiertage!$A$2:$B$26,2,)) | H7: =IF(ISERROR(VLOOKUP(DATEVALUE(H$1&"."&$AG7&"."&$A$1),Feiertage!$A$2:$B$26,2,)),"",VLOOKUP(DATEVALUE(H$1&"."&$AG7&"."&$A$1),Feiertage!$A$2:$B$26,2,)) | I7: =IF(ISERROR(VLOOKUP(DATEVALUE(I$1&"."&$AG7&"."&$A$1),Feiertage!$A$2:$B$26,2,)),"",VLOOKUP(DATEVALUE(I$1&"."&$AG7&"."&$A$1),Feiertage!$A$2:$B$26,2,)) | ... AF7: =IF(ISERROR(VLOOKUP(DATEVALUE(AF$1&"."&$AG7&"."&$A$1),Feiertage!$A$2:$B$26,2,)),"",VLOOKUP(DATEVALUE(AF$1&"."&$AG7&"."&$A$1),Feiertage!$A$2:$B$26,2,)) | AG7: 3
A8: April | B8: =DATEVALUE(B$1&$A8&$A$1) -> 44287 | C8: =DATEVALUE(C$1&$A8&$A$1) -> 44288 | D8: =DATEVALUE(D$1&$A8&$A$1) -> 44289 | E8: =DATEVALUE(E$1&$A8&$A$1) -> 44290 | F8: =DATEVALUE(F$1&$A8&$A$1) -> 44291 | G8: =DATEVALUE(G$1&$A8&$A$1) -> 44292 | H8: =DATEVALUE(H$1&$A8&$A$1) -> 44293 | I8: =DATEVALUE(I$1&$A8&$A$1) -> 44294 | ... AE8: =DATEVALUE(AE$1&$A8&$A$1) -> 44316 | AH8: April
B9: =IF(ISERROR(VLOOKUP(DATEVALUE(B$1&"."&$AG9&"."&$A$1),Feiertage!$A$2:$B$26,2,)),"",VLOOKUP(DATEVALUE(B$1&"."&$AG9&"."&$A$1),Feiertage!$A$2:$B$26,2,)) | C9: =IF(ISERROR(VLOOKUP(DATEVALUE(C$1&"."&$AG9&"."&$A$1),Feiertage!$A$2:$B$26,2,)),"",VLOOKUP(DATEVALUE(C$1&"."&$AG9&"."&$A$1),Feiertage!$A$2:$B$26,2,)) -> Karfrei-tag | D9: =IF(ISERROR(VLOOKUP(DATEVALUE(D$1&"."&$AG9&"."&$A$1),Feiertage!$A$2:$B$26,2,)),"",VLOOKUP(DATEVALUE(D$1&"."&$AG9&"."&$A$1),Feiertage!$A$2:$B$26,2,)) | E9: =IF(ISERROR(VLOOKUP(DATEVALUE(E$1&"."&$AG9&"."&$A$1),Feiertage!$A$2:$B$26,2,)),"",VLOOKUP(DATEVALUE(E$1&"."&$AG9&"."&$A$1),Feiertage!$A$2:$B$26,2,)) -> Oster-sonntag | F9: =IF(ISERROR(VLOOKUP(DATEVALUE(F$1&"."&$AG9&"."&$A$1),Feiertage!$A$2:$B$26,2,)),"",VLOOKUP(DATEVALUE(F$1&"."&$AG9&"."&$A$1),Feiertage!$A$2:$B$26,2,)) -> Oster-montag | G9: =IF(ISERROR(VLOOKUP(DATEVALUE(G$1&"."&$AG9&"."&$A$1),Feiertage!$A$2:$B$26,2,)),"",VLOOKUP(DATEVALUE(G$1&"."&$AG9&"."&$A$1),Feiertage!$A$2:$B$26,2,)) | H9: =IF(ISERROR(VLOOKUP(DATEVALUE(H$1&"."&$AG9&"."&$A$1),Feiertage!$A$2:$B$26,2,)),"",VLOOKUP(DATEVALUE(H$1&"."&$AG9&"."&$A$1),Feiertage!$A$2:$B$26,2,)) | I9: =IF(ISERROR(VLOOKUP(DATEVALUE(I$1&"."&$AG9&"."&$A$1),Feiertage!$A$2:$B$26,2,)),"",VLOOKUP(DATEVALUE(I$1&"."&$AG9&"."&$A$1),Feiertage!$A$2:$B$26,2,)) | ... AE9: =IF(ISERROR(VLOOKUP(DATEVALUE(AE$1&"."&$AG9&"."&$A$1),Feiertage!$A$2:$B$26,2,)),"",VLOOKUP(DATEVALUE(AE$1&"."&$AG9&"."&$A$1),Feiertage!$A$2:$B$26,2,)) | AG9: 4
A10: Mai | B10: =DATEVALUE(B$1&$A10&$A$1) -> 44317 | C10: =DATEVALUE(C$1&$A10&$A$1) -> 44318 | D10: =DATEVALUE(D$1&$A10&$A$1) -> 44319 | E10: =DATEVALUE(E$1&$A10&$A$1) -> 44320 | F10: =DATEVALUE(F$1&$A10&$A$1) -> 44321 | G10: =DATEVALUE(G$1&$A10&$A$1) -> 44322 | H10: =DATEVALUE(H$1&$A10&$A$1) -> 44323 | I10: =DATEVALUE(I$1&$A10&$A$1) -> 44324 | ... AF10: =DATEVALUE(AF$1&$A10&$A$1) -> 44347 | AH10: Mai
B11: 39569 | C11: =IF(ISERROR(VLOOKUP(DATEVALUE(C$1&"."&$AG11&"."&$A$1),Feiertage!$A$2:$B$26,2,)),"",VLOOKUP(DATEVALUE(C$1&"."&$AG11&"."&$A$1),Feiertage!$A$2:$B$26,2,)) | D11: =IF(ISERROR(VLOOKUP(DATEVALUE(D$1&"."&$AG11&"."&$A$1),Feiertage!$A$2:$B$26,2,)),"",VLOOKUP(DATEVALUE(D$1&"."&$AG11&"."&$A$1),Feiertage!$A$2:$B$26,2,)) | E11: =IF(ISERROR(VLOOKUP(DATEVALUE(E$1&"."&$AG11&"."&$A$1),Feiertage!$A$2:$B$26,2,)),"",VLOOKUP(DATEVALUE(E$1&"."&$AG11&"."&$A$1),Feiertage!$A$2:$B$26,2,)) | F11: =IF(ISERROR(VLOOKUP(DATEVALUE(F$1&"."&$AG11&"."&$A$1),Feiertage!$A$2:$B$26,2,)),"",VLOOKUP(DATEVALUE(F$1&"."&$AG11&"."&$A$1),Feiertage!$A$2:$B$26,2,)) | G11: =IF(ISERROR(VLOOKUP(DATEVALUE(G$1&"."&$AG11&"."&$A$1),Feiertage!$A$2:$B$26,2,)),"",VLOOKUP(DATEVALUE(G$1&"."&$AG11&"."&$A$1),Feiertage!$A$2:$B$26,2,)) | H11: =IF(ISERROR(VLOOKUP(DATEVALUE(H$1&"."&$AG11&"."&$A$1),Feiertage!$A$2:$B$26,2,)),"",VLOOKUP(DATEVALUE(H$1&"."&$AG11&"."&$A$1),Feiertage!$A$2:$B$26,2,)) | I11: =IF(ISERROR(VLOOKUP(DATEVALUE(I$1&"."&$AG11&"."&$A$1),Feiertage!$A$2:$B$26,2,)),"",VLOOKUP(DATEVALUE(I$1&"."&$AG11&"."&$A$1),Feiertage!$A$2:$B$26,2,)) | J11: =IF(ISERROR(VLOOKUP(DATEVALUE(J$1&"."&$AG11&"."&$A$1),Feiertage!$A$2:$B$26,2,)),"",VLOOKUP(DATEVALUE(J$1&"."&$AG11&"."&$A$1),Feiertage!$A$2:$B$26,2,)) -> Mutter-tag | ... AF11: =IF(ISERROR(VLOOKUP(DATEVALUE(AF$1&"."&$AG11&"."&$A$1),Feiertage!$A$2:$B$26,2,)),"",VLOOKUP(DATEVALUE(AF$1&"."&$AG11&"."&$A$1),Feiertage!$A$2:$B$26,2,)) | AG11: 5
A12: Juni | B12: =DATEVALUE(B$1&$A12&$A$1) -> 44348 | C12: =DATEVALUE(C$1&$A12&$A$1) -> 44349 | D12: =DATEVALUE(D$1&$A12&$A$1) -> 44350 | E12: =DATEVALUE(E$1&$A12&$A$1) -> 44351 | F12: =DATEVALUE(F$1&$A12&$A$1) -> 44352 | G12: =DATEVALUE(G$1&$A12&$A$1) -> 44353 | H12: =DATEVALUE(H$1&$A12&$A$1) -> 44354 | I12: =DATEVALUE(I$1&$A12&$A$1) -> 44355 | ... AE12: =DATEVALUE(AE$1&$A12&$A$1) -> 44377 | AH12: Juni
B13: =IF(ISERROR(VLOOKUP(DATEVALUE(B$1&"."&$AG13&"."&$A$1),Feiertage!$A$2:$B$26,2,)),"",VLOOKUP(DATEVALUE(B$1&"."&$AG13&"."&$A$1),Feiertage!$A$2:$B$26,2,)) | C13: =IF(ISERROR(VLOOKUP(DATEVALUE(C$1&"."&$AG13&"."&$A$1),Feiertage!$A$2:$B$26,2,)),"",VLOOKUP(DATEVALUE(C$1&"."&$AG13&"."&$A$1),Feiertage!$A$2:$B$26,2,)) | D13: =IF(ISERROR(VLOOKUP(DATEVALUE(D$1&"."&$AG13&"."&$A$1),Feiertage!$A$2:$B$26,2,)),"",VLOOKUP(DATEVALUE(D$1&"."&$AG13&"."&$A$1),Feiertage!$A$2:$B$26,2,)) -> Fron-leich- nam | E13: =IF(ISERROR(VLOOKUP(DATEVALUE(E$1&"."&$AG13&"."&$A$1),Feiertage!$A$2:$B$26,2,)),"",VLOOKUP(DATEVALUE(E$1&"."&$AG13&"."&$A$1),Feiertage!$A$2:$B$26,2,)) | F13: =IF(ISERROR(VLOOKUP(DATEVALUE(F$1&"."&$AG13&"."&$A$1),Feiertage!$A$2:$B$26,2,)),"",VLOOKUP(DATEVALUE(F$1&"."&$AG13&"."&$A$1),Feiertage!$A$2:$B$26,2,)) | G13: =IF(ISERROR(VLOOKUP(DATEVALUE(G$1&"."&$AG13&"."&$A$1),Feiertage!$A$2:$B$26,2,)),"",VLOOKUP(DATEVALUE(G$1&"."&$AG13&"."&$A$1),Feiertage!$A$2:$B$26,2,)) | H13: =IF(ISERROR(VLOOKUP(DATEVALUE(H$1&"."&$AG13&"."&$A$1),Feiertage!$A$2:$B$26,2,)),"",VLOOKUP(DATEVALUE(H$1&"."&$AG13&"."&$A$1),Feiertage!$A$2:$B$26,2,)) | I13: =IF(ISERROR(VLOOKUP(DATEVALUE(I$1&"."&$AG13&"."&$A$1),Feiertage!$A$2:$B$26,2,)),"",VLOOKUP(DATEVALUE(I$1&"."&$AG13&"."&$A$1),Feiertage!$A$2:$B$26,2,)) | ... AE13: =IF(ISERROR(VLOOKUP(DATEVALUE(AE$1&"."&$AG13&"."&$A$1),Feiertage!$A$2:$B$26,2,)),"",VLOOKUP(DATEVALUE(AE$1&"."&$AG13&"."&$A$1),Feiertage!$A$2:$B$26,2,)) | AG13: 6
A14: Juli | B14: =DATEVALUE(B$1&$A14&$A$1) -> 44378 | C14: =DATEVALUE(C$1&$A14&$A$1) -> 44379 | D14: =DATEVALUE(D$1&$A14&$A$1) -> 44380 | E14: =DATEVALUE(E$1&$A14&$A$1) -> 44381 | F14: =DATEVALUE(F$1&$A14&$A$1) -> 44382 | G14: =DATEVALUE(G$1&$A14&$A$1) -> 44383 | H14: =DATEVALUE(H$1&$A14&$A$1) -> 44384 | I14: =DATEVALUE(I$1&$A14&$A$1) -> 44385 | ... AF14: =DATEVALUE(AF$1&$A14&$A$1) -> 44408 | AH14: Juli
B15: =IF(ISERROR(VLOOKUP(DATEVALUE(B$1&"."&$AG15&"."&$A$1),Feiertage!$A$2:$B$26,2,)),"",VLOOKUP(DATEVALUE(B$1&"."&$AG15&"."&$A$1),Feiertage!$A$2:$B$26,2,)) | C15: =IF(ISERROR(VLOOKUP(DATEVALUE(C$1&"."&$AG15&"."&$A$1),Feiertage!$A$2:$B$26,2,)),"",VLOOKUP(DATEVALUE(C$1&"."&$AG15&"."&$A$1),Feiertage!$A$2:$B$26,2,)) | D15: =IF(ISERROR(VLOOKUP(DATEVALUE(D$1&"."&$AG15&"."&$A$1),Feiertage!$A$2:$B$26,2,)),"",VLOOKUP(DATEVALUE(D$1&"."&$AG15&"."&$A$1),Feiertage!$A$2:$B$26,2,)) | E15: =IF(ISERROR(VLOOKUP(DATEVALUE(E$1&"."&$AG15&"."&$A$1),Feiertage!$A$2:$B$26,2,)),"",VLOOKUP(DATEVALUE(E$1&"."&$AG15&"."&$A$1),Feiertage!$A$2:$B$26,2,)) | F15: =IF(ISERROR(VLOOKUP(DATEVALUE(F$1&"."&$AG15&"."&$A$1),Feiertage!$A$2:$B$26,2,)),"",VLOOKUP(DATEVALUE(F$1&"."&$AG15&"."&$A$1),Feiertage!$A$2:$B$26,2,)) | G15: =IF(ISERROR(VLOOKUP(DATEVALUE(G$1&"."&$AG15&"."&$A$1),Feiertage!$A$2:$B$26,2,)),"",VLOOKUP(DATEVALUE(G$1&"."&$AG15&"."&$A$1),Feiertage!$A$2:$B$26,2,)) | H15: =IF(ISERROR(VLOOKUP(DATEVALUE(H$1&"."&$AG15&"."&$A$1),Feiertage!$A$2:$B$26,2,)),"",VLOOKUP(DATEVALUE(H$1&"."&$AG15&"."&$A$1),Feiertage!$A$2:$B$26,2,)) | I15: =IF(ISERROR(VLOOKUP(DATEVALUE(I$1&"."&$AG15&"."&$A$1),Feiertage!$A$2:$B$26,2,)),"",VLOOKUP(DATEVALUE(I$1&"."&$AG15&"."&$A$1),Feiertage!$A$2:$B$26,2,)) | ... AF15: =IF(ISERROR(VLOOKUP(DATEVALUE(AF$1&"."&$AG15&"."&$A$1),Feiertage!$A$2:$B$26,2,)),"",VLOOKUP(DATEVALUE(AF$1&"."&$AG15&"."&$A$1),Feiertage!$A$2:$B$26,2,)) | AG15: 7
A16: August | B16: =DATEVALUE(B$1&$A16&$A$1) -> 44409 | C16: =DATEVALUE(C$1&$A16&$A$1) -> 44410 | D16: =DATEVALUE(D$1&$A16&$A$1) -> 44411 | E16: =DATEVALUE(E$1&$A16&$A$1) -> 44412 | F16: =DATEVALUE(F$1&$A16&$A$1) -> 44413 | G16: =DATEVALUE(G$1&$A16&$A$1) -> 44414 | H16: =DATEVALUE(H$1&$A16&$A$1) -> 44415 | I16: =DATEVALUE(I$1&$A16&$A$1) -> 44416 | ... AF16: =DATEVALUE(AF$1&$A16&$A$1) -> 44439 | AH16: August
B17: =IF(ISERROR(VLOOKUP(DATEVALUE(B$1&"."&$AG17&"."&$A$1),Feiertage!$A$2:$B$26,2,)),"",VLOOKUP(DATEVALUE(B$1&"."&$AG17&"."&$A$1),Feiertage!$A$2:$B$26,2,)) | C17: =IF(ISERROR(VLOOKUP(DATEVALUE(C$1&"."&$AG17&"."&$A$1),Feiertage!$A$2:$B$26,2,)),"",VLOOKUP(DATEVALUE(C$1&"."&$AG17&"."&$A$1),Feiertage!$A$2:$B$26,2,)) | D17: =IF(ISERROR(VLOOKUP(DATEVALUE(D$1&"."&$AG17&"."&$A$1),Feiertage!$A$2:$B$26,2,)),"",VLOOKUP(DATEVALUE(D$1&"."&$AG17&"."&$A$1),Feiertage!$A$2:$B$26,2,)) | E17: =IF(ISERROR(VLOOKUP(DATEVALUE(E$1&"."&$AG17&"."&$A$1),Feiertage!$A$2:$B$26,2,)),"",VLOOKUP(DATEVALUE(E$1&"."&$AG17&"."&$A$1),Feiertage!$A$2:$B$26,2,)) | F17: =IF(ISERROR(VLOOKUP(DATEVALUE(F$1&"."&$AG17&"."&$A$1),Feiertage!$A$2:$B$26,2,)),"",VLOOKUP(DATEVALUE(F$1&"."&$AG17&"."&$A$1),Feiertage!$A$2:$B$26,2,)) | G17: =IF(ISERROR(VLOOKUP(DATEVALUE(G$1&"."&$AG17&"."&$A$1),Feiertage!$A$2:$B$26,2,)),"",VLOOKUP(DATEVALUE(G$1&"."&$AG17&"."&$A$1),Feiertage!$A$2:$B$26,2,)) | H17: =IF(ISERROR(VLOOKUP(DATEVALUE(H$1&"."&$AG17&"."&$A$1),Feiertage!$A$2:$B$26,2,)),"",VLOOKUP(DATEVALUE(H$1&"."&$AG17&"."&$A$1),Feiertage!$A$2:$B$26,2,)) | I17: =IF(ISERROR(VLOOKUP(DATEVALUE(I$1&"."&$AG17&"."&$A$1),Feiertage!$A$2:$B$26,2,)),"",VLOOKUP(DATEVALUE(I$1&"."&$AG17&"."&$A$1),Feiertage!$A$2:$B$26,2,)) | ... AF17: =IF(ISERROR(VLOOKUP(DATEVALUE(AF$1&"."&$AG17&"."&$A$1),Feiertage!$A$2:$B$26,2,)),"",VLOOKUP(DATEVALUE(AF$1&"."&$AG17&"."&$A$1),Feiertage!$A$2:$B$26,2,)) | AG17: 8
A18: September | B18: =DATEVALUE(B$1&$A18&$A$1) -> 44440 | C18: =DATEVALUE(C$1&$A18&$A$1) -> 44441 | D18: =DATEVALUE(D$1&$A18&$A$1) -> 44442 | E18: =DATEVALUE(E$1&$A18&$A$1) -> 44443 | F18: =DATEVALUE(F$1&$A18&$A$1) -> 44444 | G18: =DATEVALUE(G$1&$A18&$A$1) -> 44445 | H18: =DATEVALUE(H$1&$A18&$A$1) -> 44446 | I18: =DATEVALUE(I$1&$A18&$A$1) -> 44447 | ... AE18: =DATEVALUE(AE$1&$A18&$A$1) -> 44469 | AH18: September
B19: =IF(ISERROR(VLOOKUP(DATEVALUE(B$1&"."&$AG19&"."&$A$1),Feiertage!$A$2:$B$26,2,)),"",VLOOKUP(DATEVALUE(B$1&"."&$AG19&"."&$A$1),Feiertage!$A$2:$B$26,2,)) | C19: =IF(ISERROR(VLOOKUP(DATEVALUE(C$1&"."&$AG19&"."&$A$1),Feiertage!$A$2:$B$26,2,)),"",VLOOKUP(DATEVALUE(C$1&"."&$AG19&"."&$A$1),Feiertage!$A$2:$B$26,2,)) | D19: =IF(ISERROR(VLOOKUP(DATEVALUE(D$1&"."&$AG19&"."&$A$1),Feiertage!$A$2:$B$26,2,)),"",VLOOKUP(DATEVALUE(D$1&"."&$AG19&"."&$A$1),Feiertage!$A$2:$B$26,2,)) | E19: =IF(ISERROR(VLOOKUP(DATEVALUE(E$1&"."&$AG19&"."&$A$1),Feiertage!$A$2:$B$26,2,)),"",VLOOKUP(DATEVALUE(E$1&"."&$AG19&"."&$A$1),Feiertage!$A$2:$B$26,2,)) | F19: =IF(ISERROR(VLOOKUP(DATEVALUE(F$1&"."&$AG19&"."&$A$1),Feiertage!$A$2:$B$26,2,)),"",VLOOKUP(DATEVALUE(F$1&"."&$AG19&"."&$A$1),Feiertage!$A$2:$B$26,2,)) | G19: =IF(ISERROR(VLOOKUP(DATEVALUE(G$1&"."&$AG19&"."&$A$1),Feiertage!$A$2:$B$26,2,)),"",VLOOKUP(DATEVALUE(G$1&"."&$AG19&"."&$A$1),Feiertage!$A$2:$B$26,2,)) | H19: =IF(ISERROR(VLOOKUP(DATEVALUE(H$1&"."&$AG19&"."&$A$1),Feiertage!$A$2:$B$26,2,)),"",VLOOKUP(DATEVALUE(H$1&"."&$AG19&"."&$A$1),Feiertage!$A$2:$B$26,2,)) | I19: =IF(ISERROR(VLOOKUP(DATEVALUE(I$1&"."&$AG19&"."&$A$1),Feiertage!$A$2:$B$26,2,)),"",VLOOKUP(DATEVALUE(I$1&"."&$AG19&"."&$A$1),Feiertage!$A$2:$B$26,2,)) | ... AE19: =IF(ISERROR(VLOOKUP(DATEVALUE(AE$1&"."&$AG19&"."&$A$1),Feiertage!$A$2:$B$26,2,)),"",VLOOKUP(DATEVALUE(AE$1&"."&$AG19&"."&$A$1),Feiertage!$A$2:$B$26,2,)) | AF19: =IF(ISERROR(VLOOKUP(DATEVALUE(AF$1&"."&$AG19&"."&$A$1),Feiertage!$A$4:$B$18,2,)),"",VLOOKUP(DATEVALUE(AF$1&"."&$AG19&"."&$A$1),Feiertage!$A$4:$B$18,2,)) | AG19: 9
A20: Oktober | B20: =DATEVALUE(B$1&$A20&$A$1) -> 44470 | C20: =DATEVALUE(C$1&$A20&$A$1) -> 44471 | D20: =DATEVALUE(D$1&$A20&$A$1) -> 44472 | E20: =DATEVALUE(E$1&$A20&$A$1) -> 44473 | F20: =DATEVALUE(F$1&$A20&$A$1) -> 44474 | G20: =DATEVALUE(G$1&$A20&$A$1) -> 44475 | H20: =DATEVALUE(H$1&$A20&$A$1) -> 44476 | I20: =DATEVALUE(I$1&$A20&$A$1) -> 44477 | ... AF20: =DATEVALUE(AF$1&$A20&$A$1) -> 44500 | AH20: Oktober
B21: =IF(ISERROR(VLOOKUP(DATEVALUE(B$1&"."&$AG21&"."&$A$1),Feiertage!$A$2:$B$26,2,)),"",VLOOKUP(DATEVALUE(B$1&"."&$AG21&"."&$A$1),Feiertage!$A$2:$B$26,2,)) | C21: =IF(ISERROR(VLOOKUP(DATEVALUE(C$1&"."&$AG21&"."&$A$1),Feiertage!$A$2:$B$26,2,)),"",VLOOKUP(DATEVALUE(C$1&"."&$AG21&"."&$A$1),Feiertage!$A$2:$B$26,2,)) | D21: =IF(ISERROR(VLOOKUP(DATEVALUE(D$1&"."&$AG21&"."&$A$1),Feiertage!$A$2:$B$26,2,)),"",VLOOKUP(DATEVALUE(D$1&"."&$AG21&"."&$A$1),Feiertage!$A$2:$B$26,2,)) -> Tag d. dt. Einh. | E21: =IF(ISERROR(VLOOKUP(DATEVALUE(E$1&"."&$AG21&"."&$A$1),Feiertage!$A$2:$B$26,2,)),"",VLOOKUP(DATEVALUE(E$1&"."&$AG21&"."&$A$1),Feiertage!$A$2:$B$26,2,)) | F21: =IF(ISERROR(VLOOKUP(DATEVALUE(F$1&"."&$AG21&"."&$A$1),Feiertage!$A$2:$B$26,2,)),"",VLOOKUP(DATEVALUE(F$1&"."&$AG21&"."&$A$1),Feiertage!$A$2:$B$26,2,)) | G21: =IF(ISERROR(VLOOKUP(DATEVALUE(G$1&"."&$AG21&"."&$A$1),Feiertage!$A$2:$B$26,2,)),"",VLOOKUP(DATEVALUE(G$1&"."&$AG21&"."&$A$1),Feiertage!$A$2:$B$26,2,)) | H21: =IF(ISERROR(VLOOKUP(DATEVALUE(H$1&"."&$AG21&"."&$A$1),Feiertage!$A$2:$B$26,2,)),"",VLOOKUP(DATEVALUE(H$1&"."&$AG21&"."&$A$1),Feiertage!$A$2:$B$26,2,)) | I21: =IF(ISERROR(VLOOKUP(DATEVALUE(I$1&"."&$AG21&"."&$A$1),Feiertage!$A$2:$B$26,2,)),"",VLOOKUP(DATEVALUE(I$1&"."&$AG21&"."&$A$1),Feiertage!$A$2:$B$26,2,)) | ... AF21: =IF(ISERROR(VLOOKUP(DATEVALUE(AF$1&"."&$AG21&"."&$A$1),Feiertage!$A$2:$B$26,2,)),"",VLOOKUP(DATEVALUE(AF$1&"."&$AG21&"."&$A$1),Feiertage!$A$2:$B$26,2,)) | AG21: 10
A22: November | B22: =DATEVALUE(B$1&$A22&$A$1) -> 44501 | C22: =DATEVALUE(C$1&$A22&$A$1) -> 44502 | D22: =DATEVALUE(D$1&$A22&$A$1) -> 44503 | E22: =DATEVALUE(E$1&$A22&$A$1) -> 44504 | F22: =DATEVALUE(F$1&$A22&$A$1) -> 44505 | G22: =DATEVALUE(G$1&$A22&$A$1) -> 44506 | H22: =DATEVALUE(H$1&$A22&$A$1) -> 44507 | I22: =DATEVALUE(I$1&$A22&$A$1) -> 44508 | ... AE22: =DATEVALUE(AE$1&$A22&$A$1) -> 44530 | AH22: November
B23: =IF(ISERROR(VLOOKUP(DATEVALUE(B$1&"."&$AG23&"."&$A$1),Feiertage!$A$2:$B$26,2,)),"",VLOOKUP(DATEVALUE(B$1&"."&$AG23&"."&$A$1),Feiertage!$A$2:$B$26,2,)) | C23: =IF(ISERROR(VLOOKUP(DATEVALUE(C$1&"."&$AG23&"."&$A$1),Feiertage!$A$2:$B$26,2,)),"",VLOOKUP(DATEVALUE(C$1&"."&$AG23&"."&$A$1),Feiertage!$A$2:$B$26,2,)) | D23: =IF(ISERROR(VLOOKUP(DATEVALUE(D$1&"."&$AG23&"."&$A$1),Feiertage!$A$2:$B$26,2,)),"",VLOOKUP(DATEVALUE(D$1&"."&$AG23&"."&$A$1),Feiertage!$A$2:$B$26,2,)) | E23: =IF(ISERROR(VLOOKUP(DATEVALUE(E$1&"."&$AG23&"."&$A$1),Feiertage!$A$2:$B$26,2,)),"",VLOOKUP(DATEVALUE(E$1&"."&$AG23&"."&$A$1),Feiertage!$A$2:$B$26,2,)) | F23: =IF(ISERROR(VLOOKUP(DATEVALUE(F$1&"."&$AG23&"."&$A$1),Feiertage!$A$2:$B$26,2,)),"",VLOOKUP(DATEVALUE(F$1&"."&$AG23&"."&$A$1),Feiertage!$A$2:$B$26,2,)) | G23: =IF(ISERROR(VLOOKUP(DATEVALUE(G$1&"."&$AG23&"."&$A$1),Feiertage!$A$2:$B$26,2,)),"",VLOOKUP(DATEVALUE(G$1&"."&$AG23&"."&$A$1),Feiertage!$A$2:$B$26,2,)) | H23: =IF(ISERROR(VLOOKUP(DATEVALUE(H$1&"."&$AG23&"."&$A$1),Feiertage!$A$2:$B$26,2,)),"",VLOOKUP(DATEVALUE(H$1&"."&$AG23&"."&$A$1),Feiertage!$A$2:$B$26,2,)) | I23: =IF(ISERROR(VLOOKUP(DATEVALUE(I$1&"."&$AG23&"."&$A$1),Feiertage!$A$2:$B$26,2,)),"",VLOOKUP(DATEVALUE(I$1&"."&$AG23&"."&$A$1),Feiertage!$A$2:$B$26,2,)) | ... AE23: =IF(ISERROR(VLOOKUP(DATEVALUE(AE$1&"."&$AG23&"."&$A$1),Feiertage!$A$2:$B$26,2,)),"",VLOOKUP(DATEVALUE(AE$1&"."&$AG23&"."&$A$1),Feiertage!$A$2:$B$26,2,)) | AG23: 11
A24: Dezember | B24: =DATEVALUE(B$1&$A24&$A$1) -> 44531 | C24: =DATEVALUE(C$1&$A24&$A$1) -> 44532 | D24: =DATEVALUE(D$1&$A24&$A$1) -> 44533 | E24: =DATEVALUE(E$1&$A24&$A$1) -> 44534 | F24: =DATEVALUE(F$1&$A24&$A$1) -> 44535 | G24: =DATEVALUE(G$1&$A24&$A$1) -> 44536 | H24: =DATEVALUE(H$1&$A24&$A$1) -> 44537 | I24: =DATEVALUE(I$1&$A24&$A$1) -> 44538 | ... AF24: =DATEVALUE(AF$1&$A24&$A$1) -> 44561 | AH24: Dezember
B25: =IF(ISERROR(VLOOKUP(DATEVALUE(B$1&"."&$AG25&"."&$A$1),Feiertage!$A$2:$B$26,2,)),"",VLOOKUP(DATEVALUE(B$1&"."&$AG25&"."&$A$1),Feiertage!$A$2:$B$26,2,)) | C25: =IF(ISERROR(VLOOKUP(DATEVALUE(C$1&"."&$AG25&"."&$A$1),Feiertage!$A$2:$B$26,2,)),"",VLOOKUP(DATEVALUE(C$1&"."&$AG25&"."&$A$1),Feiertage!$A$2:$B$26,2,)) | D25: =IF(ISERROR(VLOOKUP(DATEVALUE(D$1&"."&$AG25&"."&$A$1),Feiertage!$A$2:$B$26,2,)),"",VLOOKUP(DATEVALUE(D$1&"."&$AG25&"."&$A$1),Feiertage!$A$2:$B$26,2,)) | E25: =IF(ISERROR(VLOOKUP(DATEVALUE(E$1&"."&$AG25&"."&$A$1),Feiertage!$A$2:$B$26,2,)),"",VLOOKUP(DATEVALUE(E$1&"."&$AG25&"."&$A$1),Feiertage!$A$2:$B$26,2,)) | F25: =IF(ISERROR(VLOOKUP(DATEVALUE(F$1&"."&$AG25&"."&$A$1),Feiertage!$A$2:$B$26,2,)),"",VLOOKUP(DATEVALUE(F$1&"."&$AG25&"."&$A$1),Feiertage!$A$2:$B$26,2,)) -> 2. Advent | G25: =IF(ISERROR(VLOOKUP(DATEVALUE(G$1&"."&$AG25&"."&$A$1),Feiertage!$A$2:$B$26,2,)),"",VLOOKUP(DATEVALUE(G$1&"."&$AG25&"."&$A$1),Feiertage!$A$2:$B$26,2,)) | H25: =IF(ISERROR(VLOOKUP(DATEVALUE(H$1&"."&$AG25&"."&$A$1),Feiertage!$A$2:$B$26,2,)),"",VLOOKUP(DATEVALUE(H$1&"."&$AG25&"."&$A$1),Feiertage!$A$2:$B$26,2,)) | I25: =IF(ISERROR(VLOOKUP(DATEVALUE(I$1&"."&$AG25&"."&$A$1),Feiertage!$A$2:$B$26,2,)),"",VLOOKUP(DATEVALUE(I$1&"."&$AG25&"."&$A$1),Feiertage!$A$2:$B$26,2,)) | ... X25: =IF(ISERROR(VLOOKUP(DATEVALUE(X$1&"."&$AG25&"."&$A$1),Feiertage!$A$2:$B$26,2,)),"",VLOOKUP(DATEVALUE(X$1&"."&$AG25&"."&$A$1),Feiertage!$A$2:$B$26,2,)) | Y25: Heilig-abend | Z25: 1. Feier-tag | AA25: 2. Feier-tag | AF25: Silvester | AG25: 12
B26: 1 | C26: 2 | D26: 3 | E26: 4 | F26: 5 | G26: 6 | H26: 7 | I26: 8 | J26: 9 | K26: 10 | L26: 11 | M26: 12 | N26: 13 | O26: 14 | P26: 15 | Q26: 16 | R26: 17 | S26: 18 | T26: 19 | U26: 20 | V26: 21 | W26: 22 | X26: 23 | Y26: 24 | Z26: 25 | AA26: 26 | AB26: 27 | AC26: 28 | AD26: 29 | AE26: 30 | AF26: 31

Sheet Feiertage
A1: Jahr | B1: =Kalender!A1 -> 2021
A2: =DATEVALUE("01.01."&B1) -> 44197 | B2: Neujahr
A3: =DATEVALUE("06.01."&B1) -> 44202 | B3: hl. 3 Könige
A4: =A5-2 -> 44288 | B4: Karfrei-tag
A5: =DOLLAR((DAY(MINUTE(B1/38)/2+55) & ".4." & B1)/7,)*7-IF(YEAR(1)=1904,5,6) -> 44290 | B5: Oster-sonntag
A6: =A5+1 -> 44291 | B6: Oster-montag
A7: =IF(WEEKDAY(DATE(B1,5,1),1)=1,(DATE(B1,5,1)+7),(DATE(B1,5,1)-WEEKDAY(DATE(B1,5,1)))+15) -> 44325 | B7: Mutter-tag
A8: =A5+39 -> 44329 | B8: Christi Himmel-fahrt
A9: =A5+49 -> 44339 | B9: Pfingst-sonntag
A10: =A9+1 -> 44340 | B10: Pfingst-montag
A11: =A5+60 -> 44350 | B11: Fron-leich- nam
A12: =DATEVALUE("03.10."&B1) -> 44472 | B12: Tag d. dt. Einh.
A13: =DATE(B1,10,1)+7-WEEKDAY(DATE(B1,10,1),2) -> 44472 | B13: Ernte-dank- fest
A14: =DATE(B1,12,25)-WEEKDAY(DATE(B1,12,25),2)-28 -> 44521 | B14: Toten-sonntag
A15: =DATE($B$1,12,25)-WEEKDAY(DATE($B$1,12,25),2)-21 -> 44528 | B15: 1. Advent
A16: =DATE($B$1,12,25)-WEEKDAY(DATE($B$1,12,25),2)-14 -> 44535 | B16: 2. Advent
A17: =DATE($B$1,12,25)-WEEKDAY(DATE($B$1,12,25),2)-7 -> 44542 | B17: 3. Advent
A18: =DATE($B$1,12,25)-WEEKDAY(DATE($B$1,12,25),2) -> 44549 | B18: 4. Advent
