Workbook

Sheet LKs
A1: Vorname | B1: Name | C1: Fach1 | D1: Fach2 | E1: Fach3 | F1: Fach4 | G1: Fach5
A2: Vorname1 | B2: Nachname1
A3: Vorname2 | B3: Nachname2 | C3: D | D3: E | E3: Spa | F3: DAZ
A4: Vorname3 | B4: Nachname3 | C4: Bio | D4: Ch | E4: Nawi
A5: Vorname4 | B5: Nachname4 | C5: E | D5: WiPo
A6: Vorname5 | B6: Nachname5 | C6: Ku | D6: Phi | E6: WiPo | F6: Wk
A7: Vorname6 | B7: Nachname6 | C7: E | D7: D | E7: Sp | F7: Phi
A8: Vorname7 | B8: Nachname7 | C8: Ge | D8: Rel | E8: Wk | F8: VB
A9: Vorname8 | B9: Nachname8 | C9: M | D9: WiPo
A10: Vorname9 | B10: Nachname9 | C10: Sp | D10: WiPo | E10: Wk | F10: Wl
A11: Vorname10 | B11: Nachname10 | C11: M | D11: WiPo | E11: Wk | F11: DAZ
A12: Vorname11 | B12: Nachname11 | C12: D | D12: E
A13: Vorname12 | B13: Nachname12 | C13: E | D13: G | E13: Fr
A14: Vorname13 | B14: Nachname13 | C14: D | D14: Ge | E14: Wk
A15: Vorname14 | B15: Nachname14 | C15: D | D15: Geo | E15: WiPo | F15: Wk
A16: Vorname15 | B16: Nachname15 | C16: M | D16: Phy | E16: Nawi
A17: Vorname16 | B17: Nachname16 | C17: E | D17: Rel
A18: Vorname17 | B18: Nachname17 | C18: M | D18: Phy | E18: Nawi
A19: Vorname18 | B19: Nachname18 | C19: E | D19: Wk
A20: Vorname19 | B20: Nachname19 | C20: M | D20: Tec
A21: Vorname20 | B21: Nachname20 | C21: E | D21: D | E21: VB
A22: Vorname21 | B22: Nachname21 | C22: E | D22: WiPo | E22: Wk
A23: Vorname22 | B23: Nachname22 | C23: E | D23: WiPo | E23: Wk | F23: Wl
A24: Vorname23 | B24: Nachname23 | C24: D | D24: WiPo | E24: Wk
A25: Vorname24 | B25: Nachname24 | C25: Ku
A26: Vorname25 | B26: Nachname25 | C26: D | D26: Sp
A27: Vorname26 | B27: Nachname26 | C27: D | D27: E | E27: Ku | F27: DAZ
A28: Vorname27 | B28: Nachname27 | C28: D | D28: Geo | E28: Wk
A29: Vorname28 | B29: Nachname28 | C29: D | D29: Spa | E29: DAZ
A30: Vorname29 | B30: Nachname29 | C30: Fr | D30: WiPo | E30: Wk
A31: Vorname30 | B31: Nachname30 | C31: Sp | D31: WiPo | E31: Wk | F31: Wl
A32: Vorname31 | B32: Nachname31 | C32: D | D32: Rel | E32: WiPo | F32: Wk
A33: Vorname32 | B33: Nachname32 | C33: Nawi | D33: Phy
A34: Vorname33 | B34: Nachname33 | C34: M | D34: Wk | E34: D | F34: WiPo | G34: VB
A35: Vorname34 | B35: Nachname34 | C35: Sp | D35: Spa
A36: Vorname35 | B36: Nachname35 | C36: E | D36: Mu
A37: Vorname36 | B37: Nachname36
A38: Vorname37 | B38: Nachname37 | C38: D | D38: Sp | E38: DAZ
A39: Vorname38 | B39: Nachname38 | C39: E | D39: Fr
A40: Vorname39 | B40: Nachname39 | C40: D | D40: Spa | E40: DAZ
...

Sheet Liste
A1: Bio | B1: Ch | C1: D | D1: DAZ | E1: DSP | F1: E | G1: Fr | H1: Ge | I1: Geo | J1: Gest | K1: Ku | L1: M | M1: Mu | N1: Nawi | O1: Phi | P1: Phy | Q1: Rel | R1: Spa | S1: Sp | T1: Tec | U1: VB | V1: WiPo | W1: Wk
A2: {=IFERROR(INDEX(LKs!$B$2:$B$120,SMALL(IF(LKs!$C$2:$F$120=A$1,ROW(B$1:B$120),""),ROW(A1))),"")} -> Nachname3 | B2: {=IFERROR(INDEX(LKs!$B$2:$B$120,SMALL(IF(LKs!$C$2:$F$120=B$1,ROW(C$1:C$120),""),ROW(B1))),"")} -> Nachname3 | C2: {=IFERROR(INDEX(LKs!$B$2:$B$120,SMALL(IF(LKs!$C$2:$F$120=C$1,ROW(C$1:C$120),""),ROW(C1))),"")} -> Nachname2 | D2: {=IFERROR(INDEX(LKs!$B$2:$B$120,SMALL(IF(LKs!$C$2:$F$120=D$1,ROW(D$1:D$120),""),ROW(D1))),"")} -> Nachname2 | E2: {=IFERROR(INDEX(LKs!$B$2:$B$120,SMALL(IF(LKs!$C$2:$F$120=E$1,ROW(E$1:E$120),""),ROW(E1))),"")} -> Nachname50 | F2: {=IFERROR(INDEX(LKs!$B$2:$B$120,SMALL(IF(LKs!$C$2:$F$120=F$1,ROW(F$1:F$120),""),ROW(F1))),"")} -> Nachname2 | G2: {=IFERROR(INDEX(LKs!$B$2:$B$120,SMALL(IF(LKs!$C$2:$F$120=G$1,ROW(G$1:G$120),""),ROW(G1))),"")} -> Nachname12 | H2: {=IFERROR(INDEX(LKs!$B$2:$B$120,SMALL(IF(LKs!$C$2:$F$120=H$1,ROW(H$1:H$120),""),ROW(H1))),"")} -> Nachname7 | I2: {=IFERROR(INDEX(LKs!$B$2:$B$120,SMALL(IF(LKs!$C$2:$F$120=I$1,ROW(I$1:I$120),""),ROW(I1))),"")} -> Nachname14 | J2: {=IFERROR(INDEX(LKs!$B$2:$B$120,SMALL(IF(LKs!$C$2:$F$120=J$1,ROW(J$1:J$120),""),ROW(J1))),"")} -> Nachname62 | ... W2: {=IFERROR(INDEX(LKs!$B$2:$B$120,SMALL(IF(LKs!$C$2:$F$120=W$1,ROW(W$1:W$120),""),ROW(W1))),"")} -> Nachname5
A3: {=IFERROR(INDEX(LKs!$B$2:$B$120,SMALL(IF(LKs!$C$2:$F$120=A$1,ROW(B$1:B$120),""),ROW(A2))),"")} -> Nachname48 | B3: {=IFERROR(INDEX(LKs!$B$2:$B$120,SMALL(IF(LKs!$C$2:$F$120=B$1,ROW(C$1:C$120),""),ROW(B2))),"")} -> Nachname42 | C3: {=IFERROR(INDEX(LKs!$B$2:$B$120,SMALL(IF(LKs!$C$2:$F$120=C$1,ROW(C$1:C$120),""),ROW(C2))),"")} -> Nachname6 | D3: {=IFERROR(INDEX(LKs!$B$2:$B$120,SMALL(IF(LKs!$C$2:$F$120=D$1,ROW(D$1:D$120),""),ROW(D2))),"")} -> Nachname10 | E3: {=IFERROR(INDEX(LKs!$B$2:$B$120,SMALL(IF(LKs!$C$2:$F$120=E$1,ROW(E$1:E$120),""),ROW(E2))),"")} -> Nachname64 | F3: {=IFERROR(INDEX(LKs!$B$2:$B$120,SMALL(IF(LKs!$C$2:$F$120=F$1,ROW(F$1:F$120),""),ROW(F2))),"")} -> Nachname4 | G3: {=IFERROR(INDEX(LKs!$B$2:$B$120,SMALL(IF(LKs!$C$2:$F$120=G$1,ROW(G$1:G$120),""),ROW(G2))),"")} -> Nachname29 | H3: {=IFERROR(INDEX(LKs!$B$2:$B$120,SMALL(IF(LKs!$C$2:$F$120=H$1,ROW(H$1:H$120),""),ROW(H2))),"")} -> Nachname13 | I3: {=IFERROR(INDEX(LKs!$B$2:$B$120,SMALL(IF(LKs!$C$2:$F$120=I$1,ROW(I$1:I$120),""),ROW(I2))),"")} -> Nachname27 | J3: {=IFERROR(INDEX(LKs!$B$2:$B$120,SMALL(IF(LKs!$C$2:$F$120=J$1,ROW(J$1:J$120),""),ROW(J2))),"")} -> Nachname64 | ... W3: {=IFERROR(INDEX(LKs!$B$2:$B$120,SMALL(IF(LKs!$C$2:$F$120=W$1,ROW(W$1:W$120),""),ROW(W2))),"")} -> Nachname7
A4: {=IFERROR(INDEX(LKs!$B$2:$B$120,SMALL(IF(LKs!$C$2:$F$120=A$1,ROW(B$1:B$120),""),ROW(A3))),"")} -> Nachname49 | B4: {=IFERROR(INDEX(LKs!$B$2:$B$120,SMALL(IF(LKs!$C$2:$F$120=B$1,ROW(C$1:C$120),""),ROW(B3))),"")} -> Nachname45 | C4: {=IFERROR(INDEX(LKs!$B$2:$B$120,SMALL(IF(LKs!$C$2:$F$120=C$1,ROW(C$1:C$120),""),ROW(C3))),"")} -> Nachname11 | D4: {=IFERROR(INDEX(LKs!$B$2:$B$120,SMALL(IF(LKs!$C$2:$F$120=D$1,ROW(D$1:D$120),""),ROW(D3))),"")} -> Nachname26 | E4: {=IFERROR(INDEX(LKs!$B$2:$B$120,SMALL(IF(LKs!$C$2:$F$120=E$1,ROW(E$1:E$120),""),ROW(E3))),"")} -> Nachname88 | F4: {=IFERROR(INDEX(LKs!$B$2:$B$120,SMALL(IF(LKs!$C$2:$F$120=F$1,ROW(F$1:F$120),""),ROW(F3))),"")} -> Nachname6 | G4: {=IFERROR(INDEX(LKs!$B$2:$B$120,SMALL(IF(LKs!$C$2:$F$120=G$1,ROW(G$1:G$120),""),ROW(G3))),"")} -> Nachname38 | H4: {=IFERROR(INDEX(LKs!$B$2:$B$120,SMALL(IF(LKs!$C$2:$F$120=H$1,ROW(H$1:H$120),""),ROW(H3))),"")} -> Nachname41 | I4: {=IFERROR(INDEX(LKs!$B$2:$B$120,SMALL(IF(LKs!$C$2:$F$120=I$1,ROW(I$1:I$120),""),ROW(I3))),"")} -> Nachname53 | J4: {=IFERROR(INDEX(LKs!$B$2:$B$120,SMALL(IF(LKs!$C$2:$F$120=J$1,ROW(J$1:J$120),""),ROW(J3))),"")} -> Nachname88 | ... W4: {=IFERROR(INDEX(LKs!$B$2:$B$120,SMALL(IF(LKs!$C$2:$F$120=W$1,ROW(W$1:W$120),""),ROW(W3))),"")} -> Nachname9
A5: {=IFERROR(INDEX(LKs!$B$2:$B$120,SMALL(IF(LKs!$C$2:$F$120=A$1,ROW(B$1:B$120),""),ROW(A4))),"")} -> Nachname53 | B5: {=IFERROR(INDEX(LKs!$B$2:$B$120,SMALL(IF(LKs!$C$2:$F$120=B$1,ROW(C$1:C$120),""),ROW(B4))),"")} -> Nachname54 | C5: {=IFERROR(INDEX(LKs!$B$2:$B$120,SMALL(IF(LKs!$C$2:$F$120=C$1,ROW(C$1:C$120),""),ROW(C4))),"")} -> Nachname13 | D5: {=IFERROR(INDEX(LKs!$B$2:$B$120,SMALL(IF(LKs!$C$2:$F$120=D$1,ROW(D$1:D$120),""),ROW(D4))),"")} -> Nachname28 | E5: {=IFERROR(INDEX(LKs!$B$2:$B$120,SMALL(IF(LKs!$C$2:$F$120=E$1,ROW(E$1:E$120),""),ROW(E4))),"")} | F5: {=IFERROR(INDEX(LKs!$B$2:$B$120,SMALL(IF(LKs!$C$2:$F$120=F$1,ROW(F$1:F$120),""),ROW(F4))),"")} -> Nachname11 | G5: {=IFERROR(INDEX(LKs!$B$2:$B$120,SMALL(IF(LKs!$C$2:$F$120=G$1,ROW(G$1:G$120),""),ROW(G4))),"")} -> Nachname50 | H5: {=IFERROR(INDEX(LKs!$B$2:$B$120,SMALL(IF(LKs!$C$2:$F$120=H$1,ROW(H$1:H$120),""),ROW(H4))),"")} -> Nachname43 | I5: {=IFERROR(INDEX(LKs!$B$2:$B$120,SMALL(IF(LKs!$C$2:$F$120=I$1,ROW(I$1:I$120),""),ROW(I4))),"")} -> Nachname75 | J5: {=IFERROR(INDEX(LKs!$B$2:$B$120,SMALL(IF(LKs!$C$2:$F$120=J$1,ROW(J$1:J$120),""),ROW(J4))),"")} | ... W5: {=IFERROR(INDEX(LKs!$B$2:$B$120,SMALL(IF(LKs!$C$2:$F$120=W$1,ROW(W$1:W$120),""),ROW(W4))),"")} -> Nachname10
A6: {=IFERROR(INDEX(LKs!$B$2:$B$120,SMALL(IF(LKs!$C$2:$F$120=A$1,ROW(B$1:B$120),""),ROW(A5))),"")} -> Nachname54 | B6: {=IFERROR(INDEX(LKs!$B$2:$B$120,SMALL(IF(LKs!$C$2:$F$120=B$1,ROW(C$1:C$120),""),ROW(B5))),"")} -> Nachname56 | C6: {=IFERROR(INDEX(LKs!$B$2:$B$120,SMALL(IF(LKs!$C$2:$F$120=C$1,ROW(C$1:C$120),""),ROW(C5))),"")} -> Nachname14 | D6: {=IFERROR(INDEX(LKs!$B$2:$B$120,SMALL(IF(LKs!$C$2:$F$120=D$1,ROW(D$1:D$120),""),ROW(D5))),"")} -> Nachname37 | E6: {=IFERROR(INDEX(LKs!$B$2:$B$120,SMALL(IF(LKs!$C$2:$F$120=E$1,ROW(E$1:E$120),""),ROW(E5))),"")} | F6: {=IFERROR(INDEX(LKs!$B$2:$B$120,SMALL(IF(LKs!$C$2:$F$120=F$1,ROW(F$1:F$120),""),ROW(F5))),"")} -> Nachname12 | G6: {=IFERROR(INDEX(LKs!$B$2:$B$120,SMALL(IF(LKs!$C$2:$F$120=G$1,ROW(G$1:G$120),""),ROW(G5))),"")} -> Nachname57 | H6: {=IFERROR(INDEX(LKs!$B$2:$B$120,SMALL(IF(LKs!$C$2:$F$120=H$1,ROW(H$1:H$120),""),ROW(H5))),"")} -> Nachname46 | I6: {=IFERROR(INDEX(LKs!$B$2:$B$120,SMALL(IF(LKs!$C$2:$F$120=I$1,ROW(I$1:I$120),""),ROW(I5))),"")} -> Nachname81 | J6: {=IFERROR(INDEX(LKs!$B$2:$B$120,SMALL(IF(LKs!$C$2:$F$120=J$1,ROW(J$1:J$120),""),ROW(J5))),"")} | ... W6: {=IFERROR(INDEX(LKs!$B$2:$B$120,SMALL(IF(LKs!$C$2:$F$120=W$1,ROW(W$1:W$120),""),ROW(W5))),"")} -> Nachname13
A7: {=IFERROR(INDEX(LKs!$B$2:$B$120,SMALL(IF(LKs!$C$2:$F$120=A$1,ROW(B$1:B$120),""),ROW(A6))),"")} -> Nachname55 | B7: {=IFERROR(INDEX(LKs!$B$2:$B$120,SMALL(IF(LKs!$C$2:$F$120=B$1,ROW(C$1:C$120),""),ROW(B6))),"")} -> Nachname76 | C7: {=IFERROR(INDEX(LKs!$B$2:$B$120,SMALL(IF(LKs!$C$2:$F$120=C$1,ROW(C$1:C$120),""),ROW(C6))),"")} -> Nachname20 | D7: {=IFERROR(INDEX(LKs!$B$2:$B$120,SMALL(IF(LKs!$C$2:$F$120=D$1,ROW(D$1:D$120),""),ROW(D6))),"")} -> Nachname39 | E7: {=IFERROR(INDEX(LKs!$B$2:$B$120,SMALL(IF(LKs!$C$2:$F$120=E$1,ROW(E$1:E$120),""),ROW(E6))),"")} | F7: {=IFERROR(INDEX(LKs!$B$2:$B$120,SMALL(IF(LKs!$C$2:$F$120=F$1,ROW(F$1:F$120),""),ROW(F6))),"")} -> Nachname16 | G7: {=IFERROR(INDEX(LKs!$B$2:$B$120,SMALL(IF(LKs!$C$2:$F$120=G$1,ROW(G$1:G$120),""),ROW(G6))),"")} -> Nachname103 | H7: {=IFERROR(INDEX(LKs!$B$2:$B$120,SMALL(IF(LKs!$C$2:$F$120=H$1,ROW(H$1:H$120),""),ROW(H6))),"")} -> Nachname91 | I7: {=IFERROR(INDEX(LKs!$B$2:$B$120,SMALL(IF(LKs!$C$2:$F$120=I$1,ROW(I$1:I$120),""),ROW(I6))),"")} | J7: {=IFERROR(INDEX(LKs!$B$2:$B$120,SMALL(IF(LKs!$C$2:$F$120=J$1,ROW(J$1:J$120),""),ROW(J6))),"")} | ... W7: {=IFERROR(INDEX(LKs!$B$2:$B$120,SMALL(IF(LKs!$C$2:$F$120=W$1,ROW(W$1:W$120),""),ROW(W6))),"")} -> Nachname14
A8: {=IFERROR(INDEX(LKs!$B$2:$B$120,SMALL(IF(LKs!$C$2:$F$120=A$1,ROW(B$1:B$120),""),ROW(A7))),"")} -> Nachname56 | B8: {=IFERROR(INDEX(LKs!$B$2:$B$120,SMALL(IF(LKs!$C$2:$F$120=B$1,ROW(C$1:C$120),""),ROW(B7))),"")} -> Nachname84 | C8: {=IFERROR(INDEX(LKs!$B$2:$B$120,SMALL(IF(LKs!$C$2:$F$120=C$1,ROW(C$1:C$120),""),ROW(C7))),"")} -> Nachname23 | D8: {=IFERROR(INDEX(LKs!$B$2:$B$120,SMALL(IF(LKs!$C$2:$F$120=D$1,ROW(D$1:D$120),""),ROW(D7))),"")} -> Nachname40 | E8: {=IFERROR(INDEX(LKs!$B$2:$B$120,SMALL(IF(LKs!$C$2:$F$120=E$1,ROW(E$1:E$120),""),ROW(E7))),"")} | F8: {=IFERROR(INDEX(LKs!$B$2:$B$120,SMALL(IF(LKs!$C$2:$F$120=F$1,ROW(F$1:F$120),""),ROW(F7))),"")} -> Nachname18 | G8: {=IFERROR(INDEX(LKs!$B$2:$B$120,SMALL(IF(LKs!$C$2:$F$120=G$1,ROW(G$1:G$120),""),ROW(G7))),"")} -> Nachname105 | H8: {=IFERROR(INDEX(LKs!$B$2:$B$120,SMALL(IF(LKs!$C$2:$F$120=H$1,ROW(H$1:H$120),""),ROW(H7))),"")} -> Nachname104 | I8: {=IFERROR(INDEX(LKs!$B$2:$B$120,SMALL(IF(LKs!$C$2:$F$120=I$1,ROW(I$1:I$120),""),ROW(I7))),"")} | J8: {=IFERROR(INDEX(LKs!$B$2:$B$120,SMALL(IF(LKs!$C$2:$F$120=J$1,ROW(J$1:J$120),""),ROW(J7))),"")} | ... W8: {=IFERROR(INDEX(LKs!$B$2:$B$120,SMALL(IF(LKs!$C$2:$F$120=W$1,ROW(W$1:W$120),""),ROW(W7))),"")} -> Nachname18
A9: {=IFERROR(INDEX(LKs!$B$2:$B$120,SMALL(IF(LKs!$C$2:$F$120=A$1,ROW(B$1:B$120),""),ROW(A8))),"")} -> Nachname66 | B9: {=IFERROR(INDEX(LKs!$B$2:$B$120,SMALL(IF(LKs!$C$2:$F$120=B$1,ROW(C$1:C$120),""),ROW(B8))),"")} -> Nachname90 | C9: {=IFERROR(INDEX(LKs!$B$2:$B$120,SMALL(IF(LKs!$C$2:$F$120=C$1,ROW(C$1:C$120),""),ROW(C8))),"")} -> Nachname25 | D9: {=IFERROR(INDEX(LKs!$B$2:$B$120,SMALL(IF(LKs!$C$2:$F$120=D$1,ROW(D$1:D$120),""),ROW(D8))),"")} -> Nachname52 | E9: {=IFERROR(INDEX(LKs!$B$2:$B$120,SMALL(IF(LKs!$C$2:$F$120=E$1,ROW(E$1:E$120),""),ROW(E8))),"")} | F9: {=IFERROR(INDEX(LKs!$B$2:$B$120,SMALL(IF(LKs!$C$2:$F$120=F$1,ROW(F$1:F$120),""),ROW(F8))),"")} -> Nachname20 | G9: {=IFERROR(INDEX(LKs!$B$2:$B$120,SMALL(IF(LKs!$C$2:$F$120=G$1,ROW(G$1:G$120),""),ROW(G8))),"")} -> Nachname112 | H9: {=IFERROR(INDEX(LKs!$B$2:$B$120,SMALL(IF(LKs!$C$2:$F$120=H$1,ROW(H$1:H$120),""),ROW(H8))),"")} -> Nachname105 | I9: {=IFERROR(INDEX(LKs!$B$2:$B$120,SMALL(IF(LKs!$C$2:$F$120=I$1,ROW(I$1:I$120),""),ROW(I8))),"")} | J9: {=IFERROR(INDEX(LKs!$B$2:$B$120,SMALL(IF(LKs!$C$2:$F$120=J$1,ROW(J$1:J$120),""),ROW(J8))),"")} | ... W9: {=IFERROR(INDEX(LKs!$B$2:$B$120,SMALL(IF(LKs!$C$2:$F$120=W$1,ROW(W$1:W$120),""),ROW(W8))),"")} -> Nachname21
A10: {=IFERROR(INDEX(LKs!$B$2:$B$120,SMALL(IF(LKs!$C$2:$F$120=A$1,ROW(B$1:B$120),""),ROW(A9))),"")} -> Nachname76 | B10: {=IFERROR(INDEX(LKs!$B$2:$B$120,SMALL(IF(LKs!$C$2:$F$120=B$1,ROW(C$1:C$120),""),ROW(B9))),"")} -> Nachname92 | C10: {=IFERROR(INDEX(LKs!$B$2:$B$120,SMALL(IF(LKs!$C$2:$F$120=C$1,ROW(C$1:C$120),""),ROW(C9))),"")} -> Nachname26 | D10: {=IFERROR(INDEX(LKs!$B$2:$B$120,SMALL(IF(LKs!$C$2:$F$120=D$1,ROW(D$1:D$120),""),ROW(D9))),"")} -> Nachname78 | E10: {=IFERROR(INDEX(LKs!$B$2:$B$120,SMALL(IF(LKs!$C$2:$F$120=E$1,ROW(E$1:E$120),""),ROW(E9))),"")} | F10: {=IFERROR(INDEX(LKs!$B$2:$B$120,SMALL(IF(LKs!$C$2:$F$120=F$1,ROW(F$1:F$120),""),ROW(F9))),"")} -> Nachname21 | G10: {=IFERROR(INDEX(LKs!$B$2:$B$120,SMALL(IF(LKs!$C$2:$F$120=G$1,ROW(G$1:G$120),""),ROW(G9))),"")} | H10: {=IFERROR(INDEX(LKs!$B$2:$B$120,SMALL(IF(LKs!$C$2:$F$120=H$1,ROW(H$1:H$120),""),ROW(H9))),"")} | I10: {=IFERROR(INDEX(LKs!$B$2:$B$120,SMALL(IF(LKs!$C$2:$F$120=I$1,ROW(I$1:I$120),""),ROW(I9))),"")} | J10: {=IFERROR(INDEX(LKs!$B$2:$B$120,SMALL(IF(LKs!$C$2:$F$120=J$1,ROW(J$1:J$120),""),ROW(J9))),"")} | ... W10: {=IFERROR(INDEX(LKs!$B$2:$B$120,SMALL(IF(LKs!$C$2:$F$120=W$1,ROW(W$1:W$120),""),ROW(W9))),"")} -> Nachname22
A11: {=IFERROR(INDEX(LKs!$B$2:$B$120,SMALL(IF(LKs!$C$2:$F$120=A$1,ROW(B$1:B$120),""),ROW(A10))),"")} -> Nachname90 | B11: {=IFERROR(INDEX(LKs!$B$2:$B$120,SMALL(IF(LKs!$C$2:$F$120=B$1,ROW(C$1:C$120),""),ROW(B10))),"")} -> Nachname111 | C11: {=IFERROR(INDEX(LKs!$B$2:$B$120,SMALL(IF(LKs!$C$2:$F$120=C$1,ROW(C$1:C$120),""),ROW(C10))),"")} -> Nachname27 | D11: {=IFERROR(INDEX(LKs!$B$2:$B$120,SMALL(IF(LKs!$C$2:$F$120=D$1,ROW(D$1:D$120),""),ROW(D10))),"")} -> Nachname91 | E11: {=IFERROR(INDEX(LKs!$B$2:$B$120,SMALL(IF(LKs!$C$2:$F$120=E$1,ROW(E$1:E$120),""),ROW(E10))),"")} | F11: {=IFERROR(INDEX(LKs!$B$2:$B$120,SMALL(IF(LKs!$C$2:$F$120=F$1,ROW(F$1:F$120),""),ROW(F10))),"")} -> Nachname22 | G11: =IFERROR(INDEX(LKs!$B$2:$B$120,SMALL(IF(LKs!$C$2:$F$120=G$1,ROW(G$1:G$120),""),ROW(G10))),"") | H11: {=IFERROR(INDEX(LKs!$B$2:$B$120,SMALL(IF(LKs!$C$2:$F$120=H$1,ROW(H$1:H$120),""),ROW(H10))),"")} | I11: {=IFERROR(INDEX(LKs!$B$2:$B$120,SMALL(IF(LKs!$C$2:$F$120=I$1,ROW(I$1:I$120),""),ROW(I10))),"")} | J11: {=IFERROR(INDEX(LKs!$B$2:$B$120,SMALL(IF(LKs!$C$2:$F$120=J$1,ROW(J$1:J$120),""),ROW(J10))),"")} | K11: {=IFERROR(INDEX(LKs!$B$2:$B$120,SMALL(IF(LKs!$C$2:$F$120=K$1,ROW(K$1:K$120),""),ROW(K10))),"")} | L11: {=IFERROR(INDEX(LKs!$B$2:$B$120,SMALL(IF(LKs!$C$2:$F$120=L$1,ROW(L$1:L$120),""),ROW(L10))),"")} -> Nachname59 | M11: {=IFERROR(INDEX(LKs!$B$2:$B$120,SMALL(IF(LKs!$C$2:$F$120=M$1,ROW(M$1:M$120),""),ROW(M10))),"")} | N11: {=IFERROR(INDEX(LKs!$B$2:$B$120,SMALL(IF(LKs!$C$2:$F$120=N$1,ROW(N$1:N$120),""),ROW(N10))),"")} -> Nachname54 | O11: {=IFERROR(INDEX(LKs!$B$2:$B$120,SMALL(IF(LKs!$C$2:$F$120=O$1,ROW(O$1:O$120),""),ROW(O10))),"")} | ... W11: {=IFERROR(INDEX(LKs!$B$2:$B$120,SMALL(IF(LKs!$C$2:$F$120=W$1,ROW(W$1:W$120),""),ROW(W10))),"")} -> Nachname23
A12: {=IFERROR(INDEX(LKs!$B$2:$B$120,SMALL(IF(LKs!$C$2:$F$120=A$1,ROW(B$1:B$120),""),ROW(A11))),"")} -> Nachname92 | B12: {=IFERROR(INDEX(LKs!$B$2:$B$120,SMALL(IF(LKs!$C$2:$F$120=B$1,ROW(C$1:C$120),""),ROW(B11))),"")} -> Nachname115 | C12: {=IFERROR(INDEX(LKs!$B$2:$B$120,SMALL(IF(LKs!$C$2:$F$120=C$1,ROW(C$1:C$120),""),ROW(C11))),"")} -> Nachname28 | D12: {=IFERROR(INDEX(LKs!$B$2:$B$120,SMALL(IF(LKs!$C$2:$F$120=D$1,ROW(D$1:D$120),""),ROW(D11))),"")} -> Nachname99 | E12: {=IFERROR(INDEX(LKs!$B$2:$B$120,SMALL(IF(LKs!$C$2:$F$120=E$1,ROW(E$1:E$120),""),ROW(E11))),"")} | F12: {=IFERROR(INDEX(LKs!$B$2:$B$120,SMALL(IF(LKs!$C$2:$F$120=F$1,ROW(F$1:F$120),""),ROW(F11))),"")} -> Nachname26 | G12: =IFERROR(INDEX(LKs!$B$2:$B$120,SMALL(IF(LKs!$C$2:$F$120=G$1,ROW(G$1:G$120),""),ROW(G11))),"") | H12: {=IFERROR(INDEX(LKs!$B$2:$B$120,SMALL(IF(LKs!$C$2:$F$120=H$1,ROW(H$1:H$120),""),ROW(H11))),"")} | I12: {=IFERROR(INDEX(LKs!$B$2:$B$120,SMALL(IF(LKs!$C$2:$F$120=I$1,ROW(I$1:I$120),""),ROW(I11))),"")} | J12: {=IFERROR(INDEX(LKs!$B$2:$B$120,SMALL(IF(LKs!$C$2:$F$120=J$1,ROW(J$1:J$120),""),ROW(J11))),"")} | K12: {=IFERROR(INDEX(LKs!$B$2:$B$120,SMALL(IF(LKs!$C$2:$F$120=K$1,ROW(K$1:K$120),""),ROW(K11))),"")} | L12: {=IFERROR(INDEX(LKs!$B$2:$B$120,SMALL(IF(LKs!$C$2:$F$120=L$1,ROW(L$1:L$120),""),ROW(L11))),"")} -> Nachname71 | M12: {=IFERROR(INDEX(LKs!$B$2:$B$120,SMALL(IF(LKs!$C$2:$F$120=M$1,ROW(M$1:M$120),""),ROW(M11))),"")} | N12: {=IFERROR(INDEX(LKs!$B$2:$B$120,SMALL(IF(LKs!$C$2:$F$120=N$1,ROW(N$1:N$120),""),ROW(N11))),"")} -> Nachname55 | O12: {=IFERROR(INDEX(LKs!$B$2:$B$120,SMALL(IF(LKs!$C$2:$F$120=O$1,ROW(O$1:O$120),""),ROW(O11))),"")} | ... W12: {=IFERROR(INDEX(LKs!$B$2:$B$120,SMALL(IF(LKs!$C$2:$F$120=W$1,ROW(W$1:W$120),""),ROW(W11))),"")} -> Nachname27
A13: {=IFERROR(INDEX(LKs!$B$2:$B$120,SMALL(IF(LKs!$C$2:$F$120=A$1,ROW(B$1:B$120),""),ROW(A12))),"")} -> Nachname95 | B13: {=IFERROR(INDEX(LKs!$B$2:$B$120,SMALL(IF(LKs!$C$2:$F$120=B$1,ROW(C$1:C$120),""),ROW(B12))),"")} | C13: {=IFERROR(INDEX(LKs!$B$2:$B$120,SMALL(IF(LKs!$C$2:$F$120=C$1,ROW(C$1:C$120),""),ROW(C12))),"")} -> Nachname31 | D13: {=IFERROR(INDEX(LKs!$B$2:$B$120,SMALL(IF(LKs!$C$2:$F$120=D$1,ROW(D$1:D$120),""),ROW(D12))),"")} -> Nachname112 | E13: {=IFERROR(INDEX(LKs!$B$2:$B$120,SMALL(IF(LKs!$C$2:$F$120=E$1,ROW(E$1:E$120),""),ROW(E12))),"")} | F13: {=IFERROR(INDEX(LKs!$B$2:$B$120,SMALL(IF(LKs!$C$2:$F$120=F$1,ROW(F$1:F$120),""),ROW(F12))),"")} -> Nachname35 | G13: =IFERROR(INDEX(LKs!$B$2:$B$120,SMALL(IF(LKs!$C$2:$F$120=G$1,ROW(G$1:G$120),""),ROW(G12))),"") | H13: {=IFERROR(INDEX(LKs!$B$2:$B$120,SMALL(IF(LKs!$C$2:$F$120=H$1,ROW(H$1:H$120),""),ROW(H12))),"")} | I13: {=IFERROR(INDEX(LKs!$B$2:$B$120,SMALL(IF(LKs!$C$2:$F$120=I$1,ROW(I$1:I$120),""),ROW(I12))),"")} | J13: {=IFERROR(INDEX(LKs!$B$2:$B$120,SMALL(IF(LKs!$C$2:$F$120=J$1,ROW(J$1:J$120),""),ROW(J12))),"")} | K13: {=IFERROR(INDEX(LKs!$B$2:$B$120,SMALL(IF(LKs!$C$2:$F$120=K$1,ROW(K$1:K$120),""),ROW(K12))),"")} | L13: {=IFERROR(INDEX(LKs!$B$2:$B$120,SMALL(IF(LKs!$C$2:$F$120=L$1,ROW(L$1:L$120),""),ROW(L12))),"")} -> Nachname73 | M13: {=IFERROR(INDEX(LKs!$B$2:$B$120,SMALL(IF(LKs!$C$2:$F$120=M$1,ROW(M$1:M$120),""),ROW(M12))),"")} | N13: {=IFERROR(INDEX(LKs!$B$2:$B$120,SMALL(IF(LKs!$C$2:$F$120=N$1,ROW(N$1:N$120),""),ROW(N12))),"")} -> Nachname56 | O13: {=IFERROR(INDEX(LKs!$B$2:$B$120,SMALL(IF(LKs!$C$2:$F$120=O$1,ROW(O$1:O$120),""),ROW(O12))),"")} | ... Q13: {=IFERROR(INDEX(LKs!$B$2:$B$120,SMALL(IF(LKs!$C$2:$F$120=Q$1,ROW(Q$1:Q$120),""),ROW(Q12))),"")} | R13: =IFERROR(INDEX(LKs!$B$2:$B$120,SMALL(IF(LKs!$C$2:$F$120=R$1,ROW(R$1:R$120),""),ROW(R12))),"") | S13: {=IFERROR(INDEX(LKs!$B$2:$B$120,SMALL(IF(LKs!$C$2:$F$120=S$1,ROW(S$1:S$120),""),ROW(S12))),"")} -> Nachname74 | T13: {=IFERROR(INDEX(LKs!$B$2:$B$120,SMALL(IF(LKs!$C$2:$F$120=T$1,ROW(T$1:T$120),""),ROW(T12))),"")} | U13: {=IFERROR(INDEX(LKs!$B$2:$B$120,SMALL(IF(LKs!$C$2:$F$120=U$1,ROW(U$1:U$120),""),ROW(U12))),"")} | V13: {=IFERROR(INDEX(LKs!$B$2:$B$120,SMALL(IF(LKs!$C$2:$F$120=V$1,ROW(V$1:V$120),""),ROW(V12))),"")} -> Nachname31 | W13: {=IFERROR(INDEX(LKs!$B$2:$B$120,SMALL(IF(LKs!$C$2:$F$120=W$1,ROW(W$1:W$120),""),ROW(W12))),"")} -> Nachname29
A14: {=IFERROR(INDEX(LKs!$B$2:$B$120,SMALL(IF(LKs!$C$2:$F$120=A$1,ROW(B$1:B$120),""),ROW(A13))),"")} -> Nachname102 | B14: {=IFERROR(INDEX(LKs!$B$2:$B$120,SMALL(IF(LKs!$C$2:$F$120=B$1,ROW(C$1:C$120),""),ROW(B13))),"")} | C14: {=IFERROR(INDEX(LKs!$B$2:$B$120,SMALL(IF(LKs!$C$2:$F$120=C$1,ROW(C$1:C$120),""),ROW(C13))),"")} -> Nachname33 | D14: {=IFERROR(INDEX(LKs!$B$2:$B$120,SMALL(IF(LKs!$C$2:$F$120=D$1,ROW(D$1:D$120),""),ROW(D13))),"")} | E14: {=IFERROR(INDEX(LKs!$B$2:$B$120,SMALL(IF(LKs!$C$2:$F$120=E$1,ROW(E$1:E$120),""),ROW(E13))),"")} | F14: {=IFERROR(INDEX(LKs!$B$2:$B$120,SMALL(IF(LKs!$C$2:$F$120=F$1,ROW(F$1:F$120),""),ROW(F13))),"")} -> Nachname38 | G14: =IFERROR(INDEX(LKs!$B$2:$B$120,SMALL(IF(LKs!$C$2:$F$120=G$1,ROW(G$1:G$120),""),ROW(G13))),"") | H14: {=IFERROR(INDEX(LKs!$B$2:$B$120,SMALL(IF(LKs!$C$2:$F$120=H$1,ROW(H$1:H$120),""),ROW(H13))),"")} | I14: {=IFERROR(INDEX(LKs!$B$2:$B$120,SMALL(IF(LKs!$C$2:$F$120=I$1,ROW(I$1:I$120),""),ROW(I13))),"")} | J14: {=IFERROR(INDEX(LKs!$B$2:$B$120,SMALL(IF(LKs!$C$2:$F$120=J$1,ROW(J$1:J$120),""),ROW(J13))),"")} | K14: {=IFERROR(INDEX(LKs!$B$2:$B$120,SMALL(IF(LKs!$C$2:$F$120=K$1,ROW(K$1:K$120),""),ROW(K13))),"")} | L14: {=IFERROR(INDEX(LKs!$B$2:$B$120,SMALL(IF(LKs!$C$2:$F$120=L$1,ROW(L$1:L$120),""),ROW(L13))),"")} -> Nachname74 | M14: {=IFERROR(INDEX(LKs!$B$2:$B$120,SMALL(IF(LKs!$C$2:$F$120=M$1,ROW(M$1:M$120),""),ROW(M13))),"")} | N14: {=IFERROR(INDEX(LKs!$B$2:$B$120,SMALL(IF(LKs!$C$2:$F$120=N$1,ROW(N$1:N$120),""),ROW(N13))),"")} -> Nachname66 | O14: {=IFERROR(INDEX(LKs!$B$2:$B$120,SMALL(IF(LKs!$C$2:$F$120=O$1,ROW(O$1:O$120),""),ROW(O13))),"")} | ... Q14: {=IFERROR(INDEX(LKs!$B$2:$B$120,SMALL(IF(LKs!$C$2:$F$120=Q$1,ROW(Q$1:Q$120),""),ROW(Q13))),"")} | R14: =IFERROR(INDEX(LKs!$B$2:$B$120,SMALL(IF(LKs!$C$2:$F$120=R$1,ROW(R$1:R$120),""),ROW(R13))),"") | S14: {=IFERROR(INDEX(LKs!$B$2:$B$120,SMALL(IF(LKs!$C$2:$F$120=S$1,ROW(S$1:S$120),""),ROW(S13))),"")} -> Nachname75 | T14: {=IFERROR(INDEX(LKs!$B$2:$B$120,SMALL(IF(LKs!$C$2:$F$120=T$1,ROW(T$1:T$120),""),ROW(T13))),"")} | U14: {=IFERROR(INDEX(LKs!$B$2:$B$120,SMALL(IF(LKs!$C$2:$F$120=U$1,ROW(U$1:U$120),""),ROW(U13))),"")} | V14: {=IFERROR(INDEX(LKs!$B$2:$B$120,SMALL(IF(LKs!$C$2:$F$120=V$1,ROW(V$1:V$120),""),ROW(V13))),"")} -> Nachname33 | W14: {=IFERROR(INDEX(LKs!$B$2:$B$120,SMALL(IF(LKs!$C$2:$F$120=W$1,ROW(W$1:W$120),""),ROW(W13))),"")} -> Nachname30
A15: {=IFERROR(INDEX(LKs!$B$2:$B$120,SMALL(IF(LKs!$C$2:$F$120=A$1,ROW(B$1:B$120),""),ROW(A14))),"")} -> Nachname112 | B15: {=IFERROR(INDEX(LKs!$B$2:$B$120,SMALL(IF(LKs!$C$2:$F$120=B$1,ROW(C$1:C$120),""),ROW(B14))),"")} | C15: {=IFERROR(INDEX(LKs!$B$2:$B$120,SMALL(IF(LKs!$C$2:$F$120=C$1,ROW(C$1:C$120),""),ROW(C14))),"")} -> Nachname37 | D15: {=IFERROR(INDEX(LKs!$B$2:$B$120,SMALL(IF(LKs!$C$2:$F$120=D$1,ROW(D$1:D$120),""),ROW(D14))),"")} | E15: {=IFERROR(INDEX(LKs!$B$2:$B$120,SMALL(IF(LKs!$C$2:$F$120=E$1,ROW(E$1:E$120),""),ROW(E14))),"")} | F15: {=IFERROR(INDEX(LKs!$B$2:$B$120,SMALL(IF(LKs!$C$2:$F$120=F$1,ROW(F$1:F$120),""),ROW(F14))),"")} -> Nachname43 | G15: =IFERROR(INDEX(LKs!$B$2:$B$120,SMALL(IF(LKs!$C$2:$F$120=G$1,ROW(G$1:G$120),""),ROW(G14))),"") | H15: {=IFERROR(INDEX(LKs!$B$2:$B$120,SMALL(IF(LKs!$C$2:$F$120=H$1,ROW(H$1:H$120),""),ROW(H14))),"")} | I15: {=IFERROR(INDEX(LKs!$B$2:$B$120,SMALL(IF(LKs!$C$2:$F$120=I$1,ROW(I$1:I$120),""),ROW(I14))),"")} | J15: {=IFERROR(INDEX(LKs!$B$2:$B$120,SMALL(IF(LKs!$C$2:$F$120=J$1,ROW(J$1:J$120),""),ROW(J14))),"")} | K15: {=IFERROR(INDEX(LKs!$B$2:$B$120,SMALL(IF(LKs!$C$2:$F$120=K$1,ROW(K$1:K$120),""),ROW(K14))),"")} | L15: {=IFERROR(INDEX(LKs!$B$2:$B$120,SMALL(IF(LKs!$C$2:$F$120=L$1,ROW(L$1:L$120),""),ROW(L14))),"")} -> Nachname76 | M15: {=IFERROR(INDEX(LKs!$B$2:$B$120,SMALL(IF(LKs!$C$2:$F$120=M$1,ROW(M$1:M$120),""),ROW(M14))),"")} | N15: {=IFERROR(INDEX(LKs!$B$2:$B$120,SMALL(IF(LKs!$C$2:$F$120=N$1,ROW(N$1:N$120),""),ROW(N14))),"")} -> Nachname76 | O15: {=IFERROR(INDEX(LKs!$B$2:$B$120,SMALL(IF(LKs!$C$2:$F$120=O$1,ROW(O$1:O$120),""),ROW(O14))),"")} | ... Q15: {=IFERROR(INDEX(LKs!$B$2:$B$120,SMALL(IF(LKs!$C$2:$F$120=Q$1,ROW(Q$1:Q$120),""),ROW(Q14))),"")} | R15: =IFERROR(INDEX(LKs!$B$2:$B$120,SMALL(IF(LKs!$C$2:$F$120=R$1,ROW(R$1:R$120),""),ROW(R14))),"") | S15: {=IFERROR(INDEX(LKs!$B$2:$B$120,SMALL(IF(LKs!$C$2:$F$120=S$1,ROW(S$1:S$120),""),ROW(S14))),"")} -> Nachname77 | T15: {=IFERROR(INDEX(LKs!$B$2:$B$120,SMALL(IF(LKs!$C$2:$F$120=T$1,ROW(T$1:T$120),""),ROW(T14))),"")} | U15: {=IFERROR(INDEX(LKs!$B$2:$B$120,SMALL(IF(LKs!$C$2:$F$120=U$1,ROW(U$1:U$120),""),ROW(U14))),"")} | V15: {=IFERROR(INDEX(LKs!$B$2:$B$120,SMALL(IF(LKs!$C$2:$F$120=V$1,ROW(V$1:V$120),""),ROW(V14))),"")} -> Nachname42 | W15: {=IFERROR(INDEX(LKs!$B$2:$B$120,SMALL(IF(LKs!$C$2:$F$120=W$1,ROW(W$1:W$120),""),ROW(W14))),"")} -> Nachname31
A16: {=IFERROR(INDEX(LKs!$B$2:$B$120,SMALL(IF(LKs!$C$2:$F$120=A$1,ROW(B$1:B$120),""),ROW(A15))),"")} -> Nachname116 | B16: {=IFERROR(INDEX(LKs!$B$2:$B$120,SMALL(IF(LKs!$C$2:$F$120=B$1,ROW(C$1:C$120),""),ROW(B15))),"")} | C16: {=IFERROR(INDEX(LKs!$B$2:$B$120,SMALL(IF(LKs!$C$2:$F$120=C$1,ROW(C$1:C$120),""),ROW(C15))),"")} -> Nachname39 | D16: {=IFERROR(INDEX(LKs!$B$2:$B$120,SMALL(IF(LKs!$C$2:$F$120=D$1,ROW(D$1:D$120),""),ROW(D15))),"")} | E16: {=IFERROR(INDEX(LKs!$B$2:$B$120,SMALL(IF(LKs!$C$2:$F$120=E$1,ROW(E$1:E$120),""),ROW(E15))),"")} | F16: {=IFERROR(INDEX(LKs!$B$2:$B$120,SMALL(IF(LKs!$C$2:$F$120=F$1,ROW(F$1:F$120),""),ROW(F15))),"")} -> Nachname55 | G16: =IFERROR(INDEX(LKs!$B$2:$B$120,SMALL(IF(LKs!$C$2:$F$120=G$1,ROW(G$1:G$120),""),ROW(G15))),"") | H16: {=IFERROR(INDEX(LKs!$B$2:$B$120,SMALL(IF(LKs!$C$2:$F$120=H$1,ROW(H$1:H$120),""),ROW(H15))),"")} | I16: {=IFERROR(INDEX(LKs!$B$2:$B$120,SMALL(IF(LKs!$C$2:$F$120=I$1,ROW(I$1:I$120),""),ROW(I15))),"")} | J16: {=IFERROR(INDEX(LKs!$B$2:$B$120,SMALL(IF(LKs!$C$2:$F$120=J$1,ROW(J$1:J$120),""),ROW(J15))),"")} | K16: {=IFERROR(INDEX(LKs!$B$2:$B$120,SMALL(IF(LKs!$C$2:$F$120=K$1,ROW(K$1:K$120),""),ROW(K15))),"")} | L16: {=IFERROR(INDEX(LKs!$B$2:$B$120,SMALL(IF(LKs!$C$2:$F$120=L$1,ROW(L$1:L$120),""),ROW(L15))),"")} -> Nachname83 | M16: {=IFERROR(INDEX(LKs!$B$2:$B$120,SMALL(IF(LKs!$C$2:$F$120=M$1,ROW(M$1:M$120),""),ROW(M15))),"")} | N16: {=IFERROR(INDEX(LKs!$B$2:$B$120,SMALL(IF(LKs!$C$2:$F$120=N$1,ROW(N$1:N$120),""),ROW(N15))),"")} -> Nachname84 | O16: {=IFERROR(INDEX(LKs!$B$2:$B$120,SMALL(IF(LKs!$C$2:$F$120=O$1,ROW(O$1:O$120),""),ROW(O15))),"")} | ... Q16: {=IFERROR(INDEX(LKs!$B$2:$B$120,SMALL(IF(LKs!$C$2:$F$120=Q$1,ROW(Q$1:Q$120),""),ROW(Q15))),"")} | R16: =IFERROR(INDEX(LKs!$B$2:$B$120,SMALL(IF(LKs!$C$2:$F$120=R$1,ROW(R$1:R$120),""),ROW(R15))),"") | S16: {=IFERROR(INDEX(LKs!$B$2:$B$120,SMALL(IF(LKs!$C$2:$F$120=S$1,ROW(S$1:S$120),""),ROW(S15))),"")} -> Nachname79 | T16: {=IFERROR(INDEX(LKs!$B$2:$B$120,SMALL(IF(LKs!$C$2:$F$120=T$1,ROW(T$1:T$120),""),ROW(T15))),"")} | U16: {=IFERROR(INDEX(LKs!$B$2:$B$120,SMALL(IF(LKs!$C$2:$F$120=U$1,ROW(U$1:U$120),""),ROW(U15))),"")} | V16: {=IFERROR(INDEX(LKs!$B$2:$B$120,SMALL(IF(LKs!$C$2:$F$120=V$1,ROW(V$1:V$120),""),ROW(V15))),"")} -> Nachname44 | W16: {=IFERROR(INDEX(LKs!$B$2:$B$120,SMALL(IF(LKs!$C$2:$F$120=W$1,ROW(W$1:W$120),""),ROW(W15))),"")} -> Nachname33
A17: {=IFERROR(INDEX(LKs!$B$2:$B$120,SMALL(IF(LKs!$C$2:$F$120=A$1,ROW(B$1:B$120),""),ROW(A16))),"")} | B17: {=IFERROR(INDEX(LKs!$B$2:$B$120,SMALL(IF(LKs!$C$2:$F$120=B$1,ROW(C$1:C$120),""),ROW(B16))),"")} | C17: {=IFERROR(INDEX(LKs!$B$2:$B$120,SMALL(IF(LKs!$C$2:$F$120=C$1,ROW(C$1:C$120),""),ROW(C16))),"")} -> Nachname40 | D17: {=IFERROR(INDEX(LKs!$B$2:$B$120,SMALL(IF(LKs!$C$2:$F$120=D$1,ROW(D$1:D$120),""),ROW(D16))),"")} | E17: {=IFERROR(INDEX(LKs!$B$2:$B$120,SMALL(IF(LKs!$C$2:$F$120=E$1,ROW(E$1:E$120),""),ROW(E16))),"")} | F17: {=IFERROR(INDEX(LKs!$B$2:$B$120,SMALL(IF(LKs!$C$2:$F$120=F$1,ROW(F$1:F$120),""),ROW(F16))),"")} -> Nachname63 | G17: =IFERROR(INDEX(LKs!$B$2:$B$120,SMALL(IF(LKs!$C$2:$F$120=G$1,ROW(G$1:G$120),""),ROW(G16))),"") | H17: {=IFERROR(INDEX(LKs!$B$2:$B$120,SMALL(IF(LKs!$C$2:$F$120=H$1,ROW(H$1:H$120),""),ROW(H16))),"")} | I17: {=IFERROR(INDEX(LKs!$B$2:$B$120,SMALL(IF(LKs!$C$2:$F$120=I$1,ROW(I$1:I$120),""),ROW(I16))),"")} | J17: {=IFERROR(INDEX(LKs!$B$2:$B$120,SMALL(IF(LKs!$C$2:$F$120=J$1,ROW(J$1:J$120),""),ROW(J16))),"")} | K17: {=IFERROR(INDEX(LKs!$B$2:$B$120,SMALL(IF(LKs!$C$2:$F$120=K$1,ROW(K$1:K$120),""),ROW(K16))),"")} | L17: {=IFERROR(INDEX(LKs!$B$2:$B$120,SMALL(IF(LKs!$C$2:$F$120=L$1,ROW(L$1:L$120),""),ROW(L16))),"")} -> Nachname85 | M17: {=IFERROR(INDEX(LKs!$B$2:$B$120,SMALL(IF(LKs!$C$2:$F$120=M$1,ROW(M$1:M$120),""),ROW(M16))),"")} | N17: {=IFERROR(INDEX(LKs!$B$2:$B$120,SMALL(IF(LKs!$C$2:$F$120=N$1,ROW(N$1:N$120),""),ROW(N16))),"")} -> Nachname86 | O17: {=IFERROR(INDEX(LKs!$B$2:$B$120,SMALL(IF(LKs!$C$2:$F$120=O$1,ROW(O$1:O$120),""),ROW(O16))),"")} | ... Q17: {=IFERROR(INDEX(LKs!$B$2:$B$120,SMALL(IF(LKs!$C$2:$F$120=Q$1,ROW(Q$1:Q$120),""),ROW(Q16))),"")} | R17: =IFERROR(INDEX(LKs!$B$2:$B$120,SMALL(IF(LKs!$C$2:$F$120=R$1,ROW(R$1:R$120),""),ROW(R16))),"") | S17: {=IFERROR(INDEX(LKs!$B$2:$B$120,SMALL(IF(LKs!$C$2:$F$120=S$1,ROW(S$1:S$120),""),ROW(S16))),"")} -> Nachname83 | T17: {=IFERROR(INDEX(LKs!$B$2:$B$120,SMALL(IF(LKs!$C$2:$F$120=T$1,ROW(T$1:T$120),""),ROW(T16))),"")} | U17: {=IFERROR(INDEX(LKs!$B$2:$B$120,SMALL(IF(LKs!$C$2:$F$120=U$1,ROW(U$1:U$120),""),ROW(U16))),"")} | V17: {=IFERROR(INDEX(LKs!$B$2:$B$120,SMALL(IF(LKs!$C$2:$F$120=V$1,ROW(V$1:V$120),""),ROW(V16))),"")} -> Nachname45 | W17: {=IFERROR(INDEX(LKs!$B$2:$B$120,SMALL(IF(LKs!$C$2:$F$120=W$1,ROW(W$1:W$120),""),ROW(W16))),"")} -> Nachname40
A18: {=IFERROR(INDEX(LKs!$B$2:$B$120,SMALL(IF(LKs!$C$2:$F$120=A$1,ROW(B$1:B$120),""),ROW(A17))),"")} | B18: {=IFERROR(INDEX(LKs!$B$2:$B$120,SMALL(IF(LKs!$C$2:$F$120=B$1,ROW(C$1:C$120),""),ROW(B17))),"")} | C18: {=IFERROR(INDEX(LKs!$B$2:$B$120,SMALL(IF(LKs!$C$2:$F$120=C$1,ROW(C$1:C$120),""),ROW(C17))),"")} -> Nachname46 | D18: {=IFERROR(INDEX(LKs!$B$2:$B$120,SMALL(IF(LKs!$C$2:$F$120=D$1,ROW(D$1:D$120),""),ROW(D17))),"")} | E18: {=IFERROR(INDEX(LKs!$B$2:$B$120,SMALL(IF(LKs!$C$2:$F$120=E$1,ROW(E$1:E$120),""),ROW(E17))),"")} | F18: {=IFERROR(INDEX(LKs!$B$2:$B$120,SMALL(IF(LKs!$C$2:$F$120=F$1,ROW(F$1:F$120),""),ROW(F17))),"")} -> Nachname64 | G18: =IFERROR(INDEX(LKs!$B$2:$B$120,SMALL(IF(LKs!$C$2:$F$120=G$1,ROW(G$1:G$120),""),ROW(G17))),"") | H18: {=IFERROR(INDEX(LKs!$B$2:$B$120,SMALL(IF(LKs!$C$2:$F$120=H$1,ROW(H$1:H$120),""),ROW(H17))),"")} | I18: {=IFERROR(INDEX(LKs!$B$2:$B$120,SMALL(IF(LKs!$C$2:$F$120=I$1,ROW(I$1:I$120),""),ROW(I17))),"")} | J18: {=IFERROR(INDEX(LKs!$B$2:$B$120,SMALL(IF(LKs!$C$2:$F$120=J$1,ROW(J$1:J$120),""),ROW(J17))),"")} | K18: {=IFERROR(INDEX(LKs!$B$2:$B$120,SMALL(IF(LKs!$C$2:$F$120=K$1,ROW(K$1:K$120),""),ROW(K17))),"")} | L18: {=IFERROR(INDEX(LKs!$B$2:$B$120,SMALL(IF(LKs!$C$2:$F$120=L$1,ROW(L$1:L$120),""),ROW(L17))),"")} -> Nachname90 | M18: {=IFERROR(INDEX(LKs!$B$2:$B$120,SMALL(IF(LKs!$C$2:$F$120=M$1,ROW(M$1:M$120),""),ROW(M17))),"")} | N18: {=IFERROR(INDEX(LKs!$B$2:$B$120,SMALL(IF(LKs!$C$2:$F$120=N$1,ROW(N$1:N$120),""),ROW(N17))),"")} -> Nachname90 | O18: {=IFERROR(INDEX(LKs!$B$2:$B$120,SMALL(IF(LKs!$C$2:$F$120=O$1,ROW(O$1:O$120),""),ROW(O17))),"")} | ... Q18: {=IFERROR(INDEX(LKs!$B$2:$B$120,SMALL(IF(LKs!$C$2:$F$120=Q$1,ROW(Q$1:Q$120),""),ROW(Q17))),"")} | R18: =IFERROR(INDEX(LKs!$B$2:$B$120,SMALL(IF(LKs!$C$2:$F$120=R$1,ROW(R$1:R$120),""),ROW(R17))),"") | S18: {=IFERROR(INDEX(LKs!$B$2:$B$120,SMALL(IF(LKs!$C$2:$F$120=S$1,ROW(S$1:S$120),""),ROW(S17))),"")} -> Nachname94 | T18: {=IFERROR(INDEX(LKs!$B$2:$B$120,SMALL(IF(LKs!$C$2:$F$120=T$1,ROW(T$1:T$120),""),ROW(T17))),"")} | U18: {=IFERROR(INDEX(LKs!$B$2:$B$120,SMALL(IF(LKs!$C$2:$F$120=U$1,ROW(U$1:U$120),""),ROW(U17))),"")} | V18: {=IFERROR(INDEX(LKs!$B$2:$B$120,SMALL(IF(LKs!$C$2:$F$120=V$1,ROW(V$1:V$120),""),ROW(V17))),"")} -> Nachname46 | W18: {=IFERROR(INDEX(LKs!$B$2:$B$120,SMALL(IF(LKs!$C$2:$F$120=W$1,ROW(W$1:W$120),""),ROW(W17))),"")} -> Nachname41
A19: {=IFERROR(INDEX(LKs!$B$2:$B$120,SMALL(IF(LKs!$C$2:$F$120=A$1,ROW(B$1:B$120),""),ROW(A18))),"")} | B19: {=IFERROR(INDEX(LKs!$B$2:$B$120,SMALL(IF(LKs!$C$2:$F$120=B$1,ROW(C$1:C$120),""),ROW(B18))),"")} | C19: {=IFERROR(INDEX(LKs!$B$2:$B$120,SMALL(IF(LKs!$C$2:$F$120=C$1,ROW(C$1:C$120),""),ROW(C18))),"")} -> Nachname47 | D19: {=IFERROR(INDEX(LKs!$B$2:$B$120,SMALL(IF(LKs!$C$2:$F$120=D$1,ROW(D$1:D$120),""),ROW(D18))),"")} | E19: {=IFERROR(INDEX(LKs!$B$2:$B$120,SMALL(IF(LKs!$C$2:$F$120=E$1,ROW(E$1:E$120),""),ROW(E18))),"")} | F19: {=IFERROR(INDEX(LKs!$B$2:$B$120,SMALL(IF(LKs!$C$2:$F$120=F$1,ROW(F$1:F$120),""),ROW(F18))),"")} -> Nachname67 | G19: =IFERROR(INDEX(LKs!$B$2:$B$120,SMALL(IF(LKs!$C$2:$F$120=G$1,ROW(G$1:G$120),""),ROW(G18))),"") | H19: {=IFERROR(INDEX(LKs!$B$2:$B$120,SMALL(IF(LKs!$C$2:$F$120=H$1,ROW(H$1:H$120),""),ROW(H18))),"")} | I19: {=IFERROR(INDEX(LKs!$B$2:$B$120,SMALL(IF(LKs!$C$2:$F$120=I$1,ROW(I$1:I$120),""),ROW(I18))),"")} | J19: {=IFERROR(INDEX(LKs!$B$2:$B$120,SMALL(IF(LKs!$C$2:$F$120=J$1,ROW(J$1:J$120),""),ROW(J18))),"")} | K19: {=IFERROR(INDEX(LKs!$B$2:$B$120,SMALL(IF(LKs!$C$2:$F$120=K$1,ROW(K$1:K$120),""),ROW(K18))),"")} | L19: {=IFERROR(INDEX(LKs!$B$2:$B$120,SMALL(IF(LKs!$C$2:$F$120=L$1,ROW(L$1:L$120),""),ROW(L18))),"")} -> Nachname93 | M19: {=IFERROR(INDEX(LKs!$B$2:$B$120,SMALL(IF(LKs!$C$2:$F$120=M$1,ROW(M$1:M$120),""),ROW(M18))),"")} | N19: {=IFERROR(INDEX(LKs!$B$2:$B$120,SMALL(IF(LKs!$C$2:$F$120=N$1,ROW(N$1:N$120),""),ROW(N18))),"")} -> Nachname92 | O19: {=IFERROR(INDEX(LKs!$B$2:$B$120,SMALL(IF(LKs!$C$2:$F$120=O$1,ROW(O$1:O$120),""),ROW(O18))),"")} | ... Q19: {=IFERROR(INDEX(LKs!$B$2:$B$120,SMALL(IF(LKs!$C$2:$F$120=Q$1,ROW(Q$1:Q$120),""),ROW(Q18))),"")} | R19: =IFERROR(INDEX(LKs!$B$2:$B$120,SMALL(IF(LKs!$C$2:$F$120=R$1,ROW(R$1:R$120),""),ROW(R18))),"") | S19: {=IFERROR(INDEX(LKs!$B$2:$B$120,SMALL(IF(LKs!$C$2:$F$120=S$1,ROW(S$1:S$120),""),ROW(S18))),"")} -> Nachname111 | T19: {=IFERROR(INDEX(LKs!$B$2:$B$120,SMALL(IF(LKs!$C$2:$F$120=T$1,ROW(T$1:T$120),""),ROW(T18))),"")} | U19: {=IFERROR(INDEX(LKs!$B$2:$B$120,SMALL(IF(LKs!$C$2:$F$120=U$1,ROW(U$1:U$120),""),ROW(U18))),"")} | V19: {=IFERROR(INDEX(LKs!$B$2:$B$120,SMALL(IF(LKs!$C$2:$F$120=V$1,ROW(V$1:V$120),""),ROW(V18))),"")} -> Nachname58 | W19: {=IFERROR(INDEX(LKs!$B$2:$B$120,SMALL(IF(LKs!$C$2:$F$120=W$1,ROW(W$1:W$120),""),ROW(W18))),"")} -> Nachname44
A20: {=IFERROR(INDEX(LKs!$B$2:$B$120,SMALL(IF(LKs!$C$2:$F$120=A$1,ROW(B$1:B$120),""),ROW(A19))),"")} | B20: {=IFERROR(INDEX(LKs!$B$2:$B$120,SMALL(IF(LKs!$C$2:$F$120=B$1,ROW(C$1:C$120),""),ROW(B19))),"")} | C20: {=IFERROR(INDEX(LKs!$B$2:$B$120,SMALL(IF(LKs!$C$2:$F$120=C$1,ROW(C$1:C$120),""),ROW(C19))),"")} -> Nachname50 | D20: {=IFERROR(INDEX(LKs!$B$2:$B$120,SMALL(IF(LKs!$C$2:$F$120=D$1,ROW(D$1:D$120),""),ROW(D19))),"")} | E20: {=IFERROR(INDEX(LKs!$B$2:$B$120,SMALL(IF(LKs!$C$2:$F$120=E$1,ROW(E$1:E$120),""),ROW(E19))),"")} | F20: {=IFERROR(INDEX(LKs!$B$2:$B$120,SMALL(IF(LKs!$C$2:$F$120=F$1,ROW(F$1:F$120),""),ROW(F19))),"")} -> Nachname68 | G20: =IFERROR(INDEX(LKs!$B$2:$B$120,SMALL(IF(LKs!$C$2:$F$120=G$1,ROW(G$1:G$120),""),ROW(G19))),"") | H20: {=IFERROR(INDEX(LKs!$B$2:$B$120,SMALL(IF(LKs!$C$2:$F$120=H$1,ROW(H$1:H$120),""),ROW(H19))),"")} | I20: {=IFERROR(INDEX(LKs!$B$2:$B$120,SMALL(IF(LKs!$C$2:$F$120=I$1,ROW(I$1:I$120),""),ROW(I19))),"")} | J20: {=IFERROR(INDEX(LKs!$B$2:$B$120,SMALL(IF(LKs!$C$2:$F$120=J$1,ROW(J$1:J$120),""),ROW(J19))),"")} | K20: {=IFERROR(INDEX(LKs!$B$2:$B$120,SMALL(IF(LKs!$C$2:$F$120=K$1,ROW(K$1:K$120),""),ROW(K19))),"")} | L20: {=IFERROR(INDEX(LKs!$B$2:$B$120,SMALL(IF(LKs!$C$2:$F$120=L$1,ROW(L$1:L$120),""),ROW(L19))),"")} -> Nachname94 | M20: {=IFERROR(INDEX(LKs!$B$2:$B$120,SMALL(IF(LKs!$C$2:$F$120=M$1,ROW(M$1:M$120),""),ROW(M19))),"")} | N20: {=IFERROR(INDEX(LKs!$B$2:$B$120,SMALL(IF(LKs!$C$2:$F$120=N$1,ROW(N$1:N$120),""),ROW(N19))),"")} -> Nachname96 | O20: {=IFERROR(INDEX(LKs!$B$2:$B$120,SMALL(IF(LKs!$C$2:$F$120=O$1,ROW(O$1:O$120),""),ROW(O19))),"")} | ... Q20: {=IFERROR(INDEX(LKs!$B$2:$B$120,SMALL(IF(LKs!$C$2:$F$120=Q$1,ROW(Q$1:Q$120),""),ROW(Q19))),"")} | R20: =IFERROR(INDEX(LKs!$B$2:$B$120,SMALL(IF(LKs!$C$2:$F$120=R$1,ROW(R$1:R$120),""),ROW(R19))),"") | S20: {=IFERROR(INDEX(LKs!$B$2:$B$120,SMALL(IF(LKs!$C$2:$F$120=S$1,ROW(S$1:S$120),""),ROW(S19))),"")} -> Nachname115 | T20: {=IFERROR(INDEX(LKs!$B$2:$B$120,SMALL(IF(LKs!$C$2:$F$120=T$1,ROW(T$1:T$120),""),ROW(T19))),"")} | U20: {=IFERROR(INDEX(LKs!$B$2:$B$120,SMALL(IF(LKs!$C$2:$F$120=U$1,ROW(U$1:U$120),""),ROW(U19))),"")} | V20: {=IFERROR(INDEX(LKs!$B$2:$B$120,SMALL(IF(LKs!$C$2:$F$120=V$1,ROW(V$1:V$120),""),ROW(V19))),"")} -> Nachname61 | W20: {=IFERROR(INDEX(LKs!$B$2:$B$120,SMALL(IF(LKs!$C$2:$F$120=W$1,ROW(W$1:W$120),""),ROW(W19))),"")} -> Nachname46
A21: {=IFERROR(INDEX(LKs!$B$2:$B$120,SMALL(IF(LKs!$C$2:$F$120=A$1,ROW(B$1:B$120),""),ROW(A20))),"")} | B21: {=IFERROR(INDEX(LKs!$B$2:$B$120,SMALL(IF(LKs!$C$2:$F$120=B$1,ROW(C$1:C$120),""),ROW(B20))),"")} | C21: {=IFERROR(INDEX(LKs!$B$2:$B$120,SMALL(IF(LKs!$C$2:$F$120=C$1,ROW(C$1:C$120),""),ROW(C20))),"")} -> Nachname51 | D21: {=IFERROR(INDEX(LKs!$B$2:$B$120,SMALL(IF(LKs!$C$2:$F$120=D$1,ROW(D$1:D$120),""),ROW(D20))),"")} | E21: {=IFERROR(INDEX(LKs!$B$2:$B$120,SMALL(IF(LKs!$C$2:$F$120=E$1,ROW(E$1:E$120),""),ROW(E20))),"")} | F21: {=IFERROR(INDEX(LKs!$B$2:$B$120,SMALL(IF(LKs!$C$2:$F$120=F$1,ROW(F$1:F$120),""),ROW(F20))),"")} -> Nachname69 | G21: =IFERROR(INDEX(LKs!$B$2:$B$120,SMALL(IF(LKs!$C$2:$F$120=G$1,ROW(G$1:G$120),""),ROW(G20))),"") | H21: {=IFERROR(INDEX(LKs!$B$2:$B$120,SMALL(IF(LKs!$C$2:$F$120=H$1,ROW(H$1:H$120),""),ROW(H20))),"")} | I21: {=IFERROR(INDEX(LKs!$B$2:$B$120,SMALL(IF(LKs!$C$2:$F$120=I$1,ROW(I$1:I$120),""),ROW(I20))),"")} | J21: {=IFERROR(INDEX(LKs!$B$2:$B$120,SMALL(IF(LKs!$C$2:$F$120=J$1,ROW(J$1:J$120),""),ROW(J20))),"")} | K21: {=IFERROR(INDEX(LKs!$B$2:$B$120,SMALL(IF(LKs!$C$2:$F$120=K$1,ROW(K$1:K$120),""),ROW(K20))),"")} | L21: {=IFERROR(INDEX(LKs!$B$2:$B$120,SMALL(IF(LKs!$C$2:$F$120=L$1,ROW(L$1:L$120),""),ROW(L20))),"")} -> Nachname96 | M21: {=IFERROR(INDEX(LKs!$B$2:$B$120,SMALL(IF(LKs!$C$2:$F$120=M$1,ROW(M$1:M$120),""),ROW(M20))),"")} | N21: {=IFERROR(INDEX(LKs!$B$2:$B$120,SMALL(IF(LKs!$C$2:$F$120=N$1,ROW(N$1:N$120),""),ROW(N20))),"")} -> Nachname102 | O21: {=IFERROR(INDEX(LKs!$B$2:$B$120,SMALL(IF(LKs!$C$2:$F$120=O$1,ROW(O$1:O$120),""),ROW(O20))),"")} | ... Q21: {=IFERROR(INDEX(LKs!$B$2:$B$120,SMALL(IF(LKs!$C$2:$F$120=Q$1,ROW(Q$1:Q$120),""),ROW(Q20))),"")} | R21: =IFERROR(INDEX(LKs!$B$2:$B$120,SMALL(IF(LKs!$C$2:$F$120=R$1,ROW(R$1:R$120),""),ROW(R20))),"") | S21: {=IFERROR(INDEX(LKs!$B$2:$B$120,SMALL(IF(LKs!$C$2:$F$120=S$1,ROW(S$1:S$120),""),ROW(S20))),"")} | T21: {=IFERROR(INDEX(LKs!$B$2:$B$120,SMALL(IF(LKs!$C$2:$F$120=T$1,ROW(T$1:T$120),""),ROW(T20))),"")} | U21: {=IFERROR(INDEX(LKs!$B$2:$B$120,SMALL(IF(LKs!$C$2:$F$120=U$1,ROW(U$1:U$120),""),ROW(U20))),"")} | V21: {=IFERROR(INDEX(LKs!$B$2:$B$120,SMALL(IF(LKs!$C$2:$F$120=V$1,ROW(V$1:V$120),""),ROW(V20))),"")} -> Nachname101 | W21: {=IFERROR(INDEX(LKs!$B$2:$B$120,SMALL(IF(LKs!$C$2:$F$120=W$1,ROW(W$1:W$120),""),ROW(W20))),"")} -> Nachname53
A22: {=IFERROR(INDEX(LKs!$B$2:$B$120,SMALL(IF(LKs!$C$2:$F$120=A$1,ROW(B$1:B$120),""),ROW(A21))),"")} | B22: {=IFERROR(INDEX(LKs!$B$2:$B$120,SMALL(IF(LKs!$C$2:$F$120=B$1,ROW(C$1:C$120),""),ROW(B21))),"")} | C22: {=IFERROR(INDEX(LKs!$B$2:$B$120,SMALL(IF(LKs!$C$2:$F$120=C$1,ROW(C$1:C$120),""),ROW(C21))),"")} -> Nachname52 | D22: {=IFERROR(INDEX(LKs!$B$2:$B$120,SMALL(IF(LKs!$C$2:$F$120=D$1,ROW(D$1:D$120),""),ROW(D21))),"")} | E22: {=IFERROR(INDEX(LKs!$B$2:$B$120,SMALL(IF(LKs!$C$2:$F$120=E$1,ROW(E$1:E$120),""),ROW(E21))),"")} | F22: {=IFERROR(INDEX(LKs!$B$2:$B$120,SMALL(IF(LKs!$C$2:$F$120=F$1,ROW(F$1:F$120),""),ROW(F21))),"")} -> Nachname72 | G22: =IFERROR(INDEX(LKs!$B$2:$B$120,SMALL(IF(LKs!$C$2:$F$120=G$1,ROW(G$1:G$120),""),ROW(G21))),"") | H22: {=IFERROR(INDEX(LKs!$B$2:$B$120,SMALL(IF(LKs!$C$2:$F$120=H$1,ROW(H$1:H$120),""),ROW(H21))),"")} | I22: {=IFERROR(INDEX(LKs!$B$2:$B$120,SMALL(IF(LKs!$C$2:$F$120=I$1,ROW(I$1:I$120),""),ROW(I21))),"")} | J22: {=IFERROR(INDEX(LKs!$B$2:$B$120,SMALL(IF(LKs!$C$2:$F$120=J$1,ROW(J$1:J$120),""),ROW(J21))),"")} | K22: {=IFERROR(INDEX(LKs!$B$2:$B$120,SMALL(IF(LKs!$C$2:$F$120=K$1,ROW(K$1:K$120),""),ROW(K21))),"")} | L22: {=IFERROR(INDEX(LKs!$B$2:$B$120,SMALL(IF(LKs!$C$2:$F$120=L$1,ROW(L$1:L$120),""),ROW(L21))),"")} -> Nachname109 | M22: {=IFERROR(INDEX(LKs!$B$2:$B$120,SMALL(IF(LKs!$C$2:$F$120=M$1,ROW(M$1:M$120),""),ROW(M21))),"")} | N22: {=IFERROR(INDEX(LKs!$B$2:$B$120,SMALL(IF(LKs!$C$2:$F$120=N$1,ROW(N$1:N$120),""),ROW(N21))),"")} -> Nachname111 | O22: {=IFERROR(INDEX(LKs!$B$2:$B$120,SMALL(IF(LKs!$C$2:$F$120=O$1,ROW(O$1:O$120),""),ROW(O21))),"")} | ... Q22: {=IFERROR(INDEX(LKs!$B$2:$B$120,SMALL(IF(LKs!$C$2:$F$120=Q$1,ROW(Q$1:Q$120),""),ROW(Q21))),"")} | R22: =IFERROR(INDEX(LKs!$B$2:$B$120,SMALL(IF(LKs!$C$2:$F$120=R$1,ROW(R$1:R$120),""),ROW(R21))),"") | S22: {=IFERROR(INDEX(LKs!$B$2:$B$120,SMALL(IF(LKs!$C$2:$F$120=S$1,ROW(S$1:S$120),""),ROW(S21))),"")} | T22: {=IFERROR(INDEX(LKs!$B$2:$B$120,SMALL(IF(LKs!$C$2:$F$120=T$1,ROW(T$1:T$120),""),ROW(T21))),"")} | U22: {=IFERROR(INDEX(LKs!$B$2:$B$120,SMALL(IF(LKs!$C$2:$F$120=U$1,ROW(U$1:U$120),""),ROW(U21))),"")} | V22: {=IFERROR(INDEX(LKs!$B$2:$B$120,SMALL(IF(LKs!$C$2:$F$120=V$1,ROW(V$1:V$120),""),ROW(V21))),"")} -> Nachname104 | W22: {=IFERROR(INDEX(LKs!$B$2:$B$120,SMALL(IF(LKs!$C$2:$F$120=W$1,ROW(W$1:W$120),""),ROW(W21))),"")} -> Nachname57
A23: {=IFERROR(INDEX(LKs!$B$2:$B$120,SMALL(IF(LKs!$C$2:$F$120=A$1,ROW(B$1:B$120),""),ROW(A22))),"")} | B23: {=IFERROR(INDEX(LKs!$B$2:$B$120,SMALL(IF(LKs!$C$2:$F$120=B$1,ROW(C$1:C$120),""),ROW(B22))),"")} | C23: {=IFERROR(INDEX(LKs!$B$2:$B$120,SMALL(IF(LKs!$C$2:$F$120=C$1,ROW(C$1:C$120),""),ROW(C22))),"")} -> Nachname60 | D23: {=IFERROR(INDEX(LKs!$B$2:$B$120,SMALL(IF(LKs!$C$2:$F$120=D$1,ROW(D$1:D$120),""),ROW(D22))),"")} | E23: {=IFERROR(INDEX(LKs!$B$2:$B$120,SMALL(IF(LKs!$C$2:$F$120=E$1,ROW(E$1:E$120),""),ROW(E22))),"")} | F23: {=IFERROR(INDEX(LKs!$B$2:$B$120,SMALL(IF(LKs!$C$2:$F$120=F$1,ROW(F$1:F$120),""),ROW(F22))),"")} -> Nachname79 | G23: =IFERROR(INDEX(LKs!$B$2:$B$120,SMALL(IF(LKs!$C$2:$F$120=G$1,ROW(G$1:G$120),""),ROW(G22))),"") | H23: {=IFERROR(INDEX(LKs!$B$2:$B$120,SMALL(IF(LKs!$C$2:$F$120=H$1,ROW(H$1:H$120),""),ROW(H22))),"")} | I23: {=IFERROR(INDEX(LKs!$B$2:$B$120,SMALL(IF(LKs!$C$2:$F$120=I$1,ROW(I$1:I$120),""),ROW(I22))),"")} | J23: {=IFERROR(INDEX(LKs!$B$2:$B$120,SMALL(IF(LKs!$C$2:$F$120=J$1,ROW(J$1:J$120),""),ROW(J22))),"")} | K23: {=IFERROR(INDEX(LKs!$B$2:$B$120,SMALL(IF(LKs!$C$2:$F$120=K$1,ROW(K$1:K$120),""),ROW(K22))),"")} | L23: {=IFERROR(INDEX(LKs!$B$2:$B$120,SMALL(IF(LKs!$C$2:$F$120=L$1,ROW(L$1:L$120),""),ROW(L22))),"")} -> Nachname113 | M23: {=IFERROR(INDEX(LKs!$B$2:$B$120,SMALL(IF(LKs!$C$2:$F$120=M$1,ROW(M$1:M$120),""),ROW(M22))),"")} | N23: {=IFERROR(INDEX(LKs!$B$2:$B$120,SMALL(IF(LKs!$C$2:$F$120=N$1,ROW(N$1:N$120),""),ROW(N22))),"")} -> Nachname112 | O23: {=IFERROR(INDEX(LKs!$B$2:$B$120,SMALL(IF(LKs!$C$2:$F$120=O$1,ROW(O$1:O$120),""),ROW(O22))),"")} | ... Q23: {=IFERROR(INDEX(LKs!$B$2:$B$120,SMALL(IF(LKs!$C$2:$F$120=Q$1,ROW(Q$1:Q$120),""),ROW(Q22))),"")} | R23: =IFERROR(INDEX(LKs!$B$2:$B$120,SMALL(IF(LKs!$C$2:$F$120=R$1,ROW(R$1:R$120),""),ROW(R22))),"") | S23: {=IFERROR(INDEX(LKs!$B$2:$B$120,SMALL(IF(LKs!$C$2:$F$120=S$1,ROW(S$1:S$120),""),ROW(S22))),"")} | T23: {=IFERROR(INDEX(LKs!$B$2:$B$120,SMALL(IF(LKs!$C$2:$F$120=T$1,ROW(T$1:T$120),""),ROW(T22))),"")} | U23: {=IFERROR(INDEX(LKs!$B$2:$B$120,SMALL(IF(LKs!$C$2:$F$120=U$1,ROW(U$1:U$120),""),ROW(U22))),"")} | V23: {=IFERROR(INDEX(LKs!$B$2:$B$120,SMALL(IF(LKs!$C$2:$F$120=V$1,ROW(V$1:V$120),""),ROW(V22))),"")} -> Nachname106 | W23: {=IFERROR(INDEX(LKs!$B$2:$B$120,SMALL(IF(LKs!$C$2:$F$120=W$1,ROW(W$1:W$120),""),ROW(W22))),"")} -> Nachname61
A24: {=IFERROR(INDEX(LKs!$B$2:$B$120,SMALL(IF(LKs!$C$2:$F$120=A$1,ROW(B$1:B$120),""),ROW(A23))),"")} | B24: {=IFERROR(INDEX(LKs!$B$2:$B$120,SMALL(IF(LKs!$C$2:$F$120=B$1,ROW(C$1:C$120),""),ROW(B23))),"")} | C24: {=IFERROR(INDEX(LKs!$B$2:$B$120,SMALL(IF(LKs!$C$2:$F$120=C$1,ROW(C$1:C$120),""),ROW(C23))),"")} -> Nachname61 | D24: {=IFERROR(INDEX(LKs!$B$2:$B$120,SMALL(IF(LKs!$C$2:$F$120=D$1,ROW(D$1:D$120),""),ROW(D23))),"")} | E24: {=IFERROR(INDEX(LKs!$B$2:$B$120,SMALL(IF(LKs!$C$2:$F$120=E$1,ROW(E$1:E$120),""),ROW(E23))),"")} | F24: {=IFERROR(INDEX(LKs!$B$2:$B$120,SMALL(IF(LKs!$C$2:$F$120=F$1,ROW(F$1:F$120),""),ROW(F23))),"")} -> Nachname87 | G24: =IFERROR(INDEX(LKs!$B$2:$B$120,SMALL(IF(LKs!$C$2:$F$120=G$1,ROW(G$1:G$120),""),ROW(G23))),"") | H24: {=IFERROR(INDEX(LKs!$B$2:$B$120,SMALL(IF(LKs!$C$2:$F$120=H$1,ROW(H$1:H$120),""),ROW(H23))),"")} | I24: {=IFERROR(INDEX(LKs!$B$2:$B$120,SMALL(IF(LKs!$C$2:$F$120=I$1,ROW(I$1:I$120),""),ROW(I23))),"")} | J24: {=IFERROR(INDEX(LKs!$B$2:$B$120,SMALL(IF(LKs!$C$2:$F$120=J$1,ROW(J$1:J$120),""),ROW(J23))),"")} | K24: {=IFERROR(INDEX(LKs!$B$2:$B$120,SMALL(IF(LKs!$C$2:$F$120=K$1,ROW(K$1:K$120),""),ROW(K23))),"")} | L24: {=IFERROR(INDEX(LKs!$B$2:$B$120,SMALL(IF(LKs!$C$2:$F$120=L$1,ROW(L$1:L$120),""),ROW(L23))),"")} | M24: {=IFERROR(INDEX(LKs!$B$2:$B$120,SMALL(IF(LKs!$C$2:$F$120=M$1,ROW(M$1:M$120),""),ROW(M23))),"")} | N24: {=IFERROR(INDEX(LKs!$B$2:$B$120,SMALL(IF(LKs!$C$2:$F$120=N$1,ROW(N$1:N$120),""),ROW(N23))),"")} -> Nachname115 | O24: {=IFERROR(INDEX(LKs!$B$2:$B$120,SMALL(IF(LKs!$C$2:$F$120=O$1,ROW(O$1:O$120),""),ROW(O23))),"")} | ... Q24: {=IFERROR(INDEX(LKs!$B$2:$B$120,SMALL(IF(LKs!$C$2:$F$120=Q$1,ROW(Q$1:Q$120),""),ROW(Q23))),"")} | R24: =IFERROR(INDEX(LKs!$B$2:$B$120,SMALL(IF(LKs!$C$2:$F$120=R$1,ROW(R$1:R$120),""),ROW(R23))),"") | T24: {=IFERROR(INDEX(LKs!$B$2:$B$120,SMALL(IF(LKs!$C$2:$F$120=T$1,ROW(T$1:T$120),""),ROW(T23))),"")} | U24: {=IFERROR(INDEX(LKs!$B$2:$B$120,SMALL(IF(LKs!$C$2:$F$120=U$1,ROW(U$1:U$120),""),ROW(U23))),"")} | V24: {=IFERROR(INDEX(LKs!$B$2:$B$120,SMALL(IF(LKs!$C$2:$F$120=V$1,ROW(V$1:V$120),""),ROW(V23))),"")} -> Nachname109 | W24: {=IFERROR(INDEX(LKs!$B$2:$B$120,SMALL(IF(LKs!$C$2:$F$120=W$1,ROW(W$1:W$120),""),ROW(W23))),"")} -> Nachname65
A25: {=IFERROR(INDEX(LKs!$B$2:$B$120,SMALL(IF(LKs!$C$2:$F$120=A$1,ROW(B$1:B$120),""),ROW(A24))),"")} | B25: {=IFERROR(INDEX(LKs!$B$2:$B$120,SMALL(IF(LKs!$C$2:$F$120=B$1,ROW(C$1:C$120),""),ROW(B24))),"")} | C25: {=IFERROR(INDEX(LKs!$B$2:$B$120,SMALL(IF(LKs!$C$2:$F$120=C$1,ROW(C$1:C$120),""),ROW(C24))),"")} -> Nachname62 | D25: {=IFERROR(INDEX(LKs!$B$2:$B$120,SMALL(IF(LKs!$C$2:$F$120=D$1,ROW(D$1:D$120),""),ROW(D24))),"")} | E25: {=IFERROR(INDEX(LKs!$B$2:$B$120,SMALL(IF(LKs!$C$2:$F$120=E$1,ROW(E$1:E$120),""),ROW(E24))),"")} | F25: {=IFERROR(INDEX(LKs!$B$2:$B$120,SMALL(IF(LKs!$C$2:$F$120=F$1,ROW(F$1:F$120),""),ROW(F24))),"")} -> Nachname97 | G25: =IFERROR(INDEX(LKs!$B$2:$B$120,SMALL(IF(LKs!$C$2:$F$120=G$1,ROW(G$1:G$120),""),ROW(G24))),"") | H25: {=IFERROR(INDEX(LKs!$B$2:$B$120,SMALL(IF(LKs!$C$2:$F$120=H$1,ROW(H$1:H$120),""),ROW(H24))),"")} | I25: {=IFERROR(INDEX(LKs!$B$2:$B$120,SMALL(IF(LKs!$C$2:$F$120=I$1,ROW(I$1:I$120),""),ROW(I24))),"")} | J25: {=IFERROR(INDEX(LKs!$B$2:$B$120,SMALL(IF(LKs!$C$2:$F$120=J$1,ROW(J$1:J$120),""),ROW(J24))),"")} | K25: {=IFERROR(INDEX(LKs!$B$2:$B$120,SMALL(IF(LKs!$C$2:$F$120=K$1,ROW(K$1:K$120),""),ROW(K24))),"")} | L25: {=IFERROR(INDEX(LKs!$B$2:$B$120,SMALL(IF(LKs!$C$2:$F$120=L$1,ROW(L$1:L$120),""),ROW(L24))),"")} | M25: {=IFERROR(INDEX(LKs!$B$2:$B$120,SMALL(IF(LKs!$C$2:$F$120=M$1,ROW(M$1:M$120),""),ROW(M24))),"")} | N25: =IFERROR(INDEX(LKs!$B$2:$B$120 ,SMALL(IF(LKs!$C$2:$F$120=N$1,ROW(N$1:N$120),""),ROW(N24))),"") | O25: {=IFERROR(INDEX(LKs!$B$2:$B$120,SMALL(IF(LKs!$C$2:$F$120=O$1,ROW(O$1:O$120),""),ROW(O24))),"")} | P25: {=IFERROR(INDEX(LKs!$B$2:$B$120,SMALL(IF(LKs!$C$2:$F$120=P$1,ROW(P$1:P$120),""),ROW(P24))),"")} | Q25: {=IFERROR(INDEX(LKs!$B$2:$B$120,SMALL(IF(LKs!$C$2:$F$120=Q$1,ROW(Q$1:Q$120),""),ROW(Q24))),"")} | R25: =IFERROR(INDEX(LKs!$B$2:$B$120,SMALL(IF(LKs!$C$2:$F$120=R$1,ROW(R$1:R$120),""),ROW(R24))),"") | T25: {=IFERROR(INDEX(LKs!$B$2:$B$120,SMALL(IF(LKs!$C$2:$F$120=T$1,ROW(T$1:T$120),""),ROW(T24))),"")} | U25: {=IFERROR(INDEX(LKs!$B$2:$B$120,SMALL(IF(LKs!$C$2:$F$120=U$1,ROW(U$1:U$120),""),ROW(U24))),"")} | V25: {=IFERROR(INDEX(LKs!$B$2:$B$120,SMALL(IF(LKs!$C$2:$F$120=V$1,ROW(V$1:V$120),""),ROW(V24))),"")} | W25: {=IFERROR(INDEX(LKs!$B$2:$B$120,SMALL(IF(LKs!$C$2:$F$120=W$1,ROW(W$1:W$120),""),ROW(W24))),"")} -> Nachname67
A26: {=IFERROR(INDEX(LKs!$B$2:$B$120,SMALL(IF(LKs!$C$2:$F$120=A$1,ROW(B$1:B$120),""),ROW(A25))),"")} | B26: {=IFERROR(INDEX(LKs!$B$2:$B$120,SMALL(IF(LKs!$C$2:$F$120=B$1,ROW(C$1:C$120),""),ROW(B25))),"")} | C26: {=IFERROR(INDEX(LKs!$B$2:$B$120,SMALL(IF(LKs!$C$2:$F$120=C$1,ROW(C$1:C$120),""),ROW(C25))),"")} -> Nachname64 | D26: {=IFERROR(INDEX(LKs!$B$2:$B$120,SMALL(IF(LKs!$C$2:$F$120=D$1,ROW(D$1:D$120),""),ROW(D25))),"")} | E26: {=IFERROR(INDEX(LKs!$B$2:$B$120,SMALL(IF(LKs!$C$2:$F$120=E$1,ROW(E$1:E$120),""),ROW(E25))),"")} | F26: {=IFERROR(INDEX(LKs!$B$2:$B$120,SMALL(IF(LKs!$C$2:$F$120=F$1,ROW(F$1:F$120),""),ROW(F25))),"")} -> Nachname98 | G26: =IFERROR(INDEX(LKs!$B$2:$B$120,SMALL(IF(LKs!$C$2:$F$120=G$1,ROW(G$1:G$120),""),ROW(G25))),"") | H26: {=IFERROR(INDEX(LKs!$B$2:$B$120,SMALL(IF(LKs!$C$2:$F$120=H$1,ROW(H$1:H$120),""),ROW(H25))),"")} | I26: {=IFERROR(INDEX(LKs!$B$2:$B$120,SMALL(IF(LKs!$C$2:$F$120=I$1,ROW(I$1:I$120),""),ROW(I25))),"")} | J26: {=IFERROR(INDEX(LKs!$B$2:$B$120,SMALL(IF(LKs!$C$2:$F$120=J$1,ROW(J$1:J$120),""),ROW(J25))),"")} | K26: {=IFERROR(INDEX(LKs!$B$2:$B$120,SMALL(IF(LKs!$C$2:$F$120=K$1,ROW(K$1:K$120),""),ROW(K25))),"")} | L26: {=IFERROR(INDEX(LKs!$B$2:$B$120,SMALL(IF(LKs!$C$2:$F$120=L$1,ROW(L$1:L$120),""),ROW(L25))),"")} | M26: {=IFERROR(INDEX(LKs!$B$2:$B$120,SMALL(IF(LKs!$C$2:$F$120=M$1,ROW(M$1:M$120),""),ROW(M25))),"")} | N26: {=IFERROR(INDEX(LKs!$B$2:$B$120,SMALL(IF(LKs!$C$2:$F$120=N$1,ROW(N$1:N$120),""),ROW(N25))),"")} | O26: {=IFERROR(INDEX(LKs!$B$2:$B$120,SMALL(IF(LKs!$C$2:$F$120=O$1,ROW(O$1:O$120),""),ROW(O25))),"")} | ... Q26: {=IFERROR(INDEX(LKs!$B$2:$B$120,SMALL(IF(LKs!$C$2:$F$120=Q$1,ROW(Q$1:Q$120),""),ROW(Q25))),"")} | R26: =IFERROR(INDEX(LKs!$B$2:$B$120,SMALL(IF(LKs!$C$2:$F$120=R$1,ROW(R$1:R$120),""),ROW(R25))),"") | T26: {=IFERROR(INDEX(LKs!$B$2:$B$120,SMALL(IF(LKs!$C$2:$F$120=T$1,ROW(T$1:T$120),""),ROW(T25))),"")} | U26: {=IFERROR(INDEX(LKs!$B$2:$B$120,SMALL(IF(LKs!$C$2:$F$120=U$1,ROW(U$1:U$120),""),ROW(U25))),"")} | V26: {=IFERROR(INDEX(LKs!$B$2:$B$120,SMALL(IF(LKs!$C$2:$F$120=V$1,ROW(V$1:V$120),""),ROW(V25))),"")} | W26: {=IFERROR(INDEX(LKs!$B$2:$B$120,SMALL(IF(LKs!$C$2:$F$120=W$1,ROW(W$1:W$120),""),ROW(W25))),"")} -> Nachname73
A27: {=IFERROR(INDEX(LKs!$B$2:$B$120,SMALL(IF(LKs!$C$2:$F$120=A$1,ROW(B$1:B$120),""),ROW(A26))),"")} | B27: {=IFERROR(INDEX(LKs!$B$2:$B$120,SMALL(IF(LKs!$C$2:$F$120=B$1,ROW(C$1:C$120),""),ROW(B26))),"")} | C27: {=IFERROR(INDEX(LKs!$B$2:$B$120,SMALL(IF(LKs!$C$2:$F$120=C$1,ROW(C$1:C$120),""),ROW(C26))),"")} -> Nachname68 | D27: {=IFERROR(INDEX(LKs!$B$2:$B$120,SMALL(IF(LKs!$C$2:$F$120=D$1,ROW(D$1:D$120),""),ROW(D26))),"")} | E27: {=IFERROR(INDEX(LKs!$B$2:$B$120,SMALL(IF(LKs!$C$2:$F$120=E$1,ROW(E$1:E$120),""),ROW(E26))),"")} | F27: {=IFERROR(INDEX(LKs!$B$2:$B$120,SMALL(IF(LKs!$C$2:$F$120=F$1,ROW(F$1:F$120),""),ROW(F26))),"")} -> Nachname101 | G27: =IFERROR(INDEX(LKs!$B$2:$B$120,SMALL(IF(LKs!$C$2:$F$120=G$1,ROW(G$1:G$120),""),ROW(G26))),"") | H27: {=IFERROR(INDEX(LKs!$B$2:$B$120,SMALL(IF(LKs!$C$2:$F$120=H$1,ROW(H$1:H$120),""),ROW(H26))),"")} | I27: {=IFERROR(INDEX(LKs!$B$2:$B$120,SMALL(IF(LKs!$C$2:$F$120=I$1,ROW(I$1:I$120),""),ROW(I26))),"")} | J27: {=IFERROR(INDEX(LKs!$B$2:$B$120,SMALL(IF(LKs!$C$2:$F$120=J$1,ROW(J$1:J$120),""),ROW(J26))),"")} | K27: {=IFERROR(INDEX(LKs!$B$2:$B$120,SMALL(IF(LKs!$C$2:$F$120=K$1,ROW(K$1:K$120),""),ROW(K26))),"")} | L27: {=IFERROR(INDEX(LKs!$B$2:$B$120,SMALL(IF(LKs!$C$2:$F$120=L$1,ROW(L$1:L$120),""),ROW(L26))),"")} | M27: {=IFERROR(INDEX(LKs!$B$2:$B$120,SMALL(IF(LKs!$C$2:$F$120=M$1,ROW(M$1:M$120),""),ROW(M26))),"")} | N27: {=IFERROR(INDEX(LKs!$B$2:$B$120,SMALL(IF(LKs!$C$2:$F$120=N$1,ROW(N$1:N$120),""),ROW(N26))),"")} | O27: {=IFERROR(INDEX(LKs!$B$2:$B$120,SMALL(IF(LKs!$C$2:$F$120=O$1,ROW(O$1:O$120),""),ROW(O26))),"")} | ... Q27: {=IFERROR(INDEX(LKs!$B$2:$B$120,SMALL(IF(LKs!$C$2:$F$120=Q$1,ROW(Q$1:Q$120),""),ROW(Q26))),"")} | R27: =IFERROR(INDEX(LKs!$B$2:$B$120,SMALL(IF(LKs!$C$2:$F$120=R$1,ROW(R$1:R$120),""),ROW(R26))),"") | T27: {=IFERROR(INDEX(LKs!$B$2:$B$120,SMALL(IF(LKs!$C$2:$F$120=T$1,ROW(T$1:T$120),""),ROW(T26))),"")} | U27: {=IFERROR(INDEX(LKs!$B$2:$B$120,SMALL(IF(LKs!$C$2:$F$120=U$1,ROW(U$1:U$120),""),ROW(U26))),"")} | V27: {=IFERROR(INDEX(LKs!$B$2:$B$120,SMALL(IF(LKs!$C$2:$F$120=V$1,ROW(V$1:V$120),""),ROW(V26))),"")} | W27: {=IFERROR(INDEX(LKs!$B$2:$B$120,SMALL(IF(LKs!$C$2:$F$120=W$1,ROW(W$1:W$120),""),ROW(W26))),"")} -> Nachname75
A28: {=IFERROR(INDEX(LKs!$B$2:$B$120,SMALL(IF(LKs!$C$2:$F$120=A$1,ROW(B$1:B$120),""),ROW(A27))),"")} | B28: {=IFERROR(INDEX(LKs!$B$2:$B$120,SMALL(IF(LKs!$C$2:$F$120=B$1,ROW(C$1:C$120),""),ROW(B27))),"")} | C28: {=IFERROR(INDEX(LKs!$B$2:$B$120,SMALL(IF(LKs!$C$2:$F$120=C$1,ROW(C$1:C$120),""),ROW(C27))),"")} -> Nachname74 | D28: {=IFERROR(INDEX(LKs!$B$2:$B$120,SMALL(IF(LKs!$C$2:$F$120=D$1,ROW(D$1:D$120),""),ROW(D27))),"")} | E28: {=IFERROR(INDEX(LKs!$B$2:$B$120,SMALL(IF(LKs!$C$2:$F$120=E$1,ROW(E$1:E$120),""),ROW(E27))),"")} | F28: {=IFERROR(INDEX(LKs!$B$2:$B$120,SMALL(IF(LKs!$C$2:$F$120=F$1,ROW(F$1:F$120),""),ROW(F27))),"")} -> Nachname103 | G28: =IFERROR(INDEX(LKs!$B$2:$B$120,SMALL(IF(LKs!$C$2:$F$120=G$1,ROW(G$1:G$120),""),ROW(G27))),"") | H28: {=IFERROR(INDEX(LKs!$B$2:$B$120,SMALL(IF(LKs!$C$2:$F$120=H$1,ROW(H$1:H$120),""),ROW(H27))),"")} | I28: {=IFERROR(INDEX(LKs!$B$2:$B$120,SMALL(IF(LKs!$C$2:$F$120=I$1,ROW(I$1:I$120),""),ROW(I27))),"")} | J28: {=IFERROR(INDEX(LKs!$B$2:$B$120,SMALL(IF(LKs!$C$2:$F$120=J$1,ROW(J$1:J$120),""),ROW(J27))),"")} | K28: {=IFERROR(INDEX(LKs!$B$2:$B$120,SMALL(IF(LKs!$C$2:$F$120=K$1,ROW(K$1:K$120),""),ROW(K27))),"")} | L28: {=IFERROR(INDEX(LKs!$B$2:$B$120,SMALL(IF(LKs!$C$2:$F$120=L$1,ROW(L$1:L$120),""),ROW(L27))),"")} | M28: {=IFERROR(INDEX(LKs!$B$2:$B$120,SMALL(IF(LKs!$C$2:$F$120=M$1,ROW(M$1:M$120),""),ROW(M27))),"")} | N28: {=IFERROR(INDEX(LKs!$B$2:$B$120,SMALL(IF(LKs!$C$2:$F$120=N$1,ROW(N$1:N$120),""),ROW(N27))),"")} | O28: {=IFERROR(INDEX(LKs!$B$2:$B$120,SMALL(IF(LKs!$C$2:$F$120=O$1,ROW(O$1:O$120),""),ROW(O27))),"")} | ... Q28: {=IFERROR(INDEX(LKs!$B$2:$B$120,SMALL(IF(LKs!$C$2:$F$120=Q$1,ROW(Q$1:Q$120),""),ROW(Q27))),"")} | R28: =IFERROR(INDEX(LKs!$B$2:$B$120,SMALL(IF(LKs!$C$2:$F$120=R$1,ROW(R$1:R$120),""),ROW(R27))),"") | T28: {=IFERROR(INDEX(LKs!$B$2:$B$120,SMALL(IF(LKs!$C$2:$F$120=T$1,ROW(T$1:T$120),""),ROW(T27))),"")} | U28: {=IFERROR(INDEX(LKs!$B$2:$B$120,SMALL(IF(LKs!$C$2:$F$120=U$1,ROW(U$1:U$120),""),ROW(U27))),"")} | V28: {=IFERROR(INDEX(LKs!$B$2:$B$120,SMALL(IF(LKs!$C$2:$F$120=V$1,ROW(V$1:V$120),""),ROW(V27))),"")} | W28: {=IFERROR(INDEX(LKs!$B$2:$B$120,SMALL(IF(LKs!$C$2:$F$120=W$1,ROW(W$1:W$120),""),ROW(W27))),"")} -> Nachname91
A29: {=IFERROR(INDEX(LKs!$B$2:$B$120,SMALL(IF(LKs!$C$2:$F$120=A$1,ROW(B$1:B$120),""),ROW(A28))),"")} | B29: {=IFERROR(INDEX(LKs!$B$2:$B$120,SMALL(IF(LKs!$C$2:$F$120=B$1,ROW(C$1:C$120),""),ROW(B28))),"")} | C29: {=IFERROR(INDEX(LKs!$B$2:$B$120,SMALL(IF(LKs!$C$2:$F$120=C$1,ROW(C$1:C$120),""),ROW(C28))),"")} -> Nachname78 | D29: {=IFERROR(INDEX(LKs!$B$2:$B$120,SMALL(IF(LKs!$C$2:$F$120=D$1,ROW(D$1:D$120),""),ROW(D28))),"")} | E29: {=IFERROR(INDEX(LKs!$B$2:$B$120,SMALL(IF(LKs!$C$2:$F$120=E$1,ROW(E$1:E$120),""),ROW(E28))),"")} | F29: {=IFERROR(INDEX(LKs!$B$2:$B$120,SMALL(IF(LKs!$C$2:$F$120=F$1,ROW(F$1:F$120),""),ROW(F28))),"")} -> Nachname108 | G29: =IFERROR(INDEX(LKs!$B$2:$B$120,SMALL(IF(LKs!$C$2:$F$120=G$1,ROW(G$1:G$120),""),ROW(G28))),"") | H29: {=IFERROR(INDEX(LKs!$B$2:$B$120,SMALL(IF(LKs!$C$2:$F$120=H$1,ROW(H$1:H$120),""),ROW(H28))),"")} | I29: {=IFERROR(INDEX(LKs!$B$2:$B$120,SMALL(IF(LKs!$C$2:$F$120=I$1,ROW(I$1:I$120),""),ROW(I28))),"")} | J29: {=IFERROR(INDEX(LKs!$B$2:$B$120,SMALL(IF(LKs!$C$2:$F$120=J$1,ROW(J$1:J$120),""),ROW(J28))),"")} | K29: {=IFERROR(INDEX(LKs!$B$2:$B$120,SMALL(IF(LKs!$C$2:$F$120=K$1,ROW(K$1:K$120),""),ROW(K28))),"")} | L29: {=IFERROR(INDEX(LKs!$B$2:$B$120,SMALL(IF(LKs!$C$2:$F$120=L$1,ROW(L$1:L$120),""),ROW(L28))),"")} | M29: {=IFERROR(INDEX(LKs!$B$2:$B$120,SMALL(IF(LKs!$C$2:$F$120=M$1,ROW(M$1:M$120),""),ROW(M28))),"")} | O29: {=IFERROR(INDEX(LKs!$B$2:$B$120,SMALL(IF(LKs!$C$2:$F$120=O$1,ROW(O$1:O$120),""),ROW(O28))),"")} | P29: {=IFERROR(INDEX(LKs!$B$2:$B$120,SMALL(IF(LKs!$C$2:$F$120=P$1,ROW(P$1:P$120),""),ROW(P28))),"")} | Q29: {=IFERROR(INDEX(LKs!$B$2:$B$120,SMALL(IF(LKs!$C$2:$F$120=Q$1,ROW(Q$1:Q$120),""),ROW(Q28))),"")} | R29: =IFERROR(INDEX(LKs!$B$2:$B$120,SMALL(IF(LKs!$C$2:$F$120=R$1,ROW(R$1:R$120),""),ROW(R28))),"") | T29: {=IFERROR(INDEX(LKs!$B$2:$B$120,SMALL(IF(LKs!$C$2:$F$120=T$1,ROW(T$1:T$120),""),ROW(T28))),"")} | U29: {=IFERROR(INDEX(LKs!$B$2:$B$120,SMALL(IF(LKs!$C$2:$F$120=U$1,ROW(U$1:U$120),""),ROW(U28))),"")} | V29: {=IFERROR(INDEX(LKs!$B$2:$B$120,SMALL(IF(LKs!$C$2:$F$120=V$1,ROW(V$1:V$120),""),ROW(V28))),"")} | W29: {=IFERROR(INDEX(LKs!$B$2:$B$120,SMALL(IF(LKs!$C$2:$F$120=W$1,ROW(W$1:W$120),""),ROW(W28))),"")} -> Nachname97
A30: {=IFERROR(INDEX(LKs!$B$2:$B$120,SMALL(IF(LKs!$C$2:$F$120=A$1,ROW(B$1:B$120),""),ROW(A29))),"")} | B30: {=IFERROR(INDEX(LKs!$B$2:$B$120,SMALL(IF(LKs!$C$2:$F$120=B$1,ROW(C$1:C$120),""),ROW(B29))),"")} | C30: {=IFERROR(INDEX(LKs!$B$2:$B$120,SMALL(IF(LKs!$C$2:$F$120=C$1,ROW(C$1:C$120),""),ROW(C29))),"")} -> Nachname88 | D30: {=IFERROR(INDEX(LKs!$B$2:$B$120,SMALL(IF(LKs!$C$2:$F$120=D$1,ROW(D$1:D$120),""),ROW(D29))),"")} | E30: {=IFERROR(INDEX(LKs!$B$2:$B$120,SMALL(IF(LKs!$C$2:$F$120=E$1,ROW(E$1:E$120),""),ROW(E29))),"")} | F30: {=IFERROR(INDEX(LKs!$B$2:$B$120,SMALL(IF(LKs!$C$2:$F$120=F$1,ROW(F$1:F$120),""),ROW(F29))),"")} -> Nachname114 | G30: =IFERROR(INDEX(LKs!$B$2:$B$120,SMALL(IF(LKs!$C$2:$F$120=G$1,ROW(G$1:G$120),""),ROW(G29))),"") | H30: {=IFERROR(INDEX(LKs!$B$2:$B$120,SMALL(IF(LKs!$C$2:$F$120=H$1,ROW(H$1:H$120),""),ROW(H29))),"")} | I30: {=IFERROR(INDEX(LKs!$B$2:$B$120,SMALL(IF(LKs!$C$2:$F$120=I$1,ROW(I$1:I$120),""),ROW(I29))),"")} | J30: {=IFERROR(INDEX(LKs!$B$2:$B$120,SMALL(IF(LKs!$C$2:$F$120=J$1,ROW(J$1:J$120),""),ROW(J29))),"")} | K30: {=IFERROR(INDEX(LKs!$B$2:$B$120,SMALL(IF(LKs!$C$2:$F$120=K$1,ROW(K$1:K$120),""),ROW(K29))),"")} | L30: {=IFERROR(INDEX(LKs!$B$2:$B$120,SMALL(IF(LKs!$C$2:$F$120=L$1,ROW(L$1:L$120),""),ROW(L29))),"")} | M30: {=IFERROR(INDEX(LKs!$B$2:$B$120,SMALL(IF(LKs!$C$2:$F$120=M$1,ROW(M$1:M$120),""),ROW(M29))),"")} | O30: {=IFERROR(INDEX(LKs!$B$2:$B$120,SMALL(IF(LKs!$C$2:$F$120=O$1,ROW(O$1:O$120),""),ROW(O29))),"")} | P30: {=IFERROR(INDEX(LKs!$B$2:$B$120,SMALL(IF(LKs!$C$2:$F$120=P$1,ROW(P$1:P$120),""),ROW(P29))),"")} | Q30: {=IFERROR(INDEX(LKs!$B$2:$B$120,SMALL(IF(LKs!$C$2:$F$120=Q$1,ROW(Q$1:Q$120),""),ROW(Q29))),"")} | R30: =IFERROR(INDEX(LKs!$B$2:$B$120,SMALL(IF(LKs!$C$2:$F$120=R$1,ROW(R$1:R$120),""),ROW(R29))),"") | T30: {=IFERROR(INDEX(LKs!$B$2:$B$120,SMALL(IF(LKs!$C$2:$F$120=T$1,ROW(T$1:T$120),""),ROW(T29))),"")} | U30: {=IFERROR(INDEX(LKs!$B$2:$B$120,SMALL(IF(LKs!$C$2:$F$120=U$1,ROW(U$1:U$120),""),ROW(U29))),"")} | V30: {=IFERROR(INDEX(LKs!$B$2:$B$120,SMALL(IF(LKs!$C$2:$F$120=V$1,ROW(V$1:V$120),""),ROW(V29))),"")} | W30: {=IFERROR(INDEX(LKs!$B$2:$B$120,SMALL(IF(LKs!$C$2:$F$120=W$1,ROW(W$1:W$120),""),ROW(W29))),"")} -> Nachname102
