Workbook

Sheet Erfassung
B1: Seite 1
B3: Erfassung von Teilnehmern | G3: (Diese Liste ist gelegentlich unvollständig)
A6: Teilnehmer
A7: Personalien | D7: Kontakt | E7: Kontaktdaten
A8: Vorname, Name | C8: Geb.-Datum | E8: Mobil Nr. | H8: Evtl. Festnetz Nr. | L8: E-Mail – Adresse
A9: Max | E9: 3 | L9: x@fd
A10: Herbert | C10: 1
A11: Eva | C11: 2
A12: Svenja | C12: 3
A13: Otto
A14: Willi | C14: 3
A15: Hans
A16: Kurt | C16: 2

Sheet Bearbeitung
B1: Seite 2
B3: Nachbearbeitung der Teilnehmerdaten | I3: (Vervollständigung der Liste 'Erfassung')
C6: =IF(OR(SUM(T12:T18)>0,C11="",E11="",H11="",L11=""),"Bitte die grün eingefärbten Felder ausfüllen","") -> Bitte die grün eingefärbten Felder ausfüllen | L6: < < < < < < < < < < < Dieser Text erscheint, wenn auf der Liste Daten fehlen (= siehe grüne Zellen)
A8: Teilnehmer | R8: (Wird u.a. generiert, aus den Formeln T9 – T15)
A9: =IF(Erfassung!A7="","",Erfassung!A7) -> Personalien | D9: =IF(Erfassung!D7="","",Erfassung!D7) -> Kontakt | E9: =IF(Erfassung!E7="","",Erfassung!E7) -> Kontaktdaten | H9: Festnetz | L9: E-Mail – Adresse
A10: =IF(Erfassung!A8="","",Erfassung!A8) -> Vorname, Name | C10: =IF(Erfassung!C8="","",Erfassung!C8) -> Geb.-Datum | D10: =IF(Erfassung!D8="","",Erfassung!D8) | E10: =IF(Erfassung!E8="","",Erfassung!E8) -> Mobil Nr. | H10: =IF(Erfassung!H8="","",Erfassung!H8) -> Evtl. Festnetz Nr. | L10: =IF(Erfassung!L8="","",Erfassung!L8) -> E-Mail – Adresse | R10: sichtbar | T10: unsichtbar = Benutzerdefiniert ;;;
A11: =IF(Erfassung!A9="","",Erfassung!A9) -> Max | C11: =IF(Erfassung!C9="","",Erfassung!C9) | D11: =IF(Erfassung!D9="","",Erfassung!D9) | E11: =IF(Erfassung!E9="","",Erfassung!E9) -> 3 | H11: =IF(Erfassung!H9="","",Erfassung!H9) | L11: =IF(Erfassung!L9="","",Erfassung!L9) -> x@fd | M11: =IF(Erfassung!M8="","",Erfassung!M8)
A12: =IF(Erfassung!A10="","",Erfassung!A10) -> Herbert | C12: =IF(Erfassung!C10="","",Erfassung!C10) -> 1 | R12: =IF(AND(NOT(ISTEXT(Erfassung!A10)),NOT(ISNUMBER(Erfassung!C10))),"",IF(AND(ISTEXT(Erfassung!A10),ISNUMBER(Erfassung!C10)),"",IF(ISTEXT(Erfassung!A10),IF(NOT(ISNUMBER(Erfassung!C10)),1,"")))) | T12: =IF(AND(NOT(ISTEXT(Erfassung!A10)),NOT(ISNUMBER(Erfassung!C10))),"",IF(AND(ISTEXT(Erfassung!A10),ISNUMBER(Erfassung!C10)),"",IF(ISTEXT(Erfassung!A10),IF(NOT(ISNUMBER(Erfassung!C10)),1,""))))
A13: =IF(Erfassung!A11="","",Erfassung!A11) -> Eva | C13: =IF(Erfassung!C11="","",Erfassung!C11) -> 2 | R13: =IF(AND(NOT(ISTEXT(Erfassung!A11)),NOT(ISNUMBER(Erfassung!C11))),"",IF(AND(ISTEXT(Erfassung!A11),ISNUMBER(Erfassung!C11)),"",IF(ISTEXT(Erfassung!A11),IF(NOT(ISNUMBER(Erfassung!C11)),1,"")))) | T13: =IF(AND(NOT(ISTEXT(Erfassung!A11)),NOT(ISNUMBER(Erfassung!C11))),"",IF(AND(ISTEXT(Erfassung!A11),ISNUMBER(Erfassung!C11)),"",IF(ISTEXT(Erfassung!A11),IF(NOT(ISNUMBER(Erfassung!C11)),1,""))))
A14: =IF(Erfassung!A12="","",Erfassung!A12) -> Svenja | C14: =IF(Erfassung!C12="","",Erfassung!C12) -> 3 | R14: =IF(AND(NOT(ISTEXT(Erfassung!A12)),NOT(ISNUMBER(Erfassung!C12))),"",IF(AND(ISTEXT(Erfassung!A12),ISNUMBER(Erfassung!C12)),"",IF(ISTEXT(Erfassung!A12),IF(NOT(ISNUMBER(Erfassung!C12)),1,"")))) | T14: =IF(AND(NOT(ISTEXT(Erfassung!A12)),NOT(ISNUMBER(Erfassung!C12))),"",IF(AND(ISTEXT(Erfassung!A12),ISNUMBER(Erfassung!C12)),"",IF(ISTEXT(Erfassung!A12),IF(NOT(ISNUMBER(Erfassung!C12)),1,""))))
A15: =IF(Erfassung!A13="","",Erfassung!A13) -> Otto | C15: =IF(Erfassung!C13="","",Erfassung!C13) | R15: =IF(AND(NOT(ISTEXT(Erfassung!A13)),NOT(ISNUMBER(Erfassung!C13))),"",IF(AND(ISTEXT(Erfassung!A13),ISNUMBER(Erfassung!C13)),"",IF(ISTEXT(Erfassung!A13),IF(NOT(ISNUMBER(Erfassung!C13)),1,"")))) -> 1 | T15: =IF(AND(NOT(ISTEXT(Erfassung!A13)),NOT(ISNUMBER(Erfassung!C13))),"",IF(AND(ISTEXT(Erfassung!A13),ISNUMBER(Erfassung!C13)),"",IF(ISTEXT(Erfassung!A13),IF(NOT(ISNUMBER(Erfassung!C13)),1,"")))) -> 1
A16: =IF(Erfassung!A14="","",Erfassung!A14) -> Willi | C16: =IF(Erfassung!C14="","",Erfassung!C14) -> 3 | R16: =IF(AND(NOT(ISTEXT(Erfassung!A14)),NOT(ISNUMBER(Erfassung!C14))),"",IF(AND(ISTEXT(Erfassung!A14),ISNUMBER(Erfassung!C14)),"",IF(ISTEXT(Erfassung!A14),IF(NOT(ISNUMBER(Erfassung!C14)),1,"")))) | T16: =IF(AND(NOT(ISTEXT(Erfassung!A14)),NOT(ISNUMBER(Erfassung!C14))),"",IF(AND(ISTEXT(Erfassung!A14),ISNUMBER(Erfassung!C14)),"",IF(ISTEXT(Erfassung!A14),IF(NOT(ISNUMBER(Erfassung!C14)),1,""))))
A17: =IF(Erfassung!A15="","",Erfassung!A15) -> Hans | C17: =IF(Erfassung!C15="","",Erfassung!C15) | R17: =IF(AND(NOT(ISTEXT(Erfassung!A15)),NOT(ISNUMBER(Erfassung!C15))),"",IF(AND(ISTEXT(Erfassung!A15),ISNUMBER(Erfassung!C15)),"",IF(ISTEXT(Erfassung!A15),IF(NOT(ISNUMBER(Erfassung!C15)),1,"")))) -> 1 | T17: =IF(AND(NOT(ISTEXT(Erfassung!A15)),NOT(ISNUMBER(Erfassung!C15))),"",IF(AND(ISTEXT(Erfassung!A15),ISNUMBER(Erfassung!C15)),"",IF(ISTEXT(Erfassung!A15),IF(NOT(ISNUMBER(Erfassung!C15)),1,"")))) -> 1
A18: =IF(Erfassung!A16="","",Erfassung!A16) -> Kurt | C18: =IF(Erfassung!C16="","",Erfassung!C16) -> 2 | R18: =IF(AND(NOT(ISTEXT(Erfassung!A16)),NOT(ISNUMBER(Erfassung!C16))),"",IF(AND(ISTEXT(Erfassung!A16),ISNUMBER(Erfassung!C16)),"",IF(ISTEXT(Erfassung!A16),IF(NOT(ISNUMBER(Erfassung!C16)),1,"")))) | T18: =IF(AND(NOT(ISTEXT(Erfassung!A16)),NOT(ISNUMBER(Erfassung!C16))),"",IF(AND(ISTEXT(Erfassung!A16),ISNUMBER(Erfassung!C16)),"",IF(ISTEXT(Erfassung!A16),IF(NOT(ISNUMBER(Erfassung!C16)),1,""))))
A26: Annmerkungen:
A27: Die Personaldaten werden aus dem Tabellenblatt 'Erfassung' hier in die 'Bearbeitung' kopiert
A28: Es soll der Text "Bitte die grün eingefärbten Felder ausfüllen", erscheinen, wenn in der Teilnehmerliste etwelche Daten unvollständig sind (grün)
A29: Dazu wird als Hilfe in T12:T18 der Wert 1 erfasst, wenn eine Zelle nicht ausgefüllt ist.
A30: Wenn die Summe T12:T18 >0 ist, wird der Text "Bitte füllen Sie die eingefärbten Felder aus" in Zelle C5 angezeigt (Es bezieht sich auch noch auf die Zellen E11:F11).
A32: Aufgabe:
A33: Ich muss nun die Zellinhalte T12:T18 in den Bereich E12:E18 verschieben | N33: ( | Q33: )
A35: Problem:
A36: Nach diesem Vorgang werden plötzlich Jahreszahlen angezeigt.
A37: Wenn jedoch R12:R18 in die Zellen E12:E18 eingebettet werden, funktioniert dies einwandfrei
A38: Aber: Ich muss die Werte unsichtbar halten, da sie nur als Zwischenschritt dienen und nicht 'öffentlich' sind.
A39: Schon beim Ausschneiden werden kurz Jahreszahlen in anderem Feld angezeigt (??).
