Workbook

Sheet Feiertage
A1: Feiertage, Umlage und | H1: Erstattungssätze Kalendertägliche Berechnungsmethode | N1: Erstattungssätze Dreißigstel Berechnungsmethode | T1: Erstattungssätze arbeitstägliche Berechnungsmethode
E2: Krankenkasse | H2: AOK - Niedersachsen | N2: AOK - Niedersachsen | T2: AOK - Niedersachsen
A3: Erstattungssätze | C3: 2022 | E3: Erstattungssatz | H3: 0.55 | J3: 0.65 | L3: 0.75 | N3: 0.55 | P3: 0.65 | R3: 0.75 | T3: 0.55 | V3: 0.65 | X3: 0.75
E4: Beitragssatz | H4: 0.02 | J4: 0.026 | L4: 0.035 | N4: 0.02 | P4: 0.026 | R4: 0.035 | T4: 0.02 | V4: 0.026 | X4: 0.035
E5: Jahresbeitrag
A6: Feiertage: Niedersachsen | E6: Erstattung
E7: fortgezahltes Brutto
A8: 44562 | B8: Neujahrstag | E8: U1 + EFZ - Erstattung
A9: 44666 | B9: Karfreitag
A10: 44669 | B10: Ostermontag | H10: Erstattungssätze Kalendertägliche Berechnungsmethode | N10: Erstattungssätze Dreißigstel Berechnungsmethode | T10: Erstattungssätze arbeitstägliche Berechnungsmethode
A11: 44682 | B11: Tag der Arbeit | E11: Krankenkasse | H11: TKK bis 30.09.2022 | N11: TKK bis 30.09.2022 | T11: TKK bis 30.09.2022
A12: 44707 | B12: Christi Himmelfahrt | E12: Erstattungssatz | H12: 0.5 | J12: 0.7 | L12: 0.8 | N12: 0.5 | P12: 0.7 | R12: 0.8 | T12: 0.5 | V12: 0.7 | X12: 0.8
A13: 44718 | B13: Pfingstmontag | E13: Beitragssatz | H13: 0.009 | J13: 0.016 | L13: 0.026 | N13: 0.009 | P13: 0.016 | R13: 0.026 | T13: 0.009 | V13: 0.016 | X13: 0.026
A14: 44837 | B14: Tag der Deutschen Einheit | E14: Jahresbeitrag
A15: 44865 | B15: Reformationstag | E15: Erstattung
A16: 44919 | B16: Heiligabend | E16: fortgezahltes Brutto
A17: 44920 | B17: 1. Weihnachtsfeiertag | E17: Beitr.abzgl.Erstattung
A18: 44921 | B18: 2. Weihnachtsfeiertag
H19: Erstattungssätze Kalendertägliche Berechnungsmethode | N19: Erstattungssätze Dreißigstel Berechnungsmethode | T19: Erstattungssätze arbeitstägliche Berechnungsmethode
E20: Krankenkasse | H20: TKK ab 01.10.2021 | N20: TKK ab 01.10.2021 | T20: TKK ab 01.10.2021
E21: Erstattungssatz | H21: 0.5 | J21: 0.7 | L21: 0.8 | N21: 0.5 | P21: 0.7 | R21: 0.8 | T21: 0.5 | V21: 0.7 | X21: 0.8
E22: Beitragssatz | H22: 0.017 | J22: 0.026 | L22: 0.041 | N22: 0.017 | P22: 0.026 | R22: 0.041 | T22: 0.017 | V22: 0.026 | X22: 0.041
E23: Jahresbeitrag
E24: Erstattung
E25: fortgezahltes Brutto
E26: Beitr.abzgl.Erstattung
H28: Erstattungssätze Kalendertägliche Berechnungsmethode | N28: Erstattungssätze Dreißigstel Berechnungsmethode | T28: Erstattungssätze arbeitstägliche Berechnungsmethode
E29: Krankenkasse | H29: Knappschaft Bahn See | N29: Knappschaft Bahn See | T29: Knappschaft Bahn See
E30: Erstattungssatz | H30: 0.8 | N30: 0.8 | T30: 0.8
E31: Beitragssatz | H31: 0.009 | N31: 0.009 | T31: 0.009
E32: Jahresbeitrag
E33: Erstattung
E34: fortgezahltes Brutto
E35: U1 + EFZ - Erstattung

Sheet Lohnempfänger
A1: 2022 | P1: Januar | R1: Februar | T1: März | V1: April | X1: Mai | Z1: Juni | AB1: Juli | AD1: August | AF1: September | AH1: Oktober | AJ1: November | AL1: Dezember | AO1: Kind krank m. Krankengeld (Pflege krankes Kind) | AT1: Überstundenabbau | AY1: Kalendar Gehaltsempfänger - Berechnung ohne Feiertage | AZ1: Jan. | BB1: Feb. | BD1: März | BF1: April | BH1: Mai | BJ1: Juni | BL1: Juli | BN1: Aug. | BP1: Sept. | BR1: Okt. | BT1: Nov. | BV1: Dez. | BZ1: Kalendar Stundenlohnempfänger - Berechnung mit Feiertagen | CA1: Jan. | CC1: Feb. | CE1: März | CG1: April | CI1: Mai | CK1: Juni | CM1: Juli | CO1: Aug. | CQ1: Sept. | CS1: Okt. | CU1: Nov. | CW1: Dez.
P2: =DATE($A$1,1,1) -> 44562 | Q2: =DATE($A$1,1,1) -> 44562 | R2: =EDATE(P2,1) -> 44593 | S2: =EDATE(Q2,1) -> 44593 | T2: =EDATE(R2,1) -> 44621 | U2: =EDATE(S2,1) -> 44621 | V2: =EDATE(T2,1) -> 44652 | W2: =EDATE(U2,1) -> 44652 | X2: =EDATE(V2,1) -> 44682 | Y2: =EDATE(W2,1) -> 44682 | ... AM2: =EDATE(AK2,1) -> 44896 | AO2: von | AQ2: bis | AT2: von | AV2: bis | AZ2: {=ISERROR(MATCH(Q2,Feiertage!$A$8:$A$19,0))*IF(OR(Q2<$M$3,Q2>$BU$36),0,INDEX($M$4:$N$10,WEEKDAY(Q2,2),(Q2>=$M$3)*(Q2<$N$3)+2*(Q2>=$N$3)*(Q2<=$BU$36)))} -> 0 | BB2: {=ISERROR(MATCH(S2,Feiertage!$A$8:$A$19,0))*IF(OR(S2<$M$3,S2>$BU$36),0,INDEX($M$4:$N$10,WEEKDAY(S2,2),(S2>=$M$3)*(S2<$N$3)+2*(S2>=$N$3)*(S2<=$BU$36)))} -> 8 | BD2: {=ISERROR(MATCH(U2,Feiertage!$A$8:$A$19,0))*IF(OR(U2<$M$3,U2>$BU$36),0,INDEX($M$4:$N$10,WEEKDAY(U2,2),(U2>=$M$3)*(U2<$N$3)+2*(U2>=$N$3)*(U2<=$BU$36)))} -> 8 | BF2: {=ISERROR(MATCH(W2,Feiertage!$A$8:$A$19,0))*IF(OR(W2<$M$3,W2>$BU$36),0,INDEX($M$4:$N$10,WEEKDAY(W2,2),(W2>=$M$3)*(W2<$N$3)+2*(W2>=$N$3)*(W2<=$BU$36)))} -> 0 | BH2: {=ISERROR(MATCH(Y2,Feiertage!$A$8:$A$19,0))*IF(OR(Y2<$M$3,Y2>$BU$36),0,INDEX($M$4:$N$10,WEEKDAY(Y2,2),(Y2>=$M$3)*(Y2<$N$3)+2*(Y2>=$N$3)*(Y2<=$BU$36)))} -> 0 | BJ2: {=ISERROR(MATCH(AA2,Feiertage!$A$8:$A$19,0))*IF(OR(AA2<$M$3,AA2>$BU$36),0,INDEX($M$4:$N$10,WEEKDAY(AA2,2),(AA2>=$M$3)*(AA2<$N$3)+2*(AA2>=$N$3)*(AA2<=$BU$36)))} -> 8 | BL2: {=ISERROR(MATCH(AC2,Feiertage!$A$8:$A$19,0))*IF(OR(AC2<$M$3,AC2>$BU$36),0,INDEX($M$4:$N$10,WEEKDAY(AC2,2),(AC2>=$M$3)*(AC2<$N$3)+2*(AC2>=$N$3)*(AC2<=$BU$36)))} -> 0 | BN2: {=ISERROR(MATCH(AE2,Feiertage!$A$8:$A$19,0))*IF(OR(AE2<$M$3,AE2>$BU$36),0,INDEX($M$4:$N$10,WEEKDAY(AE2,2),(AE2>=$M$3)*(AE2<$N$3)+2*(AE2>=$N$3)*(AE2<=$BU$36)))} -> 8 | BP2: {=ISERROR(MATCH(AG2,Feiertage!$A$8:$A$19,0))*IF(OR(AG2<$M$3,AG2>$BU$36),0,INDEX($M$4:$N$10,WEEKDAY(AG2,2),(AG2>=$M$3)*(AG2<$N$3)+2*(AG2>=$N$3)*(AG2<=$BU$36)))} -> 8 | BR2: {=ISERROR(MATCH(AI2,Feiertage!$A$8:$A$19,0))*IF(OR(AI2<$M$3,AI2>$BU$36),0,INDEX($M$4:$N$10,WEEKDAY(AI2,2),(AI2>=$M$3)*(AI2<$N$3)+2*(AI2>=$N$3)*(AI2<=$BU$36)))} -> 0 | BT2: {=ISERROR(MATCH(AK2,Feiertage!$A$8:$A$19,0))*IF(OR(AK2<$M$3,AK2>$BU$36),0,INDEX($M$4:$N$10,WEEKDAY(AK2,2),(AK2>=$M$3)*(AK2<$N$3)+2*(AK2>=$N$3)*(AK2<=$BU$36)))} -> 8 | BV2: {=ISERROR(MATCH(AM2,Feiertage!$A$8:$A$19,0))*IF(OR(AM2<$M$3,AM2>$BU$36),0,INDEX($M$4:$N$10,WEEKDAY(AM2,2),(AM2>=$M$3)*(AM2<$N$3)+2*(AM2>=$N$3)*(AM2<=$BU$36)))} -> 8 | CA2: {=ISERROR(MATCH(Q2,$AO$3:$AQ$3,0))*IF(OR(Q2<$M$3,Q2>$BU$36),0,INDEX($M$4:$N$10,WEEKDAY(Q2,2),(Q2>=$M$3)*(Q2<$N$3)+2*(Q2>=$N$3)*(Q2<=$BU$36)))} -> 0 | CC2: {=ISERROR(MATCH(S2,$AO$3:$AQ$3,0))*IF(OR(S2<$M$3,S2>$BU$36),0,INDEX($M$4:$N$10,WEEKDAY(S2,2),(S2>=$M$3)*(S2<$N$3)+2*(S2>=$N$3)*(S2<=$BU$36)))} -> 8 | CE2: {=ISERROR(MATCH(U2,$AO$3:$AQ$3,0))*IF(OR(U2<$M$3,U2>$BU$36),0,INDEX($M$4:$N$10,WEEKDAY(U2,2),(U2>=$M$3)*(U2<$N$3)+2*(U2>=$N$3)*(U2<=$BU$36)))} -> 8 | CG2: {=ISERROR(MATCH(W2,$AO$3:$AQ$3,0))*IF(OR(W2<$M$3,W2>$BU$36),0,INDEX($M$4:$N$10,WEEKDAY(W2,2),(W2>=$M$3)*(W2<$N$3)+2*(W2>=$N$3)*(W2<=$BU$36)))} -> 0 | CI2: {=ISERROR(MATCH(Y2,$AO$3:$AQ$3,0))*IF(OR(Y2<$M$3,Y2>$BU$36),0,INDEX($M$4:$N$10,WEEKDAY(Y2,2),(Y2>=$M$3)*(Y2<$N$3)+2*(Y2>=$N$3)*(Y2<=$BU$36)))} -> 0 | CK2: {=ISERROR(MATCH(AA2,$AO$3:$AQ$3,0))*IF(OR(AA2<$M$3,AA2>$BU$36),0,INDEX($M$4:$N$10,WEEKDAY(AA2,2),(AA2>=$M$3)*(AA2<$N$3)+2*(AA2>=$N$3)*(AA2<=$BU$36)))} -> 8 | CM2: {=ISERROR(MATCH(AC2,$AO$3:$AQ$3,0))*IF(OR(AC2<$M$3,AC2>$BU$36),0,INDEX($M$4:$N$10,WEEKDAY(AC2,2),(AC2>=$M$3)*(AC2<$N$3)+2*(AC2>=$N$3)*(AC2<=$BU$36)))} -> 0 | CO2: {=ISERROR(MATCH(AE2,$AO$3:$AQ$3,0))*IF(OR(AE2<$M$3,AE2>$BU$36),0,INDEX($M$4:$N$10,WEEKDAY(AE2,2),(AE2>=$M$3)*(AE2<$N$3)+2*(AE2>=$N$3)*(AE2<=$BU$36)))} -> 8 | CQ2: {=ISERROR(MATCH(AG2,$AO$3:$AQ$3,0))*IF(OR(AG2<$M$3,AG2>$BU$36),0,INDEX($M$4:$N$10,WEEKDAY(AG2,2),(AG2>=$M$3)*(AG2<$N$3)+2*(AG2>=$N$3)*(AG2<=$BU$36)))} -> 8 | CS2: {=ISERROR(MATCH(AI2,$AO$3:$AQ$3,0))*IF(OR(AI2<$M$3,AI2>$BU$36),0,INDEX($M$4:$N$10,WEEKDAY(AI2,2),(AI2>=$M$3)*(AI2<$N$3)+2*(AI2>=$N$3)*(AI2<=$BU$36)))} -> 0 | CU2: {=ISERROR(MATCH(AK2,$AO$3:$AQ$3,0))*IF(OR(AK2<$M$3,AK2>$BU$36),0,INDEX($M$4:$N$10,WEEKDAY(AK2,2),(AK2>=$M$3)*(AK2<$N$3)+2*(AK2>=$N$3)*(AK2<=$BU$36)))} -> 8 | CW2: {=ISERROR(MATCH(AM2,$AO$3:$AQ$3,0))*IF(OR(AM2<$M$3,AM2>$BU$36),0,INDEX($M$4:$N$10,WEEKDAY(AM2,2),(AM2>=$M$3)*(AM2<$N$3)+2*(AM2>=$N$3)*(AM2<=$BU$36)))} -> 8
A3: Name | B3: Lohnempfänger | G3: Pers.-Nr.: | K3: Arbeitszeit ab | M3: =IF(AND($B$4="",$B$6=""),"",IF($B$4="",$B$6,$B$4)) -> 44333 | N3: =IF(AND($B$5="",$B$7=""),"",IF($B$5="",$B$7,$B$5)) | P3: =IF(MONTH(Q2+1)=MONTH(Q$2),Q2+1,"") -> 44563 | Q3: =IF(MONTH(Q2+1)=MONTH(Q$2),Q2+1,"") -> 44563 | R3: =IF(MONTH(R2+1)=MONTH(R$2),R2+1,"") -> 44594 | S3: =IF(MONTH(S2+1)=MONTH(S$2),S2+1,"") -> 44594 | T3: =IF(MONTH(T2+1)=MONTH(T$2),T2+1,"") -> 44622 | U3: =IF(MONTH(U2+1)=MONTH(U$2),U2+1,"") -> 44622 | V3: =IF(MONTH(V2+1)=MONTH(V$2),V2+1,"") -> 44653 | W3: =IF(MONTH(W2+1)=MONTH(W$2),W2+1,"") -> 44653 | X3: =IF(MONTH(X2+1)=MONTH(X$2),X2+1,"") -> 44683 | ... AM3: =IF(MONTH(AM2+1)=MONTH(AM$2),AM2+1,"") -> 44897 | AO3: 44627 | AQ3: 44628 | AZ3: {=ISERROR(MATCH(Q3,Feiertage!$A$8:$A$19,0))*IF(OR(Q3<$M$3,Q3>$BU$36),0,INDEX($M$4:$N$10,WEEKDAY(Q3,2),(Q3>=$M$3)*(Q3<$N$3)+2*(Q3>=$N$3)*(Q3<=$BU$36)))} -> 0 | BB3: {=ISERROR(MATCH(S3,Feiertage!$A$8:$A$19,0))*IF(OR(S3<$M$3,S3>$BU$36),0,INDEX($M$4:$N$10,WEEKDAY(S3,2),(S3>=$M$3)*(S3<$N$3)+2*(S3>=$N$3)*(S3<=$BU$36)))} -> 8 | BD3: {=ISERROR(MATCH(U3,Feiertage!$A$8:$A$19,0))*IF(OR(U3<$M$3,U3>$BU$36),0,INDEX($M$4:$N$10,WEEKDAY(U3,2),(U3>=$M$3)*(U3<$N$3)+2*(U3>=$N$3)*(U3<=$BU$36)))} -> 8 | BF3: {=ISERROR(MATCH(W3,Feiertage!$A$8:$A$19,0))*IF(OR(W3<$M$3,W3>$BU$36),0,INDEX($M$4:$N$10,WEEKDAY(W3,2),(W3>=$M$3)*(W3<$N$3)+2*(W3>=$N$3)*(W3<=$BU$36)))} -> 0 | BH3: {=ISERROR(MATCH(Y3,Feiertage!$A$8:$A$19,0))*IF(OR(Y3<$M$3,Y3>$BU$36),0,INDEX($M$4:$N$10,WEEKDAY(Y3,2),(Y3>=$M$3)*(Y3<$N$3)+2*(Y3>=$N$3)*(Y3<=$BU$36)))} -> 8 | BJ3: {=ISERROR(MATCH(AA3,Feiertage!$A$8:$A$19,0))*IF(OR(AA3<$M$3,AA3>$BU$36),0,INDEX($M$4:$N$10,WEEKDAY(AA3,2),(AA3>=$M$3)*(AA3<$N$3)+2*(AA3>=$N$3)*(AA3<=$BU$36)))} -> 8 | BL3: {=ISERROR(MATCH(AC3,Feiertage!$A$8:$A$19,0))*IF(OR(AC3<$M$3,AC3>$BU$36),0,INDEX($M$4:$N$10,WEEKDAY(AC3,2),(AC3>=$M$3)*(AC3<$N$3)+2*(AC3>=$N$3)*(AC3<=$BU$36)))} -> 0 | BN3: {=ISERROR(MATCH(AE3,Feiertage!$A$8:$A$19,0))*IF(OR(AE3<$M$3,AE3>$BU$36),0,INDEX($M$4:$N$10,WEEKDAY(AE3,2),(AE3>=$M$3)*(AE3<$N$3)+2*(AE3>=$N$3)*(AE3<=$BU$36)))} -> 8 | BP3: {=ISERROR(MATCH(AG3,Feiertage!$A$8:$A$19,0))*IF(OR(AG3<$M$3,AG3>$BU$36),0,INDEX($M$4:$N$10,WEEKDAY(AG3,2),(AG3>=$M$3)*(AG3<$N$3)+2*(AG3>=$N$3)*(AG3<=$BU$36)))} -> 0 | BR3: {=ISERROR(MATCH(AI3,Feiertage!$A$8:$A$19,0))*IF(OR(AI3<$M$3,AI3>$BU$36),0,INDEX($M$4:$N$10,WEEKDAY(AI3,2),(AI3>=$M$3)*(AI3<$N$3)+2*(AI3>=$N$3)*(AI3<=$BU$36)))} -> 0 | BT3: {=ISERROR(MATCH(AK3,Feiertage!$A$8:$A$19,0))*IF(OR(AK3<$M$3,AK3>$BU$36),0,INDEX($M$4:$N$10,WEEKDAY(AK3,2),(AK3>=$M$3)*(AK3<$N$3)+2*(AK3>=$N$3)*(AK3<=$BU$36)))} -> 8 | BV3: {=ISERROR(MATCH(AM3,Feiertage!$A$8:$A$19,0))*IF(OR(AM3<$M$3,AM3>$BU$36),0,INDEX($M$4:$N$10,WEEKDAY(AM3,2),(AM3>=$M$3)*(AM3<$N$3)+2*(AM3>=$N$3)*(AM3<=$BU$36)))} -> 0 | CA3: {=ISERROR(MATCH(Q3,$AO$3:$AQ$3,0))*IF(OR(Q3<$M$3,Q3>$BU$36),0,INDEX($M$4:$N$10,WEEKDAY(Q3,2),(Q3>=$M$3)*(Q3<$N$3)+2*(Q3>=$N$3)*(Q3<=$BU$36)))} -> 0 | CC3: {=ISERROR(MATCH(S3,$AO$3:$AQ$3,0))*IF(OR(S3<$M$3,S3>$BU$36),0,INDEX($M$4:$N$10,WEEKDAY(S3,2),(S3>=$M$3)*(S3<$N$3)+2*(S3>=$N$3)*(S3<=$BU$36)))} -> 8 | CE3: {=ISERROR(MATCH(U3,$AO$3:$AQ$3,0))*IF(OR(U3<$M$3,U3>$BU$36),0,INDEX($M$4:$N$10,WEEKDAY(U3,2),(U3>=$M$3)*(U3<$N$3)+2*(U3>=$N$3)*(U3<=$BU$36)))} -> 8 | CG3: {=ISERROR(MATCH(W3,$AO$3:$AQ$3,0))*IF(OR(W3<$M$3,W3>$BU$36),0,INDEX($M$4:$N$10,WEEKDAY(W3,2),(W3>=$M$3)*(W3<$N$3)+2*(W3>=$N$3)*(W3<=$BU$36)))} -> 0 | CI3: {=ISERROR(MATCH(Y3,$AO$3:$AQ$3,0))*IF(OR(Y3<$M$3,Y3>$BU$36),0,INDEX($M$4:$N$10,WEEKDAY(Y3,2),(Y3>=$M$3)*(Y3<$N$3)+2*(Y3>=$N$3)*(Y3<=$BU$36)))} -> 8 | CK3: {=ISERROR(MATCH(AA3,$AO$3:$AQ$3,0))*IF(OR(AA3<$M$3,AA3>$BU$36),0,INDEX($M$4:$N$10,WEEKDAY(AA3,2),(AA3>=$M$3)*(AA3<$N$3)+2*(AA3>=$N$3)*(AA3<=$BU$36)))} -> 8 | CM3: {=ISERROR(MATCH(AC3,$AO$3:$AQ$3,0))*IF(OR(AC3<$M$3,AC3>$BU$36),0,INDEX($M$4:$N$10,WEEKDAY(AC3,2),(AC3>=$M$3)*(AC3<$N$3)+2*(AC3>=$N$3)*(AC3<=$BU$36)))} -> 0 | CO3: {=ISERROR(MATCH(AE3,$AO$3:$AQ$3,0))*IF(OR(AE3<$M$3,AE3>$BU$36),0,INDEX($M$4:$N$10,WEEKDAY(AE3,2),(AE3>=$M$3)*(AE3<$N$3)+2*(AE3>=$N$3)*(AE3<=$BU$36)))} -> 8 | CQ3: {=ISERROR(MATCH(AG3,$AO$3:$AQ$3,0))*IF(OR(AG3<$M$3,AG3>$BU$36),0,INDEX($M$4:$N$10,WEEKDAY(AG3,2),(AG3>=$M$3)*(AG3<$N$3)+2*(AG3>=$N$3)*(AG3<=$BU$36)))} -> 0 | CS3: {=ISERROR(MATCH(AI3,$AO$3:$AQ$3,0))*IF(OR(AI3<$M$3,AI3>$BU$36),0,INDEX($M$4:$N$10,WEEKDAY(AI3,2),(AI3>=$M$3)*(AI3<$N$3)+2*(AI3>=$N$3)*(AI3<=$BU$36)))} -> 0 | CU3: {=ISERROR(MATCH(AK3,$AO$3:$AQ$3,0))*IF(OR(AK3<$M$3,AK3>$BU$36),0,INDEX($M$4:$N$10,WEEKDAY(AK3,2),(AK3>=$M$3)*(AK3<$N$3)+2*(AK3>=$N$3)*(AK3<=$BU$36)))} -> 8 | CW3: {=ISERROR(MATCH(AM3,$AO$3:$AQ$3,0))*IF(OR(AM3<$M$3,AM3>$BU$36),0,INDEX($M$4:$N$10,WEEKDAY(AM3,2),(AM3>=$M$3)*(AM3<$N$3)+2*(AM3>=$N$3)*(AM3<=$BU$36)))} -> 0
A4: Gehalt ab | K4: Montag | M4: 8 | P4: =IF(MONTH(Q3+1)=MONTH(Q$2),Q3+1,"") -> 44564 | Q4: =IF(MONTH(Q3+1)=MONTH(Q$2),Q3+1,"") -> 44564 | R4: =IF(MONTH(R3+1)=MONTH(R$2),R3+1,"") -> 44595 | S4: =IF(MONTH(S3+1)=MONTH(S$2),S3+1,"") -> 44595 | T4: =IF(MONTH(T3+1)=MONTH(T$2),T3+1,"") -> 44623 | U4: =IF(MONTH(U3+1)=MONTH(U$2),U3+1,"") -> 44623 | V4: =IF(MONTH(V3+1)=MONTH(V$2),V3+1,"") -> 44654 | W4: =IF(MONTH(W3+1)=MONTH(W$2),W3+1,"") -> 44654 | X4: =IF(MONTH(X3+1)=MONTH(X$2),X3+1,"") -> 44684 | ... AM4: =IF(MONTH(AM3+1)=MONTH(AM$2),AM3+1,"") -> 44898 | AZ4: {=ISERROR(MATCH(Q4,Feiertage!$A$8:$A$19,0))*IF(OR(Q4<$M$3,Q4>$BU$36),0,INDEX($M$4:$N$10,WEEKDAY(Q4,2),(Q4>=$M$3)*(Q4<$N$3)+2*(Q4>=$N$3)*(Q4<=$BU$36)))} -> 8 | BB4: {=ISERROR(MATCH(S4,Feiertage!$A$8:$A$19,0))*IF(OR(S4<$M$3,S4>$BU$36),0,INDEX($M$4:$N$10,WEEKDAY(S4,2),(S4>=$M$3)*(S4<$N$3)+2*(S4>=$N$3)*(S4<=$BU$36)))} -> 8 | BD4: {=ISERROR(MATCH(U4,Feiertage!$A$8:$A$19,0))*IF(OR(U4<$M$3,U4>$BU$36),0,INDEX($M$4:$N$10,WEEKDAY(U4,2),(U4>=$M$3)*(U4<$N$3)+2*(U4>=$N$3)*(U4<=$BU$36)))} -> 8 | BF4: {=ISERROR(MATCH(W4,Feiertage!$A$8:$A$19,0))*IF(OR(W4<$M$3,W4>$BU$36),0,INDEX($M$4:$N$10,WEEKDAY(W4,2),(W4>=$M$3)*(W4<$N$3)+2*(W4>=$N$3)*(W4<=$BU$36)))} -> 0 | BH4: {=ISERROR(MATCH(Y4,Feiertage!$A$8:$A$19,0))*IF(OR(Y4<$M$3,Y4>$BU$36),0,INDEX($M$4:$N$10,WEEKDAY(Y4,2),(Y4>=$M$3)*(Y4<$N$3)+2*(Y4>=$N$3)*(Y4<=$BU$36)))} -> 8 | BJ4: {=ISERROR(MATCH(AA4,Feiertage!$A$8:$A$19,0))*IF(OR(AA4<$M$3,AA4>$BU$36),0,INDEX($M$4:$N$10,WEEKDAY(AA4,2),(AA4>=$M$3)*(AA4<$N$3)+2*(AA4>=$N$3)*(AA4<=$BU$36)))} -> 0 | BL4: {=ISERROR(MATCH(AC4,Feiertage!$A$8:$A$19,0))*IF(OR(AC4<$M$3,AC4>$BU$36),0,INDEX($M$4:$N$10,WEEKDAY(AC4,2),(AC4>=$M$3)*(AC4<$N$3)+2*(AC4>=$N$3)*(AC4<=$BU$36)))} -> 0 | BN4: {=ISERROR(MATCH(AE4,Feiertage!$A$8:$A$19,0))*IF(OR(AE4<$M$3,AE4>$BU$36),0,INDEX($M$4:$N$10,WEEKDAY(AE4,2),(AE4>=$M$3)*(AE4<$N$3)+2*(AE4>=$N$3)*(AE4<=$BU$36)))} -> 8 | BP4: {=ISERROR(MATCH(AG4,Feiertage!$A$8:$A$19,0))*IF(OR(AG4<$M$3,AG4>$BU$36),0,INDEX($M$4:$N$10,WEEKDAY(AG4,2),(AG4>=$M$3)*(AG4<$N$3)+2*(AG4>=$N$3)*(AG4<=$BU$36)))} -> 0 | BR4: {=ISERROR(MATCH(AI4,Feiertage!$A$8:$A$19,0))*IF(OR(AI4<$M$3,AI4>$BU$36),0,INDEX($M$4:$N$10,WEEKDAY(AI4,2),(AI4>=$M$3)*(AI4<$N$3)+2*(AI4>=$N$3)*(AI4<=$BU$36)))} -> 0 | BT4: {=ISERROR(MATCH(AK4,Feiertage!$A$8:$A$19,0))*IF(OR(AK4<$M$3,AK4>$BU$36),0,INDEX($M$4:$N$10,WEEKDAY(AK4,2),(AK4>=$M$3)*(AK4<$N$3)+2*(AK4>=$N$3)*(AK4<=$BU$36)))} -> 8 | BV4: {=ISERROR(MATCH(AM4,Feiertage!$A$8:$A$19,0))*IF(OR(AM4<$M$3,AM4>$BU$36),0,INDEX($M$4:$N$10,WEEKDAY(AM4,2),(AM4>=$M$3)*(AM4<$N$3)+2*(AM4>=$N$3)*(AM4<=$BU$36)))} -> 0 | CA4: {=ISERROR(MATCH(Q4,$AO$3:$AQ$3,0))*IF(OR(Q4<$M$3,Q4>$BU$36),0,INDEX($M$4:$N$10,WEEKDAY(Q4,2),(Q4>=$M$3)*(Q4<$N$3)+2*(Q4>=$N$3)*(Q4<=$BU$36)))} -> 8 | CC4: {=ISERROR(MATCH(S4,$AO$3:$AQ$3,0))*IF(OR(S4<$M$3,S4>$BU$36),0,INDEX($M$4:$N$10,WEEKDAY(S4,2),(S4>=$M$3)*(S4<$N$3)+2*(S4>=$N$3)*(S4<=$BU$36)))} -> 8 | CE4: {=ISERROR(MATCH(U4,$AO$3:$AQ$3,0))*IF(OR(U4<$M$3,U4>$BU$36),0,INDEX($M$4:$N$10,WEEKDAY(U4,2),(U4>=$M$3)*(U4<$N$3)+2*(U4>=$N$3)*(U4<=$BU$36)))} -> 8 | CG4: {=ISERROR(MATCH(W4,$AO$3:$AQ$3,0))*IF(OR(W4<$M$3,W4>$BU$36),0,INDEX($M$4:$N$10,WEEKDAY(W4,2),(W4>=$M$3)*(W4<$N$3)+2*(W4>=$N$3)*(W4<=$BU$36)))} -> 0 | CI4: {=ISERROR(MATCH(Y4,$AO$3:$AQ$3,0))*IF(OR(Y4<$M$3,Y4>$BU$36),0,INDEX($M$4:$N$10,WEEKDAY(Y4,2),(Y4>=$M$3)*(Y4<$N$3)+2*(Y4>=$N$3)*(Y4<=$BU$36)))} -> 8 | CK4: {=ISERROR(MATCH(AA4,$AO$3:$AQ$3,0))*IF(OR(AA4<$M$3,AA4>$BU$36),0,INDEX($M$4:$N$10,WEEKDAY(AA4,2),(AA4>=$M$3)*(AA4<$N$3)+2*(AA4>=$N$3)*(AA4<=$BU$36)))} -> 0 | CM4: {=ISERROR(MATCH(AC4,$AO$3:$AQ$3,0))*IF(OR(AC4<$M$3,AC4>$BU$36),0,INDEX($M$4:$N$10,WEEKDAY(AC4,2),(AC4>=$M$3)*(AC4<$N$3)+2*(AC4>=$N$3)*(AC4<=$BU$36)))} -> 0 | CO4: {=ISERROR(MATCH(AE4,$AO$3:$AQ$3,0))*IF(OR(AE4<$M$3,AE4>$BU$36),0,INDEX($M$4:$N$10,WEEKDAY(AE4,2),(AE4>=$M$3)*(AE4<$N$3)+2*(AE4>=$N$3)*(AE4<=$BU$36)))} -> 8 | CQ4: {=ISERROR(MATCH(AG4,$AO$3:$AQ$3,0))*IF(OR(AG4<$M$3,AG4>$BU$36),0,INDEX($M$4:$N$10,WEEKDAY(AG4,2),(AG4>=$M$3)*(AG4<$N$3)+2*(AG4>=$N$3)*(AG4<=$BU$36)))} -> 0 | CS4: {=ISERROR(MATCH(AI4,$AO$3:$AQ$3,0))*IF(OR(AI4<$M$3,AI4>$BU$36),0,INDEX($M$4:$N$10,WEEKDAY(AI4,2),(AI4>=$M$3)*(AI4<$N$3)+2*(AI4>=$N$3)*(AI4<=$BU$36)))} -> 8 | CU4: {=ISERROR(MATCH(AK4,$AO$3:$AQ$3,0))*IF(OR(AK4<$M$3,AK4>$BU$36),0,INDEX($M$4:$N$10,WEEKDAY(AK4,2),(AK4>=$M$3)*(AK4<$N$3)+2*(AK4>=$N$3)*(AK4<=$BU$36)))} -> 8 | CW4: {=ISERROR(MATCH(AM4,$AO$3:$AQ$3,0))*IF(OR(AM4<$M$3,AM4>$BU$36),0,INDEX($M$4:$N$10,WEEKDAY(AM4,2),(AM4>=$M$3)*(AM4<$N$3)+2*(AM4>=$N$3)*(AM4<=$BU$36)))} -> 0
A5: Gehalt ab | K5: Dienstag | M5: 8 | P5: =IF(MONTH(Q4+1)=MONTH(Q$2),Q4+1,"") -> 44565 | Q5: =IF(MONTH(Q4+1)=MONTH(Q$2),Q4+1,"") -> 44565 | R5: =IF(MONTH(R4+1)=MONTH(R$2),R4+1,"") -> 44596 | S5: =IF(MONTH(S4+1)=MONTH(S$2),S4+1,"") -> 44596 | T5: =IF(MONTH(T4+1)=MONTH(T$2),T4+1,"") -> 44624 | U5: =IF(MONTH(U4+1)=MONTH(U$2),U4+1,"") -> 44624 | V5: =IF(MONTH(V4+1)=MONTH(V$2),V4+1,"") -> 44655 | W5: =IF(MONTH(W4+1)=MONTH(W$2),W4+1,"") -> 44655 | X5: =IF(MONTH(X4+1)=MONTH(X$2),X4+1,"") -> 44685 | ... AM5: =IF(MONTH(AM4+1)=MONTH(AM$2),AM4+1,"") -> 44899 | AZ5: {=ISERROR(MATCH(Q5,Feiertage!$A$8:$A$19,0))*IF(OR(Q5<$M$3,Q5>$BU$36),0,INDEX($M$4:$N$10,WEEKDAY(Q5,2),(Q5>=$M$3)*(Q5<$N$3)+2*(Q5>=$N$3)*(Q5<=$BU$36)))} -> 8 | BB5: {=ISERROR(MATCH(S5,Feiertage!$A$8:$A$19,0))*IF(OR(S5<$M$3,S5>$BU$36),0,INDEX($M$4:$N$10,WEEKDAY(S5,2),(S5>=$M$3)*(S5<$N$3)+2*(S5>=$N$3)*(S5<=$BU$36)))} -> 0 | BD5: {=ISERROR(MATCH(U5,Feiertage!$A$8:$A$19,0))*IF(OR(U5<$M$3,U5>$BU$36),0,INDEX($M$4:$N$10,WEEKDAY(U5,2),(U5>=$M$3)*(U5<$N$3)+2*(U5>=$N$3)*(U5<=$BU$36)))} -> 0 | BF5: {=ISERROR(MATCH(W5,Feiertage!$A$8:$A$19,0))*IF(OR(W5<$M$3,W5>$BU$36),0,INDEX($M$4:$N$10,WEEKDAY(W5,2),(W5>=$M$3)*(W5<$N$3)+2*(W5>=$N$3)*(W5<=$BU$36)))} -> 8 | BH5: {=ISERROR(MATCH(Y5,Feiertage!$A$8:$A$19,0))*IF(OR(Y5<$M$3,Y5>$BU$36),0,INDEX($M$4:$N$10,WEEKDAY(Y5,2),(Y5>=$M$3)*(Y5<$N$3)+2*(Y5>=$N$3)*(Y5<=$BU$36)))} -> 8 | BJ5: {=ISERROR(MATCH(AA5,Feiertage!$A$8:$A$19,0))*IF(OR(AA5<$M$3,AA5>$BU$36),0,INDEX($M$4:$N$10,WEEKDAY(AA5,2),(AA5>=$M$3)*(AA5<$N$3)+2*(AA5>=$N$3)*(AA5<=$BU$36)))} -> 0 | BL5: {=ISERROR(MATCH(AC5,Feiertage!$A$8:$A$19,0))*IF(OR(AC5<$M$3,AC5>$BU$36),0,INDEX($M$4:$N$10,WEEKDAY(AC5,2),(AC5>=$M$3)*(AC5<$N$3)+2*(AC5>=$N$3)*(AC5<=$BU$36)))} -> 8 | BN5: {=ISERROR(MATCH(AE5,Feiertage!$A$8:$A$19,0))*IF(OR(AE5<$M$3,AE5>$BU$36),0,INDEX($M$4:$N$10,WEEKDAY(AE5,2),(AE5>=$M$3)*(AE5<$N$3)+2*(AE5>=$N$3)*(AE5<=$BU$36)))} -> 8 | BP5: {=ISERROR(MATCH(AG5,Feiertage!$A$8:$A$19,0))*IF(OR(AG5<$M$3,AG5>$BU$36),0,INDEX($M$4:$N$10,WEEKDAY(AG5,2),(AG5>=$M$3)*(AG5<$N$3)+2*(AG5>=$N$3)*(AG5<=$BU$36)))} -> 0 | BR5: {=ISERROR(MATCH(AI5,Feiertage!$A$8:$A$19,0))*IF(OR(AI5<$M$3,AI5>$BU$36),0,INDEX($M$4:$N$10,WEEKDAY(AI5,2),(AI5>=$M$3)*(AI5<$N$3)+2*(AI5>=$N$3)*(AI5<=$BU$36)))} -> 8 | BT5: {=ISERROR(MATCH(AK5,Feiertage!$A$8:$A$19,0))*IF(OR(AK5<$M$3,AK5>$BU$36),0,INDEX($M$4:$N$10,WEEKDAY(AK5,2),(AK5>=$M$3)*(AK5<$N$3)+2*(AK5>=$N$3)*(AK5<=$BU$36)))} -> 0 | BV5: {=ISERROR(MATCH(AM5,Feiertage!$A$8:$A$19,0))*IF(OR(AM5<$M$3,AM5>$BU$36),0,INDEX($M$4:$N$10,WEEKDAY(AM5,2),(AM5>=$M$3)*(AM5<$N$3)+2*(AM5>=$N$3)*(AM5<=$BU$36)))} -> 0 | CA5: {=ISERROR(MATCH(Q5,$AO$3:$AQ$3,0))*IF(OR(Q5<$M$3,Q5>$BU$36),0,INDEX($M$4:$N$10,WEEKDAY(Q5,2),(Q5>=$M$3)*(Q5<$N$3)+2*(Q5>=$N$3)*(Q5<=$BU$36)))} -> 8 | CC5: {=ISERROR(MATCH(S5,$AO$3:$AQ$3,0))*IF(OR(S5<$M$3,S5>$BU$36),0,INDEX($M$4:$N$10,WEEKDAY(S5,2),(S5>=$M$3)*(S5<$N$3)+2*(S5>=$N$3)*(S5<=$BU$36)))} -> 0 | CE5: {=ISERROR(MATCH(U5,$AO$3:$AQ$3,0))*IF(OR(U5<$M$3,U5>$BU$36),0,INDEX($M$4:$N$10,WEEKDAY(U5,2),(U5>=$M$3)*(U5<$N$3)+2*(U5>=$N$3)*(U5<=$BU$36)))} -> 0 | CG5: {=ISERROR(MATCH(W5,$AO$3:$AQ$3,0))*IF(OR(W5<$M$3,W5>$BU$36),0,INDEX($M$4:$N$10,WEEKDAY(W5,2),(W5>=$M$3)*(W5<$N$3)+2*(W5>=$N$3)*(W5<=$BU$36)))} -> 8 | CI5: {=ISERROR(MATCH(Y5,$AO$3:$AQ$3,0))*IF(OR(Y5<$M$3,Y5>$BU$36),0,INDEX($M$4:$N$10,WEEKDAY(Y5,2),(Y5>=$M$3)*(Y5<$N$3)+2*(Y5>=$N$3)*(Y5<=$BU$36)))} -> 8 | CK5: {=ISERROR(MATCH(AA5,$AO$3:$AQ$3,0))*IF(OR(AA5<$M$3,AA5>$BU$36),0,INDEX($M$4:$N$10,WEEKDAY(AA5,2),(AA5>=$M$3)*(AA5<$N$3)+2*(AA5>=$N$3)*(AA5<=$BU$36)))} -> 0 | CM5: {=ISERROR(MATCH(AC5,$AO$3:$AQ$3,0))*IF(OR(AC5<$M$3,AC5>$BU$36),0,INDEX($M$4:$N$10,WEEKDAY(AC5,2),(AC5>=$M$3)*(AC5<$N$3)+2*(AC5>=$N$3)*(AC5<=$BU$36)))} -> 8 | CO5: {=ISERROR(MATCH(AE5,$AO$3:$AQ$3,0))*IF(OR(AE5<$M$3,AE5>$BU$36),0,INDEX($M$4:$N$10,WEEKDAY(AE5,2),(AE5>=$M$3)*(AE5<$N$3)+2*(AE5>=$N$3)*(AE5<=$BU$36)))} -> 8 | CQ5: {=ISERROR(MATCH(AG5,$AO$3:$AQ$3,0))*IF(OR(AG5<$M$3,AG5>$BU$36),0,INDEX($M$4:$N$10,WEEKDAY(AG5,2),(AG5>=$M$3)*(AG5<$N$3)+2*(AG5>=$N$3)*(AG5<=$BU$36)))} -> 0 | CS5: {=ISERROR(MATCH(AI5,$AO$3:$AQ$3,0))*IF(OR(AI5<$M$3,AI5>$BU$36),0,INDEX($M$4:$N$10,WEEKDAY(AI5,2),(AI5>=$M$3)*(AI5<$N$3)+2*(AI5>=$N$3)*(AI5<=$BU$36)))} -> 8 | CU5: {=ISERROR(MATCH(AK5,$AO$3:$AQ$3,0))*IF(OR(AK5<$M$3,AK5>$BU$36),0,INDEX($M$4:$N$10,WEEKDAY(AK5,2),(AK5>=$M$3)*(AK5<$N$3)+2*(AK5>=$N$3)*(AK5<=$BU$36)))} -> 0 | CW5: {=ISERROR(MATCH(AM5,$AO$3:$AQ$3,0))*IF(OR(AM5<$M$3,AM5>$BU$36),0,INDEX($M$4:$N$10,WEEKDAY(AM5,2),(AM5>=$M$3)*(AM5<$N$3)+2*(AM5>=$N$3)*(AM5<=$BU$36)))} -> 0
A6: Lohn ab | B6: 44333 | D6: 21 | K6: Mittwoch | M6: 8 | P6: =IF(MONTH(Q5+1)=MONTH(Q$2),Q5+1,"") -> 44566 | Q6: =IF(MONTH(Q5+1)=MONTH(Q$2),Q5+1,"") -> 44566 | R6: =IF(MONTH(R5+1)=MONTH(R$2),R5+1,"") -> 44597 | S6: =IF(MONTH(S5+1)=MONTH(S$2),S5+1,"") -> 44597 | T6: =IF(MONTH(T5+1)=MONTH(T$2),T5+1,"") -> 44625 | U6: =IF(MONTH(U5+1)=MONTH(U$2),U5+1,"") -> 44625 | V6: =IF(MONTH(V5+1)=MONTH(V$2),V5+1,"") -> 44656 | W6: =IF(MONTH(W5+1)=MONTH(W$2),W5+1,"") -> 44656 | X6: =IF(MONTH(X5+1)=MONTH(X$2),X5+1,"") -> 44686 | ... AM6: =IF(MONTH(AM5+1)=MONTH(AM$2),AM5+1,"") -> 44900 | AZ6: {=ISERROR(MATCH(Q6,Feiertage!$A$8:$A$19,0))*IF(OR(Q6<$M$3,Q6>$BU$36),0,INDEX($M$4:$N$10,WEEKDAY(Q6,2),(Q6>=$M$3)*(Q6<$N$3)+2*(Q6>=$N$3)*(Q6<=$BU$36)))} -> 8 | BB6: {=ISERROR(MATCH(S6,Feiertage!$A$8:$A$19,0))*IF(OR(S6<$M$3,S6>$BU$36),0,INDEX($M$4:$N$10,WEEKDAY(S6,2),(S6>=$M$3)*(S6<$N$3)+2*(S6>=$N$3)*(S6<=$BU$36)))} -> 0 | BD6: {=ISERROR(MATCH(U6,Feiertage!$A$8:$A$19,0))*IF(OR(U6<$M$3,U6>$BU$36),0,INDEX($M$4:$N$10,WEEKDAY(U6,2),(U6>=$M$3)*(U6<$N$3)+2*(U6>=$N$3)*(U6<=$BU$36)))} -> 0 | BF6: {=ISERROR(MATCH(W6,Feiertage!$A$8:$A$19,0))*IF(OR(W6<$M$3,W6>$BU$36),0,INDEX($M$4:$N$10,WEEKDAY(W6,2),(W6>=$M$3)*(W6<$N$3)+2*(W6>=$N$3)*(W6<=$BU$36)))} -> 8 | BH6: {=ISERROR(MATCH(Y6,Feiertage!$A$8:$A$19,0))*IF(OR(Y6<$M$3,Y6>$BU$36),0,INDEX($M$4:$N$10,WEEKDAY(Y6,2),(Y6>=$M$3)*(Y6<$N$3)+2*(Y6>=$N$3)*(Y6<=$BU$36)))} -> 8 | BJ6: {=ISERROR(MATCH(AA6,Feiertage!$A$8:$A$19,0))*IF(OR(AA6<$M$3,AA6>$BU$36),0,INDEX($M$4:$N$10,WEEKDAY(AA6,2),(AA6>=$M$3)*(AA6<$N$3)+2*(AA6>=$N$3)*(AA6<=$BU$36)))} -> 0 | BL6: {=ISERROR(MATCH(AC6,Feiertage!$A$8:$A$19,0))*IF(OR(AC6<$M$3,AC6>$BU$36),0,INDEX($M$4:$N$10,WEEKDAY(AC6,2),(AC6>=$M$3)*(AC6<$N$3)+2*(AC6>=$N$3)*(AC6<=$BU$36)))} -> 8 | BN6: {=ISERROR(MATCH(AE6,Feiertage!$A$8:$A$19,0))*IF(OR(AE6<$M$3,AE6>$BU$36),0,INDEX($M$4:$N$10,WEEKDAY(AE6,2),(AE6>=$M$3)*(AE6<$N$3)+2*(AE6>=$N$3)*(AE6<=$BU$36)))} -> 0 | BP6: {=ISERROR(MATCH(AG6,Feiertage!$A$8:$A$19,0))*IF(OR(AG6<$M$3,AG6>$BU$36),0,INDEX($M$4:$N$10,WEEKDAY(AG6,2),(AG6>=$M$3)*(AG6<$N$3)+2*(AG6>=$N$3)*(AG6<=$BU$36)))} -> 8 | BR6: {=ISERROR(MATCH(AI6,Feiertage!$A$8:$A$19,0))*IF(OR(AI6<$M$3,AI6>$BU$36),0,INDEX($M$4:$N$10,WEEKDAY(AI6,2),(AI6>=$M$3)*(AI6<$N$3)+2*(AI6>=$N$3)*(AI6<=$BU$36)))} -> 8 | BT6: {=ISERROR(MATCH(AK6,Feiertage!$A$8:$A$19,0))*IF(OR(AK6<$M$3,AK6>$BU$36),0,INDEX($M$4:$N$10,WEEKDAY(AK6,2),(AK6>=$M$3)*(AK6<$N$3)+2*(AK6>=$N$3)*(AK6<=$BU$36)))} -> 0 | BV6: {=ISERROR(MATCH(AM6,Feiertage!$A$8:$A$19,0))*IF(OR(AM6<$M$3,AM6>$BU$36),0,INDEX($M$4:$N$10,WEEKDAY(AM6,2),(AM6>=$M$3)*(AM6<$N$3)+2*(AM6>=$N$3)*(AM6<=$BU$36)))} -> 8 | CA6: {=ISERROR(MATCH(Q6,$AO$3:$AQ$3,0))*IF(OR(Q6<$M$3,Q6>$BU$36),0,INDEX($M$4:$N$10,WEEKDAY(Q6,2),(Q6>=$M$3)*(Q6<$N$3)+2*(Q6>=$N$3)*(Q6<=$BU$36)))} -> 8 | CC6: {=ISERROR(MATCH(S6,$AO$3:$AQ$3,0))*IF(OR(S6<$M$3,S6>$BU$36),0,INDEX($M$4:$N$10,WEEKDAY(S6,2),(S6>=$M$3)*(S6<$N$3)+2*(S6>=$N$3)*(S6<=$BU$36)))} -> 0 | CE6: {=ISERROR(MATCH(U6,$AO$3:$AQ$3,0))*IF(OR(U6<$M$3,U6>$BU$36),0,INDEX($M$4:$N$10,WEEKDAY(U6,2),(U6>=$M$3)*(U6<$N$3)+2*(U6>=$N$3)*(U6<=$BU$36)))} -> 0 | CG6: {=ISERROR(MATCH(W6,$AO$3:$AQ$3,0))*IF(OR(W6<$M$3,W6>$BU$36),0,INDEX($M$4:$N$10,WEEKDAY(W6,2),(W6>=$M$3)*(W6<$N$3)+2*(W6>=$N$3)*(W6<=$BU$36)))} -> 8 | CI6: {=ISERROR(MATCH(Y6,$AO$3:$AQ$3,0))*IF(OR(Y6<$M$3,Y6>$BU$36),0,INDEX($M$4:$N$10,WEEKDAY(Y6,2),(Y6>=$M$3)*(Y6<$N$3)+2*(Y6>=$N$3)*(Y6<=$BU$36)))} -> 8 | CK6: {=ISERROR(MATCH(AA6,$AO$3:$AQ$3,0))*IF(OR(AA6<$M$3,AA6>$BU$36),0,INDEX($M$4:$N$10,WEEKDAY(AA6,2),(AA6>=$M$3)*(AA6<$N$3)+2*(AA6>=$N$3)*(AA6<=$BU$36)))} -> 0 | CM6: {=ISERROR(MATCH(AC6,$AO$3:$AQ$3,0))*IF(OR(AC6<$M$3,AC6>$BU$36),0,INDEX($M$4:$N$10,WEEKDAY(AC6,2),(AC6>=$M$3)*(AC6<$N$3)+2*(AC6>=$N$3)*(AC6<=$BU$36)))} -> 8 | CO6: {=ISERROR(MATCH(AE6,$AO$3:$AQ$3,0))*IF(OR(AE6<$M$3,AE6>$BU$36),0,INDEX($M$4:$N$10,WEEKDAY(AE6,2),(AE6>=$M$3)*(AE6<$N$3)+2*(AE6>=$N$3)*(AE6<=$BU$36)))} -> 0 | CQ6: {=ISERROR(MATCH(AG6,$AO$3:$AQ$3,0))*IF(OR(AG6<$M$3,AG6>$BU$36),0,INDEX($M$4:$N$10,WEEKDAY(AG6,2),(AG6>=$M$3)*(AG6<$N$3)+2*(AG6>=$N$3)*(AG6<=$BU$36)))} -> 8 | CS6: {=ISERROR(MATCH(AI6,$AO$3:$AQ$3,0))*IF(OR(AI6<$M$3,AI6>$BU$36),0,INDEX($M$4:$N$10,WEEKDAY(AI6,2),(AI6>=$M$3)*(AI6<$N$3)+2*(AI6>=$N$3)*(AI6<=$BU$36)))} -> 8 | CU6: {=ISERROR(MATCH(AK6,$AO$3:$AQ$3,0))*IF(OR(AK6<$M$3,AK6>$BU$36),0,INDEX($M$4:$N$10,WEEKDAY(AK6,2),(AK6>=$M$3)*(AK6<$N$3)+2*(AK6>=$N$3)*(AK6<=$BU$36)))} -> 0 | CW6: {=ISERROR(MATCH(AM6,$AO$3:$AQ$3,0))*IF(OR(AM6<$M$3,AM6>$BU$36),0,INDEX($M$4:$N$10,WEEKDAY(AM6,2),(AM6>=$M$3)*(AM6<$N$3)+2*(AM6>=$N$3)*(AM6<=$BU$36)))} -> 8
A7: Lohn ab | K7: Donnerstag | M7: 8 | P7: =IF(MONTH(Q6+1)=MONTH(Q$2),Q6+1,"") -> 44567 | Q7: =IF(MONTH(Q6+1)=MONTH(Q$2),Q6+1,"") -> 44567 | R7: =IF(MONTH(R6+1)=MONTH(R$2),R6+1,"") -> 44598 | S7: =IF(MONTH(S6+1)=MONTH(S$2),S6+1,"") -> 44598 | T7: =IF(MONTH(T6+1)=MONTH(T$2),T6+1,"") -> 44626 | U7: =IF(MONTH(U6+1)=MONTH(U$2),U6+1,"") -> 44626 | V7: =IF(MONTH(V6+1)=MONTH(V$2),V6+1,"") -> 44657 | W7: =IF(MONTH(W6+1)=MONTH(W$2),W6+1,"") -> 44657 | X7: =IF(MONTH(X6+1)=MONTH(X$2),X6+1,"") -> 44687 | ... AM7: =IF(MONTH(AM6+1)=MONTH(AM$2),AM6+1,"") -> 44901 | AZ7: {=ISERROR(MATCH(Q7,Feiertage!$A$8:$A$19,0))*IF(OR(Q7<$M$3,Q7>$BU$36),0,INDEX($M$4:$N$10,WEEKDAY(Q7,2),(Q7>=$M$3)*(Q7<$N$3)+2*(Q7>=$N$3)*(Q7<=$BU$36)))} -> 8 | BB7: {=ISERROR(MATCH(S7,Feiertage!$A$8:$A$19,0))*IF(OR(S7<$M$3,S7>$BU$36),0,INDEX($M$4:$N$10,WEEKDAY(S7,2),(S7>=$M$3)*(S7<$N$3)+2*(S7>=$N$3)*(S7<=$BU$36)))} -> 0 | BD7: {=ISERROR(MATCH(U7,Feiertage!$A$8:$A$19,0))*IF(OR(U7<$M$3,U7>$BU$36),0,INDEX($M$4:$N$10,WEEKDAY(U7,2),(U7>=$M$3)*(U7<$N$3)+2*(U7>=$N$3)*(U7<=$BU$36)))} -> 0 | BF7: {=ISERROR(MATCH(W7,Feiertage!$A$8:$A$19,0))*IF(OR(W7<$M$3,W7>$BU$36),0,INDEX($M$4:$N$10,WEEKDAY(W7,2),(W7>=$M$3)*(W7<$N$3)+2*(W7>=$N$3)*(W7<=$BU$36)))} -> 8 | BH7: {=ISERROR(MATCH(Y7,Feiertage!$A$8:$A$19,0))*IF(OR(Y7<$M$3,Y7>$BU$36),0,INDEX($M$4:$N$10,WEEKDAY(Y7,2),(Y7>=$M$3)*(Y7<$N$3)+2*(Y7>=$N$3)*(Y7<=$BU$36)))} -> 0 | BJ7: {=ISERROR(MATCH(AA7,Feiertage!$A$8:$A$19,0))*IF(OR(AA7<$M$3,AA7>$BU$36),0,INDEX($M$4:$N$10,WEEKDAY(AA7,2),(AA7>=$M$3)*(AA7<$N$3)+2*(AA7>=$N$3)*(AA7<=$BU$36)))} -> 0 | BL7: {=ISERROR(MATCH(AC7,Feiertage!$A$8:$A$19,0))*IF(OR(AC7<$M$3,AC7>$BU$36),0,INDEX($M$4:$N$10,WEEKDAY(AC7,2),(AC7>=$M$3)*(AC7<$N$3)+2*(AC7>=$N$3)*(AC7<=$BU$36)))} -> 8 | BN7: {=ISERROR(MATCH(AE7,Feiertage!$A$8:$A$19,0))*IF(OR(AE7<$M$3,AE7>$BU$36),0,INDEX($M$4:$N$10,WEEKDAY(AE7,2),(AE7>=$M$3)*(AE7<$N$3)+2*(AE7>=$N$3)*(AE7<=$BU$36)))} -> 0 | BP7: {=ISERROR(MATCH(AG7,Feiertage!$A$8:$A$19,0))*IF(OR(AG7<$M$3,AG7>$BU$36),0,INDEX($M$4:$N$10,WEEKDAY(AG7,2),(AG7>=$M$3)*(AG7<$N$3)+2*(AG7>=$N$3)*(AG7<=$BU$36)))} -> 8 | BR7: {=ISERROR(MATCH(AI7,Feiertage!$A$8:$A$19,0))*IF(OR(AI7<$M$3,AI7>$BU$36),0,INDEX($M$4:$N$10,WEEKDAY(AI7,2),(AI7>=$M$3)*(AI7<$N$3)+2*(AI7>=$N$3)*(AI7<=$BU$36)))} -> 8 | BT7: {=ISERROR(MATCH(AK7,Feiertage!$A$8:$A$19,0))*IF(OR(AK7<$M$3,AK7>$BU$36),0,INDEX($M$4:$N$10,WEEKDAY(AK7,2),(AK7>=$M$3)*(AK7<$N$3)+2*(AK7>=$N$3)*(AK7<=$BU$36)))} -> 0 | BV7: {=ISERROR(MATCH(AM7,Feiertage!$A$8:$A$19,0))*IF(OR(AM7<$M$3,AM7>$BU$36),0,INDEX($M$4:$N$10,WEEKDAY(AM7,2),(AM7>=$M$3)*(AM7<$N$3)+2*(AM7>=$N$3)*(AM7<=$BU$36)))} -> 8 | CA7: {=ISERROR(MATCH(Q7,$AO$3:$AQ$3,0))*IF(OR(Q7<$M$3,Q7>$BU$36),0,INDEX($M$4:$N$10,WEEKDAY(Q7,2),(Q7>=$M$3)*(Q7<$N$3)+2*(Q7>=$N$3)*(Q7<=$BU$36)))} -> 8 | CC7: {=ISERROR(MATCH(S7,$AO$3:$AQ$3,0))*IF(OR(S7<$M$3,S7>$BU$36),0,INDEX($M$4:$N$10,WEEKDAY(S7,2),(S7>=$M$3)*(S7<$N$3)+2*(S7>=$N$3)*(S7<=$BU$36)))} -> 0 | CE7: {=ISERROR(MATCH(U7,$AO$3:$AQ$3,0))*IF(OR(U7<$M$3,U7>$BU$36),0,INDEX($M$4:$N$10,WEEKDAY(U7,2),(U7>=$M$3)*(U7<$N$3)+2*(U7>=$N$3)*(U7<=$BU$36)))} -> 0 | CG7: {=ISERROR(MATCH(W7,$AO$3:$AQ$3,0))*IF(OR(W7<$M$3,W7>$BU$36),0,INDEX($M$4:$N$10,WEEKDAY(W7,2),(W7>=$M$3)*(W7<$N$3)+2*(W7>=$N$3)*(W7<=$BU$36)))} -> 8 | CI7: {=ISERROR(MATCH(Y7,$AO$3:$AQ$3,0))*IF(OR(Y7<$M$3,Y7>$BU$36),0,INDEX($M$4:$N$10,WEEKDAY(Y7,2),(Y7>=$M$3)*(Y7<$N$3)+2*(Y7>=$N$3)*(Y7<=$BU$36)))} -> 0 | CK7: {=ISERROR(MATCH(AA7,$AO$3:$AQ$3,0))*IF(OR(AA7<$M$3,AA7>$BU$36),0,INDEX($M$4:$N$10,WEEKDAY(AA7,2),(AA7>=$M$3)*(AA7<$N$3)+2*(AA7>=$N$3)*(AA7<=$BU$36)))} -> 8 | CM7: {=ISERROR(MATCH(AC7,$AO$3:$AQ$3,0))*IF(OR(AC7<$M$3,AC7>$BU$36),0,INDEX($M$4:$N$10,WEEKDAY(AC7,2),(AC7>=$M$3)*(AC7<$N$3)+2*(AC7>=$N$3)*(AC7<=$BU$36)))} -> 8 | CO7: {=ISERROR(MATCH(AE7,$AO$3:$AQ$3,0))*IF(OR(AE7<$M$3,AE7>$BU$36),0,INDEX($M$4:$N$10,WEEKDAY(AE7,2),(AE7>=$M$3)*(AE7<$N$3)+2*(AE7>=$N$3)*(AE7<=$BU$36)))} -> 0 | CQ7: {=ISERROR(MATCH(AG7,$AO$3:$AQ$3,0))*IF(OR(AG7<$M$3,AG7>$BU$36),0,INDEX($M$4:$N$10,WEEKDAY(AG7,2),(AG7>=$M$3)*(AG7<$N$3)+2*(AG7>=$N$3)*(AG7<=$BU$36)))} -> 8 | CS7: {=ISERROR(MATCH(AI7,$AO$3:$AQ$3,0))*IF(OR(AI7<$M$3,AI7>$BU$36),0,INDEX($M$4:$N$10,WEEKDAY(AI7,2),(AI7>=$M$3)*(AI7<$N$3)+2*(AI7>=$N$3)*(AI7<=$BU$36)))} -> 8 | CU7: {=ISERROR(MATCH(AK7,$AO$3:$AQ$3,0))*IF(OR(AK7<$M$3,AK7>$BU$36),0,INDEX($M$4:$N$10,WEEKDAY(AK7,2),(AK7>=$M$3)*(AK7<$N$3)+2*(AK7>=$N$3)*(AK7<=$BU$36)))} -> 0 | CW7: {=ISERROR(MATCH(AM7,$AO$3:$AQ$3,0))*IF(OR(AM7<$M$3,AM7>$BU$36),0,INDEX($M$4:$N$10,WEEKDAY(AM7,2),(AM7>=$M$3)*(AM7<$N$3)+2*(AM7>=$N$3)*(AM7<=$BU$36)))} -> 8
A8: Urlaubsgeld im | K8: Freitag | M8: 0 | P8: =IF(MONTH(Q7+1)=MONTH(Q$2),Q7+1,"") -> 44568 | Q8: =IF(MONTH(Q7+1)=MONTH(Q$2),Q7+1,"") -> 44568 | R8: =IF(MONTH(R7+1)=MONTH(R$2),R7+1,"") -> 44599 | S8: =IF(MONTH(S7+1)=MONTH(S$2),S7+1,"") -> 44599 | T8: =IF(MONTH(T7+1)=MONTH(T$2),T7+1,"") -> 44627 | U8: =IF(MONTH(U7+1)=MONTH(U$2),U7+1,"") -> 44627 | V8: =IF(MONTH(V7+1)=MONTH(V$2),V7+1,"") -> 44658 | W8: =IF(MONTH(W7+1)=MONTH(W$2),W7+1,"") -> 44658 | X8: =IF(MONTH(X7+1)=MONTH(X$2),X7+1,"") -> 44688 | ... AM8: =IF(MONTH(AM7+1)=MONTH(AM$2),AM7+1,"") -> 44902 | AZ8: {=ISERROR(MATCH(Q8,Feiertage!$A$8:$A$19,0))*IF(OR(Q8<$M$3,Q8>$BU$36),0,INDEX($M$4:$N$10,WEEKDAY(Q8,2),(Q8>=$M$3)*(Q8<$N$3)+2*(Q8>=$N$3)*(Q8<=$BU$36)))} -> 0 | BB8: {=ISERROR(MATCH(S8,Feiertage!$A$8:$A$19,0))*IF(OR(S8<$M$3,S8>$BU$36),0,INDEX($M$4:$N$10,WEEKDAY(S8,2),(S8>=$M$3)*(S8<$N$3)+2*(S8>=$N$3)*(S8<=$BU$36)))} -> 8 | BD8: {=ISERROR(MATCH(U8,Feiertage!$A$8:$A$19,0))*IF(OR(U8<$M$3,U8>$BU$36),0,INDEX($M$4:$N$10,WEEKDAY(U8,2),(U8>=$M$3)*(U8<$N$3)+2*(U8>=$N$3)*(U8<=$BU$36)))} -> 8 | BF8: {=ISERROR(MATCH(W8,Feiertage!$A$8:$A$19,0))*IF(OR(W8<$M$3,W8>$BU$36),0,INDEX($M$4:$N$10,WEEKDAY(W8,2),(W8>=$M$3)*(W8<$N$3)+2*(W8>=$N$3)*(W8<=$BU$36)))} -> 8 | BH8: {=ISERROR(MATCH(Y8,Feiertage!$A$8:$A$19,0))*IF(OR(Y8<$M$3,Y8>$BU$36),0,INDEX($M$4:$N$10,WEEKDAY(Y8,2),(Y8>=$M$3)*(Y8<$N$3)+2*(Y8>=$N$3)*(Y8<=$BU$36)))} -> 0 | BJ8: {=ISERROR(MATCH(AA8,Feiertage!$A$8:$A$19,0))*IF(OR(AA8<$M$3,AA8>$BU$36),0,INDEX($M$4:$N$10,WEEKDAY(AA8,2),(AA8>=$M$3)*(AA8<$N$3)+2*(AA8>=$N$3)*(AA8<=$BU$36)))} -> 8 | BL8: {=ISERROR(MATCH(AC8,Feiertage!$A$8:$A$19,0))*IF(OR(AC8<$M$3,AC8>$BU$36),0,INDEX($M$4:$N$10,WEEKDAY(AC8,2),(AC8>=$M$3)*(AC8<$N$3)+2*(AC8>=$N$3)*(AC8<=$BU$36)))} -> 8 | BN8: {=ISERROR(MATCH(AE8,Feiertage!$A$8:$A$19,0))*IF(OR(AE8<$M$3,AE8>$BU$36),0,INDEX($M$4:$N$10,WEEKDAY(AE8,2),(AE8>=$M$3)*(AE8<$N$3)+2*(AE8>=$N$3)*(AE8<=$BU$36)))} -> 0 | BP8: {=ISERROR(MATCH(AG8,Feiertage!$A$8:$A$19,0))*IF(OR(AG8<$M$3,AG8>$BU$36),0,INDEX($M$4:$N$10,WEEKDAY(AG8,2),(AG8>=$M$3)*(AG8<$N$3)+2*(AG8>=$N$3)*(AG8<=$BU$36)))} -> 8 | BR8: {=ISERROR(MATCH(AI8,Feiertage!$A$8:$A$19,0))*IF(OR(AI8<$M$3,AI8>$BU$36),0,INDEX($M$4:$N$10,WEEKDAY(AI8,2),(AI8>=$M$3)*(AI8<$N$3)+2*(AI8>=$N$3)*(AI8<=$BU$36)))} -> 0 | BT8: {=ISERROR(MATCH(AK8,Feiertage!$A$8:$A$19,0))*IF(OR(AK8<$M$3,AK8>$BU$36),0,INDEX($M$4:$N$10,WEEKDAY(AK8,2),(AK8>=$M$3)*(AK8<$N$3)+2*(AK8>=$N$3)*(AK8<=$BU$36)))} -> 8 | BV8: {=ISERROR(MATCH(AM8,Feiertage!$A$8:$A$19,0))*IF(OR(AM8<$M$3,AM8>$BU$36),0,INDEX($M$4:$N$10,WEEKDAY(AM8,2),(AM8>=$M$3)*(AM8<$N$3)+2*(AM8>=$N$3)*(AM8<=$BU$36)))} -> 8 | CA8: {=ISERROR(MATCH(Q8,$AO$3:$AQ$3,0))*IF(OR(Q8<$M$3,Q8>$BU$36),0,INDEX($M$4:$N$10,WEEKDAY(Q8,2),(Q8>=$M$3)*(Q8<$N$3)+2*(Q8>=$N$3)*(Q8<=$BU$36)))} -> 0 | CC8: {=ISERROR(MATCH(S8,$AO$3:$AQ$3,0))*IF(OR(S8<$M$3,S8>$BU$36),0,INDEX($M$4:$N$10,WEEKDAY(S8,2),(S8>=$M$3)*(S8<$N$3)+2*(S8>=$N$3)*(S8<=$BU$36)))} -> 8 | CE8: {=ISERROR(MATCH(U8,$AO$3:$AQ$3,0))*IF(OR(U8<$M$3,U8>$BU$36),0,INDEX($M$4:$N$10,WEEKDAY(U8,2),(U8>=$M$3)*(U8<$N$3)+2*(U8>=$N$3)*(U8<=$BU$36)))} -> 0 | CG8: {=ISERROR(MATCH(W8,$AO$3:$AQ$3,0))*IF(OR(W8<$M$3,W8>$BU$36),0,INDEX($M$4:$N$10,WEEKDAY(W8,2),(W8>=$M$3)*(W8<$N$3)+2*(W8>=$N$3)*(W8<=$BU$36)))} -> 8 | CI8: {=ISERROR(MATCH(Y8,$AO$3:$AQ$3,0))*IF(OR(Y8<$M$3,Y8>$BU$36),0,INDEX($M$4:$N$10,WEEKDAY(Y8,2),(Y8>=$M$3)*(Y8<$N$3)+2*(Y8>=$N$3)*(Y8<=$BU$36)))} -> 0 | CK8: {=ISERROR(MATCH(AA8,$AO$3:$AQ$3,0))*IF(OR(AA8<$M$3,AA8>$BU$36),0,INDEX($M$4:$N$10,WEEKDAY(AA8,2),(AA8>=$M$3)*(AA8<$N$3)+2*(AA8>=$N$3)*(AA8<=$BU$36)))} -> 8 | CM8: {=ISERROR(MATCH(AC8,$AO$3:$AQ$3,0))*IF(OR(AC8<$M$3,AC8>$BU$36),0,INDEX($M$4:$N$10,WEEKDAY(AC8,2),(AC8>=$M$3)*(AC8<$N$3)+2*(AC8>=$N$3)*(AC8<=$BU$36)))} -> 8 | CO8: {=ISERROR(MATCH(AE8,$AO$3:$AQ$3,0))*IF(OR(AE8<$M$3,AE8>$BU$36),0,INDEX($M$4:$N$10,WEEKDAY(AE8,2),(AE8>=$M$3)*(AE8<$N$3)+2*(AE8>=$N$3)*(AE8<=$BU$36)))} -> 0 | CQ8: {=ISERROR(MATCH(AG8,$AO$3:$AQ$3,0))*IF(OR(AG8<$M$3,AG8>$BU$36),0,INDEX($M$4:$N$10,WEEKDAY(AG8,2),(AG8>=$M$3)*(AG8<$N$3)+2*(AG8>=$N$3)*(AG8<=$BU$36)))} -> 8 | CS8: {=ISERROR(MATCH(AI8,$AO$3:$AQ$3,0))*IF(OR(AI8<$M$3,AI8>$BU$36),0,INDEX($M$4:$N$10,WEEKDAY(AI8,2),(AI8>=$M$3)*(AI8<$N$3)+2*(AI8>=$N$3)*(AI8<=$BU$36)))} -> 0 | CU8: {=ISERROR(MATCH(AK8,$AO$3:$AQ$3,0))*IF(OR(AK8<$M$3,AK8>$BU$36),0,INDEX($M$4:$N$10,WEEKDAY(AK8,2),(AK8>=$M$3)*(AK8<$N$3)+2*(AK8>=$N$3)*(AK8<=$BU$36)))} -> 8 | CW8: {=ISERROR(MATCH(AM8,$AO$3:$AQ$3,0))*IF(OR(AM8<$M$3,AM8>$BU$36),0,INDEX($M$4:$N$10,WEEKDAY(AM8,2),(AM8>=$M$3)*(AM8<$N$3)+2*(AM8>=$N$3)*(AM8<=$BU$36)))} -> 8
A9: Weihnachtsgeld im | K9: Samstag | M9: 0 | P9: =IF(MONTH(Q8+1)=MONTH(Q$2),Q8+1,"") -> 44569 | Q9: =IF(MONTH(Q8+1)=MONTH(Q$2),Q8+1,"") -> 44569 | R9: =IF(MONTH(R8+1)=MONTH(R$2),R8+1,"") -> 44600 | S9: =IF(MONTH(S8+1)=MONTH(S$2),S8+1,"") -> 44600 | T9: =IF(MONTH(T8+1)=MONTH(T$2),T8+1,"") -> 44628 | U9: =IF(MONTH(U8+1)=MONTH(U$2),U8+1,"") -> 44628 | V9: =IF(MONTH(V8+1)=MONTH(V$2),V8+1,"") -> 44659 | W9: =IF(MONTH(W8+1)=MONTH(W$2),W8+1,"") -> 44659 | X9: =IF(MONTH(X8+1)=MONTH(X$2),X8+1,"") -> 44689 | ... AM9: =IF(MONTH(AM8+1)=MONTH(AM$2),AM8+1,"") -> 44903 | AZ9: {=ISERROR(MATCH(Q9,Feiertage!$A$8:$A$19,0))*IF(OR(Q9<$M$3,Q9>$BU$36),0,INDEX($M$4:$N$10,WEEKDAY(Q9,2),(Q9>=$M$3)*(Q9<$N$3)+2*(Q9>=$N$3)*(Q9<=$BU$36)))} -> 0 | BB9: {=ISERROR(MATCH(S9,Feiertage!$A$8:$A$19,0))*IF(OR(S9<$M$3,S9>$BU$36),0,INDEX($M$4:$N$10,WEEKDAY(S9,2),(S9>=$M$3)*(S9<$N$3)+2*(S9>=$N$3)*(S9<=$BU$36)))} -> 8 | BD9: {=ISERROR(MATCH(U9,Feiertage!$A$8:$A$19,0))*IF(OR(U9<$M$3,U9>$BU$36),0,INDEX($M$4:$N$10,WEEKDAY(U9,2),(U9>=$M$3)*(U9<$N$3)+2*(U9>=$N$3)*(U9<=$BU$36)))} -> 8 | BF9: {=ISERROR(MATCH(W9,Feiertage!$A$8:$A$19,0))*IF(OR(W9<$M$3,W9>$BU$36),0,INDEX($M$4:$N$10,WEEKDAY(W9,2),(W9>=$M$3)*(W9<$N$3)+2*(W9>=$N$3)*(W9<=$BU$36)))} -> 0 | BH9: {=ISERROR(MATCH(Y9,Feiertage!$A$8:$A$19,0))*IF(OR(Y9<$M$3,Y9>$BU$36),0,INDEX($M$4:$N$10,WEEKDAY(Y9,2),(Y9>=$M$3)*(Y9<$N$3)+2*(Y9>=$N$3)*(Y9<=$BU$36)))} -> 0 | BJ9: {=ISERROR(MATCH(AA9,Feiertage!$A$8:$A$19,0))*IF(OR(AA9<$M$3,AA9>$BU$36),0,INDEX($M$4:$N$10,WEEKDAY(AA9,2),(AA9>=$M$3)*(AA9<$N$3)+2*(AA9>=$N$3)*(AA9<=$BU$36)))} -> 8 | BL9: {=ISERROR(MATCH(AC9,Feiertage!$A$8:$A$19,0))*IF(OR(AC9<$M$3,AC9>$BU$36),0,INDEX($M$4:$N$10,WEEKDAY(AC9,2),(AC9>=$M$3)*(AC9<$N$3)+2*(AC9>=$N$3)*(AC9<=$BU$36)))} -> 0 | BN9: {=ISERROR(MATCH(AE9,Feiertage!$A$8:$A$19,0))*IF(OR(AE9<$M$3,AE9>$BU$36),0,INDEX($M$4:$N$10,WEEKDAY(AE9,2),(AE9>=$M$3)*(AE9<$N$3)+2*(AE9>=$N$3)*(AE9<=$BU$36)))} -> 8 | BP9: {=ISERROR(MATCH(AG9,Feiertage!$A$8:$A$19,0))*IF(OR(AG9<$M$3,AG9>$BU$36),0,INDEX($M$4:$N$10,WEEKDAY(AG9,2),(AG9>=$M$3)*(AG9<$N$3)+2*(AG9>=$N$3)*(AG9<=$BU$36)))} -> 8 | BR9: {=ISERROR(MATCH(AI9,Feiertage!$A$8:$A$19,0))*IF(OR(AI9<$M$3,AI9>$BU$36),0,INDEX($M$4:$N$10,WEEKDAY(AI9,2),(AI9>=$M$3)*(AI9<$N$3)+2*(AI9>=$N$3)*(AI9<=$BU$36)))} -> 0 | BT9: {=ISERROR(MATCH(AK9,Feiertage!$A$8:$A$19,0))*IF(OR(AK9<$M$3,AK9>$BU$36),0,INDEX($M$4:$N$10,WEEKDAY(AK9,2),(AK9>=$M$3)*(AK9<$N$3)+2*(AK9>=$N$3)*(AK9<=$BU$36)))} -> 8 | BV9: {=ISERROR(MATCH(AM9,Feiertage!$A$8:$A$19,0))*IF(OR(AM9<$M$3,AM9>$BU$36),0,INDEX($M$4:$N$10,WEEKDAY(AM9,2),(AM9>=$M$3)*(AM9<$N$3)+2*(AM9>=$N$3)*(AM9<=$BU$36)))} -> 8 | CA9: {=ISERROR(MATCH(Q9,$AO$3:$AQ$3,0))*IF(OR(Q9<$M$3,Q9>$BU$36),0,INDEX($M$4:$N$10,WEEKDAY(Q9,2),(Q9>=$M$3)*(Q9<$N$3)+2*(Q9>=$N$3)*(Q9<=$BU$36)))} -> 0 | CC9: {=ISERROR(MATCH(S9,$AO$3:$AQ$3,0))*IF(OR(S9<$M$3,S9>$BU$36),0,INDEX($M$4:$N$10,WEEKDAY(S9,2),(S9>=$M$3)*(S9<$N$3)+2*(S9>=$N$3)*(S9<=$BU$36)))} -> 8 | CE9: {=ISERROR(MATCH(U9,$AO$3:$AQ$3,0))*IF(OR(U9<$M$3,U9>$BU$36),0,INDEX($M$4:$N$10,WEEKDAY(U9,2),(U9>=$M$3)*(U9<$N$3)+2*(U9>=$N$3)*(U9<=$BU$36)))} -> 0 | CG9: {=ISERROR(MATCH(W9,$AO$3:$AQ$3,0))*IF(OR(W9<$M$3,W9>$BU$36),0,INDEX($M$4:$N$10,WEEKDAY(W9,2),(W9>=$M$3)*(W9<$N$3)+2*(W9>=$N$3)*(W9<=$BU$36)))} -> 0 | CI9: {=ISERROR(MATCH(Y9,$AO$3:$AQ$3,0))*IF(OR(Y9<$M$3,Y9>$BU$36),0,INDEX($M$4:$N$10,WEEKDAY(Y9,2),(Y9>=$M$3)*(Y9<$N$3)+2*(Y9>=$N$3)*(Y9<=$BU$36)))} -> 0 | CK9: {=ISERROR(MATCH(AA9,$AO$3:$AQ$3,0))*IF(OR(AA9<$M$3,AA9>$BU$36),0,INDEX($M$4:$N$10,WEEKDAY(AA9,2),(AA9>=$M$3)*(AA9<$N$3)+2*(AA9>=$N$3)*(AA9<=$BU$36)))} -> 8 | CM9: {=ISERROR(MATCH(AC9,$AO$3:$AQ$3,0))*IF(OR(AC9<$M$3,AC9>$BU$36),0,INDEX($M$4:$N$10,WEEKDAY(AC9,2),(AC9>=$M$3)*(AC9<$N$3)+2*(AC9>=$N$3)*(AC9<=$BU$36)))} -> 0 | CO9: {=ISERROR(MATCH(AE9,$AO$3:$AQ$3,0))*IF(OR(AE9<$M$3,AE9>$BU$36),0,INDEX($M$4:$N$10,WEEKDAY(AE9,2),(AE9>=$M$3)*(AE9<$N$3)+2*(AE9>=$N$3)*(AE9<=$BU$36)))} -> 8 | CQ9: {=ISERROR(MATCH(AG9,$AO$3:$AQ$3,0))*IF(OR(AG9<$M$3,AG9>$BU$36),0,INDEX($M$4:$N$10,WEEKDAY(AG9,2),(AG9>=$M$3)*(AG9<$N$3)+2*(AG9>=$N$3)*(AG9<=$BU$36)))} -> 8 | CS9: {=ISERROR(MATCH(AI9,$AO$3:$AQ$3,0))*IF(OR(AI9<$M$3,AI9>$BU$36),0,INDEX($M$4:$N$10,WEEKDAY(AI9,2),(AI9>=$M$3)*(AI9<$N$3)+2*(AI9>=$N$3)*(AI9<=$BU$36)))} -> 0 | CU9: {=ISERROR(MATCH(AK9,$AO$3:$AQ$3,0))*IF(OR(AK9<$M$3,AK9>$BU$36),0,INDEX($M$4:$N$10,WEEKDAY(AK9,2),(AK9>=$M$3)*(AK9<$N$3)+2*(AK9>=$N$3)*(AK9<=$BU$36)))} -> 8 | CW9: {=ISERROR(MATCH(AM9,$AO$3:$AQ$3,0))*IF(OR(AM9<$M$3,AM9>$BU$36),0,INDEX($M$4:$N$10,WEEKDAY(AM9,2),(AM9>=$M$3)*(AM9<$N$3)+2*(AM9>=$N$3)*(AM9<=$BU$36)))} -> 8
A10: Eintritt | B10: 44333 | D10: Jahresurlaubsanspr. | H10: 24 | I10: Tage | K10: Sonntag | M10: 0 | P10: =IF(MONTH(Q9+1)=MONTH(Q$2),Q9+1,"") -> 44570 | Q10: =IF(MONTH(Q9+1)=MONTH(Q$2),Q9+1,"") -> 44570 | R10: =IF(MONTH(R9+1)=MONTH(R$2),R9+1,"") -> 44601 | S10: =IF(MONTH(S9+1)=MONTH(S$2),S9+1,"") -> 44601 | T10: =IF(MONTH(T9+1)=MONTH(T$2),T9+1,"") -> 44629 | U10: =IF(MONTH(U9+1)=MONTH(U$2),U9+1,"") -> 44629 | V10: =IF(MONTH(V9+1)=MONTH(V$2),V9+1,"") -> 44660 | W10: =IF(MONTH(W9+1)=MONTH(W$2),W9+1,"") -> 44660 | X10: =IF(MONTH(X9+1)=MONTH(X$2),X9+1,"") -> 44690 | ... AM10: =IF(MONTH(AM9+1)=MONTH(AM$2),AM9+1,"") -> 44904 | AZ10: {=ISERROR(MATCH(Q10,Feiertage!$A$8:$A$19,0))*IF(OR(Q10<$M$3,Q10>$BU$36),0,INDEX($M$4:$N$10,WEEKDAY(Q10,2),(Q10>=$M$3)*(Q10<$N$3)+2*(Q10>=$N$3)*(Q10<=$BU$36)))} -> 0 | BB10: {=ISERROR(MATCH(S10,Feiertage!$A$8:$A$19,0))*IF(OR(S10<$M$3,S10>$BU$36),0,INDEX($M$4:$N$10,WEEKDAY(S10,2),(S10>=$M$3)*(S10<$N$3)+2*(S10>=$N$3)*(S10<=$BU$36)))} -> 8 | BD10: {=ISERROR(MATCH(U10,Feiertage!$A$8:$A$19,0))*IF(OR(U10<$M$3,U10>$BU$36),0,INDEX($M$4:$N$10,WEEKDAY(U10,2),(U10>=$M$3)*(U10<$N$3)+2*(U10>=$N$3)*(U10<=$BU$36)))} -> 8 | BF10: {=ISERROR(MATCH(W10,Feiertage!$A$8:$A$19,0))*IF(OR(W10<$M$3,W10>$BU$36),0,INDEX($M$4:$N$10,WEEKDAY(W10,2),(W10>=$M$3)*(W10<$N$3)+2*(W10>=$N$3)*(W10<=$BU$36)))} -> 0 | BH10: {=ISERROR(MATCH(Y10,Feiertage!$A$8:$A$19,0))*IF(OR(Y10<$M$3,Y10>$BU$36),0,INDEX($M$4:$N$10,WEEKDAY(Y10,2),(Y10>=$M$3)*(Y10<$N$3)+2*(Y10>=$N$3)*(Y10<=$BU$36)))} -> 8 | BJ10: {=ISERROR(MATCH(AA10,Feiertage!$A$8:$A$19,0))*IF(OR(AA10<$M$3,AA10>$BU$36),0,INDEX($M$4:$N$10,WEEKDAY(AA10,2),(AA10>=$M$3)*(AA10<$N$3)+2*(AA10>=$N$3)*(AA10<=$BU$36)))} -> 8 | BL10: {=ISERROR(MATCH(AC10,Feiertage!$A$8:$A$19,0))*IF(OR(AC10<$M$3,AC10>$BU$36),0,INDEX($M$4:$N$10,WEEKDAY(AC10,2),(AC10>=$M$3)*(AC10<$N$3)+2*(AC10>=$N$3)*(AC10<=$BU$36)))} -> 0 | BN10: {=ISERROR(MATCH(AE10,Feiertage!$A$8:$A$19,0))*IF(OR(AE10<$M$3,AE10>$BU$36),0,INDEX($M$4:$N$10,WEEKDAY(AE10,2),(AE10>=$M$3)*(AE10<$N$3)+2*(AE10>=$N$3)*(AE10<=$BU$36)))} -> 8 | BP10: {=ISERROR(MATCH(AG10,Feiertage!$A$8:$A$19,0))*IF(OR(AG10<$M$3,AG10>$BU$36),0,INDEX($M$4:$N$10,WEEKDAY(AG10,2),(AG10>=$M$3)*(AG10<$N$3)+2*(AG10>=$N$3)*(AG10<=$BU$36)))} -> 0 | BR10: {=ISERROR(MATCH(AI10,Feiertage!$A$8:$A$19,0))*IF(OR(AI10<$M$3,AI10>$BU$36),0,INDEX($M$4:$N$10,WEEKDAY(AI10,2),(AI10>=$M$3)*(AI10<$N$3)+2*(AI10>=$N$3)*(AI10<=$BU$36)))} -> 0 | BT10: {=ISERROR(MATCH(AK10,Feiertage!$A$8:$A$19,0))*IF(OR(AK10<$M$3,AK10>$BU$36),0,INDEX($M$4:$N$10,WEEKDAY(AK10,2),(AK10>=$M$3)*(AK10<$N$3)+2*(AK10>=$N$3)*(AK10<=$BU$36)))} -> 8 | BV10: {=ISERROR(MATCH(AM10,Feiertage!$A$8:$A$19,0))*IF(OR(AM10<$M$3,AM10>$BU$36),0,INDEX($M$4:$N$10,WEEKDAY(AM10,2),(AM10>=$M$3)*(AM10<$N$3)+2*(AM10>=$N$3)*(AM10<=$BU$36)))} -> 0 | CA10: {=ISERROR(MATCH(Q10,$AO$3:$AQ$3,0))*IF(OR(Q10<$M$3,Q10>$BU$36),0,INDEX($M$4:$N$10,WEEKDAY(Q10,2),(Q10>=$M$3)*(Q10<$N$3)+2*(Q10>=$N$3)*(Q10<=$BU$36)))} -> 0 | CC10: {=ISERROR(MATCH(S10,$AO$3:$AQ$3,0))*IF(OR(S10<$M$3,S10>$BU$36),0,INDEX($M$4:$N$10,WEEKDAY(S10,2),(S10>=$M$3)*(S10<$N$3)+2*(S10>=$N$3)*(S10<=$BU$36)))} -> 8 | CE10: {=ISERROR(MATCH(U10,$AO$3:$AQ$3,0))*IF(OR(U10<$M$3,U10>$BU$36),0,INDEX($M$4:$N$10,WEEKDAY(U10,2),(U10>=$M$3)*(U10<$N$3)+2*(U10>=$N$3)*(U10<=$BU$36)))} -> 8 | CG10: {=ISERROR(MATCH(W10,$AO$3:$AQ$3,0))*IF(OR(W10<$M$3,W10>$BU$36),0,INDEX($M$4:$N$10,WEEKDAY(W10,2),(W10>=$M$3)*(W10<$N$3)+2*(W10>=$N$3)*(W10<=$BU$36)))} -> 0 | CI10: {=ISERROR(MATCH(Y10,$AO$3:$AQ$3,0))*IF(OR(Y10<$M$3,Y10>$BU$36),0,INDEX($M$4:$N$10,WEEKDAY(Y10,2),(Y10>=$M$3)*(Y10<$N$3)+2*(Y10>=$N$3)*(Y10<=$BU$36)))} -> 8 | CK10: {=ISERROR(MATCH(AA10,$AO$3:$AQ$3,0))*IF(OR(AA10<$M$3,AA10>$BU$36),0,INDEX($M$4:$N$10,WEEKDAY(AA10,2),(AA10>=$M$3)*(AA10<$N$3)+2*(AA10>=$N$3)*(AA10<=$BU$36)))} -> 8 | CM10: {=ISERROR(MATCH(AC10,$AO$3:$AQ$3,0))*IF(OR(AC10<$M$3,AC10>$BU$36),0,INDEX($M$4:$N$10,WEEKDAY(AC10,2),(AC10>=$M$3)*(AC10<$N$3)+2*(AC10>=$N$3)*(AC10<=$BU$36)))} -> 0 | CO10: {=ISERROR(MATCH(AE10,$AO$3:$AQ$3,0))*IF(OR(AE10<$M$3,AE10>$BU$36),0,INDEX($M$4:$N$10,WEEKDAY(AE10,2),(AE10>=$M$3)*(AE10<$N$3)+2*(AE10>=$N$3)*(AE10<=$BU$36)))} -> 8 | CQ10: {=ISERROR(MATCH(AG10,$AO$3:$AQ$3,0))*IF(OR(AG10<$M$3,AG10>$BU$36),0,INDEX($M$4:$N$10,WEEKDAY(AG10,2),(AG10>=$M$3)*(AG10<$N$3)+2*(AG10>=$N$3)*(AG10<=$BU$36)))} -> 0 | CS10: {=ISERROR(MATCH(AI10,$AO$3:$AQ$3,0))*IF(OR(AI10<$M$3,AI10>$BU$36),0,INDEX($M$4:$N$10,WEEKDAY(AI10,2),(AI10>=$M$3)*(AI10<$N$3)+2*(AI10>=$N$3)*(AI10<=$BU$36)))} -> 0 | CU10: {=ISERROR(MATCH(AK10,$AO$3:$AQ$3,0))*IF(OR(AK10<$M$3,AK10>$BU$36),0,INDEX($M$4:$N$10,WEEKDAY(AK10,2),(AK10>=$M$3)*(AK10<$N$3)+2*(AK10>=$N$3)*(AK10<=$BU$36)))} -> 8 | CW10: {=ISERROR(MATCH(AM10,$AO$3:$AQ$3,0))*IF(OR(AM10<$M$3,AM10>$BU$36),0,INDEX($M$4:$N$10,WEEKDAY(AM10,2),(AM10>=$M$3)*(AM10<$N$3)+2*(AM10>=$N$3)*(AM10<=$BU$36)))} -> 0
A11: Austritt | P11: =IF(MONTH(Q10+1)=MONTH(Q$2),Q10+1,"") -> 44571 | Q11: =IF(MONTH(Q10+1)=MONTH(Q$2),Q10+1,"") -> 44571 | R11: =IF(MONTH(R10+1)=MONTH(R$2),R10+1,"") -> 44602 | S11: =IF(MONTH(S10+1)=MONTH(S$2),S10+1,"") -> 44602 | T11: =IF(MONTH(T10+1)=MONTH(T$2),T10+1,"") -> 44630 | U11: =IF(MONTH(U10+1)=MONTH(U$2),U10+1,"") -> 44630 | V11: =IF(MONTH(V10+1)=MONTH(V$2),V10+1,"") -> 44661 | W11: =IF(MONTH(W10+1)=MONTH(W$2),W10+1,"") -> 44661 | X11: =IF(MONTH(X10+1)=MONTH(X$2),X10+1,"") -> 44691 | ... AM11: =IF(MONTH(AM10+1)=MONTH(AM$2),AM10+1,"") -> 44905 | AZ11: {=ISERROR(MATCH(Q11,Feiertage!$A$8:$A$19,0))*IF(OR(Q11<$M$3,Q11>$BU$36),0,INDEX($M$4:$N$10,WEEKDAY(Q11,2),(Q11>=$M$3)*(Q11<$N$3)+2*(Q11>=$N$3)*(Q11<=$BU$36)))} -> 8 | BB11: {=ISERROR(MATCH(S11,Feiertage!$A$8:$A$19,0))*IF(OR(S11<$M$3,S11>$BU$36),0,INDEX($M$4:$N$10,WEEKDAY(S11,2),(S11>=$M$3)*(S11<$N$3)+2*(S11>=$N$3)*(S11<=$BU$36)))} -> 8 | BD11: {=ISERROR(MATCH(U11,Feiertage!$A$8:$A$19,0))*IF(OR(U11<$M$3,U11>$BU$36),0,INDEX($M$4:$N$10,WEEKDAY(U11,2),(U11>=$M$3)*(U11<$N$3)+2*(U11>=$N$3)*(U11<=$BU$36)))} -> 8 | BF11: {=ISERROR(MATCH(W11,Feiertage!$A$8:$A$19,0))*IF(OR(W11<$M$3,W11>$BU$36),0,INDEX($M$4:$N$10,WEEKDAY(W11,2),(W11>=$M$3)*(W11<$N$3)+2*(W11>=$N$3)*(W11<=$BU$36)))} -> 0 | BH11: {=ISERROR(MATCH(Y11,Feiertage!$A$8:$A$19,0))*IF(OR(Y11<$M$3,Y11>$BU$36),0,INDEX($M$4:$N$10,WEEKDAY(Y11,2),(Y11>=$M$3)*(Y11<$N$3)+2*(Y11>=$N$3)*(Y11<=$BU$36)))} -> 8 | BJ11: {=ISERROR(MATCH(AA11,Feiertage!$A$8:$A$19,0))*IF(OR(AA11<$M$3,AA11>$BU$36),0,INDEX($M$4:$N$10,WEEKDAY(AA11,2),(AA11>=$M$3)*(AA11<$N$3)+2*(AA11>=$N$3)*(AA11<=$BU$36)))} -> 0 | BL11: {=ISERROR(MATCH(AC11,Feiertage!$A$8:$A$19,0))*IF(OR(AC11<$M$3,AC11>$BU$36),0,INDEX($M$4:$N$10,WEEKDAY(AC11,2),(AC11>=$M$3)*(AC11<$N$3)+2*(AC11>=$N$3)*(AC11<=$BU$36)))} -> 0 | BN11: {=ISERROR(MATCH(AE11,Feiertage!$A$8:$A$19,0))*IF(OR(AE11<$M$3,AE11>$BU$36),0,INDEX($M$4:$N$10,WEEKDAY(AE11,2),(AE11>=$M$3)*(AE11<$N$3)+2*(AE11>=$N$3)*(AE11<=$BU$36)))} -> 8 | BP11: {=ISERROR(MATCH(AG11,Feiertage!$A$8:$A$19,0))*IF(OR(AG11<$M$3,AG11>$BU$36),0,INDEX($M$4:$N$10,WEEKDAY(AG11,2),(AG11>=$M$3)*(AG11<$N$3)+2*(AG11>=$N$3)*(AG11<=$BU$36)))} -> 0 | BR11: {=ISERROR(MATCH(AI11,Feiertage!$A$8:$A$19,0))*IF(OR(AI11<$M$3,AI11>$BU$36),0,INDEX($M$4:$N$10,WEEKDAY(AI11,2),(AI11>=$M$3)*(AI11<$N$3)+2*(AI11>=$N$3)*(AI11<=$BU$36)))} -> 8 | BT11: {=ISERROR(MATCH(AK11,Feiertage!$A$8:$A$19,0))*IF(OR(AK11<$M$3,AK11>$BU$36),0,INDEX($M$4:$N$10,WEEKDAY(AK11,2),(AK11>=$M$3)*(AK11<$N$3)+2*(AK11>=$N$3)*(AK11<=$BU$36)))} -> 8 | BV11: {=ISERROR(MATCH(AM11,Feiertage!$A$8:$A$19,0))*IF(OR(AM11<$M$3,AM11>$BU$36),0,INDEX($M$4:$N$10,WEEKDAY(AM11,2),(AM11>=$M$3)*(AM11<$N$3)+2*(AM11>=$N$3)*(AM11<=$BU$36)))} -> 0 | CA11: {=ISERROR(MATCH(Q11,$AO$3:$AQ$3,0))*IF(OR(Q11<$M$3,Q11>$BU$36),0,INDEX($M$4:$N$10,WEEKDAY(Q11,2),(Q11>=$M$3)*(Q11<$N$3)+2*(Q11>=$N$3)*(Q11<=$BU$36)))} -> 8 | CC11: {=ISERROR(MATCH(S11,$AO$3:$AQ$3,0))*IF(OR(S11<$M$3,S11>$BU$36),0,INDEX($M$4:$N$10,WEEKDAY(S11,2),(S11>=$M$3)*(S11<$N$3)+2*(S11>=$N$3)*(S11<=$BU$36)))} -> 8 | CE11: {=ISERROR(MATCH(U11,$AO$3:$AQ$3,0))*IF(OR(U11<$M$3,U11>$BU$36),0,INDEX($M$4:$N$10,WEEKDAY(U11,2),(U11>=$M$3)*(U11<$N$3)+2*(U11>=$N$3)*(U11<=$BU$36)))} -> 8 | CG11: {=ISERROR(MATCH(W11,$AO$3:$AQ$3,0))*IF(OR(W11<$M$3,W11>$BU$36),0,INDEX($M$4:$N$10,WEEKDAY(W11,2),(W11>=$M$3)*(W11<$N$3)+2*(W11>=$N$3)*(W11<=$BU$36)))} -> 0 | CI11: {=ISERROR(MATCH(Y11,$AO$3:$AQ$3,0))*IF(OR(Y11<$M$3,Y11>$BU$36),0,INDEX($M$4:$N$10,WEEKDAY(Y11,2),(Y11>=$M$3)*(Y11<$N$3)+2*(Y11>=$N$3)*(Y11<=$BU$36)))} -> 8 | CK11: {=ISERROR(MATCH(AA11,$AO$3:$AQ$3,0))*IF(OR(AA11<$M$3,AA11>$BU$36),0,INDEX($M$4:$N$10,WEEKDAY(AA11,2),(AA11>=$M$3)*(AA11<$N$3)+2*(AA11>=$N$3)*(AA11<=$BU$36)))} -> 0 | CM11: {=ISERROR(MATCH(AC11,$AO$3:$AQ$3,0))*IF(OR(AC11<$M$3,AC11>$BU$36),0,INDEX($M$4:$N$10,WEEKDAY(AC11,2),(AC11>=$M$3)*(AC11<$N$3)+2*(AC11>=$N$3)*(AC11<=$BU$36)))} -> 0 | CO11: {=ISERROR(MATCH(AE11,$AO$3:$AQ$3,0))*IF(OR(AE11<$M$3,AE11>$BU$36),0,INDEX($M$4:$N$10,WEEKDAY(AE11,2),(AE11>=$M$3)*(AE11<$N$3)+2*(AE11>=$N$3)*(AE11<=$BU$36)))} -> 8 | CQ11: {=ISERROR(MATCH(AG11,$AO$3:$AQ$3,0))*IF(OR(AG11<$M$3,AG11>$BU$36),0,INDEX($M$4:$N$10,WEEKDAY(AG11,2),(AG11>=$M$3)*(AG11<$N$3)+2*(AG11>=$N$3)*(AG11<=$BU$36)))} -> 0 | CS11: {=ISERROR(MATCH(AI11,$AO$3:$AQ$3,0))*IF(OR(AI11<$M$3,AI11>$BU$36),0,INDEX($M$4:$N$10,WEEKDAY(AI11,2),(AI11>=$M$3)*(AI11<$N$3)+2*(AI11>=$N$3)*(AI11<=$BU$36)))} -> 8 | CU11: {=ISERROR(MATCH(AK11,$AO$3:$AQ$3,0))*IF(OR(AK11<$M$3,AK11>$BU$36),0,INDEX($M$4:$N$10,WEEKDAY(AK11,2),(AK11>=$M$3)*(AK11<$N$3)+2*(AK11>=$N$3)*(AK11<=$BU$36)))} -> 8 | CW11: {=ISERROR(MATCH(AM11,$AO$3:$AQ$3,0))*IF(OR(AM11<$M$3,AM11>$BU$36),0,INDEX($M$4:$N$10,WEEKDAY(AM11,2),(AM11>=$M$3)*(AM11<$N$3)+2*(AM11>=$N$3)*(AM11<=$BU$36)))} -> 0
F12: Krankenkasse | I12: AOK - Niedersachsen | P12: =IF(MONTH(Q11+1)=MONTH(Q$2),Q11+1,"") -> 44572 | Q12: =IF(MONTH(Q11+1)=MONTH(Q$2),Q11+1,"") -> 44572 | R12: =IF(MONTH(R11+1)=MONTH(R$2),R11+1,"") -> 44603 | S12: =IF(MONTH(S11+1)=MONTH(S$2),S11+1,"") -> 44603 | T12: =IF(MONTH(T11+1)=MONTH(T$2),T11+1,"") -> 44631 | U12: =IF(MONTH(U11+1)=MONTH(U$2),U11+1,"") -> 44631 | V12: =IF(MONTH(V11+1)=MONTH(V$2),V11+1,"") -> 44662 | W12: =IF(MONTH(W11+1)=MONTH(W$2),W11+1,"") -> 44662 | X12: =IF(MONTH(X11+1)=MONTH(X$2),X11+1,"") -> 44692 | ... AM12: =IF(MONTH(AM11+1)=MONTH(AM$2),AM11+1,"") -> 44906 | AZ12: {=ISERROR(MATCH(Q12,Feiertage!$A$8:$A$19,0))*IF(OR(Q12<$M$3,Q12>$BU$36),0,INDEX($M$4:$N$10,WEEKDAY(Q12,2),(Q12>=$M$3)*(Q12<$N$3)+2*(Q12>=$N$3)*(Q12<=$BU$36)))} -> 8 | BB12: {=ISERROR(MATCH(S12,Feiertage!$A$8:$A$19,0))*IF(OR(S12<$M$3,S12>$BU$36),0,INDEX($M$4:$N$10,WEEKDAY(S12,2),(S12>=$M$3)*(S12<$N$3)+2*(S12>=$N$3)*(S12<=$BU$36)))} -> 0 | BD12: {=ISERROR(MATCH(U12,Feiertage!$A$8:$A$19,0))*IF(OR(U12<$M$3,U12>$BU$36),0,INDEX($M$4:$N$10,WEEKDAY(U12,2),(U12>=$M$3)*(U12<$N$3)+2*(U12>=$N$3)*(U12<=$BU$36)))} -> 0 | BF12: {=ISERROR(MATCH(W12,Feiertage!$A$8:$A$19,0))*IF(OR(W12<$M$3,W12>$BU$36),0,INDEX($M$4:$N$10,WEEKDAY(W12,2),(W12>=$M$3)*(W12<$N$3)+2*(W12>=$N$3)*(W12<=$BU$36)))} -> 8 | BH12: {=ISERROR(MATCH(Y12,Feiertage!$A$8:$A$19,0))*IF(OR(Y12<$M$3,Y12>$BU$36),0,INDEX($M$4:$N$10,WEEKDAY(Y12,2),(Y12>=$M$3)*(Y12<$N$3)+2*(Y12>=$N$3)*(Y12<=$BU$36)))} -> 8 | BJ12: {=ISERROR(MATCH(AA12,Feiertage!$A$8:$A$19,0))*IF(OR(AA12<$M$3,AA12>$BU$36),0,INDEX($M$4:$N$10,WEEKDAY(AA12,2),(AA12>=$M$3)*(AA12<$N$3)+2*(AA12>=$N$3)*(AA12<=$BU$36)))} -> 0 | BL12: {=ISERROR(MATCH(AC12,Feiertage!$A$8:$A$19,0))*IF(OR(AC12<$M$3,AC12>$BU$36),0,INDEX($M$4:$N$10,WEEKDAY(AC12,2),(AC12>=$M$3)*(AC12<$N$3)+2*(AC12>=$N$3)*(AC12<=$BU$36)))} -> 8 | BN12: {=ISERROR(MATCH(AE12,Feiertage!$A$8:$A$19,0))*IF(OR(AE12<$M$3,AE12>$BU$36),0,INDEX($M$4:$N$10,WEEKDAY(AE12,2),(AE12>=$M$3)*(AE12<$N$3)+2*(AE12>=$N$3)*(AE12<=$BU$36)))} -> 8 | BP12: {=ISERROR(MATCH(AG12,Feiertage!$A$8:$A$19,0))*IF(OR(AG12<$M$3,AG12>$BU$36),0,INDEX($M$4:$N$10,WEEKDAY(AG12,2),(AG12>=$M$3)*(AG12<$N$3)+2*(AG12>=$N$3)*(AG12<=$BU$36)))} -> 0 | BR12: {=ISERROR(MATCH(AI12,Feiertage!$A$8:$A$19,0))*IF(OR(AI12<$M$3,AI12>$BU$36),0,INDEX($M$4:$N$10,WEEKDAY(AI12,2),(AI12>=$M$3)*(AI12<$N$3)+2*(AI12>=$N$3)*(AI12<=$BU$36)))} -> 8 | BT12: {=ISERROR(MATCH(AK12,Feiertage!$A$8:$A$19,0))*IF(OR(AK12<$M$3,AK12>$BU$36),0,INDEX($M$4:$N$10,WEEKDAY(AK12,2),(AK12>=$M$3)*(AK12<$N$3)+2*(AK12>=$N$3)*(AK12<=$BU$36)))} -> 0 | BV12: {=ISERROR(MATCH(AM12,Feiertage!$A$8:$A$19,0))*IF(OR(AM12<$M$3,AM12>$BU$36),0,INDEX($M$4:$N$10,WEEKDAY(AM12,2),(AM12>=$M$3)*(AM12<$N$3)+2*(AM12>=$N$3)*(AM12<=$BU$36)))} -> 0 | CA12: {=ISERROR(MATCH(Q12,$AO$3:$AQ$3,0))*IF(OR(Q12<$M$3,Q12>$BU$36),0,INDEX($M$4:$N$10,WEEKDAY(Q12,2),(Q12>=$M$3)*(Q12<$N$3)+2*(Q12>=$N$3)*(Q12<=$BU$36)))} -> 8 | CC12: {=ISERROR(MATCH(S12,$AO$3:$AQ$3,0))*IF(OR(S12<$M$3,S12>$BU$36),0,INDEX($M$4:$N$10,WEEKDAY(S12,2),(S12>=$M$3)*(S12<$N$3)+2*(S12>=$N$3)*(S12<=$BU$36)))} -> 0 | CE12: {=ISERROR(MATCH(U12,$AO$3:$AQ$3,0))*IF(OR(U12<$M$3,U12>$BU$36),0,INDEX($M$4:$N$10,WEEKDAY(U12,2),(U12>=$M$3)*(U12<$N$3)+2*(U12>=$N$3)*(U12<=$BU$36)))} -> 0 | CG12: {=ISERROR(MATCH(W12,$AO$3:$AQ$3,0))*IF(OR(W12<$M$3,W12>$BU$36),0,INDEX($M$4:$N$10,WEEKDAY(W12,2),(W12>=$M$3)*(W12<$N$3)+2*(W12>=$N$3)*(W12<=$BU$36)))} -> 8 | CI12: {=ISERROR(MATCH(Y12,$AO$3:$AQ$3,0))*IF(OR(Y12<$M$3,Y12>$BU$36),0,INDEX($M$4:$N$10,WEEKDAY(Y12,2),(Y12>=$M$3)*(Y12<$N$3)+2*(Y12>=$N$3)*(Y12<=$BU$36)))} -> 8 | CK12: {=ISERROR(MATCH(AA12,$AO$3:$AQ$3,0))*IF(OR(AA12<$M$3,AA12>$BU$36),0,INDEX($M$4:$N$10,WEEKDAY(AA12,2),(AA12>=$M$3)*(AA12<$N$3)+2*(AA12>=$N$3)*(AA12<=$BU$36)))} -> 0 | CM12: {=ISERROR(MATCH(AC12,$AO$3:$AQ$3,0))*IF(OR(AC12<$M$3,AC12>$BU$36),0,INDEX($M$4:$N$10,WEEKDAY(AC12,2),(AC12>=$M$3)*(AC12<$N$3)+2*(AC12>=$N$3)*(AC12<=$BU$36)))} -> 8 | CO12: {=ISERROR(MATCH(AE12,$AO$3:$AQ$3,0))*IF(OR(AE12<$M$3,AE12>$BU$36),0,INDEX($M$4:$N$10,WEEKDAY(AE12,2),(AE12>=$M$3)*(AE12<$N$3)+2*(AE12>=$N$3)*(AE12<=$BU$36)))} -> 8 | CQ12: {=ISERROR(MATCH(AG12,$AO$3:$AQ$3,0))*IF(OR(AG12<$M$3,AG12>$BU$36),0,INDEX($M$4:$N$10,WEEKDAY(AG12,2),(AG12>=$M$3)*(AG12<$N$3)+2*(AG12>=$N$3)*(AG12<=$BU$36)))} -> 0 | CS12: {=ISERROR(MATCH(AI12,$AO$3:$AQ$3,0))*IF(OR(AI12<$M$3,AI12>$BU$36),0,INDEX($M$4:$N$10,WEEKDAY(AI12,2),(AI12>=$M$3)*(AI12<$N$3)+2*(AI12>=$N$3)*(AI12<=$BU$36)))} -> 8 | CU12: {=ISERROR(MATCH(AK12,$AO$3:$AQ$3,0))*IF(OR(AK12<$M$3,AK12>$BU$36),0,INDEX($M$4:$N$10,WEEKDAY(AK12,2),(AK12>=$M$3)*(AK12<$N$3)+2*(AK12>=$N$3)*(AK12<=$BU$36)))} -> 0 | CW12: {=ISERROR(MATCH(AM12,$AO$3:$AQ$3,0))*IF(OR(AM12<$M$3,AM12>$BU$36),0,INDEX($M$4:$N$10,WEEKDAY(AM12,2),(AM12>=$M$3)*(AM12<$N$3)+2*(AM12>=$N$3)*(AM12<=$BU$36)))} -> 0
A13: Urlaub | D13: Urlaubs- tage | F13: Erstattungssatz | I13: 0.55 | K13: 0.65 | M13: 0.75 | P13: =IF(MONTH(Q12+1)=MONTH(Q$2),Q12+1,"") -> 44573 | Q13: =IF(MONTH(Q12+1)=MONTH(Q$2),Q12+1,"") -> 44573 | R13: =IF(MONTH(R12+1)=MONTH(R$2),R12+1,"") -> 44604 | S13: =IF(MONTH(S12+1)=MONTH(S$2),S12+1,"") -> 44604 | T13: =IF(MONTH(T12+1)=MONTH(T$2),T12+1,"") -> 44632 | U13: =IF(MONTH(U12+1)=MONTH(U$2),U12+1,"") -> 44632 | V13: =IF(MONTH(V12+1)=MONTH(V$2),V12+1,"") -> 44663 | W13: =IF(MONTH(W12+1)=MONTH(W$2),W12+1,"") -> 44663 | X13: =IF(MONTH(X12+1)=MONTH(X$2),X12+1,"") -> 44693 | ... AM13: =IF(MONTH(AM12+1)=MONTH(AM$2),AM12+1,"") -> 44907 | AZ13: {=ISERROR(MATCH(Q13,Feiertage!$A$8:$A$19,0))*IF(OR(Q13<$M$3,Q13>$BU$36),0,INDEX($M$4:$N$10,WEEKDAY(Q13,2),(Q13>=$M$3)*(Q13<$N$3)+2*(Q13>=$N$3)*(Q13<=$BU$36)))} -> 8 | BB13: {=ISERROR(MATCH(S13,Feiertage!$A$8:$A$19,0))*IF(OR(S13<$M$3,S13>$BU$36),0,INDEX($M$4:$N$10,WEEKDAY(S13,2),(S13>=$M$3)*(S13<$N$3)+2*(S13>=$N$3)*(S13<=$BU$36)))} -> 0 | BD13: {=ISERROR(MATCH(U13,Feiertage!$A$8:$A$19,0))*IF(OR(U13<$M$3,U13>$BU$36),0,INDEX($M$4:$N$10,WEEKDAY(U13,2),(U13>=$M$3)*(U13<$N$3)+2*(U13>=$N$3)*(U13<=$BU$36)))} -> 0 | BF13: {=ISERROR(MATCH(W13,Feiertage!$A$8:$A$19,0))*IF(OR(W13<$M$3,W13>$BU$36),0,INDEX($M$4:$N$10,WEEKDAY(W13,2),(W13>=$M$3)*(W13<$N$3)+2*(W13>=$N$3)*(W13<=$BU$36)))} -> 8 | BH13: {=ISERROR(MATCH(Y13,Feiertage!$A$8:$A$19,0))*IF(OR(Y13<$M$3,Y13>$BU$36),0,INDEX($M$4:$N$10,WEEKDAY(Y13,2),(Y13>=$M$3)*(Y13<$N$3)+2*(Y13>=$N$3)*(Y13<=$BU$36)))} -> 8 | BJ13: {=ISERROR(MATCH(AA13,Feiertage!$A$8:$A$19,0))*IF(OR(AA13<$M$3,AA13>$BU$36),0,INDEX($M$4:$N$10,WEEKDAY(AA13,2),(AA13>=$M$3)*(AA13<$N$3)+2*(AA13>=$N$3)*(AA13<=$BU$36)))} -> 0 | BL13: {=ISERROR(MATCH(AC13,Feiertage!$A$8:$A$19,0))*IF(OR(AC13<$M$3,AC13>$BU$36),0,INDEX($M$4:$N$10,WEEKDAY(AC13,2),(AC13>=$M$3)*(AC13<$N$3)+2*(AC13>=$N$3)*(AC13<=$BU$36)))} -> 8 | BN13: {=ISERROR(MATCH(AE13,Feiertage!$A$8:$A$19,0))*IF(OR(AE13<$M$3,AE13>$BU$36),0,INDEX($M$4:$N$10,WEEKDAY(AE13,2),(AE13>=$M$3)*(AE13<$N$3)+2*(AE13>=$N$3)*(AE13<=$BU$36)))} -> 0 | BP13: {=ISERROR(MATCH(AG13,Feiertage!$A$8:$A$19,0))*IF(OR(AG13<$M$3,AG13>$BU$36),0,INDEX($M$4:$N$10,WEEKDAY(AG13,2),(AG13>=$M$3)*(AG13<$N$3)+2*(AG13>=$N$3)*(AG13<=$BU$36)))} -> 8 | BR13: {=ISERROR(MATCH(AI13,Feiertage!$A$8:$A$19,0))*IF(OR(AI13<$M$3,AI13>$BU$36),0,INDEX($M$4:$N$10,WEEKDAY(AI13,2),(AI13>=$M$3)*(AI13<$N$3)+2*(AI13>=$N$3)*(AI13<=$BU$36)))} -> 8 | BT13: {=ISERROR(MATCH(AK13,Feiertage!$A$8:$A$19,0))*IF(OR(AK13<$M$3,AK13>$BU$36),0,INDEX($M$4:$N$10,WEEKDAY(AK13,2),(AK13>=$M$3)*(AK13<$N$3)+2*(AK13>=$N$3)*(AK13<=$BU$36)))} -> 0 | BV13: {=ISERROR(MATCH(AM13,Feiertage!$A$8:$A$19,0))*IF(OR(AM13<$M$3,AM13>$BU$36),0,INDEX($M$4:$N$10,WEEKDAY(AM13,2),(AM13>=$M$3)*(AM13<$N$3)+2*(AM13>=$N$3)*(AM13<=$BU$36)))} -> 8 | CA13: {=ISERROR(MATCH(Q13,$AO$3:$AQ$3,0))*IF(OR(Q13<$M$3,Q13>$BU$36),0,INDEX($M$4:$N$10,WEEKDAY(Q13,2),(Q13>=$M$3)*(Q13<$N$3)+2*(Q13>=$N$3)*(Q13<=$BU$36)))} -> 8 | CC13: {=ISERROR(MATCH(S13,$AO$3:$AQ$3,0))*IF(OR(S13<$M$3,S13>$BU$36),0,INDEX($M$4:$N$10,WEEKDAY(S13,2),(S13>=$M$3)*(S13<$N$3)+2*(S13>=$N$3)*(S13<=$BU$36)))} -> 0 | CE13: {=ISERROR(MATCH(U13,$AO$3:$AQ$3,0))*IF(OR(U13<$M$3,U13>$BU$36),0,INDEX($M$4:$N$10,WEEKDAY(U13,2),(U13>=$M$3)*(U13<$N$3)+2*(U13>=$N$3)*(U13<=$BU$36)))} -> 0 | CG13: {=ISERROR(MATCH(W13,$AO$3:$AQ$3,0))*IF(OR(W13<$M$3,W13>$BU$36),0,INDEX($M$4:$N$10,WEEKDAY(W13,2),(W13>=$M$3)*(W13<$N$3)+2*(W13>=$N$3)*(W13<=$BU$36)))} -> 8 | CI13: {=ISERROR(MATCH(Y13,$AO$3:$AQ$3,0))*IF(OR(Y13<$M$3,Y13>$BU$36),0,INDEX($M$4:$N$10,WEEKDAY(Y13,2),(Y13>=$M$3)*(Y13<$N$3)+2*(Y13>=$N$3)*(Y13<=$BU$36)))} -> 8 | CK13: {=ISERROR(MATCH(AA13,$AO$3:$AQ$3,0))*IF(OR(AA13<$M$3,AA13>$BU$36),0,INDEX($M$4:$N$10,WEEKDAY(AA13,2),(AA13>=$M$3)*(AA13<$N$3)+2*(AA13>=$N$3)*(AA13<=$BU$36)))} -> 0 | CM13: {=ISERROR(MATCH(AC13,$AO$3:$AQ$3,0))*IF(OR(AC13<$M$3,AC13>$BU$36),0,INDEX($M$4:$N$10,WEEKDAY(AC13,2),(AC13>=$M$3)*(AC13<$N$3)+2*(AC13>=$N$3)*(AC13<=$BU$36)))} -> 8 | CO13: {=ISERROR(MATCH(AE13,$AO$3:$AQ$3,0))*IF(OR(AE13<$M$3,AE13>$BU$36),0,INDEX($M$4:$N$10,WEEKDAY(AE13,2),(AE13>=$M$3)*(AE13<$N$3)+2*(AE13>=$N$3)*(AE13<=$BU$36)))} -> 0 | CQ13: {=ISERROR(MATCH(AG13,$AO$3:$AQ$3,0))*IF(OR(AG13<$M$3,AG13>$BU$36),0,INDEX($M$4:$N$10,WEEKDAY(AG13,2),(AG13>=$M$3)*(AG13<$N$3)+2*(AG13>=$N$3)*(AG13<=$BU$36)))} -> 8 | CS13: {=ISERROR(MATCH(AI13,$AO$3:$AQ$3,0))*IF(OR(AI13<$M$3,AI13>$BU$36),0,INDEX($M$4:$N$10,WEEKDAY(AI13,2),(AI13>=$M$3)*(AI13<$N$3)+2*(AI13>=$N$3)*(AI13<=$BU$36)))} -> 8 | CU13: {=ISERROR(MATCH(AK13,$AO$3:$AQ$3,0))*IF(OR(AK13<$M$3,AK13>$BU$36),0,INDEX($M$4:$N$10,WEEKDAY(AK13,2),(AK13>=$M$3)*(AK13<$N$3)+2*(AK13>=$N$3)*(AK13<=$BU$36)))} -> 0 | CW13: {=ISERROR(MATCH(AM13,$AO$3:$AQ$3,0))*IF(OR(AM13<$M$3,AM13>$BU$36),0,INDEX($M$4:$N$10,WEEKDAY(AM13,2),(AM13>=$M$3)*(AM13<$N$3)+2*(AM13>=$N$3)*(AM13<=$BU$36)))} -> 8
