Workbook

Sheet Feiertage
A1: Feiertage, Umlage und | H1: Erstattungssätze Kalendertägliche Berechnungsmethode | N1: Erstattungssätze Dreißigstel Berechnungsmethode | T1: Erstattungssätze arbeitstägliche Berechnungsmethode
E2: Krankenkasse | H2: AOK - Niedersachsen | N2: AOK - Niedersachsen | T2: AOK - Niedersachsen
A3: Erstattungssätze | C3: 2022 | E3: Erstattungssatz | H3: 0.55 | J3: 0.65 | L3: 0.75 | N3: 0.55 | P3: 0.65 | R3: 0.75 | T3: 0.55 | V3: 0.65 | X3: 0.75
E4: Beitragssatz | H4: 0.02 | J4: 0.026 | L4: 0.035 | N4: 0.02 | P4: 0.026 | R4: 0.035 | T4: 0.02 | V4: 0.026 | X4: 0.035
E5: Jahresbeitrag
A6: Feiertage: Niedersachsen | E6: Erstattung
E7: fortgezahltes Brutto
A8: 44562 | B8: Neujahrstag | E8: U1 + EFZ - Erstattung
A9: 44666 | B9: Karfreitag
A10: 44669 | B10: Ostermontag | H10: Erstattungssätze Kalendertägliche Berechnungsmethode | N10: Erstattungssätze Dreißigstel Berechnungsmethode | T10: Erstattungssätze arbeitstägliche Berechnungsmethode
A11: 44682 | B11: Tag der Arbeit | E11: Krankenkasse | H11: TKK bis 30.09.2022 | N11: TKK bis 30.09.2022 | T11: TKK bis 30.09.2022
A12: 44707 | B12: Christi Himmelfahrt | E12: Erstattungssatz | H12: 0.5 | J12: 0.7 | L12: 0.8 | N12: 0.5 | P12: 0.7 | R12: 0.8 | T12: 0.5 | V12: 0.7 | X12: 0.8
A13: 44718 | B13: Pfingstmontag | E13: Beitragssatz | H13: 0.009 | J13: 0.016 | L13: 0.026 | N13: 0.009 | P13: 0.016 | R13: 0.026 | T13: 0.009 | V13: 0.016 | X13: 0.026
A14: 44837 | B14: Tag der Deutschen Einheit | E14: Jahresbeitrag
A15: 44865 | B15: Reformationstag | E15: Erstattung
A16: 44919 | B16: Heiligabend | E16: fortgezahltes Brutto
A17: 44920 | B17: 1. Weihnachtsfeiertag | E17: Beitr.abzgl.Erstattung
A18: 44921 | B18: 2. Weihnachtsfeiertag
H19: Erstattungssätze Kalendertägliche Berechnungsmethode | N19: Erstattungssätze Dreißigstel Berechnungsmethode | T19: Erstattungssätze arbeitstägliche Berechnungsmethode
E20: Krankenkasse | H20: TKK ab 01.10.2021 | N20: TKK ab 01.10.2021 | T20: TKK ab 01.10.2021
E21: Erstattungssatz | H21: 0.5 | J21: 0.7 | L21: 0.8 | N21: 0.5 | P21: 0.7 | R21: 0.8 | T21: 0.5 | V21: 0.7 | X21: 0.8
E22: Beitragssatz | H22: 0.017 | J22: 0.026 | L22: 0.041 | N22: 0.017 | P22: 0.026 | R22: 0.041 | T22: 0.017 | V22: 0.026 | X22: 0.041
E23: Jahresbeitrag
E24: Erstattung
E25: fortgezahltes Brutto
E26: Beitr.abzgl.Erstattung
H28: Erstattungssätze Kalendertägliche Berechnungsmethode | N28: Erstattungssätze Dreißigstel Berechnungsmethode | T28: Erstattungssätze arbeitstägliche Berechnungsmethode
E29: Krankenkasse | H29: Knappschaft Bahn See | N29: Knappschaft Bahn See | T29: Knappschaft Bahn See
E30: Erstattungssatz | H30: 0.8 | N30: 0.8 | T30: 0.8
E31: Beitragssatz | H31: 0.009 | N31: 0.009 | T31: 0.009
E32: Jahresbeitrag
E33: Erstattung
E34: fortgezahltes Brutto
E35: U1 + EFZ - Erstattung

Sheet Lohnempfänger
A1: 2022 | P1: Januar | R1: Februar | T1: März | V1: April | X1: Mai | Z1: Juni | AB1: Juli | AD1: August | AF1: September | AH1: Oktober | AJ1: November | AL1: Dezember | AO1: Kind krank m. Krankengeld (Pflege krankes Kind) | AT1: Überstundenabbau | AY1: Kalendar Gehaltsempfänger - Berechnung ohne Feiertage | AZ1: Jan. | BB1: Feb. | BD1: März | BF1: April | BH1: Mai | BJ1: Juni | BL1: Juli | BN1: Aug. | BP1: Sept. | BR1: Okt. | BT1: Nov. | BV1: Dez. | BZ1: Kalendar Stundenlohnempfänger - Berechnung mit Feiertagen | CA1: Jan. | CC1: Feb. | CE1: März | CG1: April | CI1: Mai | CK1: Juni | CM1: Juli | CO1: Aug. | CQ1: Sept. | CS1: Okt. | CU1: Nov. | CW1: Dez.
P2: =DATE($A$1,1,1) -> 44562 | Q2: =DATE($A$1,1,1) -> 44562 | R2: =EDATE(P2,1) -> 44593 | S2: =EDATE(Q2,1) -> 44593 | T2: =EDATE(R2,1) -> 44621 | U2: =EDATE(S2,1) -> 44621 | V2: =EDATE(T2,1) -> 44652 | W2: =EDATE(U2,1) -> 44652 | X2: =EDATE(V2,1) -> 44682 | Y2: =EDATE(W2,1) -> 44682 | ... AM2: =EDATE(AK2,1) -> 44896 | AO2: von | AQ2: bis | AT2: von | AV2: bis | AZ2: {=ISERROR(MATCH(Q2,Feiertage!$A$8:$A$19,0))*IF(OR(Q2<$M$3,Q2>$BU$36),0,INDEX($M$4:$N$10,WEEKDAY(Q2,2),(Q2>=$M$3)*(Q2<$N$3)+2*(Q2>=$N$3)*(Q2<=$BU$36)))} -> 0 | BB2: {=ISERROR(MATCH(S2,Feiertage!$A$8:$A$19,0))*IF(OR(S2<$M$3,S2>$BU$36),0,INDEX($M$4:$N$10,WEEKDAY(S2,2),(S2>=$M$3)*(S2<$N$3)+2*(S2>=$N$3)*(S2<=$BU$36)))} -> 8 | BD2: {=ISERROR(MATCH(U2,Feiertage!$A$8:$A$19,0))*IF(OR(U2<$M$3,U2>$BU$36),0,INDEX($M$4:$N$10,WEEKDAY(U2,2),(U2>=$M$3)*(U2<$N$3)+2*(U2>=$N$3)*(U2<=$BU$36)))} -> 8 | BF2: {=ISERROR(MATCH(W2,Feiertage!$A$8:$A$19,0))*IF(OR(W2<$M$3,W2>$BU$36),0,INDEX($M$4:$N$10,WEEKDAY(W2,2),(W2>=$M$3)*(W2<$N$3)+2*(W2>=$N$3)*(W2<=$BU$36)))} -> 0 | BH2: {=ISERROR(MATCH(Y2,Feiertage!$A$8:$A$19,0))*IF(OR(Y2<$M$3,Y2>$BU$36),0,INDEX($M$4:$N$10,WEEKDAY(Y2,2),(Y2>=$M$3)*(Y2<$N$3)+2*(Y2>=$N$3)*(Y2<=$BU$36)))} -> 0 | BJ2: {=ISERROR(MATCH(AA2,Feiertage!$A$8:$A$19,0))*IF(OR(AA2<$M$3,AA2>$BU$36),0,INDEX($M$4:$N$10,WEEKDAY(AA2,2),(AA2>=$M$3)*(AA2<$N$3)+2*(AA2>=$N$3)*(AA2<=$BU$36)))} -> 8 | BL2: {=ISERROR(MATCH(AC2,Feiertage!$A$8:$A$19,0))*IF(OR(AC2<$M$3,AC2>$BU$36),0,INDEX($M$4:$N$10,WEEKDAY(AC2,2),(AC2>=$M$3)*(AC2<$N$3)+2*(AC2>=$N$3)*(AC2<=$BU$36)))} -> 0 | BN2: {=ISERROR(MATCH(AE2,Feiertage!$A$8:$A$19,0))*IF(OR(AE2<$M$3,AE2>$BU$36),0,INDEX($M$4:$N$10,WEEKDAY(AE2,2),(AE2>=$M$3)*(AE2<$N$3)+2*(AE2>=$N$3)*(AE2<=$BU$36)))} -> 8 | BP2: {=ISERROR(MATCH(AG2,Feiertage!$A$8:$A$19,0))*IF(OR(AG2<$M$3,AG2>$BU$36),0,INDEX($M$4:$N$10,WEEKDAY(AG2,2),(AG2>=$M$3)*(AG2<$N$3)+2*(AG2>=$N$3)*(AG2<=$BU$36)))} -> 8 | BR2: {=ISERROR(MATCH(AI2,Feiertage!$A$8:$A$19,0))*IF(OR(AI2<$M$3,AI2>$BU$36),0,INDEX($M$4:$N$10,WEEKDAY(AI2,2),(AI2>=$M$3)*(AI2<$N$3)+2*(AI2>=$N$3)*(AI2<=$BU$36)))} -> 0 | BT2: {=ISERROR(MATCH(AK2,Feiertage!$A$8:$A$19,0))*IF(OR(AK2<$M$3,AK2>$BU$36),0,INDEX($M$4:$N$10,WEEKDAY(AK2,2),(AK2>=$M$3)*(AK2<$N$3)+2*(AK2>=$N$3)*(AK2<=$BU$36)))} -> 8 | BV2: {=ISERROR(MATCH(AM2,Feiertage!$A$8:$A$19,0))*IF(OR(AM2<$M$3,AM2>$BU$36),0,INDEX($M$4:$N$10,WEEKDAY(AM2,2),(AM2>=$M$3)*(AM2<$N$3)+2*(AM2>=$N$3)*(AM2<=$BU$36)))} -> 8 | CA2: {=ISERROR(MATCH(Q2,$AO$3:$AQ$3,0))*IF(OR(Q2<$M$3,Q2>$BU$36),0,INDEX($M$4:$N$10,WEEKDAY(Q2,2),(Q2>=$M$3)*(Q2<$N$3)+2*(Q2>=$N$3)*(Q2<=$BU$36)))} -> 0 | CC2: {=ISERROR(MATCH(S2,$AO$3:$AQ$3,0))*IF(OR(S2<$M$3,S2>$BU$36),0,INDEX($M$4:$N$10,WEEKDAY(S2,2),(S2>=$M$3)*(S2<$N$3)+2*(S2>=$N$3)*(S2<=$BU$36)))} -> 8 | CE2: {=ISERROR(MATCH(U2,$AO$3:$AQ$3,0))*IF(OR(U2<$M$3,U2>$BU$36),0,INDEX($M$4:$N$10,WEEKDAY(U2,2),(U2>=$M$3)*(U2<$N$3)+2*(U2>=$N$3)*(U2<=$BU$36)))} -> 8 | CG2: {=ISERROR(MATCH(W2,$AO$3:$AQ$3,0))*IF(OR(W2<$M$3,W2>$BU$36),0,INDEX($M$4:$N$10,WEEKDAY(W2,2),(W2>=$M$3)*(W2<$N$3)+2*(W2>=$N$3)*(W2<=$BU$36)))} -> 0 | CI2: {=ISERROR(MATCH(Y2,$AO$3:$AQ$3,0))*IF(OR(Y2<$M$3,Y2>$BU$36),0,INDEX($M$4:$N$10,WEEKDAY(Y2,2),(Y2>=$M$3)*(Y2<$N$3)+2*(Y2>=$N$3)*(Y2<=$BU$36)))} -> 0 | CK2: {=ISERROR(MATCH(AA2,$AO$3:$AQ$3,0))*IF(OR(AA2<$M$3,AA2>$BU$36),0,INDEX($M$4:$N$10,WEEKDAY(AA2,2),(AA2>=$M$3)*(AA2<$N$3)+2*(AA2>=$N$3)*(AA2<=$BU$36)))} -> 8 | CM2: {=ISERROR(MATCH(AC2,$AO$3:$AQ$3,0))*IF(OR(AC2<$M$3,AC2>$BU$36),0,INDEX($M$4:$N$10,WEEKDAY(AC2,2),(AC2>=$M$3)*(AC2<$N$3)+2*(AC2>=$N$3)*(AC2<=$BU$36)))} -> 0 | CO2: {=ISERROR(MATCH(AE2,$AO$3:$AQ$3,0))*IF(OR(AE2<$M$3,AE2>$BU$36),0,INDEX($M$4:$N$10,WEEKDAY(AE2,2),(AE2>=$M$3)*(AE2<$N$3)+2*(AE2>=$N$3)*(AE2<=$BU$36)))} -> 8 | CQ2: {=ISERROR(MATCH(AG2,$AO$3:$AQ$3,0))*IF(OR(AG2<$M$3,AG2>$BU$36),0,INDEX($M$4:$N$10,WEEKDAY(AG2,2),(AG2>=$M$3)*(AG2<$N$3)+2*(AG2>=$N$3)*(AG2<=$BU$36)))} -> 8 | CS2: {=ISERROR(MATCH(AI2,$AO$3:$AQ$3,0))*IF(OR(AI2<$M$3,AI2>$BU$36),0,INDEX($M$4:$N$10,WEEKDAY(AI2,2),(AI2>=$M$3)*(AI2<$N$3)+2*(AI2>=$N$3)*(AI2<=$BU$36)))} -> 0 | CU2: {=ISERROR(MATCH(AK2,$AO$3:$AQ$3,0))*IF(OR(AK2<$M$3,AK2>$BU$36),0,INDEX($M$4:$N$10,WEEKDAY(AK2,2),(AK2>=$M$3)*(AK2<$N$3)+2*(AK2>=$N$3)*(AK2<=$BU$36)))} -> 8 | CW2: {=ISERROR(MATCH(AM2,$AO$3:$AQ$3,0))*IF(OR(AM2<$M$3,AM2>$BU$36),0,INDEX($M$4:$N$10,WEEKDAY(AM2,2),(AM2>=$M$3)*(AM2<$N$3)+2*(AM2>=$N$3)*(AM2<=$BU$36)))} -> 8
A3: Name | B3: Lohnempfänger | G3: Pers.-Nr.: | K3: Arbeitszeit ab | M3: =IF(AND($B$4="",$B$6=""),"",IF($B$4="",$B$6,$B$4)) -> 44333 | N3: =IF(AND($B$5="",$B$7=""),"",IF($B$5="",$B$7,$B$5)) | P3: =IF(MONTH(Q2+1)=MONTH(Q$2),Q2+1,"") -> 44563 | Q3: =IF(MONTH(Q2+1)=MONTH(Q$2),Q2+1,"") -> 44563 | R3: =IF(MONTH(R2+1)=MONTH(R$2),R2+1,"") -> 44594 | S3: =IF(MONTH(S2+1)=MONTH(S$2),S2+1,"") -> 44594 | T3: =IF(MONTH(T2+1)=MONTH(T$2),T2+1,"") -> 44622 | U3: =IF(MONTH(U2+1)=MONTH(U$2),U2+1,"") -> 44622 | V3: =IF(MONTH(V2+1)=MONTH(V$2),V2+1,"") -> 44653 | W3: =IF(MONTH(W2+1)=MONTH(W$2),W2+1,"") -> 44653 | X3: =IF(MONTH(X2+1)=MONTH(X$2),X2+1,"") -> 44683 | ... AM3: =IF(MONTH(AM2+1)=MONTH(AM$2),AM2+1,"") -> 44897 | AO3: 44627 | AQ3: 44628 | AZ3: {=ISERROR(MATCH(Q3,Feiertage!$A$8:$A$19,0))*IF(OR(Q3<$M$3,Q3>$BU$36),0,INDEX($M$4:$N$10,WEEKDAY(Q3,2),(Q3>=$M$3)*(Q3<$N$3)+2*(Q3>=$N$3)*(Q3<=$BU$36)))} -> 0 | BB3: {=ISERROR(MATCH(S3,Feiertage!$A$8:$A$19,0))*IF(OR(S3<$M$3,S3>$BU$36),0,INDEX($M$4:$N$10,WEEKDAY(S3,2),(S3>=$M$3)*(S3<$N$3)+2*(S3>=$N$3)*(S3<=$BU$36)))} -> 8 | BD3: {=ISERROR(MATCH(U3,Feiertage!$A$8:$A$19,0))*IF(OR(U3<$M$3,U3>$BU$36),0,INDEX($M$4:$N$10,WEEKDAY(U3,2),(U3>=$M$3)*(U3<$N$3)+2*(U3>=$N$3)*(U3<=$BU$36)))} -> 8 | BF3: {=ISERROR(MATCH(W3,Feiertage!$A$8:$A$19,0))*IF(OR(W3<$M$3,W3>$BU$36),0,INDEX($M$4:$N$10,WEEKDAY(W3,2),(W3>=$M$3)*(W3<$N$3)+2*(W3>=$N$3)*(W3<=$BU$36)))} -> 0 | BH3: {=ISERROR(MATCH(Y3,Feiertage!$A$8:$A$19,0))*IF(OR(Y3<$M$3,Y3>$BU$36),0,INDEX($M$4:$N$10,WEEKDAY(Y3,2),(Y3>=$M$3)*(Y3<$N$3)+2*(Y3>=$N$3)*(Y3<=$BU$36)))} -> 8 | BJ3: {=ISERROR(MATCH(AA3,Feiertage!$A$8:$A$19,0))*IF(OR(AA3<$M$3,AA3>$BU$36),0,INDEX($M$4:$N$10,WEEKDAY(AA3,2),(AA3>=$M$3)*(AA3<$N$3)+2*(AA3>=$N$3)*(AA3<=$BU$36)))} -> 8 | BL3: {=ISERROR(MATCH(AC3,Feiertage!$A$8:$A$19,0))*IF(OR(AC3<$M$3,AC3>$BU$36),0,INDEX($M$4:$N$10,WEEKDAY(AC3,2),(AC3>=$M$3)*(AC3<$N$3)+2*(AC3>=$N$3)*(AC3<=$BU$36)))} -> 0 | BN3: {=ISERROR(MATCH(AE3,Feiertage!$A$8:$A$19,0))*IF(OR(AE3<$M$3,AE3>$BU$36),0,INDEX($M$4:$N$10,WEEKDAY(AE3,2),(AE3>=$M$3)*(AE3<$N$3)+2*(AE3>=$N$3)*(AE3<=$BU$36)))} -> 8 | BP3: {=ISERROR(MATCH(AG3,Feiertage!$A$8:$A$19,0))*IF(OR(AG3<$M$3,AG3>$BU$36),0,INDEX($M$4:$N$10,WEEKDAY(AG3,2),(AG3>=$M$3)*(AG3<$N$3)+2*(AG3>=$N$3)*(AG3<=$BU$36)))} -> 0 | BR3: {=ISERROR(MATCH(AI3,Feiertage!$A$8:$A$19,0))*IF(OR(AI3<$M$3,AI3>$BU$36),0,INDEX($M$4:$N$10,WEEKDAY(AI3,2),(AI3>=$M$3)*(AI3<$N$3)+2*(AI3>=$N$3)*(AI3<=$BU$36)))} -> 0 | BT3: {=ISERROR(MATCH(AK3,Feiertage!$A$8:$A$19,0))*IF(OR(AK3<$M$3,AK3>$BU$36),0,INDEX($M$4:$N$10,WEEKDAY(AK3,2),(AK3>=$M$3)*(AK3<$N$3)+2*(AK3>=$N$3)*(AK3<=$BU$36)))} -> 8 | BV3: {=ISERROR(MATCH(AM3,Feiertage!$A$8:$A$19,0))*IF(OR(AM3<$M$3,AM3>$BU$36),0,INDEX($M$4:$N$10,WEEKDAY(AM3,2),(AM3>=$M$3)*(AM3<$N$3)+2*(AM3>=$N$3)*(AM3<=$BU$36)))} -> 0 | CA3: {=ISERROR(MATCH(Q3,$AO$3:$AQ$3,0))*IF(OR(Q3<$M$3,Q3>$BU$36),0,INDEX($M$4:$N$10,WEEKDAY(Q3,2),(Q3>=$M$3)*(Q3<$N$3)+2*(Q3>=$N$3)*(Q3<=$BU$36)))} -> 0 | CC3: {=ISERROR(MATCH(S3,$AO$3:$AQ$3,0))*IF(OR(S3<$M$3,S3>$BU$36),0,INDEX($M$4:$N$10,WEEKDAY(S3,2),(S3>=$M$3)*(S3<$N$3)+2*(S3>=$N$3)*(S3<=$BU$36)))} -> 8 | CE3: {=ISERROR(MATCH(U3,$AO$3:$AQ$3,0))*IF(OR(U3<$M$3,U3>$BU$36),0,INDEX($M$4:$N$10,WEEKDAY(U3,2),(U3>=$M$3)*(U3<$N$3)+2*(U3>=$N$3)*(U3<=$BU$36)))} -> 8 | CG3: {=ISERROR(MATCH(W3,$AO$3:$AQ$3,0))*IF(OR(W3<$M$3,W3>$BU$36),0,INDEX($M$4:$N$10,WEEKDAY(W3,2),(W3>=$M$3)*(W3<$N$3)+2*(W3>=$N$3)*(W3<=$BU$36)))} -> 0 | CI3: {=ISERROR(MATCH(Y3,$AO$3:$AQ$3,0))*IF(OR(Y3<$M$3,Y3>$BU$36),0,INDEX($M$4:$N$10,WEEKDAY(Y3,2),(Y3>=$M$3)*(Y3<$N$3)+2*(Y3>=$N$3)*(Y3<=$BU$36)))} -> 8 | CK3: {=ISERROR(MATCH(AA3,$AO$3:$AQ$3,0))*IF(OR(AA3<$M$3,AA3>$BU$36),0,INDEX($M$4:$N$10,WEEKDAY(AA3,2),(AA3>=$M$3)*(AA3<$N$3)+2*(AA3>=$N$3)*(AA3<=$BU$36)))} -> 8 | CM3: {=ISERROR(MATCH(AC3,$AO$3:$AQ$3,0))*IF(OR(AC3<$M$3,AC3>$BU$36),0,INDEX($M$4:$N$10,WEEKDAY(AC3,2),(AC3>=$M$3)*(AC3<$N$3)+2*(AC3>=$N$3)*(AC3<=$BU$36)))} -> 0 | CO3: {=ISERROR(MATCH(AE3,$AO$3:$AQ$3,0))*IF(OR(AE3<$M$3,AE3>$BU$36),0,INDEX($M$4:$N$10,WEEKDAY(AE3,2),(AE3>=$M$3)*(AE3<$N$3)+2*(AE3>=$N$3)*(AE3<=$BU$36)))} -> 8 | CQ3: {=ISERROR(MATCH(AG3,$AO$3:$AQ$3,0))*IF(OR(AG3<$M$3,AG3>$BU$36),0,INDEX($M$4:$N$10,WEEKDAY(AG3,2),(AG3>=$M$3)*(AG3<$N$3)+2*(AG3>=$N$3)*(AG3<=$BU$36)))} -> 0 | CS3: {=ISERROR(MATCH(AI3,$AO$3:$AQ$3,0))*IF(OR(AI3<$M$3,AI3>$BU$36),0,INDEX($M$4:$N$10,WEEKDAY(AI3,2),(AI3>=$M$3)*(AI3<$N$3)+2*(AI3>=$N$3)*(AI3<=$BU$36)))} -> 0 | CU3: {=ISERROR(MATCH(AK3,$AO$3:$AQ$3,0))*IF(OR(AK3<$M$3,AK3>$BU$36),0,INDEX($M$4:$N$10,WEEKDAY(AK3,2),(AK3>=$M$3)*(AK3<$N$3)+2*(AK3>=$N$3)*(AK3<=$BU$36)))} -> 8 | CW3: {=ISERROR(MATCH(AM3,$AO$3:$AQ$3,0))*IF(OR(AM3<$M$3,AM3>$BU$36),0,INDEX($M$4:$N$10,WEEKDAY(AM3,2),(AM3>=$M$3)*(AM3<$N$3)+2*(AM3>=$N$3)*(AM3<=$BU$36)))} -> 0
A4: Gehalt ab | K4: Montag | M4: 8 | P4: =IF(MONTH(Q3+1)=MONTH(Q$2),Q3+1,"") -> 44564 | Q4: =IF(MONTH(Q3+1)=MONTH(Q$2),Q3+1,"") -> 44564 | R4: =IF(MONTH(R3+1)=MONTH(R$2),R3+1,"") -> 44595 | S4: =IF(MONTH(S3+1)=MONTH(S$2),S3+1,"") -> 44595 | T4: =IF(MONTH(T3+1)=MONTH(T$2),T3+1,"") -> 44623 | U4: =IF(MONTH(U3+1)=MONTH(U$2),U3+1,"") -> 44623 | V4: =IF(MONTH(V3+1)=MONTH(V$2),V3+1,"") -> 44654 | W4: =IF(MONTH(W3+1)=MONTH(W$2),W3+1,"") -> 44654 | X4: =IF(MONTH(X3+1)=MONTH(X$2),X3+1,"") -> 44684 | ... AM4: =IF(MONTH(AM3+1)=MONTH(AM$2),AM3+1,"") -> 44898 | AZ4: {=ISERROR(MATCH(Q4,Feiertage!$A$8:$A$19,0))*IF(OR(Q4<$M$3,Q4>$BU$36),0,INDEX($M$4:$N$10,WEEKDAY(Q4,2),(Q4>=$M$3)*(Q4<$N$3)+2*(Q4>=$N$3)*(Q4<=$BU$36)))} -> 8 | BB4: {=ISERROR(MATCH(S4,Feiertage!$A$8:$A$19,0))*IF(OR(S4<$M$3,S4>$BU$36),0,INDEX($M$4:$N$10,WEEKDAY(S4,2),(S4>=$M$3)*(S4<$N$3)+2*(S4>=$N$3)*(S4<=$BU$36)))} -> 8 | BD4: {=ISERROR(MATCH(U4,Feiertage!$A$8:$A$19,0))*IF(OR(U4<$M$3,U4>$BU$36),0,INDEX($M$4:$N$10,WEEKDAY(U4,2),(U4>=$M$3)*(U4<$N$3)+2*(U4>=$N$3)*(U4<=$BU$36)))} -> 8 | BF4: {=ISERROR(MATCH(W4,Feiertage!$A$8:$A$19,0))*IF(OR(W4<$M$3,W4>$BU$36),0,INDEX($M$4:$N$10,WEEKDAY(W4,2),(W4>=$M$3)*(W4<$N$3)+2*(W4>=$N$3)*(W4<=$BU$36)))} -> 0 | BH4: {=ISERROR(MATCH(Y4,Feiertage!$A$8:$A$19,0))*IF(OR(Y4<$M$3,Y4>$BU$36),0,INDEX($M$4:$N$10,WEEKDAY(Y4,2),(Y4>=$M$3)*(Y4<$N$3)+2*(Y4>=$N$3)*(Y4<=$BU$36)))} -> 8 | BJ4: {=ISERROR(MATCH(AA4,Feiertage!$A$8:$A$19,0))*IF(OR(AA4<$M$3,AA4>$BU$36),0,INDEX($M$4:$N$10,WEEKDAY(AA4,2),(AA4>=$M$3)*(AA4<$N$3)+2*(AA4>=$N$3)*(AA4<=$BU$36)))} -> 0 | BL4: {=ISERROR(MATCH(AC4,Feiertage!$A$8:$A$19,0))*IF(OR(AC4<$M$3,AC4>$BU$36),0,INDEX($M$4:$N$10,WEEKDAY(AC4,2),(AC4>=$M$3)*(AC4<$N$3)+2*(AC4>=$N$3)*(AC4<=$BU$36)))} -> 0 | BN4: {=ISERROR(MATCH(AE4,Feiertage!$A$8:$A$19,0))*IF(OR(AE4<$M$3,AE4>$BU$36),0,INDEX($M$4:$N$10,WEEKDAY(AE4,2),(AE4>=$M$3)*(AE4<$N$3)+2*(AE4>=$N$3)*(AE4<=$BU$36)))} -> 8 | BP4: {=ISERROR(MATCH(AG4,Feiertage!$A$8:$A$19,0))*IF(OR(AG4<$M$3,AG4>$BU$36),0,INDEX($M$4:$N$10,WEEKDAY(AG4,2),(AG4>=$M$3)*(AG4<$N$3)+2*(AG4>=$N$3)*(AG4<=$BU$36)))} -> 0 | BR4: {=ISERROR(MATCH(AI4,Feiertage!$A$8:$A$19,0))*IF(OR(AI4<$M$3,AI4>$BU$36),0,INDEX($M$4:$N$10,WEEKDAY(AI4,2),(AI4>=$M$3)*(AI4<$N$3)+2*(AI4>=$N$3)*(AI4<=$BU$36)))} -> 0 | BT4: {=ISERROR(MATCH(AK4,Feiertage!$A$8:$A$19,0))*IF(OR(AK4<$M$3,AK4>$BU$36),0,INDEX($M$4:$N$10,WEEKDAY(AK4,2),(AK4>=$M$3)*(AK4<$N$3)+2*(AK4>=$N$3)*(AK4<=$BU$36)))} -> 8 | BV4: {=ISERROR(MATCH(AM4,Feiertage!$A$8:$A$19,0))*IF(OR(AM4<$M$3,AM4>$BU$36),0,INDEX($M$4:$N$10,WEEKDAY(AM4,2),(AM4>=$M$3)*(AM4<$N$3)+2*(AM4>=$N$3)*(AM4<=$BU$36)))} -> 0 | CA4: {=ISERROR(MATCH(Q4,$AO$3:$AQ$3,0))*IF(OR(Q4<$M$3,Q4>$BU$36),0,INDEX($M$4:$N$10,WEEKDAY(Q4,2),(Q4>=$M$3)*(Q4<$N$3)+2*(Q4>=$N$3)*(Q4<=$BU$36)))} -> 8 | CC4: {=ISERROR(MATCH(S4,$AO$3:$AQ$3,0))*IF(OR(S4<$M$3,S4>$BU$36),0,INDEX($M$4:$N$10,WEEKDAY(S4,2),(S4>=$M$3)*(S4<$N$3)+2*(S4>=$N$3)*(S4<=$BU$36)))} -> 8 | CE4: {=ISERROR(MATCH(U4,$AO$3:$AQ$3,0))*IF(OR(U4<$M$3,U4>$BU$36),0,INDEX($M$4:$N$10,WEEKDAY(U4,2),(U4>=$M$3)*(U4<$N$3)+2*(U4>=$N$3)*(U4<=$BU$36)))} -> 8 | CG4: {=ISERROR(MATCH(W4,$AO$3:$AQ$3,0))*IF(OR(W4<$M$3,W4>$BU$36),0,INDEX($M$4:$N$10,WEEKDAY(W4,2),(W4>=$M$3)*(W4<$N$3)+2*(W4>=$N$3)*(W4<=$BU$36)))} -> 0 | CI4: {=ISERROR(MATCH(Y4,$AO$3:$AQ$3,0))*IF(OR(Y4<$M$3,Y4>$BU$36),0,INDEX($M$4:$N$10,WEEKDAY(Y4,2),(Y4>=$M$3)*(Y4<$N$3)+2*(Y4>=$N$3)*(Y4<=$BU$36)))} -> 8 | CK4: {=ISERROR(MATCH(AA4,$AO$3:$AQ$3,0))*IF(OR(AA4<$M$3,AA4>$BU$36),0,INDEX($M$4:$N$10,WEEKDAY(AA4,2),(AA4>=$M$3)*(AA4<$N$3)+2*(AA4>=$N$3)*(AA4<=$BU$36)))} -> 0 | CM4: {=ISERROR(MATCH(AC4,$AO$3:$AQ$3,0))*IF(OR(AC4<$M$3,AC4>$BU$36),0,INDEX($M$4:$N$10,WEEKDAY(AC4,2),(AC4>=$M$3)*(AC4<$N$3)+2*(AC4>=$N$3)*(AC4<=$BU$36)))} -> 0 | CO4: {=ISERROR(MATCH(AE4,$AO$3:$AQ$3,0))*IF(OR(AE4<$M$3,AE4>$BU$36),0,INDEX($M$4:$N$10,WEEKDAY(AE4,2),(AE4>=$M$3)*(AE4<$N$3)+2*(AE4>=$N$3)*(AE4<=$BU$36)))} -> 8 | CQ4: {=ISERROR(MATCH(AG4,$AO$3:$AQ$3,0))*IF(OR(AG4<$M$3,AG4>$BU$36),0,INDEX($M$4:$N$10,WEEKDAY(AG4,2),(AG4>=$M$3)*(AG4<$N$3)+2*(AG4>=$N$3)*(AG4<=$BU$36)))} -> 0 | CS4: {=ISERROR(MATCH(AI4,$AO$3:$AQ$3,0))*IF(OR(AI4<$M$3,AI4>$BU$36),0,INDEX($M$4:$N$10,WEEKDAY(AI4,2),(AI4>=$M$3)*(AI4<$N$3)+2*(AI4>=$N$3)*(AI4<=$BU$36)))} -> 8 | CU4: {=ISERROR(MATCH(AK4,$AO$3:$AQ$3,0))*IF(OR(AK4<$M$3,AK4>$BU$36),0,INDEX($M$4:$N$10,WEEKDAY(AK4,2),(AK4>=$M$3)*(AK4<$N$3)+2*(AK4>=$N$3)*(AK4<=$BU$36)))} -> 8 | CW4: {=ISERROR(MATCH(AM4,$AO$3:$AQ$3,0))*IF(OR(AM4<$M$3,AM4>$BU$36),0,INDEX($M$4:$N$10,WEEKDAY(AM4,2),(AM4>=$M$3)*(AM4<$N$3)+2*(AM4>=$N$3)*(AM4<=$BU$36)))} -> 0
A5: Gehalt ab | K5: Dienstag | M5: 8 | P5: =IF(MONTH(Q4+1)=MONTH(Q$2),Q4+1,"") -> 44565 | Q5: =IF(MONTH(Q4+1)=MONTH(Q$2),Q4+1,"") -> 44565 | R5: =IF(MONTH(R4+1)=MONTH(R$2),R4+1,"") -> 44596 | S5: =IF(MONTH(S4+1)=MONTH(S$2),S4+1,"") -> 44596 | T5: =IF(MONTH(T4+1)=MONTH(T$2),T4+1,"") -> 44624 | U5: =IF(MONTH(U4+1)=MONTH(U$2),U4+1,"") -> 44624 | V5: =IF(MONTH(V4+1)=MONTH(V$2),V4+1,"") -> 44655 | W5: =IF(MONTH(W4+1)=MONTH(W$2),W4+1,"") -> 44655 | X5: =IF(MONTH(X4+1)=MONTH(X$2),X4+1,"") -> 44685 | ... AM5: =IF(MONTH(AM4+1)=MONTH(AM$2),AM4+1,"") -> 44899 | AZ5: {=ISERROR(MATCH(Q5,Feiertage!$A$8:$A$19,0))*IF(OR(Q5<$M$3,Q5>$BU$36),0,INDEX($M$4:$N$10,WEEKDAY(Q5,2),(Q5>=$M$3)*(Q5<$N$3)+2*(Q5>=$N$3)*(Q5<=$BU$36)))} -> 8 | BB5: {=ISERROR(MATCH(S5,Feiertage!$A$8:$A$19,0))*IF(OR(S5<$M$3,S5>$BU$36),0,INDEX($M$4:$N$10,WEEKDAY(S5,2),(S5>=$M$3)*(S5<$N$3)+2*(S5>=$N$3)*(S5<=$BU$36)))} -> 0 | BD5: {=ISERROR(MATCH(U5,Feiertage!$A$8:$A$19,0))*IF(OR(U5<$M$3,U5>$BU$36),0,INDEX($M$4:$N$10,WEEKDAY(U5,2),(U5>=$M$3)*(U5<$N$3)+2*(U5>=$N$3)*(U5<=$BU$36)))} -> 0 | BF5: {=ISERROR(MATCH(W5,Feiertage!$A$8:$A$19,0))*IF(OR(W5<$M$3,W5>$BU$36),0,INDEX($M$4:$N$10,WEEKDAY(W5,2),(W5>=$M$3)*(W5<$N$3)+2*(W5>=$N$3)*(W5<=$BU$36)))} -> 8 | BH5: {=ISERROR(MATCH(Y5,Feiertage!$A$8:$A$19,0))*IF(OR(Y5<$M$3,Y5>$BU$36),0,INDEX($M$4:$N$10,WEEKDAY(Y5,2),(Y5>=$M$3)*(Y5<$N$3)+2*(Y5>=$N$3)*(Y5<=$BU$36)))} -> 8 | BJ5: {=ISERROR(MATCH(AA5,Feiertage!$A$8:$A$19,0))*IF(OR(AA5<$M$3,AA5>$BU$36),0,INDEX($M$4:$N$10,WEEKDAY(AA5,2),(AA5>=$M$3)*(AA5<$N$3)+2*(AA5>=$N$3)*(AA5<=$BU$36)))} -> 0 | BL5: {=ISERROR(MATCH(AC5,Feiertage!$A$8:$A$19,0))*IF(OR(AC5<$M$3,AC5>$BU$36),0,INDEX($M$4:$N$10,WEEKDAY(AC5,2),(AC5>=$M$3)*(AC5<$N$3)+2*(AC5>=$N$3)*(AC5<=$BU$36)))} -> 8 | BN5: {=ISERROR(MATCH(AE5,Feiertage!$A$8:$A$19,0))*IF(OR(AE5<$M$3,AE5>$BU$36),0,INDEX($M$4:$N$10,WEEKDAY(AE5,2),(AE5>=$M$3)*(AE5<$N$3)+2*(AE5>=$N$3)*(AE5<=$BU$36)))} -> 8 | BP5: {=ISERROR(MATCH(AG5,Feiertage!$A$8:$A$19,0))*IF(OR(AG5<$M$3,AG5>$BU$36),0,INDEX($M$4:$N$10,WEEKDAY(AG5,2),(AG5>=$M$3)*(AG5<$N$3)+2*(AG5>=$N$3)*(AG5<=$BU$36)))} -> 0 | BR5: {=ISERROR(MATCH(AI5,Feiertage!$A$8:$A$19,0))*IF(OR(AI5<$M$3,AI5>$BU$36),0,INDEX($M$4:$N$10,WEEKDAY(AI5,2),(AI5>=$M$3)*(AI5<$N$3)+2*(AI5>=$N$3)*(AI5<=$BU$36)))} -> 8 | BT5: {=ISERROR(MATCH(AK5,Feiertage!$A$8:$A$19,0))*IF(OR(AK5<$M$3,AK5>$BU$36),0,INDEX($M$4:$N$10,WEEKDAY(AK5,2),(AK5>=$M$3)*(AK5<$N$3)+2*(AK5>=$N$3)*(AK5<=$BU$36)))} -> 0 | BV5: {=ISERROR(MATCH(AM5,Feiertage!$A$8:$A$19,0))*IF(OR(AM5<$M$3,AM5>$BU$36),0,INDEX($M$4:$N$10,WEEKDAY(AM5,2),(AM5>=$M$3)*(AM5<$N$3)+2*(AM5>=$N$3)*(AM5<=$BU$36)))} -> 0 | CA5: {=ISERROR(MATCH(Q5,$AO$3:$AQ$3,0))*IF(OR(Q5<$M$3,Q5>$BU$36),0,INDEX($M$4:$N$10,WEEKDAY(Q5,2),(Q5>=$M$3)*(Q5<$N$3)+2*(Q5>=$N$3)*(Q5<=$BU$36)))} -> 8 | CC5: {=ISERROR(MATCH(S5,$AO$3:$AQ$3,0))*IF(OR(S5<$M$3,S5>$BU$36),0,INDEX($M$4:$N$10,WEEKDAY(S5,2),(S5>=$M$3)*(S5<$N$3)+2*(S5>=$N$3)*(S5<=$BU$36)))} -> 0 | CE5: {=ISERROR(MATCH(U5,$AO$3:$AQ$3,0))*IF(OR(U5<$M$3,U5>$BU$36),0,INDEX($M$4:$N$10,WEEKDAY(U5,2),(U5>=$M$3)*(U5<$N$3)+2*(U5>=$N$3)*(U5<=$BU$36)))} -> 0 | CG5: {=ISERROR(MATCH(W5,$AO$3:$AQ$3,0))*IF(OR(W5<$M$3,W5>$BU$36),0,INDEX($M$4:$N$10,WEEKDAY(W5,2),(W5>=$M$3)*(W5<$N$3)+2*(W5>=$N$3)*(W5<=$BU$36)))} -> 8 | CI5: {=ISERROR(MATCH(Y5,$AO$3:$AQ$3,0))*IF(OR(Y5<$M$3,Y5>$BU$36),0,INDEX($M$4:$N$10,WEEKDAY(Y5,2),(Y5>=$M$3)*(Y5<$N$3)+2*(Y5>=$N$3)*(Y5<=$BU$36)))} -> 8 | CK5: {=ISERROR(MATCH(AA5,$AO$3:$AQ$3,0))*IF(OR(AA5<$M$3,AA5>$BU$36),0,INDEX($M$4:$N$10,WEEKDAY(AA5,2),(AA5>=$M$3)*(AA5<$N$3)+2*(AA5>=$N$3)*(AA5<=$BU$36)))} -> 0 | CM5: {=ISERROR(MATCH(AC5,$AO$3:$AQ$3,0))*IF(OR(AC5<$M$3,AC5>$BU$36),0,INDEX($M$4:$N$10,WEEKDAY(AC5,2),(AC5>=$M$3)*(AC5<$N$3)+2*(AC5>=$N$3)*(AC5<=$BU$36)))} -> 8 | CO5: {=ISERROR(MATCH(AE5,$AO$3:$AQ$3,0))*IF(OR(AE5<$M$3,AE5>$BU$36),0,INDEX($M$4:$N$10,WEEKDAY(AE5,2),(AE5>=$M$3)*(AE5<$N$3)+2*(AE5>=$N$3)*(AE5<=$BU$36)))} -> 8 | CQ5: {=ISERROR(MATCH(AG5,$AO$3:$AQ$3,0))*IF(OR(AG5<$M$3,AG5>$BU$36),0,INDEX($M$4:$N$10,WEEKDAY(AG5,2),(AG5>=$M$3)*(AG5<$N$3)+2*(AG5>=$N$3)*(AG5<=$BU$36)))} -> 0 | CS5: {=ISERROR(MATCH(AI5,$AO$3:$AQ$3,0))*IF(OR(AI5<$M$3,AI5>$BU$36),0,INDEX($M$4:$N$10,WEEKDAY(AI5,2),(AI5>=$M$3)*(AI5<$N$3)+2*(AI5>=$N$3)*(AI5<=$BU$36)))} -> 8 | CU5: {=ISERROR(MATCH(AK5,$AO$3:$AQ$3,0))*IF(OR(AK5<$M$3,AK5>$BU$36),0,INDEX($M$4:$N$10,WEEKDAY(AK5,2),(AK5>=$M$3)*(AK5<$N$3)+2*(AK5>=$N$3)*(AK5<=$BU$36)))} -> 0 | CW5: {=ISERROR(MATCH(AM5,$AO$3:$AQ$3,0))*IF(OR(AM5<$M$3,AM5>$BU$36),0,INDEX($M$4:$N$10,WEEKDAY(AM5,2),(AM5>=$M$3)*(AM5<$N$3)+2*(AM5>=$N$3)*(AM5<=$BU$36)))} -> 0
A6: Lohn ab | B6: 44333 | D6: 21 | K6: Mittwoch | M6: 8 | P6: =IF(MONTH(Q5+1)=MONTH(Q$2),Q5+1,"") -> 44566 | Q6: =IF(MONTH(Q5+1)=MONTH(Q$2),Q5+1,"") -> 44566 | R6: =IF(MONTH(R5+1)=MONTH(R$2),R5+1,"") -> 44597 | S6: =IF(MONTH(S5+1)=MONTH(S$2),S5+1,"") -> 44597 | T6: =IF(MONTH(T5+1)=MONTH(T$2),T5+1,"") -> 44625 | U6: =IF(MONTH(U5+1)=MONTH(U$2),U5+1,"") -> 44625 | V6: =IF(MONTH(V5+1)=MONTH(V$2),V5+1,"") -> 44656 | W6: =IF(MONTH(W5+1)=MONTH(W$2),W5+1,"") -> 44656 | X6: =IF(MONTH(X5+1)=MONTH(X$2),X5+1,"") -> 44686 | ... AM6: =IF(MONTH(AM5+1)=MONTH(AM$2),AM5+1,"") -> 44900 | AZ6: {=ISERROR(MATCH(Q6,Feiertage!$A$8:$A$19,0))*IF(OR(Q6<$M$3,Q6>$BU$36),0,INDEX($M$4:$N$10,WEEKDAY(Q6,2),(Q6>=$M$3)*(Q6<$N$3)+2*(Q6>=$N$3)*(Q6<=$BU$36)))} -> 8 | BB6: {=ISERROR(MATCH(S6,Feiertage!$A$8:$A$19,0))*IF(OR(S6<$M$3,S6>$BU$36),0,INDEX($M$4:$N$10,WEEKDAY(S6,2),(S6>=$M$3)*(S6<$N$3)+2*(S6>=$N$3)*(S6<=$BU$36)))} -> 0 | BD6: {=ISERROR(MATCH(U6,Feiertage!$A$8:$A$19,0))*IF(OR(U6<$M$3,U6>$BU$36),0,INDEX($M$4:$N$10,WEEKDAY(U6,2),(U6>=$M$3)*(U6<$N$3)+2*(U6>=$N$3)*(U6<=$BU$36)))} -> 0 | BF6: {=ISERROR(MATCH(W6,Feiertage!$A$8:$A$19,0))*IF(OR(W6<$M$3,W6>$BU$36),0,INDEX($M$4:$N$10,WEEKDAY(W6,2),(W6>=$M$3)*(W6<$N$3)+2*(W6>=$N$3)*(W6<=$BU$36)))} -> 8 | BH6: {=ISERROR(MATCH(Y6,Feiertage!$A$8:$A$19,0))*IF(OR(Y6<$M$3,Y6>$BU$36),0,INDEX($M$4:$N$10,WEEKDAY(Y6,2),(Y6>=$M$3)*(Y6<$N$3)+2*(Y6>=$N$3)*(Y6<=$BU$36)))} -> 8 | BJ6: {=ISERROR(MATCH(AA6,Feiertage!$A$8:$A$19,0))*IF(OR(AA6<$M$3,AA6>$BU$36),0,INDEX($M$4:$N$10,WEEKDAY(AA6,2),(AA6>=$M$3)*(AA6<$N$3)+2*(AA6>=$N$3)*(AA6<=$BU$36)))} -> 0 | BL6: {=ISERROR(MATCH(AC6,Feiertage!$A$8:$A$19,0))*IF(OR(AC6<$M$3,AC6>$BU$36),0,INDEX($M$4:$N$10,WEEKDAY(AC6,2),(AC6>=$M$3)*(AC6<$N$3)+2*(AC6>=$N$3)*(AC6<=$BU$36)))} -> 8 | BN6: {=ISERROR(MATCH(AE6,Feiertage!$A$8:$A$19,0))*IF(OR(AE6<$M$3,AE6>$BU$36),0,INDEX($M$4:$N$10,WEEKDAY(AE6,2),(AE6>=$M$3)*(AE6<$N$3)+2*(AE6>=$N$3)*(AE6<=$BU$36)))} -> 0 | BP6: {=ISERROR(MATCH(AG6,Feiertage!$A$8:$A$19,0))*IF(OR(AG6<$M$3,AG6>$BU$36),0,INDEX($M$4:$N$10,WEEKDAY(AG6,2),(AG6>=$M$3)*(AG6<$N$3)+2*(AG6>=$N$3)*(AG6<=$BU$36)))} -> 8 | BR6: {=ISERROR(MATCH(AI6,Feiertage!$A$8:$A$19,0))*IF(OR(AI6<$M$3,AI6>$BU$36),0,INDEX($M$4:$N$10,WEEKDAY(AI6,2),(AI6>=$M$3)*(AI6<$N$3)+2*(AI6>=$N$3)*(AI6<=$BU$36)))} -> 8 | BT6: {=ISERROR(MATCH(AK6,Feiertage!$A$8:$A$19,0))*IF(OR(AK6<$M$3,AK6>$BU$36),0,INDEX($M$4:$N$10,WEEKDAY(AK6,2),(AK6>=$M$3)*(AK6<$N$3)+2*(AK6>=$N$3)*(AK6<=$BU$36)))} -> 0 | BV6: {=ISERROR(MATCH(AM6,Feiertage!$A$8:$A$19,0))*IF(OR(AM6<$M$3,AM6>$BU$36),0,INDEX($M$4:$N$10,WEEKDAY(AM6,2),(AM6>=$M$3)*(AM6<$N$3)+2*(AM6>=$N$3)*(AM6<=$BU$36)))} -> 8 | CA6: {=ISERROR(MATCH(Q6,$AO$3:$AQ$3,0))*IF(OR(Q6<$M$3,Q6>$BU$36),0,INDEX($M$4:$N$10,WEEKDAY(Q6,2),(Q6>=$M$3)*(Q6<$N$3)+2*(Q6>=$N$3)*(Q6<=$BU$36)))} -> 8 | CC6: {=ISERROR(MATCH(S6,$AO$3:$AQ$3,0))*IF(OR(S6<$M$3,S6>$BU$36),0,INDEX($M$4:$N$10,WEEKDAY(S6,2),(S6>=$M$3)*(S6<$N$3)+2*(S6>=$N$3)*(S6<=$BU$36)))} -> 0 | CE6: {=ISERROR(MATCH(U6,$AO$3:$AQ$3,0))*IF(OR(U6<$M$3,U6>$BU$36),0,INDEX($M$4:$N$10,WEEKDAY(U6,2),(U6>=$M$3)*(U6<$N$3)+2*(U6>=$N$3)*(U6<=$BU$36)))} -> 0 | CG6: {=ISERROR(MATCH(W6,$AO$3:$AQ$3,0))*IF(OR(W6<$M$3,W6>$BU$36),0,INDEX($M$4:$N$10,WEEKDAY(W6,2),(W6>=$M$3)*(W6<$N$3)+2*(W6>=$N$3)*(W6<=$BU$36)))} -> 8 | CI6: {=ISERROR(MATCH(Y6,$AO$3:$AQ$3,0))*IF(OR(Y6<$M$3,Y6>$BU$36),0,INDEX($M$4:$N$10,WEEKDAY(Y6,2),(Y6>=$M$3)*(Y6<$N$3)+2*(Y6>=$N$3)*(Y6<=$BU$36)))} -> 8 | CK6: {=ISERROR(MATCH(AA6,$AO$3:$AQ$3,0))*IF(OR(AA6<$M$3,AA6>$BU$36),0,INDEX($M$4:$N$10,WEEKDAY(AA6,2),(AA6>=$M$3)*(AA6<$N$3)+2*(AA6>=$N$3)*(AA6<=$BU$36)))} -> 0 | CM6: {=ISERROR(MATCH(AC6,$AO$3:$AQ$3,0))*IF(OR(AC6<$M$3,AC6>$BU$36),0,INDEX($M$4:$N$10,WEEKDAY(AC6,2),(AC6>=$M$3)*(AC6<$N$3)+2*(AC6>=$N$3)*(AC6<=$BU$36)))} -> 8 | CO6: {=ISERROR(MATCH(AE6,$AO$3:$AQ$3,0))*IF(OR(AE6<$M$3,AE6>$BU$36),0,INDEX($M$4:$N$10,WEEKDAY(AE6,2),(AE6>=$M$3)*(AE6<$N$3)+2*(AE6>=$N$3)*(AE6<=$BU$36)))} -> 0 | CQ6: {=ISERROR(MATCH(AG6,$AO$3:$AQ$3,0))*IF(OR(AG6<$M$3,AG6>$BU$36),0,INDEX($M$4:$N$10,WEEKDAY(AG6,2),(AG6>=$M$3)*(AG6<$N$3)+2*(AG6>=$N$3)*(AG6<=$BU$36)))} -> 8 | CS6: {=ISERROR(MATCH(AI6,$AO$3:$AQ$3,0))*IF(OR(AI6<$M$3,AI6>$BU$36),0,INDEX($M$4:$N$10,WEEKDAY(AI6,2),(AI6>=$M$3)*(AI6<$N$3)+2*(AI6>=$N$3)*(AI6<=$BU$36)))} -> 8 | CU6: {=ISERROR(MATCH(AK6,$AO$3:$AQ$3,0))*IF(OR(AK6<$M$3,AK6>$BU$36),0,INDEX($M$4:$N$10,WEEKDAY(AK6,2),(AK6>=$M$3)*(AK6<$N$3)+2*(AK6>=$N$3)*(AK6<=$BU$36)))} -> 0 | CW6: {=ISERROR(MATCH(AM6,$AO$3:$AQ$3,0))*IF(OR(AM6<$M$3,AM6>$BU$36),0,INDEX($M$4:$N$10,WEEKDAY(AM6,2),(AM6>=$M$3)*(AM6<$N$3)+2*(AM6>=$N$3)*(AM6<=$BU$36)))} -> 8
A7: Lohn ab | K7: Donnerstag | M7: 8 | P7: =IF(MONTH(Q6+1)=MONTH(Q$2),Q6+1,"") -> 44567 | Q7: =IF(MONTH(Q6+1)=MONTH(Q$2),Q6+1,"") -> 44567 | R7: =IF(MONTH(R6+1)=MONTH(R$2),R6+1,"") -> 44598 | S7: =IF(MONTH(S6+1)=MONTH(S$2),S6+1,"") -> 44598 | T7: =IF(MONTH(T6+1)=MONTH(T$2),T6+1,"") -> 44626 | U7: =IF(MONTH(U6+1)=MONTH(U$2),U6+1,"") -> 44626 | V7: =IF(MONTH(V6+1)=MONTH(V$2),V6+1,"") -> 44657 | W7: =IF(MONTH(W6+1)=MONTH(W$2),W6+1,"") -> 44657 | X7: =IF(MONTH(X6+1)=MONTH(X$2),X6+1,"") -> 44687 | ... AM7: =IF(MONTH(AM6+1)=MONTH(AM$2),AM6+1,"") -> 44901 | AZ7: {=ISERROR(MATCH(Q7,Feiertage!$A$8:$A$19,0))*IF(OR(Q7<$M$3,Q7>$BU$36),0,INDEX($M$4:$N$10,WEEKDAY(Q7,2),(Q7>=$M$3)*(Q7<$N$3)+2*(Q7>=$N$3)*(Q7<=$BU$36)))} -> 8 | BB7: {=ISERROR(MATCH(S7,Feiertage!$A$8:$A$19,0))*IF(OR(S7<$M$3,S7>$BU$36),0,INDEX($M$4:$N$10,WEEKDAY(S7,2),(S7>=$M$3)*(S7<$N$3)+2*(S7>=$N$3)*(S7<=$BU$36)))} -> 0 | BD7: {=ISERROR(MATCH(U7,Feiertage!$A$8:$A$19,0))*IF(OR(U7<$M$3,U7>$BU$36),0,INDEX($M$4:$N$10,WEEKDAY(U7,2),(U7>=$M$3)*(U7<$N$3)+2*(U7>=$N$3)*(U7<=$BU$36)))} -> 0 | BF7: {=ISERROR(MATCH(W7,Feiertage!$A$8:$A$19,0))*IF(OR(W7<$M$3,W7>$BU$36),0,INDEX($M$4:$N$10,WEEKDAY(W7,2),(W7>=$M$3)*(W7<$N$3)+2*(W7>=$N$3)*(W7<=$BU$36)))} -> 8 | BH7: {=ISERROR(MATCH(Y7,Feiertage!$A$8:$A$19,0))*IF(OR(Y7<$M$3,Y7>$BU$36),0,INDEX($M$4:$N$10,WEEKDAY(Y7,2),(Y7>=$M$3)*(Y7<$N$3)+2*(Y7>=$N$3)*(Y7<=$BU$36)))} -> 0 | BJ7: {=ISERROR(MATCH(AA7,Feiertage!$A$8:$A$19,0))*IF(OR(AA7<$M$3,AA7>$BU$36),0,INDEX($M$4:$N$10,WEEKDAY(AA7,2),(AA7>=$M$3)*(AA7<$N$3)+2*(AA7>=$N$3)*(AA7<=$BU$36)))} -> 0 | BL7: {=ISERROR(MATCH(AC7,Feiertage!$A$8:$A$19,0))*IF(OR(AC7<$M$3,AC7>$BU$36),0,INDEX($M$4:$N$10,WEEKDAY(AC7,2),(AC7>=$M$3)*(AC7<$N$3)+2*(AC7>=$N$3)*(AC7<=$BU$36)))} -> 8 | BN7: {=ISERROR(MATCH(AE7,Feiertage!$A$8:$A$19,0))*IF(OR(AE7<$M$3,AE7>$BU$36),0,INDEX($M$4:$N$10,WEEKDAY(AE7,2),(AE7>=$M$3)*(AE7<$N$3)+2*(AE7>=$N$3)*(AE7<=$BU$36)))} -> 0 | BP7: {=ISERROR(MATCH(AG7,Feiertage!$A$8:$A$19,0))*IF(OR(AG7<$M$3,AG7>$BU$36),0,INDEX($M$4:$N$10,WEEKDAY(AG7,2),(AG7>=$M$3)*(AG7<$N$3)+2*(AG7>=$N$3)*(AG7<=$BU$36)))} -> 8 | BR7: {=ISERROR(MATCH(AI7,Feiertage!$A$8:$A$19,0))*IF(OR(AI7<$M$3,AI7>$BU$36),0,INDEX($M$4:$N$10,WEEKDAY(AI7,2),(AI7>=$M$3)*(AI7<$N$3)+2*(AI7>=$N$3)*(AI7<=$BU$36)))} -> 8 | BT7: {=ISERROR(MATCH(AK7,Feiertage!$A$8:$A$19,0))*IF(OR(AK7<$M$3,AK7>$BU$36),0,INDEX($M$4:$N$10,WEEKDAY(AK7,2),(AK7>=$M$3)*(AK7<$N$3)+2*(AK7>=$N$3)*(AK7<=$BU$36)))} -> 0 | BV7: {=ISERROR(MATCH(AM7,Feiertage!$A$8:$A$19,0))*IF(OR(AM7<$M$3,AM7>$BU$36),0,INDEX($M$4:$N$10,WEEKDAY(AM7,2),(AM7>=$M$3)*(AM7<$N$3)+2*(AM7>=$N$3)*(AM7<=$BU$36)))} -> 8 | CA7: {=ISERROR(MATCH(Q7,$AO$3:$AQ$3,0))*IF(OR(Q7<$M$3,Q7>$BU$36),0,INDEX($M$4:$N$10,WEEKDAY(Q7,2),(Q7>=$M$3)*(Q7<$N$3)+2*(Q7>=$N$3)*(Q7<=$BU$36)))} -> 8 | CC7: {=ISERROR(MATCH(S7,$AO$3:$AQ$3,0))*IF(OR(S7<$M$3,S7>$BU$36),0,INDEX($M$4:$N$10,WEEKDAY(S7,2),(S7>=$M$3)*(S7<$N$3)+2*(S7>=$N$3)*(S7<=$BU$36)))} -> 0 | CE7: {=ISERROR(MATCH(U7,$AO$3:$AQ$3,0))*IF(OR(U7<$M$3,U7>$BU$36),0,INDEX($M$4:$N$10,WEEKDAY(U7,2),(U7>=$M$3)*(U7<$N$3)+2*(U7>=$N$3)*(U7<=$BU$36)))} -> 0 | CG7: {=ISERROR(MATCH(W7,$AO$3:$AQ$3,0))*IF(OR(W7<$M$3,W7>$BU$36),0,INDEX($M$4:$N$10,WEEKDAY(W7,2),(W7>=$M$3)*(W7<$N$3)+2*(W7>=$N$3)*(W7<=$BU$36)))} -> 8 | CI7: {=ISERROR(MATCH(Y7,$AO$3:$AQ$3,0))*IF(OR(Y7<$M$3,Y7>$BU$36),0,INDEX($M$4:$N$10,WEEKDAY(Y7,2),(Y7>=$M$3)*(Y7<$N$3)+2*(Y7>=$N$3)*(Y7<=$BU$36)))} -> 0 | CK7: {=ISERROR(MATCH(AA7,$AO$3:$AQ$3,0))*IF(OR(AA7<$M$3,AA7>$BU$36),0,INDEX($M$4:$N$10,WEEKDAY(AA7,2),(AA7>=$M$3)*(AA7<$N$3)+2*(AA7>=$N$3)*(AA7<=$BU$36)))} -> 8 | CM7: {=ISERROR(MATCH(AC7,$AO$3:$AQ$3,0))*IF(OR(AC7<$M$3,AC7>$BU$36),0,INDEX($M$4:$N$10,WEEKDAY(AC7,2),(AC7>=$M$3)*(AC7<$N$3)+2*(AC7>=$N$3)*(AC7<=$BU$36)))} -> 8 | CO7: {=ISERROR(MATCH(AE7,$AO$3:$AQ$3,0))*IF(OR(AE7<$M$3,AE7>$BU$36),0,INDEX($M$4:$N$10,WEEKDAY(AE7,2),(AE7>=$M$3)*(AE7<$N$3)+2*(AE7>=$N$3)*(AE7<=$BU$36)))} -> 0 | CQ7: {=ISERROR(MATCH(AG7,$AO$3:$AQ$3,0))*IF(OR(AG7<$M$3,AG7>$BU$36),0,INDEX($M$4:$N$10,WEEKDAY(AG7,2),(AG7>=$M$3)*(AG7<$N$3)+2*(AG7>=$N$3)*(AG7<=$BU$36)))} -> 8 | CS7: {=ISERROR(MATCH(AI7,$AO$3:$AQ$3,0))*IF(OR(AI7<$M$3,AI7>$BU$36),0,INDEX($M$4:$N$10,WEEKDAY(AI7,2),(AI7>=$M$3)*(AI7<$N$3)+2*(AI7>=$N$3)*(AI7<=$BU$36)))} -> 8 | CU7: {=ISERROR(MATCH(AK7,$AO$3:$AQ$3,0))*IF(OR(AK7<$M$3,AK7>$BU$36),0,INDEX($M$4:$N$10,WEEKDAY(AK7,2),(AK7>=$M$3)*(AK7<$N$3)+2*(AK7>=$N$3)*(AK7<=$BU$36)))} -> 0 | CW7: {=ISERROR(MATCH(AM7,$AO$3:$AQ$3,0))*IF(OR(AM7<$M$3,AM7>$BU$36),0,INDEX($M$4:$N$10,WEEKDAY(AM7,2),(AM7>=$M$3)*(AM7<$N$3)+2*(AM7>=$N$3)*(AM7<=$BU$36)))} -> 8
A8: Urlaubsgeld im | K8: Freitag | M8: 0 | P8: =IF(MONTH(Q7+1)=MONTH(Q$2),Q7+1,"") -> 44568 | Q8: =IF(MONTH(Q7+1)=MONTH(Q$2),Q7+1,"") -> 44568 | R8: =IF(MONTH(R7+1)=MONTH(R$2),R7+1,"") -> 44599 | S8: =IF(MONTH(S7+1)=MONTH(S$2),S7+1,"") -> 44599 | T8: =IF(MONTH(T7+1)=MONTH(T$2),T7+1,"") -> 44627 | U8: =IF(MONTH(U7+1)=MONTH(U$2),U7+1,"") -> 44627 | V8: =IF(MONTH(V7+1)=MONTH(V$2),V7+1,"") -> 44658 | W8: =IF(MONTH(W7+1)=MONTH(W$2),W7+1,"") -> 44658 | X8: =IF(MONTH(X7+1)=MONTH(X$2),X7+1,"") -> 44688 | ... AM8: =IF(MONTH(AM7+1)=MONTH(AM$2),AM7+1,"") -> 44902 | AZ8: {=ISERROR(MATCH(Q8,Feiertage!$A$8:$A$19,0))*IF(OR(Q8<$M$3,Q8>$BU$36),0,INDEX($M$4:$N$10,WEEKDAY(Q8,2),(Q8>=$M$3)*(Q8<$N$3)+2*(Q8>=$N$3)*(Q8<=$BU$36)))} -> 0 | BB8: {=ISERROR(MATCH(S8,Feiertage!$A$8:$A$19,0))*IF(OR(S8<$M$3,S8>$BU$36),0,INDEX($M$4:$N$10,WEEKDAY(S8,2),(S8>=$M$3)*(S8<$N$3)+2*(S8>=$N$3)*(S8<=$BU$36)))} -> 8 | BD8: {=ISERROR(MATCH(U8,Feiertage!$A$8:$A$19,0))*IF(OR(U8<$M$3,U8>$BU$36),0,INDEX($M$4:$N$10,WEEKDAY(U8,2),(U8>=$M$3)*(U8<$N$3)+2*(U8>=$N$3)*(U8<=$BU$36)))} -> 8 | BF8: {=ISERROR(MATCH(W8,Feiertage!$A$8:$A$19,0))*IF(OR(W8<$M$3,W8>$BU$36),0,INDEX($M$4:$N$10,WEEKDAY(W8,2),(W8>=$M$3)*(W8<$N$3)+2*(W8>=$N$3)*(W8<=$BU$36)))} -> 8 | BH8: {=ISERROR(MATCH(Y8,Feiertage!$A$8:$A$19,0))*IF(OR(Y8<$M$3,Y8>$BU$36),0,INDEX($M$4:$N$10,WEEKDAY(Y8,2),(Y8>=$M$3)*(Y8<$N$3)+2*(Y8>=$N$3)*(Y8<=$BU$36)))} -> 0 | BJ8: {=ISERROR(MATCH(AA8,Feiertage!$A$8:$A$19,0))*IF(OR(AA8<$M$3,AA8>$BU$36),0,INDEX($M$4:$N$10,WEEKDAY(AA8,2),(AA8>=$M$3)*(AA8<$N$3)+2*(AA8>=$N$3)*(AA8<=$BU$36)))} -> 8 | BL8: {=ISERROR(MATCH(AC8,Feiertage!$A$8:$A$19,0))*IF(OR(AC8<$M$3,AC8>$BU$36),0,INDEX($M$4:$N$10,WEEKDAY(AC8,2),(AC8>=$M$3)*(AC8<$N$3)+2*(AC8>=$N$3)*(AC8<=$BU$36)))} -> 8 | BN8: {=ISERROR(MATCH(AE8,Feiertage!$A$8:$A$19,0))*IF(OR(AE8<$M$3,AE8>$BU$36),0,INDEX($M$4:$N$10,WEEKDAY(AE8,2),(AE8>=$M$3)*(AE8<$N$3)+2*(AE8>=$N$3)*(AE8<=$BU$36)))} -> 0 | BP8: {=ISERROR(MATCH(AG8,Feiertage!$A$8:$A$19,0))*IF(OR(AG8<$M$3,AG8>$BU$36),0,INDEX($M$4:$N$10,WEEKDAY(AG8,2),(AG8>=$M$3)*(AG8<$N$3)+2*(AG8>=$N$3)*(AG8<=$BU$36)))} -> 8 | BR8: {=ISERROR(MATCH(AI8,Feiertage!$A$8:$A$19,0))*IF(OR(AI8<$M$3,AI8>$BU$36),0,INDEX($M$4:$N$10,WEEKDAY(AI8,2),(AI8>=$M$3)*(AI8<$N$3)+2*(AI8>=$N$3)*(AI8<=$BU$36)))} -> 0 | BT8: {=ISERROR(MATCH(AK8,Feiertage!$A$8:$A$19,0))*IF(OR(AK8<$M$3,AK8>$BU$36),0,INDEX($M$4:$N$10,WEEKDAY(AK8,2),(AK8>=$M$3)*(AK8<$N$3)+2*(AK8>=$N$3)*(AK8<=$BU$36)))} -> 8 | BV8: {=ISERROR(MATCH(AM8,Feiertage!$A$8:$A$19,0))*IF(OR(AM8<$M$3,AM8>$BU$36),0,INDEX($M$4:$N$10,WEEKDAY(AM8,2),(AM8>=$M$3)*(AM8<$N$3)+2*(AM8>=$N$3)*(AM8<=$BU$36)))} -> 8 | CA8: {=ISERROR(MATCH(Q8,$AO$3:$AQ$3,0))*IF(OR(Q8<$M$3,Q8>$BU$36),0,INDEX($M$4:$N$10,WEEKDAY(Q8,2),(Q8>=$M$3)*(Q8<$N$3)+2*(Q8>=$N$3)*(Q8<=$BU$36)))} -> 0 | CC8: {=ISERROR(MATCH(S8,$AO$3:$AQ$3,0))*IF(OR(S8<$M$3,S8>$BU$36),0,INDEX($M$4:$N$10,WEEKDAY(S8,2),(S8>=$M$3)*(S8<$N$3)+2*(S8>=$N$3)*(S8<=$BU$36)))} -> 8 | CE8: {=ISERROR(MATCH(U8,$AO$3:$AQ$3,0))*IF(OR(U8<$M$3,U8>$BU$36),0,INDEX($M$4:$N$10,WEEKDAY(U8,2),(U8>=$M$3)*(U8<$N$3)+2*(U8>=$N$3)*(U8<=$BU$36)))} -> 0 | CG8: {=ISERROR(MATCH(W8,$AO$3:$AQ$3,0))*IF(OR(W8<$M$3,W8>$BU$36),0,INDEX($M$4:$N$10,WEEKDAY(W8,2),(W8>=$M$3)*(W8<$N$3)+2*(W8>=$N$3)*(W8<=$BU$36)))} -> 8 | CI8: {=ISERROR(MATCH(Y8,$AO$3:$AQ$3,0))*IF(OR(Y8<$M$3,Y8>$BU$36),0,INDEX($M$4:$N$10,WEEKDAY(Y8,2),(Y8>=$M$3)*(Y8<$N$3)+2*(Y8>=$N$3)*(Y8<=$BU$36)))} -> 0 | CK8: {=ISERROR(MATCH(AA8,$AO$3:$AQ$3,0))*IF(OR(AA8<$M$3,AA8>$BU$36),0,INDEX($M$4:$N$10,WEEKDAY(AA8,2),(AA8>=$M$3)*(AA8<$N$3)+2*(AA8>=$N$3)*(AA8<=$BU$36)))} -> 8 | CM8: {=ISERROR(MATCH(AC8,$AO$3:$AQ$3,0))*IF(OR(AC8<$M$3,AC8>$BU$36),0,INDEX($M$4:$N$10,WEEKDAY(AC8,2),(AC8>=$M$3)*(AC8<$N$3)+2*(AC8>=$N$3)*(AC8<=$BU$36)))} -> 8 | CO8: {=ISERROR(MATCH(AE8,$AO$3:$AQ$3,0))*IF(OR(AE8<$M$3,AE8>$BU$36),0,INDEX($M$4:$N$10,WEEKDAY(AE8,2),(AE8>=$M$3)*(AE8<$N$3)+2*(AE8>=$N$3)*(AE8<=$BU$36)))} -> 0 | CQ8: {=ISERROR(MATCH(AG8,$AO$3:$AQ$3,0))*IF(OR(AG8<$M$3,AG8>$BU$36),0,INDEX($M$4:$N$10,WEEKDAY(AG8,2),(AG8>=$M$3)*(AG8<$N$3)+2*(AG8>=$N$3)*(AG8<=$BU$36)))} -> 8 | CS8: {=ISERROR(MATCH(AI8,$AO$3:$AQ$3,0))*IF(OR(AI8<$M$3,AI8>$BU$36),0,INDEX($M$4:$N$10,WEEKDAY(AI8,2),(AI8>=$M$3)*(AI8<$N$3)+2*(AI8>=$N$3)*(AI8<=$BU$36)))} -> 0 | CU8: {=ISERROR(MATCH(AK8,$AO$3:$AQ$3,0))*IF(OR(AK8<$M$3,AK8>$BU$36),0,INDEX($M$4:$N$10,WEEKDAY(AK8,2),(AK8>=$M$3)*(AK8<$N$3)+2*(AK8>=$N$3)*(AK8<=$BU$36)))} -> 8 | CW8: {=ISERROR(MATCH(AM8,$AO$3:$AQ$3,0))*IF(OR(AM8<$M$3,AM8>$BU$36),0,INDEX($M$4:$N$10,WEEKDAY(AM8,2),(AM8>=$M$3)*(AM8<$N$3)+2*(AM8>=$N$3)*(AM8<=$BU$36)))} -> 8
A9: Weihnachtsgeld im | K9: Samstag | M9: 0 | P9: =IF(MONTH(Q8+1)=MONTH(Q$2),Q8+1,"") -> 44569 | Q9: =IF(MONTH(Q8+1)=MONTH(Q$2),Q8+1,"") -> 44569 | R9: =IF(MONTH(R8+1)=MONTH(R$2),R8+1,"") -> 44600 | S9: =IF(MONTH(S8+1)=MONTH(S$2),S8+1,"") -> 44600 | T9: =IF(MONTH(T8+1)=MONTH(T$2),T8+1,"") -> 44628 | U9: =IF(MONTH(U8+1)=MONTH(U$2),U8+1,"") -> 44628 | V9: =IF(MONTH(V8+1)=MONTH(V$2),V8+1,"") -> 44659 | W9: =IF(MONTH(W8+1)=MONTH(W$2),W8+1,"") -> 44659 | X9: =IF(MONTH(X8+1)=MONTH(X$2),X8+1,"") -> 44689 | ... AM9: =IF(MONTH(AM8+1)=MONTH(AM$2),AM8+1,"") -> 44903 | AZ9: {=ISERROR(MATCH(Q9,Feiertage!$A$8:$A$19,0))*IF(OR(Q9<$M$3,Q9>$BU$36),0,INDEX($M$4:$N$10,WEEKDAY(Q9,2),(Q9>=$M$3)*(Q9<$N$3)+2*(Q9>=$N$3)*(Q9<=$BU$36)))} -> 0 | BB9: {=ISERROR(MATCH(S9,Feiertage!$A$8:$A$19,0))*IF(OR(S9<$M$3,S9>$BU$36),0,INDEX($M$4:$N$10,WEEKDAY(S9,2),(S9>=$M$3)*(S9<$N$3)+2*(S9>=$N$3)*(S9<=$BU$36)))} -> 8 | BD9: {=ISERROR(MATCH(U9,Feiertage!$A$8:$A$19,0))*IF(OR(U9<$M$3,U9>$BU$36),0,INDEX($M$4:$N$10,WEEKDAY(U9,2),(U9>=$M$3)*(U9<$N$3)+2*(U9>=$N$3)*(U9<=$BU$36)))} -> 8 | BF9: {=ISERROR(MATCH(W9,Feiertage!$A$8:$A$19,0))*IF(OR(W9<$M$3,W9>$BU$36),0,INDEX($M$4:$N$10,WEEKDAY(W9,2),(W9>=$M$3)*(W9<$N$3)+2*(W9>=$N$3)*(W9<=$BU$36)))} -> 0 | BH9: {=ISERROR(MATCH(Y9,Feiertage!$A$8:$A$19,0))*IF(OR(Y9<$M$3,Y9>$BU$36),0,INDEX($M$4:$N$10,WEEKDAY(Y9,2),(Y9>=$M$3)*(Y9<$N$3)+2*(Y9>=$N$3)*(Y9<=$BU$36)))} -> 0 | BJ9: {=ISERROR(MATCH(AA9,Feiertage!$A$8:$A$19,0))*IF(OR(AA9<$M$3,AA9>$BU$36),0,INDEX($M$4:$N$10,WEEKDAY(AA9,2),(AA9>=$M$3)*(AA9<$N$3)+2*(AA9>=$N$3)*(AA9<=$BU$36)))} -> 8 | BL9: {=ISERROR(MATCH(AC9,Feiertage!$A$8:$A$19,0))*IF(OR(AC9<$M$3,AC9>$BU$36),0,INDEX($M$4:$N$10,WEEKDAY(AC9,2),(AC9>=$M$3)*(AC9<$N$3)+2*(AC9>=$N$3)*(AC9<=$BU$36)))} -> 0 | BN9: {=ISERROR(MATCH(AE9,Feiertage!$A$8:$A$19,0))*IF(OR(AE9<$M$3,AE9>$BU$36),0,INDEX($M$4:$N$10,WEEKDAY(AE9,2),(AE9>=$M$3)*(AE9<$N$3)+2*(AE9>=$N$3)*(AE9<=$BU$36)))} -> 8 | BP9: {=ISERROR(MATCH(AG9,Feiertage!$A$8:$A$19,0))*IF(OR(AG9<$M$3,AG9>$BU$36),0,INDEX($M$4:$N$10,WEEKDAY(AG9,2),(AG9>=$M$3)*(AG9<$N$3)+2*(AG9>=$N$3)*(AG9<=$BU$36)))} -> 8 | BR9: {=ISERROR(MATCH(AI9,Feiertage!$A$8:$A$19,0))*IF(OR(AI9<$M$3,AI9>$BU$36),0,INDEX($M$4:$N$10,WEEKDAY(AI9,2),(AI9>=$M$3)*(AI9<$N$3)+2*(AI9>=$N$3)*(AI9<=$BU$36)))} -> 0 | BT9: {=ISERROR(MATCH(AK9,Feiertage!$A$8:$A$19,0))*IF(OR(AK9<$M$3,AK9>$BU$36),0,INDEX($M$4:$N$10,WEEKDAY(AK9,2),(AK9>=$M$3)*(AK9<$N$3)+2*(AK9>=$N$3)*(AK9<=$BU$36)))} -> 8 | BV9: {=ISERROR(MATCH(AM9,Feiertage!$A$8:$A$19,0))*IF(OR(AM9<$M$3,AM9>$BU$36),0,INDEX($M$4:$N$10,WEEKDAY(AM9,2),(AM9>=$M$3)*(AM9<$N$3)+2*(AM9>=$N$3)*(AM9<=$BU$36)))} -> 8 | CA9: {=ISERROR(MATCH(Q9,$AO$3:$AQ$3,0))*IF(OR(Q9<$M$3,Q9>$BU$36),0,INDEX($M$4:$N$10,WEEKDAY(Q9,2),(Q9>=$M$3)*(Q9<$N$3)+2*(Q9>=$N$3)*(Q9<=$BU$36)))} -> 0 | CC9: {=ISERROR(MATCH(S9,$AO$3:$AQ$3,0))*IF(OR(S9<$M$3,S9>$BU$36),0,INDEX($M$4:$N$10,WEEKDAY(S9,2),(S9>=$M$3)*(S9<$N$3)+2*(S9>=$N$3)*(S9<=$BU$36)))} -> 8 | CE9: {=ISERROR(MATCH(U9,$AO$3:$AQ$3,0))*IF(OR(U9<$M$3,U9>$BU$36),0,INDEX($M$4:$N$10,WEEKDAY(U9,2),(U9>=$M$3)*(U9<$N$3)+2*(U9>=$N$3)*(U9<=$BU$36)))} -> 0 | CG9: {=ISERROR(MATCH(W9,$AO$3:$AQ$3,0))*IF(OR(W9<$M$3,W9>$BU$36),0,INDEX($M$4:$N$10,WEEKDAY(W9,2),(W9>=$M$3)*(W9<$N$3)+2*(W9>=$N$3)*(W9<=$BU$36)))} -> 0 | CI9: {=ISERROR(MATCH(Y9,$AO$3:$AQ$3,0))*IF(OR(Y9<$M$3,Y9>$BU$36),0,INDEX($M$4:$N$10,WEEKDAY(Y9,2),(Y9>=$M$3)*(Y9<$N$3)+2*(Y9>=$N$3)*(Y9<=$BU$36)))} -> 0 | CK9: {=ISERROR(MATCH(AA9,$AO$3:$AQ$3,0))*IF(OR(AA9<$M$3,AA9>$BU$36),0,INDEX($M$4:$N$10,WEEKDAY(AA9,2),(AA9>=$M$3)*(AA9<$N$3)+2*(AA9>=$N$3)*(AA9<=$BU$36)))} -> 8 | CM9: {=ISERROR(MATCH(AC9,$AO$3:$AQ$3,0))*IF(OR(AC9<$M$3,AC9>$BU$36),0,INDEX($M$4:$N$10,WEEKDAY(AC9,2),(AC9>=$M$3)*(AC9<$N$3)+2*(AC9>=$N$3)*(AC9<=$BU$36)))} -> 0 | CO9: {=ISERROR(MATCH(AE9,$AO$3:$AQ$3,0))*IF(OR(AE9<$M$3,AE9>$BU$36),0,INDEX($M$4:$N$10,WEEKDAY(AE9,2),(AE9>=$M$3)*(AE9<$N$3)+2*(AE9>=$N$3)*(AE9<=$BU$36)))} -> 8 | CQ9: {=ISERROR(MATCH(AG9,$AO$3:$AQ$3,0))*IF(OR(AG9<$M$3,AG9>$BU$36),0,INDEX($M$4:$N$10,WEEKDAY(AG9,2),(AG9>=$M$3)*(AG9<$N$3)+2*(AG9>=$N$3)*(AG9<=$BU$36)))} -> 8 | CS9: {=ISERROR(MATCH(AI9,$AO$3:$AQ$3,0))*IF(OR(AI9<$M$3,AI9>$BU$36),0,INDEX($M$4:$N$10,WEEKDAY(AI9,2),(AI9>=$M$3)*(AI9<$N$3)+2*(AI9>=$N$3)*(AI9<=$BU$36)))} -> 0 | CU9: {=ISERROR(MATCH(AK9,$AO$3:$AQ$3,0))*IF(OR(AK9<$M$3,AK9>$BU$36),0,INDEX($M$4:$N$10,WEEKDAY(AK9,2),(AK9>=$M$3)*(AK9<$N$3)+2*(AK9>=$N$3)*(AK9<=$BU$36)))} -> 8 | CW9: {=ISERROR(MATCH(AM9,$AO$3:$AQ$3,0))*IF(OR(AM9<$M$3,AM9>$BU$36),0,INDEX($M$4:$N$10,WEEKDAY(AM9,2),(AM9>=$M$3)*(AM9<$N$3)+2*(AM9>=$N$3)*(AM9<=$BU$36)))} -> 8
A10: Eintritt | B10: 44333 | D10: Jahresurlaubsanspr. | H10: 24 | I10: Tage | K10: Sonntag | M10: 0 | P10: =IF(MONTH(Q9+1)=MONTH(Q$2),Q9+1,"") -> 44570 | Q10: =IF(MONTH(Q9+1)=MONTH(Q$2),Q9+1,"") -> 44570 | R10: =IF(MONTH(R9+1)=MONTH(R$2),R9+1,"") -> 44601 | S10: =IF(MONTH(S9+1)=MONTH(S$2),S9+1,"") -> 44601 | T10: =IF(MONTH(T9+1)=MONTH(T$2),T9+1,"") -> 44629 | U10: =IF(MONTH(U9+1)=MONTH(U$2),U9+1,"") -> 44629 | V10: =IF(MONTH(V9+1)=MONTH(V$2),V9+1,"") -> 44660 | W10: =IF(MONTH(W9+1)=MONTH(W$2),W9+1,"") -> 44660 | X10: =IF(MONTH(X9+1)=MONTH(X$2),X9+1,"") -> 44690 | ... AM10: =IF(MONTH(AM9+1)=MONTH(AM$2),AM9+1,"") -> 44904 | AZ10: {=ISERROR(MATCH(Q10,Feiertage!$A$8:$A$19,0))*IF(OR(Q10<$M$3,Q10>$BU$36),0,INDEX($M$4:$N$10,WEEKDAY(Q10,2),(Q10>=$M$3)*(Q10<$N$3)+2*(Q10>=$N$3)*(Q10<=$BU$36)))} -> 0 | BB10: {=ISERROR(MATCH(S10,Feiertage!$A$8:$A$19,0))*IF(OR(S10<$M$3,S10>$BU$36),0,INDEX($M$4:$N$10,WEEKDAY(S10,2),(S10>=$M$3)*(S10<$N$3)+2*(S10>=$N$3)*(S10<=$BU$36)))} -> 8 | BD10: {=ISERROR(MATCH(U10,Feiertage!$A$8:$A$19,0))*IF(OR(U10<$M$3,U10>$BU$36),0,INDEX($M$4:$N$10,WEEKDAY(U10,2),(U10>=$M$3)*(U10<$N$3)+2*(U10>=$N$3)*(U10<=$BU$36)))} -> 8 | BF10: {=ISERROR(MATCH(W10,Feiertage!$A$8:$A$19,0))*IF(OR(W10<$M$3,W10>$BU$36),0,INDEX($M$4:$N$10,WEEKDAY(W10,2),(W10>=$M$3)*(W10<$N$3)+2*(W10>=$N$3)*(W10<=$BU$36)))} -> 0 | BH10: {=ISERROR(MATCH(Y10,Feiertage!$A$8:$A$19,0))*IF(OR(Y10<$M$3,Y10>$BU$36),0,INDEX($M$4:$N$10,WEEKDAY(Y10,2),(Y10>=$M$3)*(Y10<$N$3)+2*(Y10>=$N$3)*(Y10<=$BU$36)))} -> 8 | BJ10: {=ISERROR(MATCH(AA10,Feiertage!$A$8:$A$19,0))*IF(OR(AA10<$M$3,AA10>$BU$36),0,INDEX($M$4:$N$10,WEEKDAY(AA10,2),(AA10>=$M$3)*(AA10<$N$3)+2*(AA10>=$N$3)*(AA10<=$BU$36)))} -> 8 | BL10: {=ISERROR(MATCH(AC10,Feiertage!$A$8:$A$19,0))*IF(OR(AC10<$M$3,AC10>$BU$36),0,INDEX($M$4:$N$10,WEEKDAY(AC10,2),(AC10>=$M$3)*(AC10<$N$3)+2*(AC10>=$N$3)*(AC10<=$BU$36)))} -> 0 | BN10: {=ISERROR(MATCH(AE10,Feiertage!$A$8:$A$19,0))*IF(OR(AE10<$M$3,AE10>$BU$36),0,INDEX($M$4:$N$10,WEEKDAY(AE10,2),(AE10>=$M$3)*(AE10<$N$3)+2*(AE10>=$N$3)*(AE10<=$BU$36)))} -> 8 | BP10: {=ISERROR(MATCH(AG10,Feiertage!$A$8:$A$19,0))*IF(OR(AG10<$M$3,AG10>$BU$36),0,INDEX($M$4:$N$10,WEEKDAY(AG10,2),(AG10>=$M$3)*(AG10<$N$3)+2*(AG10>=$N$3)*(AG10<=$BU$36)))} -> 0 | BR10: {=ISERROR(MATCH(AI10,Feiertage!$A$8:$A$19,0))*IF(OR(AI10<$M$3,AI10>$BU$36),0,INDEX($M$4:$N$10,WEEKDAY(AI10,2),(AI10>=$M$3)*(AI10<$N$3)+2*(AI10>=$N$3)*(AI10<=$BU$36)))} -> 0 | BT10: {=ISERROR(MATCH(AK10,Feiertage!$A$8:$A$19,0))*IF(OR(AK10<$M$3,AK10>$BU$36),0,INDEX($M$4:$N$10,WEEKDAY(AK10,2),(AK10>=$M$3)*(AK10<$N$3)+2*(AK10>=$N$3)*(AK10<=$BU$36)))} -> 8 | BV10: {=ISERROR(MATCH(AM10,Feiertage!$A$8:$A$19,0))*IF(OR(AM10<$M$3,AM10>$BU$36),0,INDEX($M$4:$N$10,WEEKDAY(AM10,2),(AM10>=$M$3)*(AM10<$N$3)+2*(AM10>=$N$3)*(AM10<=$BU$36)))} -> 0 | CA10: {=ISERROR(MATCH(Q10,$AO$3:$AQ$3,0))*IF(OR(Q10<$M$3,Q10>$BU$36),0,INDEX($M$4:$N$10,WEEKDAY(Q10,2),(Q10>=$M$3)*(Q10<$N$3)+2*(Q10>=$N$3)*(Q10<=$BU$36)))} -> 0 | CC10: {=ISERROR(MATCH(S10,$AO$3:$AQ$3,0))*IF(OR(S10<$M$3,S10>$BU$36),0,INDEX($M$4:$N$10,WEEKDAY(S10,2),(S10>=$M$3)*(S10<$N$3)+2*(S10>=$N$3)*(S10<=$BU$36)))} -> 8 | CE10: {=ISERROR(MATCH(U10,$AO$3:$AQ$3,0))*IF(OR(U10<$M$3,U10>$BU$36),0,INDEX($M$4:$N$10,WEEKDAY(U10,2),(U10>=$M$3)*(U10<$N$3)+2*(U10>=$N$3)*(U10<=$BU$36)))} -> 8 | CG10: {=ISERROR(MATCH(W10,$AO$3:$AQ$3,0))*IF(OR(W10<$M$3,W10>$BU$36),0,INDEX($M$4:$N$10,WEEKDAY(W10,2),(W10>=$M$3)*(W10<$N$3)+2*(W10>=$N$3)*(W10<=$BU$36)))} -> 0 | CI10: {=ISERROR(MATCH(Y10,$AO$3:$AQ$3,0))*IF(OR(Y10<$M$3,Y10>$BU$36),0,INDEX($M$4:$N$10,WEEKDAY(Y10,2),(Y10>=$M$3)*(Y10<$N$3)+2*(Y10>=$N$3)*(Y10<=$BU$36)))} -> 8 | CK10: {=ISERROR(MATCH(AA10,$AO$3:$AQ$3,0))*IF(OR(AA10<$M$3,AA10>$BU$36),0,INDEX($M$4:$N$10,WEEKDAY(AA10,2),(AA10>=$M$3)*(AA10<$N$3)+2*(AA10>=$N$3)*(AA10<=$BU$36)))} -> 8 | CM10: {=ISERROR(MATCH(AC10,$AO$3:$AQ$3,0))*IF(OR(AC10<$M$3,AC10>$BU$36),0,INDEX($M$4:$N$10,WEEKDAY(AC10,2),(AC10>=$M$3)*(AC10<$N$3)+2*(AC10>=$N$3)*(AC10<=$BU$36)))} -> 0 | CO10: {=ISERROR(MATCH(AE10,$AO$3:$AQ$3,0))*IF(OR(AE10<$M$3,AE10>$BU$36),0,INDEX($M$4:$N$10,WEEKDAY(AE10,2),(AE10>=$M$3)*(AE10<$N$3)+2*(AE10>=$N$3)*(AE10<=$BU$36)))} -> 8 | CQ10: {=ISERROR(MATCH(AG10,$AO$3:$AQ$3,0))*IF(OR(AG10<$M$3,AG10>$BU$36),0,INDEX($M$4:$N$10,WEEKDAY(AG10,2),(AG10>=$M$3)*(AG10<$N$3)+2*(AG10>=$N$3)*(AG10<=$BU$36)))} -> 0 | CS10: {=ISERROR(MATCH(AI10,$AO$3:$AQ$3,0))*IF(OR(AI10<$M$3,AI10>$BU$36),0,INDEX($M$4:$N$10,WEEKDAY(AI10,2),(AI10>=$M$3)*(AI10<$N$3)+2*(AI10>=$N$3)*(AI10<=$BU$36)))} -> 0 | CU10: {=ISERROR(MATCH(AK10,$AO$3:$AQ$3,0))*IF(OR(AK10<$M$3,AK10>$BU$36),0,INDEX($M$4:$N$10,WEEKDAY(AK10,2),(AK10>=$M$3)*(AK10<$N$3)+2*(AK10>=$N$3)*(AK10<=$BU$36)))} -> 8 | CW10: {=ISERROR(MATCH(AM10,$AO$3:$AQ$3,0))*IF(OR(AM10<$M$3,AM10>$BU$36),0,INDEX($M$4:$N$10,WEEKDAY(AM10,2),(AM10>=$M$3)*(AM10<$N$3)+2*(AM10>=$N$3)*(AM10<=$BU$36)))} -> 0
A11: Austritt | P11: =IF(MONTH(Q10+1)=MONTH(Q$2),Q10+1,"") -> 44571 | Q11: =IF(MONTH(Q10+1)=MONTH(Q$2),Q10+1,"") -> 44571 | R11: =IF(MONTH(R10+1)=MONTH(R$2),R10+1,"") -> 44602 | S11: =IF(MONTH(S10+1)=MONTH(S$2),S10+1,"") -> 44602 | T11: =IF(MONTH(T10+1)=MONTH(T$2),T10+1,"") -> 44630 | U11: =IF(MONTH(U10+1)=MONTH(U$2),U10+1,"") -> 44630 | V11: =IF(MONTH(V10+1)=MONTH(V$2),V10+1,"") -> 44661 | W11: =IF(MONTH(W10+1)=MONTH(W$2),W10+1,"") -> 44661 | X11: =IF(MONTH(X10+1)=MONTH(X$2),X10+1,"") -> 44691 | ... AM11: =IF(MONTH(AM10+1)=MONTH(AM$2),AM10+1,"") -> 44905 | AZ11: {=ISERROR(MATCH(Q11,Feiertage!$A$8:$A$19,0))*IF(OR(Q11<$M$3,Q11>$BU$36),0,INDEX($M$4:$N$10,WEEKDAY(Q11,2),(Q11>=$M$3)*(Q11<$N$3)+2*(Q11>=$N$3)*(Q11<=$BU$36)))} -> 8 | BB11: {=ISERROR(MATCH(S11,Feiertage!$A$8:$A$19,0))*IF(OR(S11<$M$3,S11>$BU$36),0,INDEX($M$4:$N$10,WEEKDAY(S11,2),(S11>=$M$3)*(S11<$N$3)+2*(S11>=$N$3)*(S11<=$BU$36)))} -> 8 | BD11: {=ISERROR(MATCH(U11,Feiertage!$A$8:$A$19,0))*IF(OR(U11<$M$3,U11>$BU$36),0,INDEX($M$4:$N$10,WEEKDAY(U11,2),(U11>=$M$3)*(U11<$N$3)+2*(U11>=$N$3)*(U11<=$BU$36)))} -> 8 | BF11: {=ISERROR(MATCH(W11,Feiertage!$A$8:$A$19,0))*IF(OR(W11<$M$3,W11>$BU$36),0,INDEX($M$4:$N$10,WEEKDAY(W11,2),(W11>=$M$3)*(W11<$N$3)+2*(W11>=$N$3)*(W11<=$BU$36)))} -> 0 | BH11: {=ISERROR(MATCH(Y11,Feiertage!$A$8:$A$19,0))*IF(OR(Y11<$M$3,Y11>$BU$36),0,INDEX($M$4:$N$10,WEEKDAY(Y11,2),(Y11>=$M$3)*(Y11<$N$3)+2*(Y11>=$N$3)*(Y11<=$BU$36)))} -> 8 | BJ11: {=ISERROR(MATCH(AA11,Feiertage!$A$8:$A$19,0))*IF(OR(AA11<$M$3,AA11>$BU$36),0,INDEX($M$4:$N$10,WEEKDAY(AA11,2),(AA11>=$M$3)*(AA11<$N$3)+2*(AA11>=$N$3)*(AA11<=$BU$36)))} -> 0 | BL11: {=ISERROR(MATCH(AC11,Feiertage!$A$8:$A$19,0))*IF(OR(AC11<$M$3,AC11>$BU$36),0,INDEX($M$4:$N$10,WEEKDAY(AC11,2),(AC11>=$M$3)*(AC11<$N$3)+2*(AC11>=$N$3)*(AC11<=$BU$36)))} -> 0 | BN11: {=ISERROR(MATCH(AE11,Feiertage!$A$8:$A$19,0))*IF(OR(AE11<$M$3,AE11>$BU$36),0,INDEX($M$4:$N$10,WEEKDAY(AE11,2),(AE11>=$M$3)*(AE11<$N$3)+2*(AE11>=$N$3)*(AE11<=$BU$36)))} -> 8 | BP11: {=ISERROR(MATCH(AG11,Feiertage!$A$8:$A$19,0))*IF(OR(AG11<$M$3,AG11>$BU$36),0,INDEX($M$4:$N$10,WEEKDAY(AG11,2),(AG11>=$M$3)*(AG11<$N$3)+2*(AG11>=$N$3)*(AG11<=$BU$36)))} -> 0 | BR11: {=ISERROR(MATCH(AI11,Feiertage!$A$8:$A$19,0))*IF(OR(AI11<$M$3,AI11>$BU$36),0,INDEX($M$4:$N$10,WEEKDAY(AI11,2),(AI11>=$M$3)*(AI11<$N$3)+2*(AI11>=$N$3)*(AI11<=$BU$36)))} -> 8 | BT11: {=ISERROR(MATCH(AK11,Feiertage!$A$8:$A$19,0))*IF(OR(AK11<$M$3,AK11>$BU$36),0,INDEX($M$4:$N$10,WEEKDAY(AK11,2),(AK11>=$M$3)*(AK11<$N$3)+2*(AK11>=$N$3)*(AK11<=$BU$36)))} -> 8 | BV11: {=ISERROR(MATCH(AM11,Feiertage!$A$8:$A$19,0))*IF(OR(AM11<$M$3,AM11>$BU$36),0,INDEX($M$4:$N$10,WEEKDAY(AM11,2),(AM11>=$M$3)*(AM11<$N$3)+2*(AM11>=$N$3)*(AM11<=$BU$36)))} -> 0 | CA11: {=ISERROR(MATCH(Q11,$AO$3:$AQ$3,0))*IF(OR(Q11<$M$3,Q11>$BU$36),0,INDEX($M$4:$N$10,WEEKDAY(Q11,2),(Q11>=$M$3)*(Q11<$N$3)+2*(Q11>=$N$3)*(Q11<=$BU$36)))} -> 8 | CC11: {=ISERROR(MATCH(S11,$AO$3:$AQ$3,0))*IF(OR(S11<$M$3,S11>$BU$36),0,INDEX($M$4:$N$10,WEEKDAY(S11,2),(S11>=$M$3)*(S11<$N$3)+2*(S11>=$N$3)*(S11<=$BU$36)))} -> 8 | CE11: {=ISERROR(MATCH(U11,$AO$3:$AQ$3,0))*IF(OR(U11<$M$3,U11>$BU$36),0,INDEX($M$4:$N$10,WEEKDAY(U11,2),(U11>=$M$3)*(U11<$N$3)+2*(U11>=$N$3)*(U11<=$BU$36)))} -> 8 | CG11: {=ISERROR(MATCH(W11,$AO$3:$AQ$3,0))*IF(OR(W11<$M$3,W11>$BU$36),0,INDEX($M$4:$N$10,WEEKDAY(W11,2),(W11>=$M$3)*(W11<$N$3)+2*(W11>=$N$3)*(W11<=$BU$36)))} -> 0 | CI11: {=ISERROR(MATCH(Y11,$AO$3:$AQ$3,0))*IF(OR(Y11<$M$3,Y11>$BU$36),0,INDEX($M$4:$N$10,WEEKDAY(Y11,2),(Y11>=$M$3)*(Y11<$N$3)+2*(Y11>=$N$3)*(Y11<=$BU$36)))} -> 8 | CK11: {=ISERROR(MATCH(AA11,$AO$3:$AQ$3,0))*IF(OR(AA11<$M$3,AA11>$BU$36),0,INDEX($M$4:$N$10,WEEKDAY(AA11,2),(AA11>=$M$3)*(AA11<$N$3)+2*(AA11>=$N$3)*(AA11<=$BU$36)))} -> 0 | CM11: {=ISERROR(MATCH(AC11,$AO$3:$AQ$3,0))*IF(OR(AC11<$M$3,AC11>$BU$36),0,INDEX($M$4:$N$10,WEEKDAY(AC11,2),(AC11>=$M$3)*(AC11<$N$3)+2*(AC11>=$N$3)*(AC11<=$BU$36)))} -> 0 | CO11: {=ISERROR(MATCH(AE11,$AO$3:$AQ$3,0))*IF(OR(AE11<$M$3,AE11>$BU$36),0,INDEX($M$4:$N$10,WEEKDAY(AE11,2),(AE11>=$M$3)*(AE11<$N$3)+2*(AE11>=$N$3)*(AE11<=$BU$36)))} -> 8 | CQ11: {=ISERROR(MATCH(AG11,$AO$3:$AQ$3,0))*IF(OR(AG11<$M$3,AG11>$BU$36),0,INDEX($M$4:$N$10,WEEKDAY(AG11,2),(AG11>=$M$3)*(AG11<$N$3)+2*(AG11>=$N$3)*(AG11<=$BU$36)))} -> 0 | CS11: {=ISERROR(MATCH(AI11,$AO$3:$AQ$3,0))*IF(OR(AI11<$M$3,AI11>$BU$36),0,INDEX($M$4:$N$10,WEEKDAY(AI11,2),(AI11>=$M$3)*(AI11<$N$3)+2*(AI11>=$N$3)*(AI11<=$BU$36)))} -> 8 | CU11: {=ISERROR(MATCH(AK11,$AO$3:$AQ$3,0))*IF(OR(AK11<$M$3,AK11>$BU$36),0,INDEX($M$4:$N$10,WEEKDAY(AK11,2),(AK11>=$M$3)*(AK11<$N$3)+2*(AK11>=$N$3)*(AK11<=$BU$36)))} -> 8 | CW11: {=ISERROR(MATCH(AM11,$AO$3:$AQ$3,0))*IF(OR(AM11<$M$3,AM11>$BU$36),0,INDEX($M$4:$N$10,WEEKDAY(AM11,2),(AM11>=$M$3)*(AM11<$N$3)+2*(AM11>=$N$3)*(AM11<=$BU$36)))} -> 0
F12: Krankenkasse | I12: AOK - Niedersachsen | P12: =IF(MONTH(Q11+1)=MONTH(Q$2),Q11+1,"") -> 44572 | Q12: =IF(MONTH(Q11+1)=MONTH(Q$2),Q11+1,"") -> 44572 | R12: =IF(MONTH(R11+1)=MONTH(R$2),R11+1,"") -> 44603 | S12: =IF(MONTH(S11+1)=MONTH(S$2),S11+1,"") -> 44603 | T12: =IF(MONTH(T11+1)=MONTH(T$2),T11+1,"") -> 44631 | U12: =IF(MONTH(U11+1)=MONTH(U$2),U11+1,"") -> 44631 | V12: =IF(MONTH(V11+1)=MONTH(V$2),V11+1,"") -> 44662 | W12: =IF(MONTH(W11+1)=MONTH(W$2),W11+1,"") -> 44662 | X12: =IF(MONTH(X11+1)=MONTH(X$2),X11+1,"") -> 44692 | ... AM12: =IF(MONTH(AM11+1)=MONTH(AM$2),AM11+1,"") -> 44906 | AZ12: {=ISERROR(MATCH(Q12,Feiertage!$A$8:$A$19,0))*IF(OR(Q12<$M$3,Q12>$BU$36),0,INDEX($M$4:$N$10,WEEKDAY(Q12,2),(Q12>=$M$3)*(Q12<$N$3)+2*(Q12>=$N$3)*(Q12<=$BU$36)))} -> 8 | BB12: {=ISERROR(MATCH(S12,Feiertage!$A$8:$A$19,0))*IF(OR(S12<$M$3,S12>$BU$36),0,INDEX($M$4:$N$10,WEEKDAY(S12,2),(S12>=$M$3)*(S12<$N$3)+2*(S12>=$N$3)*(S12<=$BU$36)))} -> 0 | BD12: {=ISERROR(MATCH(U12,Feiertage!$A$8:$A$19,0))*IF(OR(U12<$M$3,U12>$BU$36),0,INDEX($M$4:$N$10,WEEKDAY(U12,2),(U12>=$M$3)*(U12<$N$3)+2*(U12>=$N$3)*(U12<=$BU$36)))} -> 0 | BF12: {=ISERROR(MATCH(W12,Feiertage!$A$8:$A$19,0))*IF(OR(W12<$M$3,W12>$BU$36),0,INDEX($M$4:$N$10,WEEKDAY(W12,2),(W12>=$M$3)*(W12<$N$3)+2*(W12>=$N$3)*(W12<=$BU$36)))} -> 8 | BH12: {=ISERROR(MATCH(Y12,Feiertage!$A$8:$A$19,0))*IF(OR(Y12<$M$3,Y12>$BU$36),0,INDEX($M$4:$N$10,WEEKDAY(Y12,2),(Y12>=$M$3)*(Y12<$N$3)+2*(Y12>=$N$3)*(Y12<=$BU$36)))} -> 8 | BJ12: {=ISERROR(MATCH(AA12,Feiertage!$A$8:$A$19,0))*IF(OR(AA12<$M$3,AA12>$BU$36),0,INDEX($M$4:$N$10,WEEKDAY(AA12,2),(AA12>=$M$3)*(AA12<$N$3)+2*(AA12>=$N$3)*(AA12<=$BU$36)))} -> 0 | BL12: {=ISERROR(MATCH(AC12,Feiertage!$A$8:$A$19,0))*IF(OR(AC12<$M$3,AC12>$BU$36),0,INDEX($M$4:$N$10,WEEKDAY(AC12,2),(AC12>=$M$3)*(AC12<$N$3)+2*(AC12>=$N$3)*(AC12<=$BU$36)))} -> 8 | BN12: {=ISERROR(MATCH(AE12,Feiertage!$A$8:$A$19,0))*IF(OR(AE12<$M$3,AE12>$BU$36),0,INDEX($M$4:$N$10,WEEKDAY(AE12,2),(AE12>=$M$3)*(AE12<$N$3)+2*(AE12>=$N$3)*(AE12<=$BU$36)))} -> 8 | BP12: {=ISERROR(MATCH(AG12,Feiertage!$A$8:$A$19,0))*IF(OR(AG12<$M$3,AG12>$BU$36),0,INDEX($M$4:$N$10,WEEKDAY(AG12,2),(AG12>=$M$3)*(AG12<$N$3)+2*(AG12>=$N$3)*(AG12<=$BU$36)))} -> 0 | BR12: {=ISERROR(MATCH(AI12,Feiertage!$A$8:$A$19,0))*IF(OR(AI12<$M$3,AI12>$BU$36),0,INDEX($M$4:$N$10,WEEKDAY(AI12,2),(AI12>=$M$3)*(AI12<$N$3)+2*(AI12>=$N$3)*(AI12<=$BU$36)))} -> 8 | BT12: {=ISERROR(MATCH(AK12,Feiertage!$A$8:$A$19,0))*IF(OR(AK12<$M$3,AK12>$BU$36),0,INDEX($M$4:$N$10,WEEKDAY(AK12,2),(AK12>=$M$3)*(AK12<$N$3)+2*(AK12>=$N$3)*(AK12<=$BU$36)))} -> 0 | BV12: {=ISERROR(MATCH(AM12,Feiertage!$A$8:$A$19,0))*IF(OR(AM12<$M$3,AM12>$BU$36),0,INDEX($M$4:$N$10,WEEKDAY(AM12,2),(AM12>=$M$3)*(AM12<$N$3)+2*(AM12>=$N$3)*(AM12<=$BU$36)))} -> 0 | CA12: {=ISERROR(MATCH(Q12,$AO$3:$AQ$3,0))*IF(OR(Q12<$M$3,Q12>$BU$36),0,INDEX($M$4:$N$10,WEEKDAY(Q12,2),(Q12>=$M$3)*(Q12<$N$3)+2*(Q12>=$N$3)*(Q12<=$BU$36)))} -> 8 | CC12: {=ISERROR(MATCH(S12,$AO$3:$AQ$3,0))*IF(OR(S12<$M$3,S12>$BU$36),0,INDEX($M$4:$N$10,WEEKDAY(S12,2),(S12>=$M$3)*(S12<$N$3)+2*(S12>=$N$3)*(S12<=$BU$36)))} -> 0 | CE12: {=ISERROR(MATCH(U12,$AO$3:$AQ$3,0))*IF(OR(U12<$M$3,U12>$BU$36),0,INDEX($M$4:$N$10,WEEKDAY(U12,2),(U12>=$M$3)*(U12<$N$3)+2*(U12>=$N$3)*(U12<=$BU$36)))} -> 0 | CG12: {=ISERROR(MATCH(W12,$AO$3:$AQ$3,0))*IF(OR(W12<$M$3,W12>$BU$36),0,INDEX($M$4:$N$10,WEEKDAY(W12,2),(W12>=$M$3)*(W12<$N$3)+2*(W12>=$N$3)*(W12<=$BU$36)))} -> 8 | CI12: {=ISERROR(MATCH(Y12,$AO$3:$AQ$3,0))*IF(OR(Y12<$M$3,Y12>$BU$36),0,INDEX($M$4:$N$10,WEEKDAY(Y12,2),(Y12>=$M$3)*(Y12<$N$3)+2*(Y12>=$N$3)*(Y12<=$BU$36)))} -> 8 | CK12: {=ISERROR(MATCH(AA12,$AO$3:$AQ$3,0))*IF(OR(AA12<$M$3,AA12>$BU$36),0,INDEX($M$4:$N$10,WEEKDAY(AA12,2),(AA12>=$M$3)*(AA12<$N$3)+2*(AA12>=$N$3)*(AA12<=$BU$36)))} -> 0 | CM12: {=ISERROR(MATCH(AC12,$AO$3:$AQ$3,0))*IF(OR(AC12<$M$3,AC12>$BU$36),0,INDEX($M$4:$N$10,WEEKDAY(AC12,2),(AC12>=$M$3)*(AC12<$N$3)+2*(AC12>=$N$3)*(AC12<=$BU$36)))} -> 8 | CO12: {=ISERROR(MATCH(AE12,$AO$3:$AQ$3,0))*IF(OR(AE12<$M$3,AE12>$BU$36),0,INDEX($M$4:$N$10,WEEKDAY(AE12,2),(AE12>=$M$3)*(AE12<$N$3)+2*(AE12>=$N$3)*(AE12<=$BU$36)))} -> 8 | CQ12: {=ISERROR(MATCH(AG12,$AO$3:$AQ$3,0))*IF(OR(AG12<$M$3,AG12>$BU$36),0,INDEX($M$4:$N$10,WEEKDAY(AG12,2),(AG12>=$M$3)*(AG12<$N$3)+2*(AG12>=$N$3)*(AG12<=$BU$36)))} -> 0 | CS12: {=ISERROR(MATCH(AI12,$AO$3:$AQ$3,0))*IF(OR(AI12<$M$3,AI12>$BU$36),0,INDEX($M$4:$N$10,WEEKDAY(AI12,2),(AI12>=$M$3)*(AI12<$N$3)+2*(AI12>=$N$3)*(AI12<=$BU$36)))} -> 8 | CU12: {=ISERROR(MATCH(AK12,$AO$3:$AQ$3,0))*IF(OR(AK12<$M$3,AK12>$BU$36),0,INDEX($M$4:$N$10,WEEKDAY(AK12,2),(AK12>=$M$3)*(AK12<$N$3)+2*(AK12>=$N$3)*(AK12<=$BU$36)))} -> 0 | CW12: {=ISERROR(MATCH(AM12,$AO$3:$AQ$3,0))*IF(OR(AM12<$M$3,AM12>$BU$36),0,INDEX($M$4:$N$10,WEEKDAY(AM12,2),(AM12>=$M$3)*(AM12<$N$3)+2*(AM12>=$N$3)*(AM12<=$BU$36)))} -> 0
A13: Urlaub | D13: Urlaubs- tage | F13: Erstattungssatz | I13: 0.55 | K13: 0.65 | M13: 0.75 | P13: =IF(MONTH(Q12+1)=MONTH(Q$2),Q12+1,"") -> 44573 | Q13: =IF(MONTH(Q12+1)=MONTH(Q$2),Q12+1,"") -> 44573 | R13: =IF(MONTH(R12+1)=MONTH(R$2),R12+1,"") -> 44604 | S13: =IF(MONTH(S12+1)=MONTH(S$2),S12+1,"") -> 44604 | T13: =IF(MONTH(T12+1)=MONTH(T$2),T12+1,"") -> 44632 | U13: =IF(MONTH(U12+1)=MONTH(U$2),U12+1,"") -> 44632 | V13: =IF(MONTH(V12+1)=MONTH(V$2),V12+1,"") -> 44663 | W13: =IF(MONTH(W12+1)=MONTH(W$2),W12+1,"") -> 44663 | X13: =IF(MONTH(X12+1)=MONTH(X$2),X12+1,"") -> 44693 | ... AM13: =IF(MONTH(AM12+1)=MONTH(AM$2),AM12+1,"") -> 44907 | AZ13: {=ISERROR(MATCH(Q13,Feiertage!$A$8:$A$19,0))*IF(OR(Q13<$M$3,Q13>$BU$36),0,INDEX($M$4:$N$10,WEEKDAY(Q13,2),(Q13>=$M$3)*(Q13<$N$3)+2*(Q13>=$N$3)*(Q13<=$BU$36)))} -> 8 | BB13: {=ISERROR(MATCH(S13,Feiertage!$A$8:$A$19,0))*IF(OR(S13<$M$3,S13>$BU$36),0,INDEX($M$4:$N$10,WEEKDAY(S13,2),(S13>=$M$3)*(S13<$N$3)+2*(S13>=$N$3)*(S13<=$BU$36)))} -> 0 | BD13: {=ISERROR(MATCH(U13,Feiertage!$A$8:$A$19,0))*IF(OR(U13<$M$3,U13>$BU$36),0,INDEX($M$4:$N$10,WEEKDAY(U13,2),(U13>=$M$3)*(U13<$N$3)+2*(U13>=$N$3)*(U13<=$BU$36)))} -> 0 | BF13: {=ISERROR(MATCH(W13,Feiertage!$A$8:$A$19,0))*IF(OR(W13<$M$3,W13>$BU$36),0,INDEX($M$4:$N$10,WEEKDAY(W13,2),(W13>=$M$3)*(W13<$N$3)+2*(W13>=$N$3)*(W13<=$BU$36)))} -> 8 | BH13: {=ISERROR(MATCH(Y13,Feiertage!$A$8:$A$19,0))*IF(OR(Y13<$M$3,Y13>$BU$36),0,INDEX($M$4:$N$10,WEEKDAY(Y13,2),(Y13>=$M$3)*(Y13<$N$3)+2*(Y13>=$N$3)*(Y13<=$BU$36)))} -> 8 | BJ13: {=ISERROR(MATCH(AA13,Feiertage!$A$8:$A$19,0))*IF(OR(AA13<$M$3,AA13>$BU$36),0,INDEX($M$4:$N$10,WEEKDAY(AA13,2),(AA13>=$M$3)*(AA13<$N$3)+2*(AA13>=$N$3)*(AA13<=$BU$36)))} -> 0 | BL13: {=ISERROR(MATCH(AC13,Feiertage!$A$8:$A$19,0))*IF(OR(AC13<$M$3,AC13>$BU$36),0,INDEX($M$4:$N$10,WEEKDAY(AC13,2),(AC13>=$M$3)*(AC13<$N$3)+2*(AC13>=$N$3)*(AC13<=$BU$36)))} -> 8 | BN13: {=ISERROR(MATCH(AE13,Feiertage!$A$8:$A$19,0))*IF(OR(AE13<$M$3,AE13>$BU$36),0,INDEX($M$4:$N$10,WEEKDAY(AE13,2),(AE13>=$M$3)*(AE13<$N$3)+2*(AE13>=$N$3)*(AE13<=$BU$36)))} -> 0 | BP13: {=ISERROR(MATCH(AG13,Feiertage!$A$8:$A$19,0))*IF(OR(AG13<$M$3,AG13>$BU$36),0,INDEX($M$4:$N$10,WEEKDAY(AG13,2),(AG13>=$M$3)*(AG13<$N$3)+2*(AG13>=$N$3)*(AG13<=$BU$36)))} -> 8 | BR13: {=ISERROR(MATCH(AI13,Feiertage!$A$8:$A$19,0))*IF(OR(AI13<$M$3,AI13>$BU$36),0,INDEX($M$4:$N$10,WEEKDAY(AI13,2),(AI13>=$M$3)*(AI13<$N$3)+2*(AI13>=$N$3)*(AI13<=$BU$36)))} -> 8 | BT13: {=ISERROR(MATCH(AK13,Feiertage!$A$8:$A$19,0))*IF(OR(AK13<$M$3,AK13>$BU$36),0,INDEX($M$4:$N$10,WEEKDAY(AK13,2),(AK13>=$M$3)*(AK13<$N$3)+2*(AK13>=$N$3)*(AK13<=$BU$36)))} -> 0 | BV13: {=ISERROR(MATCH(AM13,Feiertage!$A$8:$A$19,0))*IF(OR(AM13<$M$3,AM13>$BU$36),0,INDEX($M$4:$N$10,WEEKDAY(AM13,2),(AM13>=$M$3)*(AM13<$N$3)+2*(AM13>=$N$3)*(AM13<=$BU$36)))} -> 8 | CA13: {=ISERROR(MATCH(Q13,$AO$3:$AQ$3,0))*IF(OR(Q13<$M$3,Q13>$BU$36),0,INDEX($M$4:$N$10,WEEKDAY(Q13,2),(Q13>=$M$3)*(Q13<$N$3)+2*(Q13>=$N$3)*(Q13<=$BU$36)))} -> 8 | CC13: {=ISERROR(MATCH(S13,$AO$3:$AQ$3,0))*IF(OR(S13<$M$3,S13>$BU$36),0,INDEX($M$4:$N$10,WEEKDAY(S13,2),(S13>=$M$3)*(S13<$N$3)+2*(S13>=$N$3)*(S13<=$BU$36)))} -> 0 | CE13: {=ISERROR(MATCH(U13,$AO$3:$AQ$3,0))*IF(OR(U13<$M$3,U13>$BU$36),0,INDEX($M$4:$N$10,WEEKDAY(U13,2),(U13>=$M$3)*(U13<$N$3)+2*(U13>=$N$3)*(U13<=$BU$36)))} -> 0 | CG13: {=ISERROR(MATCH(W13,$AO$3:$AQ$3,0))*IF(OR(W13<$M$3,W13>$BU$36),0,INDEX($M$4:$N$10,WEEKDAY(W13,2),(W13>=$M$3)*(W13<$N$3)+2*(W13>=$N$3)*(W13<=$BU$36)))} -> 8 | CI13: {=ISERROR(MATCH(Y13,$AO$3:$AQ$3,0))*IF(OR(Y13<$M$3,Y13>$BU$36),0,INDEX($M$4:$N$10,WEEKDAY(Y13,2),(Y13>=$M$3)*(Y13<$N$3)+2*(Y13>=$N$3)*(Y13<=$BU$36)))} -> 8 | CK13: {=ISERROR(MATCH(AA13,$AO$3:$AQ$3,0))*IF(OR(AA13<$M$3,AA13>$BU$36),0,INDEX($M$4:$N$10,WEEKDAY(AA13,2),(AA13>=$M$3)*(AA13<$N$3)+2*(AA13>=$N$3)*(AA13<=$BU$36)))} -> 0 | CM13: {=ISERROR(MATCH(AC13,$AO$3:$AQ$3,0))*IF(OR(AC13<$M$3,AC13>$BU$36),0,INDEX($M$4:$N$10,WEEKDAY(AC13,2),(AC13>=$M$3)*(AC13<$N$3)+2*(AC13>=$N$3)*(AC13<=$BU$36)))} -> 8 | CO13: {=ISERROR(MATCH(AE13,$AO$3:$AQ$3,0))*IF(OR(AE13<$M$3,AE13>$BU$36),0,INDEX($M$4:$N$10,WEEKDAY(AE13,2),(AE13>=$M$3)*(AE13<$N$3)+2*(AE13>=$N$3)*(AE13<=$BU$36)))} -> 0 | CQ13: {=ISERROR(MATCH(AG13,$AO$3:$AQ$3,0))*IF(OR(AG13<$M$3,AG13>$BU$36),0,INDEX($M$4:$N$10,WEEKDAY(AG13,2),(AG13>=$M$3)*(AG13<$N$3)+2*(AG13>=$N$3)*(AG13<=$BU$36)))} -> 8 | CS13: {=ISERROR(MATCH(AI13,$AO$3:$AQ$3,0))*IF(OR(AI13<$M$3,AI13>$BU$36),0,INDEX($M$4:$N$10,WEEKDAY(AI13,2),(AI13>=$M$3)*(AI13<$N$3)+2*(AI13>=$N$3)*(AI13<=$BU$36)))} -> 8 | CU13: {=ISERROR(MATCH(AK13,$AO$3:$AQ$3,0))*IF(OR(AK13<$M$3,AK13>$BU$36),0,INDEX($M$4:$N$10,WEEKDAY(AK13,2),(AK13>=$M$3)*(AK13<$N$3)+2*(AK13>=$N$3)*(AK13<=$BU$36)))} -> 0 | CW13: {=ISERROR(MATCH(AM13,$AO$3:$AQ$3,0))*IF(OR(AM13<$M$3,AM13>$BU$36),0,INDEX($M$4:$N$10,WEEKDAY(AM13,2),(AM13>=$M$3)*(AM13<$N$3)+2*(AM13>=$N$3)*(AM13<=$BU$36)))} -> 8
A14: von | B14: bis | F14: Beitragssatz | I14: 0.02 | K14: 0.026 | M14: 0.035 | P14: =IF(MONTH(Q13+1)=MONTH(Q$2),Q13+1,"") -> 44574 | Q14: =IF(MONTH(Q13+1)=MONTH(Q$2),Q13+1,"") -> 44574 | R14: =IF(MONTH(R13+1)=MONTH(R$2),R13+1,"") -> 44605 | S14: =IF(MONTH(S13+1)=MONTH(S$2),S13+1,"") -> 44605 | T14: =IF(MONTH(T13+1)=MONTH(T$2),T13+1,"") -> 44633 | U14: =IF(MONTH(U13+1)=MONTH(U$2),U13+1,"") -> 44633 | V14: =IF(MONTH(V13+1)=MONTH(V$2),V13+1,"") -> 44664 | W14: =IF(MONTH(W13+1)=MONTH(W$2),W13+1,"") -> 44664 | X14: =IF(MONTH(X13+1)=MONTH(X$2),X13+1,"") -> 44694 | ... AM14: =IF(MONTH(AM13+1)=MONTH(AM$2),AM13+1,"") -> 44908 | AZ14: {=ISERROR(MATCH(Q14,Feiertage!$A$8:$A$19,0))*IF(OR(Q14<$M$3,Q14>$BU$36),0,INDEX($M$4:$N$10,WEEKDAY(Q14,2),(Q14>=$M$3)*(Q14<$N$3)+2*(Q14>=$N$3)*(Q14<=$BU$36)))} -> 8 | BB14: {=ISERROR(MATCH(S14,Feiertage!$A$8:$A$19,0))*IF(OR(S14<$M$3,S14>$BU$36),0,INDEX($M$4:$N$10,WEEKDAY(S14,2),(S14>=$M$3)*(S14<$N$3)+2*(S14>=$N$3)*(S14<=$BU$36)))} -> 0 | BD14: {=ISERROR(MATCH(U14,Feiertage!$A$8:$A$19,0))*IF(OR(U14<$M$3,U14>$BU$36),0,INDEX($M$4:$N$10,WEEKDAY(U14,2),(U14>=$M$3)*(U14<$N$3)+2*(U14>=$N$3)*(U14<=$BU$36)))} -> 0 | BF14: {=ISERROR(MATCH(W14,Feiertage!$A$8:$A$19,0))*IF(OR(W14<$M$3,W14>$BU$36),0,INDEX($M$4:$N$10,WEEKDAY(W14,2),(W14>=$M$3)*(W14<$N$3)+2*(W14>=$N$3)*(W14<=$BU$36)))} -> 8 | BH14: {=ISERROR(MATCH(Y14,Feiertage!$A$8:$A$19,0))*IF(OR(Y14<$M$3,Y14>$BU$36),0,INDEX($M$4:$N$10,WEEKDAY(Y14,2),(Y14>=$M$3)*(Y14<$N$3)+2*(Y14>=$N$3)*(Y14<=$BU$36)))} -> 0 | BJ14: {=ISERROR(MATCH(AA14,Feiertage!$A$8:$A$19,0))*IF(OR(AA14<$M$3,AA14>$BU$36),0,INDEX($M$4:$N$10,WEEKDAY(AA14,2),(AA14>=$M$3)*(AA14<$N$3)+2*(AA14>=$N$3)*(AA14<=$BU$36)))} -> 8 | BL14: {=ISERROR(MATCH(AC14,Feiertage!$A$8:$A$19,0))*IF(OR(AC14<$M$3,AC14>$BU$36),0,INDEX($M$4:$N$10,WEEKDAY(AC14,2),(AC14>=$M$3)*(AC14<$N$3)+2*(AC14>=$N$3)*(AC14<=$BU$36)))} -> 8 | BN14: {=ISERROR(MATCH(AE14,Feiertage!$A$8:$A$19,0))*IF(OR(AE14<$M$3,AE14>$BU$36),0,INDEX($M$4:$N$10,WEEKDAY(AE14,2),(AE14>=$M$3)*(AE14<$N$3)+2*(AE14>=$N$3)*(AE14<=$BU$36)))} -> 0 | BP14: {=ISERROR(MATCH(AG14,Feiertage!$A$8:$A$19,0))*IF(OR(AG14<$M$3,AG14>$BU$36),0,INDEX($M$4:$N$10,WEEKDAY(AG14,2),(AG14>=$M$3)*(AG14<$N$3)+2*(AG14>=$N$3)*(AG14<=$BU$36)))} -> 8 | BR14: {=ISERROR(MATCH(AI14,Feiertage!$A$8:$A$19,0))*IF(OR(AI14<$M$3,AI14>$BU$36),0,INDEX($M$4:$N$10,WEEKDAY(AI14,2),(AI14>=$M$3)*(AI14<$N$3)+2*(AI14>=$N$3)*(AI14<=$BU$36)))} -> 8 | BT14: {=ISERROR(MATCH(AK14,Feiertage!$A$8:$A$19,0))*IF(OR(AK14<$M$3,AK14>$BU$36),0,INDEX($M$4:$N$10,WEEKDAY(AK14,2),(AK14>=$M$3)*(AK14<$N$3)+2*(AK14>=$N$3)*(AK14<=$BU$36)))} -> 0 | BV14: {=ISERROR(MATCH(AM14,Feiertage!$A$8:$A$19,0))*IF(OR(AM14<$M$3,AM14>$BU$36),0,INDEX($M$4:$N$10,WEEKDAY(AM14,2),(AM14>=$M$3)*(AM14<$N$3)+2*(AM14>=$N$3)*(AM14<=$BU$36)))} -> 8 | CA14: {=ISERROR(MATCH(Q14,$AO$3:$AQ$3,0))*IF(OR(Q14<$M$3,Q14>$BU$36),0,INDEX($M$4:$N$10,WEEKDAY(Q14,2),(Q14>=$M$3)*(Q14<$N$3)+2*(Q14>=$N$3)*(Q14<=$BU$36)))} -> 8 | CC14: {=ISERROR(MATCH(S14,$AO$3:$AQ$3,0))*IF(OR(S14<$M$3,S14>$BU$36),0,INDEX($M$4:$N$10,WEEKDAY(S14,2),(S14>=$M$3)*(S14<$N$3)+2*(S14>=$N$3)*(S14<=$BU$36)))} -> 0 | CE14: {=ISERROR(MATCH(U14,$AO$3:$AQ$3,0))*IF(OR(U14<$M$3,U14>$BU$36),0,INDEX($M$4:$N$10,WEEKDAY(U14,2),(U14>=$M$3)*(U14<$N$3)+2*(U14>=$N$3)*(U14<=$BU$36)))} -> 0 | CG14: {=ISERROR(MATCH(W14,$AO$3:$AQ$3,0))*IF(OR(W14<$M$3,W14>$BU$36),0,INDEX($M$4:$N$10,WEEKDAY(W14,2),(W14>=$M$3)*(W14<$N$3)+2*(W14>=$N$3)*(W14<=$BU$36)))} -> 8 | CI14: {=ISERROR(MATCH(Y14,$AO$3:$AQ$3,0))*IF(OR(Y14<$M$3,Y14>$BU$36),0,INDEX($M$4:$N$10,WEEKDAY(Y14,2),(Y14>=$M$3)*(Y14<$N$3)+2*(Y14>=$N$3)*(Y14<=$BU$36)))} -> 0 | CK14: {=ISERROR(MATCH(AA14,$AO$3:$AQ$3,0))*IF(OR(AA14<$M$3,AA14>$BU$36),0,INDEX($M$4:$N$10,WEEKDAY(AA14,2),(AA14>=$M$3)*(AA14<$N$3)+2*(AA14>=$N$3)*(AA14<=$BU$36)))} -> 8 | CM14: {=ISERROR(MATCH(AC14,$AO$3:$AQ$3,0))*IF(OR(AC14<$M$3,AC14>$BU$36),0,INDEX($M$4:$N$10,WEEKDAY(AC14,2),(AC14>=$M$3)*(AC14<$N$3)+2*(AC14>=$N$3)*(AC14<=$BU$36)))} -> 8 | CO14: {=ISERROR(MATCH(AE14,$AO$3:$AQ$3,0))*IF(OR(AE14<$M$3,AE14>$BU$36),0,INDEX($M$4:$N$10,WEEKDAY(AE14,2),(AE14>=$M$3)*(AE14<$N$3)+2*(AE14>=$N$3)*(AE14<=$BU$36)))} -> 0 | CQ14: {=ISERROR(MATCH(AG14,$AO$3:$AQ$3,0))*IF(OR(AG14<$M$3,AG14>$BU$36),0,INDEX($M$4:$N$10,WEEKDAY(AG14,2),(AG14>=$M$3)*(AG14<$N$3)+2*(AG14>=$N$3)*(AG14<=$BU$36)))} -> 8 | CS14: {=ISERROR(MATCH(AI14,$AO$3:$AQ$3,0))*IF(OR(AI14<$M$3,AI14>$BU$36),0,INDEX($M$4:$N$10,WEEKDAY(AI14,2),(AI14>=$M$3)*(AI14<$N$3)+2*(AI14>=$N$3)*(AI14<=$BU$36)))} -> 8 | CU14: {=ISERROR(MATCH(AK14,$AO$3:$AQ$3,0))*IF(OR(AK14<$M$3,AK14>$BU$36),0,INDEX($M$4:$N$10,WEEKDAY(AK14,2),(AK14>=$M$3)*(AK14<$N$3)+2*(AK14>=$N$3)*(AK14<=$BU$36)))} -> 0 | CW14: {=ISERROR(MATCH(AM14,$AO$3:$AQ$3,0))*IF(OR(AM14<$M$3,AM14>$BU$36),0,INDEX($M$4:$N$10,WEEKDAY(AM14,2),(AM14>=$M$3)*(AM14<$N$3)+2*(AM14>=$N$3)*(AM14<=$BU$36)))} -> 8
A15: 44562 | B15: 44568 | D15: {=IF(B15="","",SUMPRODUCT(($Q$2:$AM$32>=A15)*($Q$2:$AM$32<=B15)*($AZ$2:$BV$32>0)))} -> 4 | F15: Jahresbeitrag | I15: =IF(I$13="","",$N$31*I$14) -> 692.16 | K15: =IF(K$13="","",$N$31*K$14) -> 899.808 | M15: =IF(M$13="","",$N$31*M$14) -> 1211.28 | N15: =IF(N$13="","",$N$31*N$14) | P15: =IF(MONTH(Q14+1)=MONTH(Q$2),Q14+1,"") -> 44575 | Q15: =IF(MONTH(Q14+1)=MONTH(Q$2),Q14+1,"") -> 44575 | R15: =IF(MONTH(R14+1)=MONTH(R$2),R14+1,"") -> 44606 | S15: =IF(MONTH(S14+1)=MONTH(S$2),S14+1,"") -> 44606 | T15: =IF(MONTH(T14+1)=MONTH(T$2),T14+1,"") -> 44634 | U15: =IF(MONTH(U14+1)=MONTH(U$2),U14+1,"") -> 44634 | V15: =IF(MONTH(V14+1)=MONTH(V$2),V14+1,"") -> 44665 | W15: =IF(MONTH(W14+1)=MONTH(W$2),W14+1,"") -> 44665 | X15: =IF(MONTH(X14+1)=MONTH(X$2),X14+1,"") -> 44695 | ... AM15: =IF(MONTH(AM14+1)=MONTH(AM$2),AM14+1,"") -> 44909 | AZ15: {=ISERROR(MATCH(Q15,Feiertage!$A$8:$A$19,0))*IF(OR(Q15<$M$3,Q15>$BU$36),0,INDEX($M$4:$N$10,WEEKDAY(Q15,2),(Q15>=$M$3)*(Q15<$N$3)+2*(Q15>=$N$3)*(Q15<=$BU$36)))} -> 0 | BB15: {=ISERROR(MATCH(S15,Feiertage!$A$8:$A$19,0))*IF(OR(S15<$M$3,S15>$BU$36),0,INDEX($M$4:$N$10,WEEKDAY(S15,2),(S15>=$M$3)*(S15<$N$3)+2*(S15>=$N$3)*(S15<=$BU$36)))} -> 8 | BD15: {=ISERROR(MATCH(U15,Feiertage!$A$8:$A$19,0))*IF(OR(U15<$M$3,U15>$BU$36),0,INDEX($M$4:$N$10,WEEKDAY(U15,2),(U15>=$M$3)*(U15<$N$3)+2*(U15>=$N$3)*(U15<=$BU$36)))} -> 8 | BF15: {=ISERROR(MATCH(W15,Feiertage!$A$8:$A$19,0))*IF(OR(W15<$M$3,W15>$BU$36),0,INDEX($M$4:$N$10,WEEKDAY(W15,2),(W15>=$M$3)*(W15<$N$3)+2*(W15>=$N$3)*(W15<=$BU$36)))} -> 8 | BH15: {=ISERROR(MATCH(Y15,Feiertage!$A$8:$A$19,0))*IF(OR(Y15<$M$3,Y15>$BU$36),0,INDEX($M$4:$N$10,WEEKDAY(Y15,2),(Y15>=$M$3)*(Y15<$N$3)+2*(Y15>=$N$3)*(Y15<=$BU$36)))} -> 0 | BJ15: {=ISERROR(MATCH(AA15,Feiertage!$A$8:$A$19,0))*IF(OR(AA15<$M$3,AA15>$BU$36),0,INDEX($M$4:$N$10,WEEKDAY(AA15,2),(AA15>=$M$3)*(AA15<$N$3)+2*(AA15>=$N$3)*(AA15<=$BU$36)))} -> 8 | BL15: {=ISERROR(MATCH(AC15,Feiertage!$A$8:$A$19,0))*IF(OR(AC15<$M$3,AC15>$BU$36),0,INDEX($M$4:$N$10,WEEKDAY(AC15,2),(AC15>=$M$3)*(AC15<$N$3)+2*(AC15>=$N$3)*(AC15<=$BU$36)))} -> 8 | BN15: {=ISERROR(MATCH(AE15,Feiertage!$A$8:$A$19,0))*IF(OR(AE15<$M$3,AE15>$BU$36),0,INDEX($M$4:$N$10,WEEKDAY(AE15,2),(AE15>=$M$3)*(AE15<$N$3)+2*(AE15>=$N$3)*(AE15<=$BU$36)))} -> 0 | BP15: {=ISERROR(MATCH(AG15,Feiertage!$A$8:$A$19,0))*IF(OR(AG15<$M$3,AG15>$BU$36),0,INDEX($M$4:$N$10,WEEKDAY(AG15,2),(AG15>=$M$3)*(AG15<$N$3)+2*(AG15>=$N$3)*(AG15<=$BU$36)))} -> 8 | BR15: {=ISERROR(MATCH(AI15,Feiertage!$A$8:$A$19,0))*IF(OR(AI15<$M$3,AI15>$BU$36),0,INDEX($M$4:$N$10,WEEKDAY(AI15,2),(AI15>=$M$3)*(AI15<$N$3)+2*(AI15>=$N$3)*(AI15<=$BU$36)))} -> 0 | BT15: {=ISERROR(MATCH(AK15,Feiertage!$A$8:$A$19,0))*IF(OR(AK15<$M$3,AK15>$BU$36),0,INDEX($M$4:$N$10,WEEKDAY(AK15,2),(AK15>=$M$3)*(AK15<$N$3)+2*(AK15>=$N$3)*(AK15<=$BU$36)))} -> 8 | BV15: {=ISERROR(MATCH(AM15,Feiertage!$A$8:$A$19,0))*IF(OR(AM15<$M$3,AM15>$BU$36),0,INDEX($M$4:$N$10,WEEKDAY(AM15,2),(AM15>=$M$3)*(AM15<$N$3)+2*(AM15>=$N$3)*(AM15<=$BU$36)))} -> 8 | CA15: {=ISERROR(MATCH(Q15,$AO$3:$AQ$3,0))*IF(OR(Q15<$M$3,Q15>$BU$36),0,INDEX($M$4:$N$10,WEEKDAY(Q15,2),(Q15>=$M$3)*(Q15<$N$3)+2*(Q15>=$N$3)*(Q15<=$BU$36)))} -> 0 | CC15: {=ISERROR(MATCH(S15,$AO$3:$AQ$3,0))*IF(OR(S15<$M$3,S15>$BU$36),0,INDEX($M$4:$N$10,WEEKDAY(S15,2),(S15>=$M$3)*(S15<$N$3)+2*(S15>=$N$3)*(S15<=$BU$36)))} -> 8 | CE15: {=ISERROR(MATCH(U15,$AO$3:$AQ$3,0))*IF(OR(U15<$M$3,U15>$BU$36),0,INDEX($M$4:$N$10,WEEKDAY(U15,2),(U15>=$M$3)*(U15<$N$3)+2*(U15>=$N$3)*(U15<=$BU$36)))} -> 8 | CG15: {=ISERROR(MATCH(W15,$AO$3:$AQ$3,0))*IF(OR(W15<$M$3,W15>$BU$36),0,INDEX($M$4:$N$10,WEEKDAY(W15,2),(W15>=$M$3)*(W15<$N$3)+2*(W15>=$N$3)*(W15<=$BU$36)))} -> 8 | CI15: {=ISERROR(MATCH(Y15,$AO$3:$AQ$3,0))*IF(OR(Y15<$M$3,Y15>$BU$36),0,INDEX($M$4:$N$10,WEEKDAY(Y15,2),(Y15>=$M$3)*(Y15<$N$3)+2*(Y15>=$N$3)*(Y15<=$BU$36)))} -> 0 | CK15: {=ISERROR(MATCH(AA15,$AO$3:$AQ$3,0))*IF(OR(AA15<$M$3,AA15>$BU$36),0,INDEX($M$4:$N$10,WEEKDAY(AA15,2),(AA15>=$M$3)*(AA15<$N$3)+2*(AA15>=$N$3)*(AA15<=$BU$36)))} -> 8 | CM15: {=ISERROR(MATCH(AC15,$AO$3:$AQ$3,0))*IF(OR(AC15<$M$3,AC15>$BU$36),0,INDEX($M$4:$N$10,WEEKDAY(AC15,2),(AC15>=$M$3)*(AC15<$N$3)+2*(AC15>=$N$3)*(AC15<=$BU$36)))} -> 8 | CO15: {=ISERROR(MATCH(AE15,$AO$3:$AQ$3,0))*IF(OR(AE15<$M$3,AE15>$BU$36),0,INDEX($M$4:$N$10,WEEKDAY(AE15,2),(AE15>=$M$3)*(AE15<$N$3)+2*(AE15>=$N$3)*(AE15<=$BU$36)))} -> 0 | CQ15: {=ISERROR(MATCH(AG15,$AO$3:$AQ$3,0))*IF(OR(AG15<$M$3,AG15>$BU$36),0,INDEX($M$4:$N$10,WEEKDAY(AG15,2),(AG15>=$M$3)*(AG15<$N$3)+2*(AG15>=$N$3)*(AG15<=$BU$36)))} -> 8 | CS15: {=ISERROR(MATCH(AI15,$AO$3:$AQ$3,0))*IF(OR(AI15<$M$3,AI15>$BU$36),0,INDEX($M$4:$N$10,WEEKDAY(AI15,2),(AI15>=$M$3)*(AI15<$N$3)+2*(AI15>=$N$3)*(AI15<=$BU$36)))} -> 0 | CU15: {=ISERROR(MATCH(AK15,$AO$3:$AQ$3,0))*IF(OR(AK15<$M$3,AK15>$BU$36),0,INDEX($M$4:$N$10,WEEKDAY(AK15,2),(AK15>=$M$3)*(AK15<$N$3)+2*(AK15>=$N$3)*(AK15<=$BU$36)))} -> 8 | CW15: {=ISERROR(MATCH(AM15,$AO$3:$AQ$3,0))*IF(OR(AM15<$M$3,AM15>$BU$36),0,INDEX($M$4:$N$10,WEEKDAY(AM15,2),(AM15>=$M$3)*(AM15<$N$3)+2*(AM15>=$N$3)*(AM15<=$BU$36)))} -> 8
A16: 44629 | B16: 44629 | D16: {=IF(B16="","",SUMPRODUCT(($Q$2:$AM$32>=A16)*($Q$2:$AM$32<=B16)*($AZ$2:$BV$32>0)))} -> 1 | P16: =IF(MONTH(Q15+1)=MONTH(Q$2),Q15+1,"") -> 44576 | Q16: =IF(MONTH(Q15+1)=MONTH(Q$2),Q15+1,"") -> 44576 | R16: =IF(MONTH(R15+1)=MONTH(R$2),R15+1,"") -> 44607 | S16: =IF(MONTH(S15+1)=MONTH(S$2),S15+1,"") -> 44607 | T16: =IF(MONTH(T15+1)=MONTH(T$2),T15+1,"") -> 44635 | U16: =IF(MONTH(U15+1)=MONTH(U$2),U15+1,"") -> 44635 | V16: =IF(MONTH(V15+1)=MONTH(V$2),V15+1,"") -> 44666 | W16: =IF(MONTH(W15+1)=MONTH(W$2),W15+1,"") -> 44666 | X16: =IF(MONTH(X15+1)=MONTH(X$2),X15+1,"") -> 44696 | ... AM16: =IF(MONTH(AM15+1)=MONTH(AM$2),AM15+1,"") -> 44910 | AO16: Krank mit Krankengeld ohne Entgeltfortzahlung | AT16: Sonderurlaub (bezahlte Freistellung) | AZ16: {=ISERROR(MATCH(Q16,Feiertage!$A$8:$A$19,0))*IF(OR(Q16<$M$3,Q16>$BU$36),0,INDEX($M$4:$N$10,WEEKDAY(Q16,2),(Q16>=$M$3)*(Q16<$N$3)+2*(Q16>=$N$3)*(Q16<=$BU$36)))} -> 0 | BB16: {=ISERROR(MATCH(S16,Feiertage!$A$8:$A$19,0))*IF(OR(S16<$M$3,S16>$BU$36),0,INDEX($M$4:$N$10,WEEKDAY(S16,2),(S16>=$M$3)*(S16<$N$3)+2*(S16>=$N$3)*(S16<=$BU$36)))} -> 8 | BD16: {=ISERROR(MATCH(U16,Feiertage!$A$8:$A$19,0))*IF(OR(U16<$M$3,U16>$BU$36),0,INDEX($M$4:$N$10,WEEKDAY(U16,2),(U16>=$M$3)*(U16<$N$3)+2*(U16>=$N$3)*(U16<=$BU$36)))} -> 8 | BF16: {=ISERROR(MATCH(W16,Feiertage!$A$8:$A$19,0))*IF(OR(W16<$M$3,W16>$BU$36),0,INDEX($M$4:$N$10,WEEKDAY(W16,2),(W16>=$M$3)*(W16<$N$3)+2*(W16>=$N$3)*(W16<=$BU$36)))} -> 0 | BH16: {=ISERROR(MATCH(Y16,Feiertage!$A$8:$A$19,0))*IF(OR(Y16<$M$3,Y16>$BU$36),0,INDEX($M$4:$N$10,WEEKDAY(Y16,2),(Y16>=$M$3)*(Y16<$N$3)+2*(Y16>=$N$3)*(Y16<=$BU$36)))} -> 0 | BJ16: {=ISERROR(MATCH(AA16,Feiertage!$A$8:$A$19,0))*IF(OR(AA16<$M$3,AA16>$BU$36),0,INDEX($M$4:$N$10,WEEKDAY(AA16,2),(AA16>=$M$3)*(AA16<$N$3)+2*(AA16>=$N$3)*(AA16<=$BU$36)))} -> 8 | BL16: {=ISERROR(MATCH(AC16,Feiertage!$A$8:$A$19,0))*IF(OR(AC16<$M$3,AC16>$BU$36),0,INDEX($M$4:$N$10,WEEKDAY(AC16,2),(AC16>=$M$3)*(AC16<$N$3)+2*(AC16>=$N$3)*(AC16<=$BU$36)))} -> 0 | BN16: {=ISERROR(MATCH(AE16,Feiertage!$A$8:$A$19,0))*IF(OR(AE16<$M$3,AE16>$BU$36),0,INDEX($M$4:$N$10,WEEKDAY(AE16,2),(AE16>=$M$3)*(AE16<$N$3)+2*(AE16>=$N$3)*(AE16<=$BU$36)))} -> 8 | BP16: {=ISERROR(MATCH(AG16,Feiertage!$A$8:$A$19,0))*IF(OR(AG16<$M$3,AG16>$BU$36),0,INDEX($M$4:$N$10,WEEKDAY(AG16,2),(AG16>=$M$3)*(AG16<$N$3)+2*(AG16>=$N$3)*(AG16<=$BU$36)))} -> 8 | BR16: {=ISERROR(MATCH(AI16,Feiertage!$A$8:$A$19,0))*IF(OR(AI16<$M$3,AI16>$BU$36),0,INDEX($M$4:$N$10,WEEKDAY(AI16,2),(AI16>=$M$3)*(AI16<$N$3)+2*(AI16>=$N$3)*(AI16<=$BU$36)))} -> 0 | BT16: {=ISERROR(MATCH(AK16,Feiertage!$A$8:$A$19,0))*IF(OR(AK16<$M$3,AK16>$BU$36),0,INDEX($M$4:$N$10,WEEKDAY(AK16,2),(AK16>=$M$3)*(AK16<$N$3)+2*(AK16>=$N$3)*(AK16<=$BU$36)))} -> 8 | BV16: {=ISERROR(MATCH(AM16,Feiertage!$A$8:$A$19,0))*IF(OR(AM16<$M$3,AM16>$BU$36),0,INDEX($M$4:$N$10,WEEKDAY(AM16,2),(AM16>=$M$3)*(AM16<$N$3)+2*(AM16>=$N$3)*(AM16<=$BU$36)))} -> 8 | CA16: {=ISERROR(MATCH(Q16,$AO$3:$AQ$3,0))*IF(OR(Q16<$M$3,Q16>$BU$36),0,INDEX($M$4:$N$10,WEEKDAY(Q16,2),(Q16>=$M$3)*(Q16<$N$3)+2*(Q16>=$N$3)*(Q16<=$BU$36)))} -> 0 | CC16: {=ISERROR(MATCH(S16,$AO$3:$AQ$3,0))*IF(OR(S16<$M$3,S16>$BU$36),0,INDEX($M$4:$N$10,WEEKDAY(S16,2),(S16>=$M$3)*(S16<$N$3)+2*(S16>=$N$3)*(S16<=$BU$36)))} -> 8 | CE16: {=ISERROR(MATCH(U16,$AO$3:$AQ$3,0))*IF(OR(U16<$M$3,U16>$BU$36),0,INDEX($M$4:$N$10,WEEKDAY(U16,2),(U16>=$M$3)*(U16<$N$3)+2*(U16>=$N$3)*(U16<=$BU$36)))} -> 8 | CG16: {=ISERROR(MATCH(W16,$AO$3:$AQ$3,0))*IF(OR(W16<$M$3,W16>$BU$36),0,INDEX($M$4:$N$10,WEEKDAY(W16,2),(W16>=$M$3)*(W16<$N$3)+2*(W16>=$N$3)*(W16<=$BU$36)))} -> 0 | CI16: {=ISERROR(MATCH(Y16,$AO$3:$AQ$3,0))*IF(OR(Y16<$M$3,Y16>$BU$36),0,INDEX($M$4:$N$10,WEEKDAY(Y16,2),(Y16>=$M$3)*(Y16<$N$3)+2*(Y16>=$N$3)*(Y16<=$BU$36)))} -> 0 | CK16: {=ISERROR(MATCH(AA16,$AO$3:$AQ$3,0))*IF(OR(AA16<$M$3,AA16>$BU$36),0,INDEX($M$4:$N$10,WEEKDAY(AA16,2),(AA16>=$M$3)*(AA16<$N$3)+2*(AA16>=$N$3)*(AA16<=$BU$36)))} -> 8 | CM16: {=ISERROR(MATCH(AC16,$AO$3:$AQ$3,0))*IF(OR(AC16<$M$3,AC16>$BU$36),0,INDEX($M$4:$N$10,WEEKDAY(AC16,2),(AC16>=$M$3)*(AC16<$N$3)+2*(AC16>=$N$3)*(AC16<=$BU$36)))} -> 0 | CO16: {=ISERROR(MATCH(AE16,$AO$3:$AQ$3,0))*IF(OR(AE16<$M$3,AE16>$BU$36),0,INDEX($M$4:$N$10,WEEKDAY(AE16,2),(AE16>=$M$3)*(AE16<$N$3)+2*(AE16>=$N$3)*(AE16<=$BU$36)))} -> 8 | CQ16: {=ISERROR(MATCH(AG16,$AO$3:$AQ$3,0))*IF(OR(AG16<$M$3,AG16>$BU$36),0,INDEX($M$4:$N$10,WEEKDAY(AG16,2),(AG16>=$M$3)*(AG16<$N$3)+2*(AG16>=$N$3)*(AG16<=$BU$36)))} -> 8 | CS16: {=ISERROR(MATCH(AI16,$AO$3:$AQ$3,0))*IF(OR(AI16<$M$3,AI16>$BU$36),0,INDEX($M$4:$N$10,WEEKDAY(AI16,2),(AI16>=$M$3)*(AI16<$N$3)+2*(AI16>=$N$3)*(AI16<=$BU$36)))} -> 0 | CU16: {=ISERROR(MATCH(AK16,$AO$3:$AQ$3,0))*IF(OR(AK16<$M$3,AK16>$BU$36),0,INDEX($M$4:$N$10,WEEKDAY(AK16,2),(AK16>=$M$3)*(AK16<$N$3)+2*(AK16>=$N$3)*(AK16<=$BU$36)))} -> 8 | CW16: {=ISERROR(MATCH(AM16,$AO$3:$AQ$3,0))*IF(OR(AM16<$M$3,AM16>$BU$36),0,INDEX($M$4:$N$10,WEEKDAY(AM16,2),(AM16>=$M$3)*(AM16<$N$3)+2*(AM16>=$N$3)*(AM16<=$BU$36)))} -> 8
A17: 44662 | B17: 44672 | D17: {=IF(B17="","",SUMPRODUCT(($Q$2:$AM$32>=A17)*($Q$2:$AM$32<=B17)*($AZ$2:$BV$32>0)))} -> 7 | J17: Arbeits- stunden | K17: Zuschläge | M17: Über- stunden | P17: =IF(MONTH(Q16+1)=MONTH(Q$2),Q16+1,"") -> 44577 | Q17: =IF(MONTH(Q16+1)=MONTH(Q$2),Q16+1,"") -> 44577 | R17: =IF(MONTH(R16+1)=MONTH(R$2),R16+1,"") -> 44608 | S17: =IF(MONTH(S16+1)=MONTH(S$2),S16+1,"") -> 44608 | T17: =IF(MONTH(T16+1)=MONTH(T$2),T16+1,"") -> 44636 | U17: =IF(MONTH(U16+1)=MONTH(U$2),U16+1,"") -> 44636 | V17: =IF(MONTH(V16+1)=MONTH(V$2),V16+1,"") -> 44667 | W17: =IF(MONTH(W16+1)=MONTH(W$2),W16+1,"") -> 44667 | X17: =IF(MONTH(X16+1)=MONTH(X$2),X16+1,"") -> 44697 | ... AM17: =IF(MONTH(AM16+1)=MONTH(AM$2),AM16+1,"") -> 44911 | AZ17: {=ISERROR(MATCH(Q17,Feiertage!$A$8:$A$19,0))*IF(OR(Q17<$M$3,Q17>$BU$36),0,INDEX($M$4:$N$10,WEEKDAY(Q17,2),(Q17>=$M$3)*(Q17<$N$3)+2*(Q17>=$N$3)*(Q17<=$BU$36)))} -> 0 | BB17: {=ISERROR(MATCH(S17,Feiertage!$A$8:$A$19,0))*IF(OR(S17<$M$3,S17>$BU$36),0,INDEX($M$4:$N$10,WEEKDAY(S17,2),(S17>=$M$3)*(S17<$N$3)+2*(S17>=$N$3)*(S17<=$BU$36)))} -> 8 | BD17: {=ISERROR(MATCH(U17,Feiertage!$A$8:$A$19,0))*IF(OR(U17<$M$3,U17>$BU$36),0,INDEX($M$4:$N$10,WEEKDAY(U17,2),(U17>=$M$3)*(U17<$N$3)+2*(U17>=$N$3)*(U17<=$BU$36)))} -> 8 | BF17: {=ISERROR(MATCH(W17,Feiertage!$A$8:$A$19,0))*IF(OR(W17<$M$3,W17>$BU$36),0,INDEX($M$4:$N$10,WEEKDAY(W17,2),(W17>=$M$3)*(W17<$N$3)+2*(W17>=$N$3)*(W17<=$BU$36)))} -> 0 | BH17: {=ISERROR(MATCH(Y17,Feiertage!$A$8:$A$19,0))*IF(OR(Y17<$M$3,Y17>$BU$36),0,INDEX($M$4:$N$10,WEEKDAY(Y17,2),(Y17>=$M$3)*(Y17<$N$3)+2*(Y17>=$N$3)*(Y17<=$BU$36)))} -> 8 | BJ17: {=ISERROR(MATCH(AA17,Feiertage!$A$8:$A$19,0))*IF(OR(AA17<$M$3,AA17>$BU$36),0,INDEX($M$4:$N$10,WEEKDAY(AA17,2),(AA17>=$M$3)*(AA17<$N$3)+2*(AA17>=$N$3)*(AA17<=$BU$36)))} -> 8 | BL17: {=ISERROR(MATCH(AC17,Feiertage!$A$8:$A$19,0))*IF(OR(AC17<$M$3,AC17>$BU$36),0,INDEX($M$4:$N$10,WEEKDAY(AC17,2),(AC17>=$M$3)*(AC17<$N$3)+2*(AC17>=$N$3)*(AC17<=$BU$36)))} -> 0 | BN17: {=ISERROR(MATCH(AE17,Feiertage!$A$8:$A$19,0))*IF(OR(AE17<$M$3,AE17>$BU$36),0,INDEX($M$4:$N$10,WEEKDAY(AE17,2),(AE17>=$M$3)*(AE17<$N$3)+2*(AE17>=$N$3)*(AE17<=$BU$36)))} -> 8 | BP17: {=ISERROR(MATCH(AG17,Feiertage!$A$8:$A$19,0))*IF(OR(AG17<$M$3,AG17>$BU$36),0,INDEX($M$4:$N$10,WEEKDAY(AG17,2),(AG17>=$M$3)*(AG17<$N$3)+2*(AG17>=$N$3)*(AG17<=$BU$36)))} -> 0 | BR17: {=ISERROR(MATCH(AI17,Feiertage!$A$8:$A$19,0))*IF(OR(AI17<$M$3,AI17>$BU$36),0,INDEX($M$4:$N$10,WEEKDAY(AI17,2),(AI17>=$M$3)*(AI17<$N$3)+2*(AI17>=$N$3)*(AI17<=$BU$36)))} -> 0 | BT17: {=ISERROR(MATCH(AK17,Feiertage!$A$8:$A$19,0))*IF(OR(AK17<$M$3,AK17>$BU$36),0,INDEX($M$4:$N$10,WEEKDAY(AK17,2),(AK17>=$M$3)*(AK17<$N$3)+2*(AK17>=$N$3)*(AK17<=$BU$36)))} -> 8 | BV17: {=ISERROR(MATCH(AM17,Feiertage!$A$8:$A$19,0))*IF(OR(AM17<$M$3,AM17>$BU$36),0,INDEX($M$4:$N$10,WEEKDAY(AM17,2),(AM17>=$M$3)*(AM17<$N$3)+2*(AM17>=$N$3)*(AM17<=$BU$36)))} -> 0 | CA17: {=ISERROR(MATCH(Q17,$AO$3:$AQ$3,0))*IF(OR(Q17<$M$3,Q17>$BU$36),0,INDEX($M$4:$N$10,WEEKDAY(Q17,2),(Q17>=$M$3)*(Q17<$N$3)+2*(Q17>=$N$3)*(Q17<=$BU$36)))} -> 0 | CC17: {=ISERROR(MATCH(S17,$AO$3:$AQ$3,0))*IF(OR(S17<$M$3,S17>$BU$36),0,INDEX($M$4:$N$10,WEEKDAY(S17,2),(S17>=$M$3)*(S17<$N$3)+2*(S17>=$N$3)*(S17<=$BU$36)))} -> 8 | CE17: {=ISERROR(MATCH(U17,$AO$3:$AQ$3,0))*IF(OR(U17<$M$3,U17>$BU$36),0,INDEX($M$4:$N$10,WEEKDAY(U17,2),(U17>=$M$3)*(U17<$N$3)+2*(U17>=$N$3)*(U17<=$BU$36)))} -> 8 | CG17: {=ISERROR(MATCH(W17,$AO$3:$AQ$3,0))*IF(OR(W17<$M$3,W17>$BU$36),0,INDEX($M$4:$N$10,WEEKDAY(W17,2),(W17>=$M$3)*(W17<$N$3)+2*(W17>=$N$3)*(W17<=$BU$36)))} -> 0 | CI17: {=ISERROR(MATCH(Y17,$AO$3:$AQ$3,0))*IF(OR(Y17<$M$3,Y17>$BU$36),0,INDEX($M$4:$N$10,WEEKDAY(Y17,2),(Y17>=$M$3)*(Y17<$N$3)+2*(Y17>=$N$3)*(Y17<=$BU$36)))} -> 8 | CK17: {=ISERROR(MATCH(AA17,$AO$3:$AQ$3,0))*IF(OR(AA17<$M$3,AA17>$BU$36),0,INDEX($M$4:$N$10,WEEKDAY(AA17,2),(AA17>=$M$3)*(AA17<$N$3)+2*(AA17>=$N$3)*(AA17<=$BU$36)))} -> 8 | CM17: {=ISERROR(MATCH(AC17,$AO$3:$AQ$3,0))*IF(OR(AC17<$M$3,AC17>$BU$36),0,INDEX($M$4:$N$10,WEEKDAY(AC17,2),(AC17>=$M$3)*(AC17<$N$3)+2*(AC17>=$N$3)*(AC17<=$BU$36)))} -> 0 | CO17: {=ISERROR(MATCH(AE17,$AO$3:$AQ$3,0))*IF(OR(AE17<$M$3,AE17>$BU$36),0,INDEX($M$4:$N$10,WEEKDAY(AE17,2),(AE17>=$M$3)*(AE17<$N$3)+2*(AE17>=$N$3)*(AE17<=$BU$36)))} -> 8 | CQ17: {=ISERROR(MATCH(AG17,$AO$3:$AQ$3,0))*IF(OR(AG17<$M$3,AG17>$BU$36),0,INDEX($M$4:$N$10,WEEKDAY(AG17,2),(AG17>=$M$3)*(AG17<$N$3)+2*(AG17>=$N$3)*(AG17<=$BU$36)))} -> 0 | CS17: {=ISERROR(MATCH(AI17,$AO$3:$AQ$3,0))*IF(OR(AI17<$M$3,AI17>$BU$36),0,INDEX($M$4:$N$10,WEEKDAY(AI17,2),(AI17>=$M$3)*(AI17<$N$3)+2*(AI17>=$N$3)*(AI17<=$BU$36)))} -> 0 | CU17: {=ISERROR(MATCH(AK17,$AO$3:$AQ$3,0))*IF(OR(AK17<$M$3,AK17>$BU$36),0,INDEX($M$4:$N$10,WEEKDAY(AK17,2),(AK17>=$M$3)*(AK17<$N$3)+2*(AK17>=$N$3)*(AK17<=$BU$36)))} -> 8 | CW17: {=ISERROR(MATCH(AM17,$AO$3:$AQ$3,0))*IF(OR(AM17<$M$3,AM17>$BU$36),0,INDEX($M$4:$N$10,WEEKDAY(AM17,2),(AM17>=$M$3)*(AM17<$N$3)+2*(AM17>=$N$3)*(AM17<=$BU$36)))} -> 0
A18: 44739 | B18: 44750 | D18: {=IF(B18="","",SUMPRODUCT(($Q$2:$AM$32>=A18)*($Q$2:$AM$32<=B18)*($AZ$2:$BV$32>0)))} -> 8 | H18: Arbeitstage | K18: 0.3 | L18: 1 | N18: SV-Brutto | P18: =IF(MONTH(Q17+1)=MONTH(Q$2),Q17+1,"") -> 44578 | Q18: =IF(MONTH(Q17+1)=MONTH(Q$2),Q17+1,"") -> 44578 | R18: =IF(MONTH(R17+1)=MONTH(R$2),R17+1,"") -> 44609 | S18: =IF(MONTH(S17+1)=MONTH(S$2),S17+1,"") -> 44609 | T18: =IF(MONTH(T17+1)=MONTH(T$2),T17+1,"") -> 44637 | U18: =IF(MONTH(U17+1)=MONTH(U$2),U17+1,"") -> 44637 | V18: =IF(MONTH(V17+1)=MONTH(V$2),V17+1,"") -> 44668 | W18: =IF(MONTH(W17+1)=MONTH(W$2),W17+1,"") -> 44668 | X18: =IF(MONTH(X17+1)=MONTH(X$2),X17+1,"") -> 44698 | ... AM18: =IF(MONTH(AM17+1)=MONTH(AM$2),AM17+1,"") -> 44912 | AO18: von | AQ18: bis | AT18: von | AV18: bis | AZ18: {=ISERROR(MATCH(Q18,Feiertage!$A$8:$A$19,0))*IF(OR(Q18<$M$3,Q18>$BU$36),0,INDEX($M$4:$N$10,WEEKDAY(Q18,2),(Q18>=$M$3)*(Q18<$N$3)+2*(Q18>=$N$3)*(Q18<=$BU$36)))} -> 8 | BB18: {=ISERROR(MATCH(S18,Feiertage!$A$8:$A$19,0))*IF(OR(S18<$M$3,S18>$BU$36),0,INDEX($M$4:$N$10,WEEKDAY(S18,2),(S18>=$M$3)*(S18<$N$3)+2*(S18>=$N$3)*(S18<=$BU$36)))} -> 8 | BD18: {=ISERROR(MATCH(U18,Feiertage!$A$8:$A$19,0))*IF(OR(U18<$M$3,U18>$BU$36),0,INDEX($M$4:$N$10,WEEKDAY(U18,2),(U18>=$M$3)*(U18<$N$3)+2*(U18>=$N$3)*(U18<=$BU$36)))} -> 8 | BF18: {=ISERROR(MATCH(W18,Feiertage!$A$8:$A$19,0))*IF(OR(W18<$M$3,W18>$BU$36),0,INDEX($M$4:$N$10,WEEKDAY(W18,2),(W18>=$M$3)*(W18<$N$3)+2*(W18>=$N$3)*(W18<=$BU$36)))} -> 0 | BH18: {=ISERROR(MATCH(Y18,Feiertage!$A$8:$A$19,0))*IF(OR(Y18<$M$3,Y18>$BU$36),0,INDEX($M$4:$N$10,WEEKDAY(Y18,2),(Y18>=$M$3)*(Y18<$N$3)+2*(Y18>=$N$3)*(Y18<=$BU$36)))} -> 8 | BJ18: {=ISERROR(MATCH(AA18,Feiertage!$A$8:$A$19,0))*IF(OR(AA18<$M$3,AA18>$BU$36),0,INDEX($M$4:$N$10,WEEKDAY(AA18,2),(AA18>=$M$3)*(AA18<$N$3)+2*(AA18>=$N$3)*(AA18<=$BU$36)))} -> 0 | BL18: {=ISERROR(MATCH(AC18,Feiertage!$A$8:$A$19,0))*IF(OR(AC18<$M$3,AC18>$BU$36),0,INDEX($M$4:$N$10,WEEKDAY(AC18,2),(AC18>=$M$3)*(AC18<$N$3)+2*(AC18>=$N$3)*(AC18<=$BU$36)))} -> 0 | BN18: {=ISERROR(MATCH(AE18,Feiertage!$A$8:$A$19,0))*IF(OR(AE18<$M$3,AE18>$BU$36),0,INDEX($M$4:$N$10,WEEKDAY(AE18,2),(AE18>=$M$3)*(AE18<$N$3)+2*(AE18>=$N$3)*(AE18<=$BU$36)))} -> 8 | BP18: {=ISERROR(MATCH(AG18,Feiertage!$A$8:$A$19,0))*IF(OR(AG18<$M$3,AG18>$BU$36),0,INDEX($M$4:$N$10,WEEKDAY(AG18,2),(AG18>=$M$3)*(AG18<$N$3)+2*(AG18>=$N$3)*(AG18<=$BU$36)))} -> 0 | BR18: {=ISERROR(MATCH(AI18,Feiertage!$A$8:$A$19,0))*IF(OR(AI18<$M$3,AI18>$BU$36),0,INDEX($M$4:$N$10,WEEKDAY(AI18,2),(AI18>=$M$3)*(AI18<$N$3)+2*(AI18>=$N$3)*(AI18<=$BU$36)))} -> 8 | BT18: {=ISERROR(MATCH(AK18,Feiertage!$A$8:$A$19,0))*IF(OR(AK18<$M$3,AK18>$BU$36),0,INDEX($M$4:$N$10,WEEKDAY(AK18,2),(AK18>=$M$3)*(AK18<$N$3)+2*(AK18>=$N$3)*(AK18<=$BU$36)))} -> 8 | BV18: {=ISERROR(MATCH(AM18,Feiertage!$A$8:$A$19,0))*IF(OR(AM18<$M$3,AM18>$BU$36),0,INDEX($M$4:$N$10,WEEKDAY(AM18,2),(AM18>=$M$3)*(AM18<$N$3)+2*(AM18>=$N$3)*(AM18<=$BU$36)))} -> 0 | CA18: {=ISERROR(MATCH(Q18,$AO$3:$AQ$3,0))*IF(OR(Q18<$M$3,Q18>$BU$36),0,INDEX($M$4:$N$10,WEEKDAY(Q18,2),(Q18>=$M$3)*(Q18<$N$3)+2*(Q18>=$N$3)*(Q18<=$BU$36)))} -> 8 | CC18: {=ISERROR(MATCH(S18,$AO$3:$AQ$3,0))*IF(OR(S18<$M$3,S18>$BU$36),0,INDEX($M$4:$N$10,WEEKDAY(S18,2),(S18>=$M$3)*(S18<$N$3)+2*(S18>=$N$3)*(S18<=$BU$36)))} -> 8 | CE18: {=ISERROR(MATCH(U18,$AO$3:$AQ$3,0))*IF(OR(U18<$M$3,U18>$BU$36),0,INDEX($M$4:$N$10,WEEKDAY(U18,2),(U18>=$M$3)*(U18<$N$3)+2*(U18>=$N$3)*(U18<=$BU$36)))} -> 8 | CG18: {=ISERROR(MATCH(W18,$AO$3:$AQ$3,0))*IF(OR(W18<$M$3,W18>$BU$36),0,INDEX($M$4:$N$10,WEEKDAY(W18,2),(W18>=$M$3)*(W18<$N$3)+2*(W18>=$N$3)*(W18<=$BU$36)))} -> 0 | CI18: {=ISERROR(MATCH(Y18,$AO$3:$AQ$3,0))*IF(OR(Y18<$M$3,Y18>$BU$36),0,INDEX($M$4:$N$10,WEEKDAY(Y18,2),(Y18>=$M$3)*(Y18<$N$3)+2*(Y18>=$N$3)*(Y18<=$BU$36)))} -> 8 | CK18: {=ISERROR(MATCH(AA18,$AO$3:$AQ$3,0))*IF(OR(AA18<$M$3,AA18>$BU$36),0,INDEX($M$4:$N$10,WEEKDAY(AA18,2),(AA18>=$M$3)*(AA18<$N$3)+2*(AA18>=$N$3)*(AA18<=$BU$36)))} -> 0 | CM18: {=ISERROR(MATCH(AC18,$AO$3:$AQ$3,0))*IF(OR(AC18<$M$3,AC18>$BU$36),0,INDEX($M$4:$N$10,WEEKDAY(AC18,2),(AC18>=$M$3)*(AC18<$N$3)+2*(AC18>=$N$3)*(AC18<=$BU$36)))} -> 0 | CO18: {=ISERROR(MATCH(AE18,$AO$3:$AQ$3,0))*IF(OR(AE18<$M$3,AE18>$BU$36),0,INDEX($M$4:$N$10,WEEKDAY(AE18,2),(AE18>=$M$3)*(AE18<$N$3)+2*(AE18>=$N$3)*(AE18<=$BU$36)))} -> 8 | CQ18: {=ISERROR(MATCH(AG18,$AO$3:$AQ$3,0))*IF(OR(AG18<$M$3,AG18>$BU$36),0,INDEX($M$4:$N$10,WEEKDAY(AG18,2),(AG18>=$M$3)*(AG18<$N$3)+2*(AG18>=$N$3)*(AG18<=$BU$36)))} -> 0 | CS18: {=ISERROR(MATCH(AI18,$AO$3:$AQ$3,0))*IF(OR(AI18<$M$3,AI18>$BU$36),0,INDEX($M$4:$N$10,WEEKDAY(AI18,2),(AI18>=$M$3)*(AI18<$N$3)+2*(AI18>=$N$3)*(AI18<=$BU$36)))} -> 8 | CU18: {=ISERROR(MATCH(AK18,$AO$3:$AQ$3,0))*IF(OR(AK18<$M$3,AK18>$BU$36),0,INDEX($M$4:$N$10,WEEKDAY(AK18,2),(AK18>=$M$3)*(AK18<$N$3)+2*(AK18>=$N$3)*(AK18<=$BU$36)))} -> 8 | CW18: {=ISERROR(MATCH(AM18,$AO$3:$AQ$3,0))*IF(OR(AM18<$M$3,AM18>$BU$36),0,INDEX($M$4:$N$10,WEEKDAY(AM18,2),(AM18>=$M$3)*(AM18<$N$3)+2*(AM18>=$N$3)*(AM18<=$BU$36)))} -> 0
A19: 44839 | B19: 44839 | D19: {=IF(B19="","",SUMPRODUCT(($Q$2:$AM$32>=A19)*($Q$2:$AM$32<=B19)*($AZ$2:$BV$32>0)))} -> 1 | G19: =DATE($A$1,1,1) -> 44562 | I19: =COUNTIF($AZ$2:$AZ$32,">0") -> 17 | J19: =IF($D$4="",SUM($CA$2:$CA$32),SUM($AZ$2:$AZ$32)) -> 136 | N19: =IF($D$4="",(MAX(MIN(EDATE(G19,1),$N$3)-MAX(G19,$M$3),0))/(EDATE(G19,1)-G19)*($D$6*$J19)+MAX(MIN(EDATE(G19,1),$BU$36)-MAX(G19,$N$3),0)/(EDATE(G19,1)-G19)*($D$7*$J19+$H$7),(MAX(MIN(EDATE(G19,1),$N$3)-MAX(G19,$M$3),0))/(EDATE(G19,1)-G19)*($D$4+$H$4)+MAX(MIN(EDATE(G19,1),$BU$36)-MAX(G19,$N$3),0)/(EDATE(G19,1)-G19)*($D$5+$H$5)) -> 2856 | O19: R | P19: =IF(MONTH(Q18+1)=MONTH(Q$2),Q18+1,"") -> 44579 | Q19: =IF(MONTH(Q18+1)=MONTH(Q$2),Q18+1,"") -> 44579 | R19: =IF(MONTH(R18+1)=MONTH(R$2),R18+1,"") -> 44610 | S19: =IF(MONTH(S18+1)=MONTH(S$2),S18+1,"") -> 44610 | T19: =IF(MONTH(T18+1)=MONTH(T$2),T18+1,"") -> 44638 | U19: =IF(MONTH(U18+1)=MONTH(U$2),U18+1,"") -> 44638 | V19: =IF(MONTH(V18+1)=MONTH(V$2),V18+1,"") -> 44669 | W19: =IF(MONTH(W18+1)=MONTH(W$2),W18+1,"") -> 44669 | X19: =IF(MONTH(X18+1)=MONTH(X$2),X18+1,"") -> 44699 | ... AM19: =IF(MONTH(AM18+1)=MONTH(AM$2),AM18+1,"") -> 44913 | AZ19: {=ISERROR(MATCH(Q19,Feiertage!$A$8:$A$19,0))*IF(OR(Q19<$M$3,Q19>$BU$36),0,INDEX($M$4:$N$10,WEEKDAY(Q19,2),(Q19>=$M$3)*(Q19<$N$3)+2*(Q19>=$N$3)*(Q19<=$BU$36)))} -> 8 | BB19: {=ISERROR(MATCH(S19,Feiertage!$A$8:$A$19,0))*IF(OR(S19<$M$3,S19>$BU$36),0,INDEX($M$4:$N$10,WEEKDAY(S19,2),(S19>=$M$3)*(S19<$N$3)+2*(S19>=$N$3)*(S19<=$BU$36)))} -> 0 | BD19: {=ISERROR(MATCH(U19,Feiertage!$A$8:$A$19,0))*IF(OR(U19<$M$3,U19>$BU$36),0,INDEX($M$4:$N$10,WEEKDAY(U19,2),(U19>=$M$3)*(U19<$N$3)+2*(U19>=$N$3)*(U19<=$BU$36)))} -> 0 | BF19: {=ISERROR(MATCH(W19,Feiertage!$A$8:$A$19,0))*IF(OR(W19<$M$3,W19>$BU$36),0,INDEX($M$4:$N$10,WEEKDAY(W19,2),(W19>=$M$3)*(W19<$N$3)+2*(W19>=$N$3)*(W19<=$BU$36)))} -> 0 | BH19: {=ISERROR(MATCH(Y19,Feiertage!$A$8:$A$19,0))*IF(OR(Y19<$M$3,Y19>$BU$36),0,INDEX($M$4:$N$10,WEEKDAY(Y19,2),(Y19>=$M$3)*(Y19<$N$3)+2*(Y19>=$N$3)*(Y19<=$BU$36)))} -> 8 | BJ19: {=ISERROR(MATCH(AA19,Feiertage!$A$8:$A$19,0))*IF(OR(AA19<$M$3,AA19>$BU$36),0,INDEX($M$4:$N$10,WEEKDAY(AA19,2),(AA19>=$M$3)*(AA19<$N$3)+2*(AA19>=$N$3)*(AA19<=$BU$36)))} -> 0 | BL19: {=ISERROR(MATCH(AC19,Feiertage!$A$8:$A$19,0))*IF(OR(AC19<$M$3,AC19>$BU$36),0,INDEX($M$4:$N$10,WEEKDAY(AC19,2),(AC19>=$M$3)*(AC19<$N$3)+2*(AC19>=$N$3)*(AC19<=$BU$36)))} -> 8 | BN19: {=ISERROR(MATCH(AE19,Feiertage!$A$8:$A$19,0))*IF(OR(AE19<$M$3,AE19>$BU$36),0,INDEX($M$4:$N$10,WEEKDAY(AE19,2),(AE19>=$M$3)*(AE19<$N$3)+2*(AE19>=$N$3)*(AE19<=$BU$36)))} -> 8 | BP19: {=ISERROR(MATCH(AG19,Feiertage!$A$8:$A$19,0))*IF(OR(AG19<$M$3,AG19>$BU$36),0,INDEX($M$4:$N$10,WEEKDAY(AG19,2),(AG19>=$M$3)*(AG19<$N$3)+2*(AG19>=$N$3)*(AG19<=$BU$36)))} -> 0 | BR19: {=ISERROR(MATCH(AI19,Feiertage!$A$8:$A$19,0))*IF(OR(AI19<$M$3,AI19>$BU$36),0,INDEX($M$4:$N$10,WEEKDAY(AI19,2),(AI19>=$M$3)*(AI19<$N$3)+2*(AI19>=$N$3)*(AI19<=$BU$36)))} -> 8 | BT19: {=ISERROR(MATCH(AK19,Feiertage!$A$8:$A$19,0))*IF(OR(AK19<$M$3,AK19>$BU$36),0,INDEX($M$4:$N$10,WEEKDAY(AK19,2),(AK19>=$M$3)*(AK19<$N$3)+2*(AK19>=$N$3)*(AK19<=$BU$36)))} -> 0 | BV19: {=ISERROR(MATCH(AM19,Feiertage!$A$8:$A$19,0))*IF(OR(AM19<$M$3,AM19>$BU$36),0,INDEX($M$4:$N$10,WEEKDAY(AM19,2),(AM19>=$M$3)*(AM19<$N$3)+2*(AM19>=$N$3)*(AM19<=$BU$36)))} -> 0 | CA19: {=ISERROR(MATCH(Q19,$AO$3:$AQ$3,0))*IF(OR(Q19<$M$3,Q19>$BU$36),0,INDEX($M$4:$N$10,WEEKDAY(Q19,2),(Q19>=$M$3)*(Q19<$N$3)+2*(Q19>=$N$3)*(Q19<=$BU$36)))} -> 8 | CC19: {=ISERROR(MATCH(S19,$AO$3:$AQ$3,0))*IF(OR(S19<$M$3,S19>$BU$36),0,INDEX($M$4:$N$10,WEEKDAY(S19,2),(S19>=$M$3)*(S19<$N$3)+2*(S19>=$N$3)*(S19<=$BU$36)))} -> 0 | CE19: {=ISERROR(MATCH(U19,$AO$3:$AQ$3,0))*IF(OR(U19<$M$3,U19>$BU$36),0,INDEX($M$4:$N$10,WEEKDAY(U19,2),(U19>=$M$3)*(U19<$N$3)+2*(U19>=$N$3)*(U19<=$BU$36)))} -> 0 | CG19: {=ISERROR(MATCH(W19,$AO$3:$AQ$3,0))*IF(OR(W19<$M$3,W19>$BU$36),0,INDEX($M$4:$N$10,WEEKDAY(W19,2),(W19>=$M$3)*(W19<$N$3)+2*(W19>=$N$3)*(W19<=$BU$36)))} -> 8 | CI19: {=ISERROR(MATCH(Y19,$AO$3:$AQ$3,0))*IF(OR(Y19<$M$3,Y19>$BU$36),0,INDEX($M$4:$N$10,WEEKDAY(Y19,2),(Y19>=$M$3)*(Y19<$N$3)+2*(Y19>=$N$3)*(Y19<=$BU$36)))} -> 8 | CK19: {=ISERROR(MATCH(AA19,$AO$3:$AQ$3,0))*IF(OR(AA19<$M$3,AA19>$BU$36),0,INDEX($M$4:$N$10,WEEKDAY(AA19,2),(AA19>=$M$3)*(AA19<$N$3)+2*(AA19>=$N$3)*(AA19<=$BU$36)))} -> 0 | CM19: {=ISERROR(MATCH(AC19,$AO$3:$AQ$3,0))*IF(OR(AC19<$M$3,AC19>$BU$36),0,INDEX($M$4:$N$10,WEEKDAY(AC19,2),(AC19>=$M$3)*(AC19<$N$3)+2*(AC19>=$N$3)*(AC19<=$BU$36)))} -> 8 | CO19: {=ISERROR(MATCH(AE19,$AO$3:$AQ$3,0))*IF(OR(AE19<$M$3,AE19>$BU$36),0,INDEX($M$4:$N$10,WEEKDAY(AE19,2),(AE19>=$M$3)*(AE19<$N$3)+2*(AE19>=$N$3)*(AE19<=$BU$36)))} -> 8 | CQ19: {=ISERROR(MATCH(AG19,$AO$3:$AQ$3,0))*IF(OR(AG19<$M$3,AG19>$BU$36),0,INDEX($M$4:$N$10,WEEKDAY(AG19,2),(AG19>=$M$3)*(AG19<$N$3)+2*(AG19>=$N$3)*(AG19<=$BU$36)))} -> 0 | CS19: {=ISERROR(MATCH(AI19,$AO$3:$AQ$3,0))*IF(OR(AI19<$M$3,AI19>$BU$36),0,INDEX($M$4:$N$10,WEEKDAY(AI19,2),(AI19>=$M$3)*(AI19<$N$3)+2*(AI19>=$N$3)*(AI19<=$BU$36)))} -> 8 | CU19: {=ISERROR(MATCH(AK19,$AO$3:$AQ$3,0))*IF(OR(AK19<$M$3,AK19>$BU$36),0,INDEX($M$4:$N$10,WEEKDAY(AK19,2),(AK19>=$M$3)*(AK19<$N$3)+2*(AK19>=$N$3)*(AK19<=$BU$36)))} -> 0 | CW19: {=ISERROR(MATCH(AM19,$AO$3:$AQ$3,0))*IF(OR(AM19<$M$3,AM19>$BU$36),0,INDEX($M$4:$N$10,WEEKDAY(AM19,2),(AM19>=$M$3)*(AM19<$N$3)+2*(AM19>=$N$3)*(AM19<=$BU$36)))} -> 0
D20: {=IF(B20="","",SUMPRODUCT(($Q$2:$AM$32>=A20)*($Q$2:$AM$32<=B20)*($AZ$2:$BV$32>0)))} | G20: =DATE($A$1,2,1) -> 44593 | I20: =COUNTIF($BB$2:$BB$32,">0") -> 16 | J20: =IF($D$4="",SUM($CC$2:$CC$32),SUM($BB$2:$BB$32)) -> 128 | N20: =IF($D$4="",(MAX(MIN(EDATE(G20,1),$N$3)-MAX(G20,$M$3),0))/(EDATE(G20,1)-G20)*($D$6*$J20)+MAX(MIN(EDATE(G20,1),$BU$36)-MAX(G20,$N$3),0)/(EDATE(G20,1)-G20)*($D$7*$J20+$H$7),(MAX(MIN(EDATE(G20,1),$N$3)-MAX(G20,$M$3),0))/(EDATE(G20,1)-G20)*($D$4+$H$4)+MAX(MIN(EDATE(G20,1),$BU$36)-MAX(G20,$N$3),0)/(EDATE(G20,1)-G20)*($D$5+$H$5)) -> 2688 | O20: R | P20: =IF(MONTH(Q19+1)=MONTH(Q$2),Q19+1,"") -> 44580 | Q20: =IF(MONTH(Q19+1)=MONTH(Q$2),Q19+1,"") -> 44580 | R20: =IF(MONTH(R19+1)=MONTH(R$2),R19+1,"") -> 44611 | S20: =IF(MONTH(S19+1)=MONTH(S$2),S19+1,"") -> 44611 | T20: =IF(MONTH(T19+1)=MONTH(T$2),T19+1,"") -> 44639 | U20: =IF(MONTH(U19+1)=MONTH(U$2),U19+1,"") -> 44639 | V20: =IF(MONTH(V19+1)=MONTH(V$2),V19+1,"") -> 44670 | W20: =IF(MONTH(W19+1)=MONTH(W$2),W19+1,"") -> 44670 | X20: =IF(MONTH(X19+1)=MONTH(X$2),X19+1,"") -> 44700 | ... AM20: =IF(MONTH(AM19+1)=MONTH(AM$2),AM19+1,"") -> 44914 | AZ20: {=ISERROR(MATCH(Q20,Feiertage!$A$8:$A$19,0))*IF(OR(Q20<$M$3,Q20>$BU$36),0,INDEX($M$4:$N$10,WEEKDAY(Q20,2),(Q20>=$M$3)*(Q20<$N$3)+2*(Q20>=$N$3)*(Q20<=$BU$36)))} -> 8 | BB20: {=ISERROR(MATCH(S20,Feiertage!$A$8:$A$19,0))*IF(OR(S20<$M$3,S20>$BU$36),0,INDEX($M$4:$N$10,WEEKDAY(S20,2),(S20>=$M$3)*(S20<$N$3)+2*(S20>=$N$3)*(S20<=$BU$36)))} -> 0 | BD20: {=ISERROR(MATCH(U20,Feiertage!$A$8:$A$19,0))*IF(OR(U20<$M$3,U20>$BU$36),0,INDEX($M$4:$N$10,WEEKDAY(U20,2),(U20>=$M$3)*(U20<$N$3)+2*(U20>=$N$3)*(U20<=$BU$36)))} -> 0 | BF20: {=ISERROR(MATCH(W20,Feiertage!$A$8:$A$19,0))*IF(OR(W20<$M$3,W20>$BU$36),0,INDEX($M$4:$N$10,WEEKDAY(W20,2),(W20>=$M$3)*(W20<$N$3)+2*(W20>=$N$3)*(W20<=$BU$36)))} -> 8 | BH20: {=ISERROR(MATCH(Y20,Feiertage!$A$8:$A$19,0))*IF(OR(Y20<$M$3,Y20>$BU$36),0,INDEX($M$4:$N$10,WEEKDAY(Y20,2),(Y20>=$M$3)*(Y20<$N$3)+2*(Y20>=$N$3)*(Y20<=$BU$36)))} -> 8 | BJ20: {=ISERROR(MATCH(AA20,Feiertage!$A$8:$A$19,0))*IF(OR(AA20<$M$3,AA20>$BU$36),0,INDEX($M$4:$N$10,WEEKDAY(AA20,2),(AA20>=$M$3)*(AA20<$N$3)+2*(AA20>=$N$3)*(AA20<=$BU$36)))} -> 0 | BL20: {=ISERROR(MATCH(AC20,Feiertage!$A$8:$A$19,0))*IF(OR(AC20<$M$3,AC20>$BU$36),0,INDEX($M$4:$N$10,WEEKDAY(AC20,2),(AC20>=$M$3)*(AC20<$N$3)+2*(AC20>=$N$3)*(AC20<=$BU$36)))} -> 8 | BN20: {=ISERROR(MATCH(AE20,Feiertage!$A$8:$A$19,0))*IF(OR(AE20<$M$3,AE20>$BU$36),0,INDEX($M$4:$N$10,WEEKDAY(AE20,2),(AE20>=$M$3)*(AE20<$N$3)+2*(AE20>=$N$3)*(AE20<=$BU$36)))} -> 0 | BP20: {=ISERROR(MATCH(AG20,Feiertage!$A$8:$A$19,0))*IF(OR(AG20<$M$3,AG20>$BU$36),0,INDEX($M$4:$N$10,WEEKDAY(AG20,2),(AG20>=$M$3)*(AG20<$N$3)+2*(AG20>=$N$3)*(AG20<=$BU$36)))} -> 8 | BR20: {=ISERROR(MATCH(AI20,Feiertage!$A$8:$A$19,0))*IF(OR(AI20<$M$3,AI20>$BU$36),0,INDEX($M$4:$N$10,WEEKDAY(AI20,2),(AI20>=$M$3)*(AI20<$N$3)+2*(AI20>=$N$3)*(AI20<=$BU$36)))} -> 8 | BT20: {=ISERROR(MATCH(AK20,Feiertage!$A$8:$A$19,0))*IF(OR(AK20<$M$3,AK20>$BU$36),0,INDEX($M$4:$N$10,WEEKDAY(AK20,2),(AK20>=$M$3)*(AK20<$N$3)+2*(AK20>=$N$3)*(AK20<=$BU$36)))} -> 0 | BV20: {=ISERROR(MATCH(AM20,Feiertage!$A$8:$A$19,0))*IF(OR(AM20<$M$3,AM20>$BU$36),0,INDEX($M$4:$N$10,WEEKDAY(AM20,2),(AM20>=$M$3)*(AM20<$N$3)+2*(AM20>=$N$3)*(AM20<=$BU$36)))} -> 8 | CA20: {=ISERROR(MATCH(Q20,$AO$3:$AQ$3,0))*IF(OR(Q20<$M$3,Q20>$BU$36),0,INDEX($M$4:$N$10,WEEKDAY(Q20,2),(Q20>=$M$3)*(Q20<$N$3)+2*(Q20>=$N$3)*(Q20<=$BU$36)))} -> 8 | CC20: {=ISERROR(MATCH(S20,$AO$3:$AQ$3,0))*IF(OR(S20<$M$3,S20>$BU$36),0,INDEX($M$4:$N$10,WEEKDAY(S20,2),(S20>=$M$3)*(S20<$N$3)+2*(S20>=$N$3)*(S20<=$BU$36)))} -> 0 | CE20: {=ISERROR(MATCH(U20,$AO$3:$AQ$3,0))*IF(OR(U20<$M$3,U20>$BU$36),0,INDEX($M$4:$N$10,WEEKDAY(U20,2),(U20>=$M$3)*(U20<$N$3)+2*(U20>=$N$3)*(U20<=$BU$36)))} -> 0 | CG20: {=ISERROR(MATCH(W20,$AO$3:$AQ$3,0))*IF(OR(W20<$M$3,W20>$BU$36),0,INDEX($M$4:$N$10,WEEKDAY(W20,2),(W20>=$M$3)*(W20<$N$3)+2*(W20>=$N$3)*(W20<=$BU$36)))} -> 8 | CI20: {=ISERROR(MATCH(Y20,$AO$3:$AQ$3,0))*IF(OR(Y20<$M$3,Y20>$BU$36),0,INDEX($M$4:$N$10,WEEKDAY(Y20,2),(Y20>=$M$3)*(Y20<$N$3)+2*(Y20>=$N$3)*(Y20<=$BU$36)))} -> 8 | CK20: {=ISERROR(MATCH(AA20,$AO$3:$AQ$3,0))*IF(OR(AA20<$M$3,AA20>$BU$36),0,INDEX($M$4:$N$10,WEEKDAY(AA20,2),(AA20>=$M$3)*(AA20<$N$3)+2*(AA20>=$N$3)*(AA20<=$BU$36)))} -> 0 | CM20: {=ISERROR(MATCH(AC20,$AO$3:$AQ$3,0))*IF(OR(AC20<$M$3,AC20>$BU$36),0,INDEX($M$4:$N$10,WEEKDAY(AC20,2),(AC20>=$M$3)*(AC20<$N$3)+2*(AC20>=$N$3)*(AC20<=$BU$36)))} -> 8 | CO20: {=ISERROR(MATCH(AE20,$AO$3:$AQ$3,0))*IF(OR(AE20<$M$3,AE20>$BU$36),0,INDEX($M$4:$N$10,WEEKDAY(AE20,2),(AE20>=$M$3)*(AE20<$N$3)+2*(AE20>=$N$3)*(AE20<=$BU$36)))} -> 0 | CQ20: {=ISERROR(MATCH(AG20,$AO$3:$AQ$3,0))*IF(OR(AG20<$M$3,AG20>$BU$36),0,INDEX($M$4:$N$10,WEEKDAY(AG20,2),(AG20>=$M$3)*(AG20<$N$3)+2*(AG20>=$N$3)*(AG20<=$BU$36)))} -> 8 | CS20: {=ISERROR(MATCH(AI20,$AO$3:$AQ$3,0))*IF(OR(AI20<$M$3,AI20>$BU$36),0,INDEX($M$4:$N$10,WEEKDAY(AI20,2),(AI20>=$M$3)*(AI20<$N$3)+2*(AI20>=$N$3)*(AI20<=$BU$36)))} -> 8 | CU20: {=ISERROR(MATCH(AK20,$AO$3:$AQ$3,0))*IF(OR(AK20<$M$3,AK20>$BU$36),0,INDEX($M$4:$N$10,WEEKDAY(AK20,2),(AK20>=$M$3)*(AK20<$N$3)+2*(AK20>=$N$3)*(AK20<=$BU$36)))} -> 0 | CW20: {=ISERROR(MATCH(AM20,$AO$3:$AQ$3,0))*IF(OR(AM20<$M$3,AM20>$BU$36),0,INDEX($M$4:$N$10,WEEKDAY(AM20,2),(AM20>=$M$3)*(AM20<$N$3)+2*(AM20>=$N$3)*(AM20<=$BU$36)))} -> 8
D21: {=IF(B21="","",SUMPRODUCT(($Q$2:$AM$32>=A21)*($Q$2:$AM$32<=B21)*($AZ$2:$BV$32>0)))} | G21: =DATE($A$1,3,1) -> 44621 | I21: =COUNTIF($BD$2:$BD$32,">0") -> 19 | J21: =IF($D$4="",SUM($CE$2:$CE$32),SUM($BD$2:$BD$32)) -> 136 | N21: =IF($D$4="",(MAX(MIN(EDATE(G21,1),$N$3)-MAX(G21,$M$3),0))/(EDATE(G21,1)-G21)*($D$6*$J21)+MAX(MIN(EDATE(G21,1),$BU$36)-MAX(G21,$N$3),0)/(EDATE(G21,1)-G21)*($D$7*$J21+$H$7),(MAX(MIN(EDATE(G21,1),$N$3)-MAX(G21,$M$3),0))/(EDATE(G21,1)-G21)*($D$4+$H$4)+MAX(MIN(EDATE(G21,1),$BU$36)-MAX(G21,$N$3),0)/(EDATE(G21,1)-G21)*($D$5+$H$5)) -> 2856 | O21: R | P21: =IF(MONTH(Q20+1)=MONTH(Q$2),Q20+1,"") -> 44581 | Q21: =IF(MONTH(Q20+1)=MONTH(Q$2),Q20+1,"") -> 44581 | R21: =IF(MONTH(R20+1)=MONTH(R$2),R20+1,"") -> 44612 | S21: =IF(MONTH(S20+1)=MONTH(S$2),S20+1,"") -> 44612 | T21: =IF(MONTH(T20+1)=MONTH(T$2),T20+1,"") -> 44640 | U21: =IF(MONTH(U20+1)=MONTH(U$2),U20+1,"") -> 44640 | V21: =IF(MONTH(V20+1)=MONTH(V$2),V20+1,"") -> 44671 | W21: =IF(MONTH(W20+1)=MONTH(W$2),W20+1,"") -> 44671 | X21: =IF(MONTH(X20+1)=MONTH(X$2),X20+1,"") -> 44701 | ... AM21: =IF(MONTH(AM20+1)=MONTH(AM$2),AM20+1,"") -> 44915 | AZ21: {=ISERROR(MATCH(Q21,Feiertage!$A$8:$A$19,0))*IF(OR(Q21<$M$3,Q21>$BU$36),0,INDEX($M$4:$N$10,WEEKDAY(Q21,2),(Q21>=$M$3)*(Q21<$N$3)+2*(Q21>=$N$3)*(Q21<=$BU$36)))} -> 8 | BB21: {=ISERROR(MATCH(S21,Feiertage!$A$8:$A$19,0))*IF(OR(S21<$M$3,S21>$BU$36),0,INDEX($M$4:$N$10,WEEKDAY(S21,2),(S21>=$M$3)*(S21<$N$3)+2*(S21>=$N$3)*(S21<=$BU$36)))} -> 0 | BD21: {=ISERROR(MATCH(U21,Feiertage!$A$8:$A$19,0))*IF(OR(U21<$M$3,U21>$BU$36),0,INDEX($M$4:$N$10,WEEKDAY(U21,2),(U21>=$M$3)*(U21<$N$3)+2*(U21>=$N$3)*(U21<=$BU$36)))} -> 0 | BF21: {=ISERROR(MATCH(W21,Feiertage!$A$8:$A$19,0))*IF(OR(W21<$M$3,W21>$BU$36),0,INDEX($M$4:$N$10,WEEKDAY(W21,2),(W21>=$M$3)*(W21<$N$3)+2*(W21>=$N$3)*(W21<=$BU$36)))} -> 8 | BH21: {=ISERROR(MATCH(Y21,Feiertage!$A$8:$A$19,0))*IF(OR(Y21<$M$3,Y21>$BU$36),0,INDEX($M$4:$N$10,WEEKDAY(Y21,2),(Y21>=$M$3)*(Y21<$N$3)+2*(Y21>=$N$3)*(Y21<=$BU$36)))} -> 0 | BJ21: {=ISERROR(MATCH(AA21,Feiertage!$A$8:$A$19,0))*IF(OR(AA21<$M$3,AA21>$BU$36),0,INDEX($M$4:$N$10,WEEKDAY(AA21,2),(AA21>=$M$3)*(AA21<$N$3)+2*(AA21>=$N$3)*(AA21<=$BU$36)))} -> 8 | BL21: {=ISERROR(MATCH(AC21,Feiertage!$A$8:$A$19,0))*IF(OR(AC21<$M$3,AC21>$BU$36),0,INDEX($M$4:$N$10,WEEKDAY(AC21,2),(AC21>=$M$3)*(AC21<$N$3)+2*(AC21>=$N$3)*(AC21<=$BU$36)))} -> 8 | BN21: {=ISERROR(MATCH(AE21,Feiertage!$A$8:$A$19,0))*IF(OR(AE21<$M$3,AE21>$BU$36),0,INDEX($M$4:$N$10,WEEKDAY(AE21,2),(AE21>=$M$3)*(AE21<$N$3)+2*(AE21>=$N$3)*(AE21<=$BU$36)))} -> 0 | BP21: {=ISERROR(MATCH(AG21,Feiertage!$A$8:$A$19,0))*IF(OR(AG21<$M$3,AG21>$BU$36),0,INDEX($M$4:$N$10,WEEKDAY(AG21,2),(AG21>=$M$3)*(AG21<$N$3)+2*(AG21>=$N$3)*(AG21<=$BU$36)))} -> 8 | BR21: {=ISERROR(MATCH(AI21,Feiertage!$A$8:$A$19,0))*IF(OR(AI21<$M$3,AI21>$BU$36),0,INDEX($M$4:$N$10,WEEKDAY(AI21,2),(AI21>=$M$3)*(AI21<$N$3)+2*(AI21>=$N$3)*(AI21<=$BU$36)))} -> 8 | BT21: {=ISERROR(MATCH(AK21,Feiertage!$A$8:$A$19,0))*IF(OR(AK21<$M$3,AK21>$BU$36),0,INDEX($M$4:$N$10,WEEKDAY(AK21,2),(AK21>=$M$3)*(AK21<$N$3)+2*(AK21>=$N$3)*(AK21<=$BU$36)))} -> 0 | BV21: {=ISERROR(MATCH(AM21,Feiertage!$A$8:$A$19,0))*IF(OR(AM21<$M$3,AM21>$BU$36),0,INDEX($M$4:$N$10,WEEKDAY(AM21,2),(AM21>=$M$3)*(AM21<$N$3)+2*(AM21>=$N$3)*(AM21<=$BU$36)))} -> 8 | CA21: {=ISERROR(MATCH(Q21,$AO$3:$AQ$3,0))*IF(OR(Q21<$M$3,Q21>$BU$36),0,INDEX($M$4:$N$10,WEEKDAY(Q21,2),(Q21>=$M$3)*(Q21<$N$3)+2*(Q21>=$N$3)*(Q21<=$BU$36)))} -> 8 | CC21: {=ISERROR(MATCH(S21,$AO$3:$AQ$3,0))*IF(OR(S21<$M$3,S21>$BU$36),0,INDEX($M$4:$N$10,WEEKDAY(S21,2),(S21>=$M$3)*(S21<$N$3)+2*(S21>=$N$3)*(S21<=$BU$36)))} -> 0 | CE21: {=ISERROR(MATCH(U21,$AO$3:$AQ$3,0))*IF(OR(U21<$M$3,U21>$BU$36),0,INDEX($M$4:$N$10,WEEKDAY(U21,2),(U21>=$M$3)*(U21<$N$3)+2*(U21>=$N$3)*(U21<=$BU$36)))} -> 0 | CG21: {=ISERROR(MATCH(W21,$AO$3:$AQ$3,0))*IF(OR(W21<$M$3,W21>$BU$36),0,INDEX($M$4:$N$10,WEEKDAY(W21,2),(W21>=$M$3)*(W21<$N$3)+2*(W21>=$N$3)*(W21<=$BU$36)))} -> 8 | CI21: {=ISERROR(MATCH(Y21,$AO$3:$AQ$3,0))*IF(OR(Y21<$M$3,Y21>$BU$36),0,INDEX($M$4:$N$10,WEEKDAY(Y21,2),(Y21>=$M$3)*(Y21<$N$3)+2*(Y21>=$N$3)*(Y21<=$BU$36)))} -> 0 | CK21: {=ISERROR(MATCH(AA21,$AO$3:$AQ$3,0))*IF(OR(AA21<$M$3,AA21>$BU$36),0,INDEX($M$4:$N$10,WEEKDAY(AA21,2),(AA21>=$M$3)*(AA21<$N$3)+2*(AA21>=$N$3)*(AA21<=$BU$36)))} -> 8 | CM21: {=ISERROR(MATCH(AC21,$AO$3:$AQ$3,0))*IF(OR(AC21<$M$3,AC21>$BU$36),0,INDEX($M$4:$N$10,WEEKDAY(AC21,2),(AC21>=$M$3)*(AC21<$N$3)+2*(AC21>=$N$3)*(AC21<=$BU$36)))} -> 8 | CO21: {=ISERROR(MATCH(AE21,$AO$3:$AQ$3,0))*IF(OR(AE21<$M$3,AE21>$BU$36),0,INDEX($M$4:$N$10,WEEKDAY(AE21,2),(AE21>=$M$3)*(AE21<$N$3)+2*(AE21>=$N$3)*(AE21<=$BU$36)))} -> 0 | CQ21: {=ISERROR(MATCH(AG21,$AO$3:$AQ$3,0))*IF(OR(AG21<$M$3,AG21>$BU$36),0,INDEX($M$4:$N$10,WEEKDAY(AG21,2),(AG21>=$M$3)*(AG21<$N$3)+2*(AG21>=$N$3)*(AG21<=$BU$36)))} -> 8 | CS21: {=ISERROR(MATCH(AI21,$AO$3:$AQ$3,0))*IF(OR(AI21<$M$3,AI21>$BU$36),0,INDEX($M$4:$N$10,WEEKDAY(AI21,2),(AI21>=$M$3)*(AI21<$N$3)+2*(AI21>=$N$3)*(AI21<=$BU$36)))} -> 8 | CU21: {=ISERROR(MATCH(AK21,$AO$3:$AQ$3,0))*IF(OR(AK21<$M$3,AK21>$BU$36),0,INDEX($M$4:$N$10,WEEKDAY(AK21,2),(AK21>=$M$3)*(AK21<$N$3)+2*(AK21>=$N$3)*(AK21<=$BU$36)))} -> 0 | CW21: {=ISERROR(MATCH(AM21,$AO$3:$AQ$3,0))*IF(OR(AM21<$M$3,AM21>$BU$36),0,INDEX($M$4:$N$10,WEEKDAY(AM21,2),(AM21>=$M$3)*(AM21<$N$3)+2*(AM21>=$N$3)*(AM21<=$BU$36)))} -> 8
D22: {=IF(B22="","",SUMPRODUCT(($Q$2:$AM$32>=A22)*($Q$2:$AM$32<=B22)*($AZ$2:$BV$32>0)))} | G22: =DATE($A$1,4,1) -> 44652 | I22: =COUNTIF($BF$2:$BF$32,">0") -> 15 | J22: =IF($D$4="",SUM($CG$2:$CG$32),SUM($BF$2:$BF$32)) -> 128 | N22: =IF($D$4="",(MAX(MIN(EDATE(G22,1),$N$3)-MAX(G22,$M$3),0))/(EDATE(G22,1)-G22)*($D$6*$J22)+MAX(MIN(EDATE(G22,1),$BU$36)-MAX(G22,$N$3),0)/(EDATE(G22,1)-G22)*($D$7*$J22+$H$7),(MAX(MIN(EDATE(G22,1),$N$3)-MAX(G22,$M$3),0))/(EDATE(G22,1)-G22)*($D$4+$H$4)+MAX(MIN(EDATE(G22,1),$BU$36)-MAX(G22,$N$3),0)/(EDATE(G22,1)-G22)*($D$5+$H$5)) -> 2688 | O22: R | P22: =IF(MONTH(Q21+1)=MONTH(Q$2),Q21+1,"") -> 44582 | Q22: =IF(MONTH(Q21+1)=MONTH(Q$2),Q21+1,"") -> 44582 | R22: =IF(MONTH(R21+1)=MONTH(R$2),R21+1,"") -> 44613 | S22: =IF(MONTH(S21+1)=MONTH(S$2),S21+1,"") -> 44613 | T22: =IF(MONTH(T21+1)=MONTH(T$2),T21+1,"") -> 44641 | U22: =IF(MONTH(U21+1)=MONTH(U$2),U21+1,"") -> 44641 | V22: =IF(MONTH(V21+1)=MONTH(V$2),V21+1,"") -> 44672 | W22: =IF(MONTH(W21+1)=MONTH(W$2),W21+1,"") -> 44672 | X22: =IF(MONTH(X21+1)=MONTH(X$2),X21+1,"") -> 44702 | ... AM22: =IF(MONTH(AM21+1)=MONTH(AM$2),AM21+1,"") -> 44916 | AZ22: {=ISERROR(MATCH(Q22,Feiertage!$A$8:$A$19,0))*IF(OR(Q22<$M$3,Q22>$BU$36),0,INDEX($M$4:$N$10,WEEKDAY(Q22,2),(Q22>=$M$3)*(Q22<$N$3)+2*(Q22>=$N$3)*(Q22<=$BU$36)))} -> 0 | BB22: {=ISERROR(MATCH(S22,Feiertage!$A$8:$A$19,0))*IF(OR(S22<$M$3,S22>$BU$36),0,INDEX($M$4:$N$10,WEEKDAY(S22,2),(S22>=$M$3)*(S22<$N$3)+2*(S22>=$N$3)*(S22<=$BU$36)))} -> 8 | BD22: {=ISERROR(MATCH(U22,Feiertage!$A$8:$A$19,0))*IF(OR(U22<$M$3,U22>$BU$36),0,INDEX($M$4:$N$10,WEEKDAY(U22,2),(U22>=$M$3)*(U22<$N$3)+2*(U22>=$N$3)*(U22<=$BU$36)))} -> 8 | BF22: {=ISERROR(MATCH(W22,Feiertage!$A$8:$A$19,0))*IF(OR(W22<$M$3,W22>$BU$36),0,INDEX($M$4:$N$10,WEEKDAY(W22,2),(W22>=$M$3)*(W22<$N$3)+2*(W22>=$N$3)*(W22<=$BU$36)))} -> 8 | BH22: {=ISERROR(MATCH(Y22,Feiertage!$A$8:$A$19,0))*IF(OR(Y22<$M$3,Y22>$BU$36),0,INDEX($M$4:$N$10,WEEKDAY(Y22,2),(Y22>=$M$3)*(Y22<$N$3)+2*(Y22>=$N$3)*(Y22<=$BU$36)))} -> 0 | BJ22: {=ISERROR(MATCH(AA22,Feiertage!$A$8:$A$19,0))*IF(OR(AA22<$M$3,AA22>$BU$36),0,INDEX($M$4:$N$10,WEEKDAY(AA22,2),(AA22>=$M$3)*(AA22<$N$3)+2*(AA22>=$N$3)*(AA22<=$BU$36)))} -> 8 | BL22: {=ISERROR(MATCH(AC22,Feiertage!$A$8:$A$19,0))*IF(OR(AC22<$M$3,AC22>$BU$36),0,INDEX($M$4:$N$10,WEEKDAY(AC22,2),(AC22>=$M$3)*(AC22<$N$3)+2*(AC22>=$N$3)*(AC22<=$BU$36)))} -> 8 | BN22: {=ISERROR(MATCH(AE22,Feiertage!$A$8:$A$19,0))*IF(OR(AE22<$M$3,AE22>$BU$36),0,INDEX($M$4:$N$10,WEEKDAY(AE22,2),(AE22>=$M$3)*(AE22<$N$3)+2*(AE22>=$N$3)*(AE22<=$BU$36)))} -> 0 | BP22: {=ISERROR(MATCH(AG22,Feiertage!$A$8:$A$19,0))*IF(OR(AG22<$M$3,AG22>$BU$36),0,INDEX($M$4:$N$10,WEEKDAY(AG22,2),(AG22>=$M$3)*(AG22<$N$3)+2*(AG22>=$N$3)*(AG22<=$BU$36)))} -> 8 | BR22: {=ISERROR(MATCH(AI22,Feiertage!$A$8:$A$19,0))*IF(OR(AI22<$M$3,AI22>$BU$36),0,INDEX($M$4:$N$10,WEEKDAY(AI22,2),(AI22>=$M$3)*(AI22<$N$3)+2*(AI22>=$N$3)*(AI22<=$BU$36)))} -> 0 | BT22: {=ISERROR(MATCH(AK22,Feiertage!$A$8:$A$19,0))*IF(OR(AK22<$M$3,AK22>$BU$36),0,INDEX($M$4:$N$10,WEEKDAY(AK22,2),(AK22>=$M$3)*(AK22<$N$3)+2*(AK22>=$N$3)*(AK22<=$BU$36)))} -> 8 | BV22: {=ISERROR(MATCH(AM22,Feiertage!$A$8:$A$19,0))*IF(OR(AM22<$M$3,AM22>$BU$36),0,INDEX($M$4:$N$10,WEEKDAY(AM22,2),(AM22>=$M$3)*(AM22<$N$3)+2*(AM22>=$N$3)*(AM22<=$BU$36)))} -> 8 | CA22: {=ISERROR(MATCH(Q22,$AO$3:$AQ$3,0))*IF(OR(Q22<$M$3,Q22>$BU$36),0,INDEX($M$4:$N$10,WEEKDAY(Q22,2),(Q22>=$M$3)*(Q22<$N$3)+2*(Q22>=$N$3)*(Q22<=$BU$36)))} -> 0 | CC22: {=ISERROR(MATCH(S22,$AO$3:$AQ$3,0))*IF(OR(S22<$M$3,S22>$BU$36),0,INDEX($M$4:$N$10,WEEKDAY(S22,2),(S22>=$M$3)*(S22<$N$3)+2*(S22>=$N$3)*(S22<=$BU$36)))} -> 8 | CE22: {=ISERROR(MATCH(U22,$AO$3:$AQ$3,0))*IF(OR(U22<$M$3,U22>$BU$36),0,INDEX($M$4:$N$10,WEEKDAY(U22,2),(U22>=$M$3)*(U22<$N$3)+2*(U22>=$N$3)*(U22<=$BU$36)))} -> 8 | CG22: {=ISERROR(MATCH(W22,$AO$3:$AQ$3,0))*IF(OR(W22<$M$3,W22>$BU$36),0,INDEX($M$4:$N$10,WEEKDAY(W22,2),(W22>=$M$3)*(W22<$N$3)+2*(W22>=$N$3)*(W22<=$BU$36)))} -> 8 | CI22: {=ISERROR(MATCH(Y22,$AO$3:$AQ$3,0))*IF(OR(Y22<$M$3,Y22>$BU$36),0,INDEX($M$4:$N$10,WEEKDAY(Y22,2),(Y22>=$M$3)*(Y22<$N$3)+2*(Y22>=$N$3)*(Y22<=$BU$36)))} -> 0 | CK22: {=ISERROR(MATCH(AA22,$AO$3:$AQ$3,0))*IF(OR(AA22<$M$3,AA22>$BU$36),0,INDEX($M$4:$N$10,WEEKDAY(AA22,2),(AA22>=$M$3)*(AA22<$N$3)+2*(AA22>=$N$3)*(AA22<=$BU$36)))} -> 8 | CM22: {=ISERROR(MATCH(AC22,$AO$3:$AQ$3,0))*IF(OR(AC22<$M$3,AC22>$BU$36),0,INDEX($M$4:$N$10,WEEKDAY(AC22,2),(AC22>=$M$3)*(AC22<$N$3)+2*(AC22>=$N$3)*(AC22<=$BU$36)))} -> 8 | CO22: {=ISERROR(MATCH(AE22,$AO$3:$AQ$3,0))*IF(OR(AE22<$M$3,AE22>$BU$36),0,INDEX($M$4:$N$10,WEEKDAY(AE22,2),(AE22>=$M$3)*(AE22<$N$3)+2*(AE22>=$N$3)*(AE22<=$BU$36)))} -> 0 | CQ22: {=ISERROR(MATCH(AG22,$AO$3:$AQ$3,0))*IF(OR(AG22<$M$3,AG22>$BU$36),0,INDEX($M$4:$N$10,WEEKDAY(AG22,2),(AG22>=$M$3)*(AG22<$N$3)+2*(AG22>=$N$3)*(AG22<=$BU$36)))} -> 8 | CS22: {=ISERROR(MATCH(AI22,$AO$3:$AQ$3,0))*IF(OR(AI22<$M$3,AI22>$BU$36),0,INDEX($M$4:$N$10,WEEKDAY(AI22,2),(AI22>=$M$3)*(AI22<$N$3)+2*(AI22>=$N$3)*(AI22<=$BU$36)))} -> 0 | CU22: {=ISERROR(MATCH(AK22,$AO$3:$AQ$3,0))*IF(OR(AK22<$M$3,AK22>$BU$36),0,INDEX($M$4:$N$10,WEEKDAY(AK22,2),(AK22>=$M$3)*(AK22<$N$3)+2*(AK22>=$N$3)*(AK22<=$BU$36)))} -> 8 | CW22: {=ISERROR(MATCH(AM22,$AO$3:$AQ$3,0))*IF(OR(AM22<$M$3,AM22>$BU$36),0,INDEX($M$4:$N$10,WEEKDAY(AM22,2),(AM22>=$M$3)*(AM22<$N$3)+2*(AM22>=$N$3)*(AM22<=$BU$36)))} -> 8
D23: {=IF(B23="","",SUMPRODUCT(($Q$2:$AM$32>=A23)*($Q$2:$AM$32<=B23)*($AZ$2:$BV$32>0)))} | G23: =DATE($A$1,5,1) -> 44682 | I23: =COUNTIF($BH$2:$BH$32,">0") -> 17 | J23: =IF($D$4="",SUM($CI$2:$CI$32),SUM($BH$2:$BH$32)) -> 144 | N23: =IF($D$4="",(MAX(MIN(EDATE(G23,1),$N$3)-MAX(G23,$M$3),0))/(EDATE(G23,1)-G23)*($D$6*$J23)+MAX(MIN(EDATE(G23,1),$BU$36)-MAX(G23,$N$3),0)/(EDATE(G23,1)-G23)*($D$7*$J23+$H$7),(MAX(MIN(EDATE(G23,1),$N$3)-MAX(G23,$M$3),0))/(EDATE(G23,1)-G23)*($D$4+$H$4)+MAX(MIN(EDATE(G23,1),$BU$36)-MAX(G23,$N$3),0)/(EDATE(G23,1)-G23)*($D$5+$H$5)) -> 3024 | O23: R | P23: =IF(MONTH(Q22+1)=MONTH(Q$2),Q22+1,"") -> 44583 | Q23: =IF(MONTH(Q22+1)=MONTH(Q$2),Q22+1,"") -> 44583 | R23: =IF(MONTH(R22+1)=MONTH(R$2),R22+1,"") -> 44614 | S23: =IF(MONTH(S22+1)=MONTH(S$2),S22+1,"") -> 44614 | T23: =IF(MONTH(T22+1)=MONTH(T$2),T22+1,"") -> 44642 | U23: =IF(MONTH(U22+1)=MONTH(U$2),U22+1,"") -> 44642 | V23: =IF(MONTH(V22+1)=MONTH(V$2),V22+1,"") -> 44673 | W23: =IF(MONTH(W22+1)=MONTH(W$2),W22+1,"") -> 44673 | X23: =IF(MONTH(X22+1)=MONTH(X$2),X22+1,"") -> 44703 | ... AM23: =IF(MONTH(AM22+1)=MONTH(AM$2),AM22+1,"") -> 44917 | AZ23: {=ISERROR(MATCH(Q23,Feiertage!$A$8:$A$19,0))*IF(OR(Q23<$M$3,Q23>$BU$36),0,INDEX($M$4:$N$10,WEEKDAY(Q23,2),(Q23>=$M$3)*(Q23<$N$3)+2*(Q23>=$N$3)*(Q23<=$BU$36)))} -> 0 | BB23: {=ISERROR(MATCH(S23,Feiertage!$A$8:$A$19,0))*IF(OR(S23<$M$3,S23>$BU$36),0,INDEX($M$4:$N$10,WEEKDAY(S23,2),(S23>=$M$3)*(S23<$N$3)+2*(S23>=$N$3)*(S23<=$BU$36)))} -> 8 | BD23: {=ISERROR(MATCH(U23,Feiertage!$A$8:$A$19,0))*IF(OR(U23<$M$3,U23>$BU$36),0,INDEX($M$4:$N$10,WEEKDAY(U23,2),(U23>=$M$3)*(U23<$N$3)+2*(U23>=$N$3)*(U23<=$BU$36)))} -> 8 | BF23: {=ISERROR(MATCH(W23,Feiertage!$A$8:$A$19,0))*IF(OR(W23<$M$3,W23>$BU$36),0,INDEX($M$4:$N$10,WEEKDAY(W23,2),(W23>=$M$3)*(W23<$N$3)+2*(W23>=$N$3)*(W23<=$BU$36)))} -> 0 | BH23: {=ISERROR(MATCH(Y23,Feiertage!$A$8:$A$19,0))*IF(OR(Y23<$M$3,Y23>$BU$36),0,INDEX($M$4:$N$10,WEEKDAY(Y23,2),(Y23>=$M$3)*(Y23<$N$3)+2*(Y23>=$N$3)*(Y23<=$BU$36)))} -> 0 | BJ23: {=ISERROR(MATCH(AA23,Feiertage!$A$8:$A$19,0))*IF(OR(AA23<$M$3,AA23>$BU$36),0,INDEX($M$4:$N$10,WEEKDAY(AA23,2),(AA23>=$M$3)*(AA23<$N$3)+2*(AA23>=$N$3)*(AA23<=$BU$36)))} -> 8 | BL23: {=ISERROR(MATCH(AC23,Feiertage!$A$8:$A$19,0))*IF(OR(AC23<$M$3,AC23>$BU$36),0,INDEX($M$4:$N$10,WEEKDAY(AC23,2),(AC23>=$M$3)*(AC23<$N$3)+2*(AC23>=$N$3)*(AC23<=$BU$36)))} -> 0 | BN23: {=ISERROR(MATCH(AE23,Feiertage!$A$8:$A$19,0))*IF(OR(AE23<$M$3,AE23>$BU$36),0,INDEX($M$4:$N$10,WEEKDAY(AE23,2),(AE23>=$M$3)*(AE23<$N$3)+2*(AE23>=$N$3)*(AE23<=$BU$36)))} -> 8 | BP23: {=ISERROR(MATCH(AG23,Feiertage!$A$8:$A$19,0))*IF(OR(AG23<$M$3,AG23>$BU$36),0,INDEX($M$4:$N$10,WEEKDAY(AG23,2),(AG23>=$M$3)*(AG23<$N$3)+2*(AG23>=$N$3)*(AG23<=$BU$36)))} -> 8 | BR23: {=ISERROR(MATCH(AI23,Feiertage!$A$8:$A$19,0))*IF(OR(AI23<$M$3,AI23>$BU$36),0,INDEX($M$4:$N$10,WEEKDAY(AI23,2),(AI23>=$M$3)*(AI23<$N$3)+2*(AI23>=$N$3)*(AI23<=$BU$36)))} -> 0 | BT23: {=ISERROR(MATCH(AK23,Feiertage!$A$8:$A$19,0))*IF(OR(AK23<$M$3,AK23>$BU$36),0,INDEX($M$4:$N$10,WEEKDAY(AK23,2),(AK23>=$M$3)*(AK23<$N$3)+2*(AK23>=$N$3)*(AK23<=$BU$36)))} -> 8 | BV23: {=ISERROR(MATCH(AM23,Feiertage!$A$8:$A$19,0))*IF(OR(AM23<$M$3,AM23>$BU$36),0,INDEX($M$4:$N$10,WEEKDAY(AM23,2),(AM23>=$M$3)*(AM23<$N$3)+2*(AM23>=$N$3)*(AM23<=$BU$36)))} -> 8 | CA23: {=ISERROR(MATCH(Q23,$AO$3:$AQ$3,0))*IF(OR(Q23<$M$3,Q23>$BU$36),0,INDEX($M$4:$N$10,WEEKDAY(Q23,2),(Q23>=$M$3)*(Q23<$N$3)+2*(Q23>=$N$3)*(Q23<=$BU$36)))} -> 0 | CC23: {=ISERROR(MATCH(S23,$AO$3:$AQ$3,0))*IF(OR(S23<$M$3,S23>$BU$36),0,INDEX($M$4:$N$10,WEEKDAY(S23,2),(S23>=$M$3)*(S23<$N$3)+2*(S23>=$N$3)*(S23<=$BU$36)))} -> 8 | CE23: {=ISERROR(MATCH(U23,$AO$3:$AQ$3,0))*IF(OR(U23<$M$3,U23>$BU$36),0,INDEX($M$4:$N$10,WEEKDAY(U23,2),(U23>=$M$3)*(U23<$N$3)+2*(U23>=$N$3)*(U23<=$BU$36)))} -> 8 | CG23: {=ISERROR(MATCH(W23,$AO$3:$AQ$3,0))*IF(OR(W23<$M$3,W23>$BU$36),0,INDEX($M$4:$N$10,WEEKDAY(W23,2),(W23>=$M$3)*(W23<$N$3)+2*(W23>=$N$3)*(W23<=$BU$36)))} -> 0 | CI23: {=ISERROR(MATCH(Y23,$AO$3:$AQ$3,0))*IF(OR(Y23<$M$3,Y23>$BU$36),0,INDEX($M$4:$N$10,WEEKDAY(Y23,2),(Y23>=$M$3)*(Y23<$N$3)+2*(Y23>=$N$3)*(Y23<=$BU$36)))} -> 0 | CK23: {=ISERROR(MATCH(AA23,$AO$3:$AQ$3,0))*IF(OR(AA23<$M$3,AA23>$BU$36),0,INDEX($M$4:$N$10,WEEKDAY(AA23,2),(AA23>=$M$3)*(AA23<$N$3)+2*(AA23>=$N$3)*(AA23<=$BU$36)))} -> 8 | CM23: {=ISERROR(MATCH(AC23,$AO$3:$AQ$3,0))*IF(OR(AC23<$M$3,AC23>$BU$36),0,INDEX($M$4:$N$10,WEEKDAY(AC23,2),(AC23>=$M$3)*(AC23<$N$3)+2*(AC23>=$N$3)*(AC23<=$BU$36)))} -> 0 | CO23: {=ISERROR(MATCH(AE23,$AO$3:$AQ$3,0))*IF(OR(AE23<$M$3,AE23>$BU$36),0,INDEX($M$4:$N$10,WEEKDAY(AE23,2),(AE23>=$M$3)*(AE23<$N$3)+2*(AE23>=$N$3)*(AE23<=$BU$36)))} -> 8 | CQ23: {=ISERROR(MATCH(AG23,$AO$3:$AQ$3,0))*IF(OR(AG23<$M$3,AG23>$BU$36),0,INDEX($M$4:$N$10,WEEKDAY(AG23,2),(AG23>=$M$3)*(AG23<$N$3)+2*(AG23>=$N$3)*(AG23<=$BU$36)))} -> 8 | CS23: {=ISERROR(MATCH(AI23,$AO$3:$AQ$3,0))*IF(OR(AI23<$M$3,AI23>$BU$36),0,INDEX($M$4:$N$10,WEEKDAY(AI23,2),(AI23>=$M$3)*(AI23<$N$3)+2*(AI23>=$N$3)*(AI23<=$BU$36)))} -> 0 | CU23: {=ISERROR(MATCH(AK23,$AO$3:$AQ$3,0))*IF(OR(AK23<$M$3,AK23>$BU$36),0,INDEX($M$4:$N$10,WEEKDAY(AK23,2),(AK23>=$M$3)*(AK23<$N$3)+2*(AK23>=$N$3)*(AK23<=$BU$36)))} -> 8 | CW23: {=ISERROR(MATCH(AM23,$AO$3:$AQ$3,0))*IF(OR(AM23<$M$3,AM23>$BU$36),0,INDEX($M$4:$N$10,WEEKDAY(AM23,2),(AM23>=$M$3)*(AM23<$N$3)+2*(AM23>=$N$3)*(AM23<=$BU$36)))} -> 8
D24: {=IF(B24="","",SUMPRODUCT(($Q$2:$AM$32>=A24)*($Q$2:$AM$32<=B24)*($AZ$2:$BV$32>0)))} | G24: =DATE($A$1,6,1) -> 44713 | I24: =COUNTIF($BJ$2:$BJ$32,">0") -> 17 | J24: =IF($D$4="",SUM($CK$2:$CK$32),SUM($BJ$2:$BJ$32)) -> 144 | N24: =IF($D$4="",(MAX(MIN(EDATE(G24,1),$N$3)-MAX(G24,$M$3),0))/(EDATE(G24,1)-G24)*($D$6*$J24)+MAX(MIN(EDATE(G24,1),$BU$36)-MAX(G24,$N$3),0)/(EDATE(G24,1)-G24)*($D$7*$J24+$H$7),(MAX(MIN(EDATE(G24,1),$N$3)-MAX(G24,$M$3),0))/(EDATE(G24,1)-G24)*($D$4+$H$4)+MAX(MIN(EDATE(G24,1),$BU$36)-MAX(G24,$N$3),0)/(EDATE(G24,1)-G24)*($D$5+$H$5)) -> 3024 | O24: R | P24: =IF(MONTH(Q23+1)=MONTH(Q$2),Q23+1,"") -> 44584 | Q24: =IF(MONTH(Q23+1)=MONTH(Q$2),Q23+1,"") -> 44584 | R24: =IF(MONTH(R23+1)=MONTH(R$2),R23+1,"") -> 44615 | S24: =IF(MONTH(S23+1)=MONTH(S$2),S23+1,"") -> 44615 | T24: =IF(MONTH(T23+1)=MONTH(T$2),T23+1,"") -> 44643 | U24: =IF(MONTH(U23+1)=MONTH(U$2),U23+1,"") -> 44643 | V24: =IF(MONTH(V23+1)=MONTH(V$2),V23+1,"") -> 44674 | W24: =IF(MONTH(W23+1)=MONTH(W$2),W23+1,"") -> 44674 | X24: =IF(MONTH(X23+1)=MONTH(X$2),X23+1,"") -> 44704 | ... AM24: =IF(MONTH(AM23+1)=MONTH(AM$2),AM23+1,"") -> 44918 | AZ24: {=ISERROR(MATCH(Q24,Feiertage!$A$8:$A$19,0))*IF(OR(Q24<$M$3,Q24>$BU$36),0,INDEX($M$4:$N$10,WEEKDAY(Q24,2),(Q24>=$M$3)*(Q24<$N$3)+2*(Q24>=$N$3)*(Q24<=$BU$36)))} -> 0 | BB24: {=ISERROR(MATCH(S24,Feiertage!$A$8:$A$19,0))*IF(OR(S24<$M$3,S24>$BU$36),0,INDEX($M$4:$N$10,WEEKDAY(S24,2),(S24>=$M$3)*(S24<$N$3)+2*(S24>=$N$3)*(S24<=$BU$36)))} -> 8 | BD24: {=ISERROR(MATCH(U24,Feiertage!$A$8:$A$19,0))*IF(OR(U24<$M$3,U24>$BU$36),0,INDEX($M$4:$N$10,WEEKDAY(U24,2),(U24>=$M$3)*(U24<$N$3)+2*(U24>=$N$3)*(U24<=$BU$36)))} -> 8 | BF24: {=ISERROR(MATCH(W24,Feiertage!$A$8:$A$19,0))*IF(OR(W24<$M$3,W24>$BU$36),0,INDEX($M$4:$N$10,WEEKDAY(W24,2),(W24>=$M$3)*(W24<$N$3)+2*(W24>=$N$3)*(W24<=$BU$36)))} -> 0 | BH24: {=ISERROR(MATCH(Y24,Feiertage!$A$8:$A$19,0))*IF(OR(Y24<$M$3,Y24>$BU$36),0,INDEX($M$4:$N$10,WEEKDAY(Y24,2),(Y24>=$M$3)*(Y24<$N$3)+2*(Y24>=$N$3)*(Y24<=$BU$36)))} -> 8 | BJ24: {=ISERROR(MATCH(AA24,Feiertage!$A$8:$A$19,0))*IF(OR(AA24<$M$3,AA24>$BU$36),0,INDEX($M$4:$N$10,WEEKDAY(AA24,2),(AA24>=$M$3)*(AA24<$N$3)+2*(AA24>=$N$3)*(AA24<=$BU$36)))} -> 8 | BL24: {=ISERROR(MATCH(AC24,Feiertage!$A$8:$A$19,0))*IF(OR(AC24<$M$3,AC24>$BU$36),0,INDEX($M$4:$N$10,WEEKDAY(AC24,2),(AC24>=$M$3)*(AC24<$N$3)+2*(AC24>=$N$3)*(AC24<=$BU$36)))} -> 0 | BN24: {=ISERROR(MATCH(AE24,Feiertage!$A$8:$A$19,0))*IF(OR(AE24<$M$3,AE24>$BU$36),0,INDEX($M$4:$N$10,WEEKDAY(AE24,2),(AE24>=$M$3)*(AE24<$N$3)+2*(AE24>=$N$3)*(AE24<=$BU$36)))} -> 8 | BP24: {=ISERROR(MATCH(AG24,Feiertage!$A$8:$A$19,0))*IF(OR(AG24<$M$3,AG24>$BU$36),0,INDEX($M$4:$N$10,WEEKDAY(AG24,2),(AG24>=$M$3)*(AG24<$N$3)+2*(AG24>=$N$3)*(AG24<=$BU$36)))} -> 0 | BR24: {=ISERROR(MATCH(AI24,Feiertage!$A$8:$A$19,0))*IF(OR(AI24<$M$3,AI24>$BU$36),0,INDEX($M$4:$N$10,WEEKDAY(AI24,2),(AI24>=$M$3)*(AI24<$N$3)+2*(AI24>=$N$3)*(AI24<=$BU$36)))} -> 0 | BT24: {=ISERROR(MATCH(AK24,Feiertage!$A$8:$A$19,0))*IF(OR(AK24<$M$3,AK24>$BU$36),0,INDEX($M$4:$N$10,WEEKDAY(AK24,2),(AK24>=$M$3)*(AK24<$N$3)+2*(AK24>=$N$3)*(AK24<=$BU$36)))} -> 8 | BV24: {=ISERROR(MATCH(AM24,Feiertage!$A$8:$A$19,0))*IF(OR(AM24<$M$3,AM24>$BU$36),0,INDEX($M$4:$N$10,WEEKDAY(AM24,2),(AM24>=$M$3)*(AM24<$N$3)+2*(AM24>=$N$3)*(AM24<=$BU$36)))} -> 0 | CA24: {=ISERROR(MATCH(Q24,$AO$3:$AQ$3,0))*IF(OR(Q24<$M$3,Q24>$BU$36),0,INDEX($M$4:$N$10,WEEKDAY(Q24,2),(Q24>=$M$3)*(Q24<$N$3)+2*(Q24>=$N$3)*(Q24<=$BU$36)))} -> 0 | CC24: {=ISERROR(MATCH(S24,$AO$3:$AQ$3,0))*IF(OR(S24<$M$3,S24>$BU$36),0,INDEX($M$4:$N$10,WEEKDAY(S24,2),(S24>=$M$3)*(S24<$N$3)+2*(S24>=$N$3)*(S24<=$BU$36)))} -> 8 | CE24: {=ISERROR(MATCH(U24,$AO$3:$AQ$3,0))*IF(OR(U24<$M$3,U24>$BU$36),0,INDEX($M$4:$N$10,WEEKDAY(U24,2),(U24>=$M$3)*(U24<$N$3)+2*(U24>=$N$3)*(U24<=$BU$36)))} -> 8 | CG24: {=ISERROR(MATCH(W24,$AO$3:$AQ$3,0))*IF(OR(W24<$M$3,W24>$BU$36),0,INDEX($M$4:$N$10,WEEKDAY(W24,2),(W24>=$M$3)*(W24<$N$3)+2*(W24>=$N$3)*(W24<=$BU$36)))} -> 0 | CI24: {=ISERROR(MATCH(Y24,$AO$3:$AQ$3,0))*IF(OR(Y24<$M$3,Y24>$BU$36),0,INDEX($M$4:$N$10,WEEKDAY(Y24,2),(Y24>=$M$3)*(Y24<$N$3)+2*(Y24>=$N$3)*(Y24<=$BU$36)))} -> 8 | CK24: {=ISERROR(MATCH(AA24,$AO$3:$AQ$3,0))*IF(OR(AA24<$M$3,AA24>$BU$36),0,INDEX($M$4:$N$10,WEEKDAY(AA24,2),(AA24>=$M$3)*(AA24<$N$3)+2*(AA24>=$N$3)*(AA24<=$BU$36)))} -> 8 | CM24: {=ISERROR(MATCH(AC24,$AO$3:$AQ$3,0))*IF(OR(AC24<$M$3,AC24>$BU$36),0,INDEX($M$4:$N$10,WEEKDAY(AC24,2),(AC24>=$M$3)*(AC24<$N$3)+2*(AC24>=$N$3)*(AC24<=$BU$36)))} -> 0 | CO24: {=ISERROR(MATCH(AE24,$AO$3:$AQ$3,0))*IF(OR(AE24<$M$3,AE24>$BU$36),0,INDEX($M$4:$N$10,WEEKDAY(AE24,2),(AE24>=$M$3)*(AE24<$N$3)+2*(AE24>=$N$3)*(AE24<=$BU$36)))} -> 8 | CQ24: {=ISERROR(MATCH(AG24,$AO$3:$AQ$3,0))*IF(OR(AG24<$M$3,AG24>$BU$36),0,INDEX($M$4:$N$10,WEEKDAY(AG24,2),(AG24>=$M$3)*(AG24<$N$3)+2*(AG24>=$N$3)*(AG24<=$BU$36)))} -> 0 | CS24: {=ISERROR(MATCH(AI24,$AO$3:$AQ$3,0))*IF(OR(AI24<$M$3,AI24>$BU$36),0,INDEX($M$4:$N$10,WEEKDAY(AI24,2),(AI24>=$M$3)*(AI24<$N$3)+2*(AI24>=$N$3)*(AI24<=$BU$36)))} -> 0 | CU24: {=ISERROR(MATCH(AK24,$AO$3:$AQ$3,0))*IF(OR(AK24<$M$3,AK24>$BU$36),0,INDEX($M$4:$N$10,WEEKDAY(AK24,2),(AK24>=$M$3)*(AK24<$N$3)+2*(AK24>=$N$3)*(AK24<=$BU$36)))} -> 8 | CW24: {=ISERROR(MATCH(AM24,$AO$3:$AQ$3,0))*IF(OR(AM24<$M$3,AM24>$BU$36),0,INDEX($M$4:$N$10,WEEKDAY(AM24,2),(AM24>=$M$3)*(AM24<$N$3)+2*(AM24>=$N$3)*(AM24<=$BU$36)))} -> 0
D25: {=IF(B25="","",SUMPRODUCT(($Q$2:$AM$32>=A25)*($Q$2:$AM$32<=B25)*($AZ$2:$BV$32>0)))} | G25: =DATE($A$1,7,1) -> 44743 | I25: =COUNTIF($BL$2:$BL$32,">0") -> 16 | J25: =IF($D$4="",SUM($CM$2:$CM$32),SUM($BL$2:$BL$32)) -> 128 | N25: =IF($D$4="",(MAX(MIN(EDATE(G25,1),$N$3)-MAX(G25,$M$3),0))/(EDATE(G25,1)-G25)*($D$6*$J25)+MAX(MIN(EDATE(G25,1),$BU$36)-MAX(G25,$N$3),0)/(EDATE(G25,1)-G25)*($D$7*$J25+$H$7),(MAX(MIN(EDATE(G25,1),$N$3)-MAX(G25,$M$3),0))/(EDATE(G25,1)-G25)*($D$4+$H$4)+MAX(MIN(EDATE(G25,1),$BU$36)-MAX(G25,$N$3),0)/(EDATE(G25,1)-G25)*($D$5+$H$5)) -> 2688 | O25: R | P25: =IF(MONTH(Q24+1)=MONTH(Q$2),Q24+1,"") -> 44585 | Q25: =IF(MONTH(Q24+1)=MONTH(Q$2),Q24+1,"") -> 44585 | R25: =IF(MONTH(R24+1)=MONTH(R$2),R24+1,"") -> 44616 | S25: =IF(MONTH(S24+1)=MONTH(S$2),S24+1,"") -> 44616 | T25: =IF(MONTH(T24+1)=MONTH(T$2),T24+1,"") -> 44644 | U25: =IF(MONTH(U24+1)=MONTH(U$2),U24+1,"") -> 44644 | V25: =IF(MONTH(V24+1)=MONTH(V$2),V24+1,"") -> 44675 | W25: =IF(MONTH(W24+1)=MONTH(W$2),W24+1,"") -> 44675 | X25: =IF(MONTH(X24+1)=MONTH(X$2),X24+1,"") -> 44705 | ... AM25: =IF(MONTH(AM24+1)=MONTH(AM$2),AM24+1,"") -> 44919 | AZ25: {=ISERROR(MATCH(Q25,Feiertage!$A$8:$A$19,0))*IF(OR(Q25<$M$3,Q25>$BU$36),0,INDEX($M$4:$N$10,WEEKDAY(Q25,2),(Q25>=$M$3)*(Q25<$N$3)+2*(Q25>=$N$3)*(Q25<=$BU$36)))} -> 8 | BB25: {=ISERROR(MATCH(S25,Feiertage!$A$8:$A$19,0))*IF(OR(S25<$M$3,S25>$BU$36),0,INDEX($M$4:$N$10,WEEKDAY(S25,2),(S25>=$M$3)*(S25<$N$3)+2*(S25>=$N$3)*(S25<=$BU$36)))} -> 8 | BD25: {=ISERROR(MATCH(U25,Feiertage!$A$8:$A$19,0))*IF(OR(U25<$M$3,U25>$BU$36),0,INDEX($M$4:$N$10,WEEKDAY(U25,2),(U25>=$M$3)*(U25<$N$3)+2*(U25>=$N$3)*(U25<=$BU$36)))} -> 8 | BF25: {=ISERROR(MATCH(W25,Feiertage!$A$8:$A$19,0))*IF(OR(W25<$M$3,W25>$BU$36),0,INDEX($M$4:$N$10,WEEKDAY(W25,2),(W25>=$M$3)*(W25<$N$3)+2*(W25>=$N$3)*(W25<=$BU$36)))} -> 0 | BH25: {=ISERROR(MATCH(Y25,Feiertage!$A$8:$A$19,0))*IF(OR(Y25<$M$3,Y25>$BU$36),0,INDEX($M$4:$N$10,WEEKDAY(Y25,2),(Y25>=$M$3)*(Y25<$N$3)+2*(Y25>=$N$3)*(Y25<=$BU$36)))} -> 8 | BJ25: {=ISERROR(MATCH(AA25,Feiertage!$A$8:$A$19,0))*IF(OR(AA25<$M$3,AA25>$BU$36),0,INDEX($M$4:$N$10,WEEKDAY(AA25,2),(AA25>=$M$3)*(AA25<$N$3)+2*(AA25>=$N$3)*(AA25<=$BU$36)))} -> 0 | BL25: {=ISERROR(MATCH(AC25,Feiertage!$A$8:$A$19,0))*IF(OR(AC25<$M$3,AC25>$BU$36),0,INDEX($M$4:$N$10,WEEKDAY(AC25,2),(AC25>=$M$3)*(AC25<$N$3)+2*(AC25>=$N$3)*(AC25<=$BU$36)))} -> 0 | BN25: {=ISERROR(MATCH(AE25,Feiertage!$A$8:$A$19,0))*IF(OR(AE25<$M$3,AE25>$BU$36),0,INDEX($M$4:$N$10,WEEKDAY(AE25,2),(AE25>=$M$3)*(AE25<$N$3)+2*(AE25>=$N$3)*(AE25<=$BU$36)))} -> 8 | BP25: {=ISERROR(MATCH(AG25,Feiertage!$A$8:$A$19,0))*IF(OR(AG25<$M$3,AG25>$BU$36),0,INDEX($M$4:$N$10,WEEKDAY(AG25,2),(AG25>=$M$3)*(AG25<$N$3)+2*(AG25>=$N$3)*(AG25<=$BU$36)))} -> 0 | BR25: {=ISERROR(MATCH(AI25,Feiertage!$A$8:$A$19,0))*IF(OR(AI25<$M$3,AI25>$BU$36),0,INDEX($M$4:$N$10,WEEKDAY(AI25,2),(AI25>=$M$3)*(AI25<$N$3)+2*(AI25>=$N$3)*(AI25<=$BU$36)))} -> 8 | BT25: {=ISERROR(MATCH(AK25,Feiertage!$A$8:$A$19,0))*IF(OR(AK25<$M$3,AK25>$BU$36),0,INDEX($M$4:$N$10,WEEKDAY(AK25,2),(AK25>=$M$3)*(AK25<$N$3)+2*(AK25>=$N$3)*(AK25<=$BU$36)))} -> 8 | BV25: {=ISERROR(MATCH(AM25,Feiertage!$A$8:$A$19,0))*IF(OR(AM25<$M$3,AM25>$BU$36),0,INDEX($M$4:$N$10,WEEKDAY(AM25,2),(AM25>=$M$3)*(AM25<$N$3)+2*(AM25>=$N$3)*(AM25<=$BU$36)))} -> 0 | CA25: {=ISERROR(MATCH(Q25,$AO$3:$AQ$3,0))*IF(OR(Q25<$M$3,Q25>$BU$36),0,INDEX($M$4:$N$10,WEEKDAY(Q25,2),(Q25>=$M$3)*(Q25<$N$3)+2*(Q25>=$N$3)*(Q25<=$BU$36)))} -> 8 | CC25: {=ISERROR(MATCH(S25,$AO$3:$AQ$3,0))*IF(OR(S25<$M$3,S25>$BU$36),0,INDEX($M$4:$N$10,WEEKDAY(S25,2),(S25>=$M$3)*(S25<$N$3)+2*(S25>=$N$3)*(S25<=$BU$36)))} -> 8 | CE25: {=ISERROR(MATCH(U25,$AO$3:$AQ$3,0))*IF(OR(U25<$M$3,U25>$BU$36),0,INDEX($M$4:$N$10,WEEKDAY(U25,2),(U25>=$M$3)*(U25<$N$3)+2*(U25>=$N$3)*(U25<=$BU$36)))} -> 8 | CG25: {=ISERROR(MATCH(W25,$AO$3:$AQ$3,0))*IF(OR(W25<$M$3,W25>$BU$36),0,INDEX($M$4:$N$10,WEEKDAY(W25,2),(W25>=$M$3)*(W25<$N$3)+2*(W25>=$N$3)*(W25<=$BU$36)))} -> 0 | CI25: {=ISERROR(MATCH(Y25,$AO$3:$AQ$3,0))*IF(OR(Y25<$M$3,Y25>$BU$36),0,INDEX($M$4:$N$10,WEEKDAY(Y25,2),(Y25>=$M$3)*(Y25<$N$3)+2*(Y25>=$N$3)*(Y25<=$BU$36)))} -> 8 | CK25: {=ISERROR(MATCH(AA25,$AO$3:$AQ$3,0))*IF(OR(AA25<$M$3,AA25>$BU$36),0,INDEX($M$4:$N$10,WEEKDAY(AA25,2),(AA25>=$M$3)*(AA25<$N$3)+2*(AA25>=$N$3)*(AA25<=$BU$36)))} -> 0 | CM25: {=ISERROR(MATCH(AC25,$AO$3:$AQ$3,0))*IF(OR(AC25<$M$3,AC25>$BU$36),0,INDEX($M$4:$N$10,WEEKDAY(AC25,2),(AC25>=$M$3)*(AC25<$N$3)+2*(AC25>=$N$3)*(AC25<=$BU$36)))} -> 0 | CO25: {=ISERROR(MATCH(AE25,$AO$3:$AQ$3,0))*IF(OR(AE25<$M$3,AE25>$BU$36),0,INDEX($M$4:$N$10,WEEKDAY(AE25,2),(AE25>=$M$3)*(AE25<$N$3)+2*(AE25>=$N$3)*(AE25<=$BU$36)))} -> 8 | CQ25: {=ISERROR(MATCH(AG25,$AO$3:$AQ$3,0))*IF(OR(AG25<$M$3,AG25>$BU$36),0,INDEX($M$4:$N$10,WEEKDAY(AG25,2),(AG25>=$M$3)*(AG25<$N$3)+2*(AG25>=$N$3)*(AG25<=$BU$36)))} -> 0 | CS25: {=ISERROR(MATCH(AI25,$AO$3:$AQ$3,0))*IF(OR(AI25<$M$3,AI25>$BU$36),0,INDEX($M$4:$N$10,WEEKDAY(AI25,2),(AI25>=$M$3)*(AI25<$N$3)+2*(AI25>=$N$3)*(AI25<=$BU$36)))} -> 8 | CU25: {=ISERROR(MATCH(AK25,$AO$3:$AQ$3,0))*IF(OR(AK25<$M$3,AK25>$BU$36),0,INDEX($M$4:$N$10,WEEKDAY(AK25,2),(AK25>=$M$3)*(AK25<$N$3)+2*(AK25>=$N$3)*(AK25<=$BU$36)))} -> 8 | CW25: {=ISERROR(MATCH(AM25,$AO$3:$AQ$3,0))*IF(OR(AM25<$M$3,AM25>$BU$36),0,INDEX($M$4:$N$10,WEEKDAY(AM25,2),(AM25>=$M$3)*(AM25<$N$3)+2*(AM25>=$N$3)*(AM25<=$BU$36)))} -> 0
D26: {=IF(B26="","",SUMPRODUCT(($Q$2:$AM$32>=A26)*($Q$2:$AM$32<=B26)*($AZ$2:$BV$32>0)))} | G26: =DATE($A$1,8,1) -> 44774 | I26: =COUNTIF($BN$2:$BN$32,">0") -> 19 | J26: =IF($D$4="",SUM($CO$2:$CO$32),SUM($BN$2:$BN$32)) -> 152 | N26: =IF($D$4="",(MAX(MIN(EDATE(G26,1),$N$3)-MAX(G26,$M$3),0))/(EDATE(G26,1)-G26)*($D$6*$J26)+MAX(MIN(EDATE(G26,1),$BU$36)-MAX(G26,$N$3),0)/(EDATE(G26,1)-G26)*($D$7*$J26+$H$7),(MAX(MIN(EDATE(G26,1),$N$3)-MAX(G26,$M$3),0))/(EDATE(G26,1)-G26)*($D$4+$H$4)+MAX(MIN(EDATE(G26,1),$BU$36)-MAX(G26,$N$3),0)/(EDATE(G26,1)-G26)*($D$5+$H$5)) -> 3192 | O26: R | P26: =IF(MONTH(Q25+1)=MONTH(Q$2),Q25+1,"") -> 44586 | Q26: =IF(MONTH(Q25+1)=MONTH(Q$2),Q25+1,"") -> 44586 | R26: =IF(MONTH(R25+1)=MONTH(R$2),R25+1,"") -> 44617 | S26: =IF(MONTH(S25+1)=MONTH(S$2),S25+1,"") -> 44617 | T26: =IF(MONTH(T25+1)=MONTH(T$2),T25+1,"") -> 44645 | U26: =IF(MONTH(U25+1)=MONTH(U$2),U25+1,"") -> 44645 | V26: =IF(MONTH(V25+1)=MONTH(V$2),V25+1,"") -> 44676 | W26: =IF(MONTH(W25+1)=MONTH(W$2),W25+1,"") -> 44676 | X26: =IF(MONTH(X25+1)=MONTH(X$2),X25+1,"") -> 44706 | ... AM26: =IF(MONTH(AM25+1)=MONTH(AM$2),AM25+1,"") -> 44920 | AO26: Elternzeit | AT26: Ausgeschieden | AZ26: {=ISERROR(MATCH(Q26,Feiertage!$A$8:$A$19,0))*IF(OR(Q26<$M$3,Q26>$BU$36),0,INDEX($M$4:$N$10,WEEKDAY(Q26,2),(Q26>=$M$3)*(Q26<$N$3)+2*(Q26>=$N$3)*(Q26<=$BU$36)))} -> 8 | BB26: {=ISERROR(MATCH(S26,Feiertage!$A$8:$A$19,0))*IF(OR(S26<$M$3,S26>$BU$36),0,INDEX($M$4:$N$10,WEEKDAY(S26,2),(S26>=$M$3)*(S26<$N$3)+2*(S26>=$N$3)*(S26<=$BU$36)))} -> 0 | BD26: {=ISERROR(MATCH(U26,Feiertage!$A$8:$A$19,0))*IF(OR(U26<$M$3,U26>$BU$36),0,INDEX($M$4:$N$10,WEEKDAY(U26,2),(U26>=$M$3)*(U26<$N$3)+2*(U26>=$N$3)*(U26<=$BU$36)))} -> 0 | BF26: {=ISERROR(MATCH(W26,Feiertage!$A$8:$A$19,0))*IF(OR(W26<$M$3,W26>$BU$36),0,INDEX($M$4:$N$10,WEEKDAY(W26,2),(W26>=$M$3)*(W26<$N$3)+2*(W26>=$N$3)*(W26<=$BU$36)))} -> 8 | BH26: {=ISERROR(MATCH(Y26,Feiertage!$A$8:$A$19,0))*IF(OR(Y26<$M$3,Y26>$BU$36),0,INDEX($M$4:$N$10,WEEKDAY(Y26,2),(Y26>=$M$3)*(Y26<$N$3)+2*(Y26>=$N$3)*(Y26<=$BU$36)))} -> 8 | BJ26: {=ISERROR(MATCH(AA26,Feiertage!$A$8:$A$19,0))*IF(OR(AA26<$M$3,AA26>$BU$36),0,INDEX($M$4:$N$10,WEEKDAY(AA26,2),(AA26>=$M$3)*(AA26<$N$3)+2*(AA26>=$N$3)*(AA26<=$BU$36)))} -> 0 | BL26: {=ISERROR(MATCH(AC26,Feiertage!$A$8:$A$19,0))*IF(OR(AC26<$M$3,AC26>$BU$36),0,INDEX($M$4:$N$10,WEEKDAY(AC26,2),(AC26>=$M$3)*(AC26<$N$3)+2*(AC26>=$N$3)*(AC26<=$BU$36)))} -> 8 | BN26: {=ISERROR(MATCH(AE26,Feiertage!$A$8:$A$19,0))*IF(OR(AE26<$M$3,AE26>$BU$36),0,INDEX($M$4:$N$10,WEEKDAY(AE26,2),(AE26>=$M$3)*(AE26<$N$3)+2*(AE26>=$N$3)*(AE26<=$BU$36)))} -> 8 | BP26: {=ISERROR(MATCH(AG26,Feiertage!$A$8:$A$19,0))*IF(OR(AG26<$M$3,AG26>$BU$36),0,INDEX($M$4:$N$10,WEEKDAY(AG26,2),(AG26>=$M$3)*(AG26<$N$3)+2*(AG26>=$N$3)*(AG26<=$BU$36)))} -> 0 | BR26: {=ISERROR(MATCH(AI26,Feiertage!$A$8:$A$19,0))*IF(OR(AI26<$M$3,AI26>$BU$36),0,INDEX($M$4:$N$10,WEEKDAY(AI26,2),(AI26>=$M$3)*(AI26<$N$3)+2*(AI26>=$N$3)*(AI26<=$BU$36)))} -> 8 | BT26: {=ISERROR(MATCH(AK26,Feiertage!$A$8:$A$19,0))*IF(OR(AK26<$M$3,AK26>$BU$36),0,INDEX($M$4:$N$10,WEEKDAY(AK26,2),(AK26>=$M$3)*(AK26<$N$3)+2*(AK26>=$N$3)*(AK26<=$BU$36)))} -> 0 | BV26: {=ISERROR(MATCH(AM26,Feiertage!$A$8:$A$19,0))*IF(OR(AM26<$M$3,AM26>$BU$36),0,INDEX($M$4:$N$10,WEEKDAY(AM26,2),(AM26>=$M$3)*(AM26<$N$3)+2*(AM26>=$N$3)*(AM26<=$BU$36)))} -> 0 | CA26: {=ISERROR(MATCH(Q26,$AO$3:$AQ$3,0))*IF(OR(Q26<$M$3,Q26>$BU$36),0,INDEX($M$4:$N$10,WEEKDAY(Q26,2),(Q26>=$M$3)*(Q26<$N$3)+2*(Q26>=$N$3)*(Q26<=$BU$36)))} -> 8 | CC26: {=ISERROR(MATCH(S26,$AO$3:$AQ$3,0))*IF(OR(S26<$M$3,S26>$BU$36),0,INDEX($M$4:$N$10,WEEKDAY(S26,2),(S26>=$M$3)*(S26<$N$3)+2*(S26>=$N$3)*(S26<=$BU$36)))} -> 0 | CE26: {=ISERROR(MATCH(U26,$AO$3:$AQ$3,0))*IF(OR(U26<$M$3,U26>$BU$36),0,INDEX($M$4:$N$10,WEEKDAY(U26,2),(U26>=$M$3)*(U26<$N$3)+2*(U26>=$N$3)*(U26<=$BU$36)))} -> 0 | CG26: {=ISERROR(MATCH(W26,$AO$3:$AQ$3,0))*IF(OR(W26<$M$3,W26>$BU$36),0,INDEX($M$4:$N$10,WEEKDAY(W26,2),(W26>=$M$3)*(W26<$N$3)+2*(W26>=$N$3)*(W26<=$BU$36)))} -> 8 | CI26: {=ISERROR(MATCH(Y26,$AO$3:$AQ$3,0))*IF(OR(Y26<$M$3,Y26>$BU$36),0,INDEX($M$4:$N$10,WEEKDAY(Y26,2),(Y26>=$M$3)*(Y26<$N$3)+2*(Y26>=$N$3)*(Y26<=$BU$36)))} -> 8 | CK26: {=ISERROR(MATCH(AA26,$AO$3:$AQ$3,0))*IF(OR(AA26<$M$3,AA26>$BU$36),0,INDEX($M$4:$N$10,WEEKDAY(AA26,2),(AA26>=$M$3)*(AA26<$N$3)+2*(AA26>=$N$3)*(AA26<=$BU$36)))} -> 0 | CM26: {=ISERROR(MATCH(AC26,$AO$3:$AQ$3,0))*IF(OR(AC26<$M$3,AC26>$BU$36),0,INDEX($M$4:$N$10,WEEKDAY(AC26,2),(AC26>=$M$3)*(AC26<$N$3)+2*(AC26>=$N$3)*(AC26<=$BU$36)))} -> 8 | CO26: {=ISERROR(MATCH(AE26,$AO$3:$AQ$3,0))*IF(OR(AE26<$M$3,AE26>$BU$36),0,INDEX($M$4:$N$10,WEEKDAY(AE26,2),(AE26>=$M$3)*(AE26<$N$3)+2*(AE26>=$N$3)*(AE26<=$BU$36)))} -> 8 | CQ26: {=ISERROR(MATCH(AG26,$AO$3:$AQ$3,0))*IF(OR(AG26<$M$3,AG26>$BU$36),0,INDEX($M$4:$N$10,WEEKDAY(AG26,2),(AG26>=$M$3)*(AG26<$N$3)+2*(AG26>=$N$3)*(AG26<=$BU$36)))} -> 0 | CS26: {=ISERROR(MATCH(AI26,$AO$3:$AQ$3,0))*IF(OR(AI26<$M$3,AI26>$BU$36),0,INDEX($M$4:$N$10,WEEKDAY(AI26,2),(AI26>=$M$3)*(AI26<$N$3)+2*(AI26>=$N$3)*(AI26<=$BU$36)))} -> 8 | CU26: {=ISERROR(MATCH(AK26,$AO$3:$AQ$3,0))*IF(OR(AK26<$M$3,AK26>$BU$36),0,INDEX($M$4:$N$10,WEEKDAY(AK26,2),(AK26>=$M$3)*(AK26<$N$3)+2*(AK26>=$N$3)*(AK26<=$BU$36)))} -> 0 | CW26: {=ISERROR(MATCH(AM26,$AO$3:$AQ$3,0))*IF(OR(AM26<$M$3,AM26>$BU$36),0,INDEX($M$4:$N$10,WEEKDAY(AM26,2),(AM26>=$M$3)*(AM26<$N$3)+2*(AM26>=$N$3)*(AM26<=$BU$36)))} -> 0
D27: {=IF(B27="","",SUMPRODUCT(($Q$2:$AM$32>=A27)*($Q$2:$AM$32<=B27)*($AZ$2:$BV$32>0)))} | G27: =DATE($A$1,9,1) -> 44805 | I27: =COUNTIF($BP$2:$BP$32,">0") -> 17 | J27: =IF($D$4="",SUM($CQ$2:$CQ$32),SUM($BP$2:$BP$32)) -> 136 | N27: =IF($D$4="",(MAX(MIN(EDATE(G27,1),$N$3)-MAX(G27,$M$3),0))/(EDATE(G27,1)-G27)*($D$6*$J27)+MAX(MIN(EDATE(G27,1),$BU$36)-MAX(G27,$N$3),0)/(EDATE(G27,1)-G27)*($D$7*$J27+$H$7),(MAX(MIN(EDATE(G27,1),$N$3)-MAX(G27,$M$3),0))/(EDATE(G27,1)-G27)*($D$4+$H$4)+MAX(MIN(EDATE(G27,1),$BU$36)-MAX(G27,$N$3),0)/(EDATE(G27,1)-G27)*($D$5+$H$5)) -> 2856 | O27: R | P27: =IF(MONTH(Q26+1)=MONTH(Q$2),Q26+1,"") -> 44587 | Q27: =IF(MONTH(Q26+1)=MONTH(Q$2),Q26+1,"") -> 44587 | R27: =IF(MONTH(R26+1)=MONTH(R$2),R26+1,"") -> 44618 | S27: =IF(MONTH(S26+1)=MONTH(S$2),S26+1,"") -> 44618 | T27: =IF(MONTH(T26+1)=MONTH(T$2),T26+1,"") -> 44646 | U27: =IF(MONTH(U26+1)=MONTH(U$2),U26+1,"") -> 44646 | V27: =IF(MONTH(V26+1)=MONTH(V$2),V26+1,"") -> 44677 | W27: =IF(MONTH(W26+1)=MONTH(W$2),W26+1,"") -> 44677 | X27: =IF(MONTH(X26+1)=MONTH(X$2),X26+1,"") -> 44707 | ... AM27: =IF(MONTH(AM26+1)=MONTH(AM$2),AM26+1,"") -> 44921 | AZ27: {=ISERROR(MATCH(Q27,Feiertage!$A$8:$A$19,0))*IF(OR(Q27<$M$3,Q27>$BU$36),0,INDEX($M$4:$N$10,WEEKDAY(Q27,2),(Q27>=$M$3)*(Q27<$N$3)+2*(Q27>=$N$3)*(Q27<=$BU$36)))} -> 8 | BB27: {=ISERROR(MATCH(S27,Feiertage!$A$8:$A$19,0))*IF(OR(S27<$M$3,S27>$BU$36),0,INDEX($M$4:$N$10,WEEKDAY(S27,2),(S27>=$M$3)*(S27<$N$3)+2*(S27>=$N$3)*(S27<=$BU$36)))} -> 0 | BD27: {=ISERROR(MATCH(U27,Feiertage!$A$8:$A$19,0))*IF(OR(U27<$M$3,U27>$BU$36),0,INDEX($M$4:$N$10,WEEKDAY(U27,2),(U27>=$M$3)*(U27<$N$3)+2*(U27>=$N$3)*(U27<=$BU$36)))} -> 0 | BF27: {=ISERROR(MATCH(W27,Feiertage!$A$8:$A$19,0))*IF(OR(W27<$M$3,W27>$BU$36),0,INDEX($M$4:$N$10,WEEKDAY(W27,2),(W27>=$M$3)*(W27<$N$3)+2*(W27>=$N$3)*(W27<=$BU$36)))} -> 8 | BH27: {=ISERROR(MATCH(Y27,Feiertage!$A$8:$A$19,0))*IF(OR(Y27<$M$3,Y27>$BU$36),0,INDEX($M$4:$N$10,WEEKDAY(Y27,2),(Y27>=$M$3)*(Y27<$N$3)+2*(Y27>=$N$3)*(Y27<=$BU$36)))} -> 0 | BJ27: {=ISERROR(MATCH(AA27,Feiertage!$A$8:$A$19,0))*IF(OR(AA27<$M$3,AA27>$BU$36),0,INDEX($M$4:$N$10,WEEKDAY(AA27,2),(AA27>=$M$3)*(AA27<$N$3)+2*(AA27>=$N$3)*(AA27<=$BU$36)))} -> 0 | BL27: {=ISERROR(MATCH(AC27,Feiertage!$A$8:$A$19,0))*IF(OR(AC27<$M$3,AC27>$BU$36),0,INDEX($M$4:$N$10,WEEKDAY(AC27,2),(AC27>=$M$3)*(AC27<$N$3)+2*(AC27>=$N$3)*(AC27<=$BU$36)))} -> 8 | BN27: {=ISERROR(MATCH(AE27,Feiertage!$A$8:$A$19,0))*IF(OR(AE27<$M$3,AE27>$BU$36),0,INDEX($M$4:$N$10,WEEKDAY(AE27,2),(AE27>=$M$3)*(AE27<$N$3)+2*(AE27>=$N$3)*(AE27<=$BU$36)))} -> 0 | BP27: {=ISERROR(MATCH(AG27,Feiertage!$A$8:$A$19,0))*IF(OR(AG27<$M$3,AG27>$BU$36),0,INDEX($M$4:$N$10,WEEKDAY(AG27,2),(AG27>=$M$3)*(AG27<$N$3)+2*(AG27>=$N$3)*(AG27<=$BU$36)))} -> 8 | BR27: {=ISERROR(MATCH(AI27,Feiertage!$A$8:$A$19,0))*IF(OR(AI27<$M$3,AI27>$BU$36),0,INDEX($M$4:$N$10,WEEKDAY(AI27,2),(AI27>=$M$3)*(AI27<$N$3)+2*(AI27>=$N$3)*(AI27<=$BU$36)))} -> 8 | BT27: {=ISERROR(MATCH(AK27,Feiertage!$A$8:$A$19,0))*IF(OR(AK27<$M$3,AK27>$BU$36),0,INDEX($M$4:$N$10,WEEKDAY(AK27,2),(AK27>=$M$3)*(AK27<$N$3)+2*(AK27>=$N$3)*(AK27<=$BU$36)))} -> 0 | BV27: {=ISERROR(MATCH(AM27,Feiertage!$A$8:$A$19,0))*IF(OR(AM27<$M$3,AM27>$BU$36),0,INDEX($M$4:$N$10,WEEKDAY(AM27,2),(AM27>=$M$3)*(AM27<$N$3)+2*(AM27>=$N$3)*(AM27<=$BU$36)))} -> 0 | CA27: {=ISERROR(MATCH(Q27,$AO$3:$AQ$3,0))*IF(OR(Q27<$M$3,Q27>$BU$36),0,INDEX($M$4:$N$10,WEEKDAY(Q27,2),(Q27>=$M$3)*(Q27<$N$3)+2*(Q27>=$N$3)*(Q27<=$BU$36)))} -> 8 | CC27: {=ISERROR(MATCH(S27,$AO$3:$AQ$3,0))*IF(OR(S27<$M$3,S27>$BU$36),0,INDEX($M$4:$N$10,WEEKDAY(S27,2),(S27>=$M$3)*(S27<$N$3)+2*(S27>=$N$3)*(S27<=$BU$36)))} -> 0 | CE27: {=ISERROR(MATCH(U27,$AO$3:$AQ$3,0))*IF(OR(U27<$M$3,U27>$BU$36),0,INDEX($M$4:$N$10,WEEKDAY(U27,2),(U27>=$M$3)*(U27<$N$3)+2*(U27>=$N$3)*(U27<=$BU$36)))} -> 0 | CG27: {=ISERROR(MATCH(W27,$AO$3:$AQ$3,0))*IF(OR(W27<$M$3,W27>$BU$36),0,INDEX($M$4:$N$10,WEEKDAY(W27,2),(W27>=$M$3)*(W27<$N$3)+2*(W27>=$N$3)*(W27<=$BU$36)))} -> 8 | CI27: {=ISERROR(MATCH(Y27,$AO$3:$AQ$3,0))*IF(OR(Y27<$M$3,Y27>$BU$36),0,INDEX($M$4:$N$10,WEEKDAY(Y27,2),(Y27>=$M$3)*(Y27<$N$3)+2*(Y27>=$N$3)*(Y27<=$BU$36)))} -> 8 | CK27: {=ISERROR(MATCH(AA27,$AO$3:$AQ$3,0))*IF(OR(AA27<$M$3,AA27>$BU$36),0,INDEX($M$4:$N$10,WEEKDAY(AA27,2),(AA27>=$M$3)*(AA27<$N$3)+2*(AA27>=$N$3)*(AA27<=$BU$36)))} -> 0 | CM27: {=ISERROR(MATCH(AC27,$AO$3:$AQ$3,0))*IF(OR(AC27<$M$3,AC27>$BU$36),0,INDEX($M$4:$N$10,WEEKDAY(AC27,2),(AC27>=$M$3)*(AC27<$N$3)+2*(AC27>=$N$3)*(AC27<=$BU$36)))} -> 8 | CO27: {=ISERROR(MATCH(AE27,$AO$3:$AQ$3,0))*IF(OR(AE27<$M$3,AE27>$BU$36),0,INDEX($M$4:$N$10,WEEKDAY(AE27,2),(AE27>=$M$3)*(AE27<$N$3)+2*(AE27>=$N$3)*(AE27<=$BU$36)))} -> 0 | CQ27: {=ISERROR(MATCH(AG27,$AO$3:$AQ$3,0))*IF(OR(AG27<$M$3,AG27>$BU$36),0,INDEX($M$4:$N$10,WEEKDAY(AG27,2),(AG27>=$M$3)*(AG27<$N$3)+2*(AG27>=$N$3)*(AG27<=$BU$36)))} -> 8 | CS27: {=ISERROR(MATCH(AI27,$AO$3:$AQ$3,0))*IF(OR(AI27<$M$3,AI27>$BU$36),0,INDEX($M$4:$N$10,WEEKDAY(AI27,2),(AI27>=$M$3)*(AI27<$N$3)+2*(AI27>=$N$3)*(AI27<=$BU$36)))} -> 8 | CU27: {=ISERROR(MATCH(AK27,$AO$3:$AQ$3,0))*IF(OR(AK27<$M$3,AK27>$BU$36),0,INDEX($M$4:$N$10,WEEKDAY(AK27,2),(AK27>=$M$3)*(AK27<$N$3)+2*(AK27>=$N$3)*(AK27<=$BU$36)))} -> 0 | CW27: {=ISERROR(MATCH(AM27,$AO$3:$AQ$3,0))*IF(OR(AM27<$M$3,AM27>$BU$36),0,INDEX($M$4:$N$10,WEEKDAY(AM27,2),(AM27>=$M$3)*(AM27<$N$3)+2*(AM27>=$N$3)*(AM27<=$BU$36)))} -> 8
D28: {=IF(B28="","",SUMPRODUCT(($Q$2:$AM$32>=A28)*($Q$2:$AM$32<=B28)*($AZ$2:$BV$32>0)))} | G28: =DATE($A$1,10,1) -> 44835 | I28: =COUNTIF($BR$2:$BR$32,">0") -> 15 | J28: =IF($D$4="",SUM($CS$2:$CS$32),SUM($BR$2:$BR$32)) -> 136 | N28: =IF($D$4="",(MAX(MIN(EDATE(G28,1),$N$3)-MAX(G28,$M$3),0))/(EDATE(G28,1)-G28)*($D$6*$J28)+MAX(MIN(EDATE(G28,1),$BU$36)-MAX(G28,$N$3),0)/(EDATE(G28,1)-G28)*($D$7*$J28+$H$7),(MAX(MIN(EDATE(G28,1),$N$3)-MAX(G28,$M$3),0))/(EDATE(G28,1)-G28)*($D$4+$H$4)+MAX(MIN(EDATE(G28,1),$BU$36)-MAX(G28,$N$3),0)/(EDATE(G28,1)-G28)*($D$5+$H$5)) -> 2856 | O28: R | P28: =IF(MONTH(Q27+1)=MONTH(Q$2),Q27+1,"") -> 44588 | Q28: =IF(MONTH(Q27+1)=MONTH(Q$2),Q27+1,"") -> 44588 | R28: =IF(MONTH(R27+1)=MONTH(R$2),R27+1,"") -> 44619 | S28: =IF(MONTH(S27+1)=MONTH(S$2),S27+1,"") -> 44619 | T28: =IF(MONTH(T27+1)=MONTH(T$2),T27+1,"") -> 44647 | U28: =IF(MONTH(U27+1)=MONTH(U$2),U27+1,"") -> 44647 | V28: =IF(MONTH(V27+1)=MONTH(V$2),V27+1,"") -> 44678 | W28: =IF(MONTH(W27+1)=MONTH(W$2),W27+1,"") -> 44678 | X28: =IF(MONTH(X27+1)=MONTH(X$2),X27+1,"") -> 44708 | ... AM28: =IF(MONTH(AM27+1)=MONTH(AM$2),AM27+1,"") -> 44922 | AO28: von | AQ28: bis | AT28: von | AV28: bis | AZ28: {=ISERROR(MATCH(Q28,Feiertage!$A$8:$A$19,0))*IF(OR(Q28<$M$3,Q28>$BU$36),0,INDEX($M$4:$N$10,WEEKDAY(Q28,2),(Q28>=$M$3)*(Q28<$N$3)+2*(Q28>=$N$3)*(Q28<=$BU$36)))} -> 8 | BB28: {=ISERROR(MATCH(S28,Feiertage!$A$8:$A$19,0))*IF(OR(S28<$M$3,S28>$BU$36),0,INDEX($M$4:$N$10,WEEKDAY(S28,2),(S28>=$M$3)*(S28<$N$3)+2*(S28>=$N$3)*(S28<=$BU$36)))} -> 0 | BD28: {=ISERROR(MATCH(U28,Feiertage!$A$8:$A$19,0))*IF(OR(U28<$M$3,U28>$BU$36),0,INDEX($M$4:$N$10,WEEKDAY(U28,2),(U28>=$M$3)*(U28<$N$3)+2*(U28>=$N$3)*(U28<=$BU$36)))} -> 0 | BF28: {=ISERROR(MATCH(W28,Feiertage!$A$8:$A$19,0))*IF(OR(W28<$M$3,W28>$BU$36),0,INDEX($M$4:$N$10,WEEKDAY(W28,2),(W28>=$M$3)*(W28<$N$3)+2*(W28>=$N$3)*(W28<=$BU$36)))} -> 8 | BH28: {=ISERROR(MATCH(Y28,Feiertage!$A$8:$A$19,0))*IF(OR(Y28<$M$3,Y28>$BU$36),0,INDEX($M$4:$N$10,WEEKDAY(Y28,2),(Y28>=$M$3)*(Y28<$N$3)+2*(Y28>=$N$3)*(Y28<=$BU$36)))} -> 0 | BJ28: {=ISERROR(MATCH(AA28,Feiertage!$A$8:$A$19,0))*IF(OR(AA28<$M$3,AA28>$BU$36),0,INDEX($M$4:$N$10,WEEKDAY(AA28,2),(AA28>=$M$3)*(AA28<$N$3)+2*(AA28>=$N$3)*(AA28<=$BU$36)))} -> 8 | BL28: {=ISERROR(MATCH(AC28,Feiertage!$A$8:$A$19,0))*IF(OR(AC28<$M$3,AC28>$BU$36),0,INDEX($M$4:$N$10,WEEKDAY(AC28,2),(AC28>=$M$3)*(AC28<$N$3)+2*(AC28>=$N$3)*(AC28<=$BU$36)))} -> 8 | BN28: {=ISERROR(MATCH(AE28,Feiertage!$A$8:$A$19,0))*IF(OR(AE28<$M$3,AE28>$BU$36),0,INDEX($M$4:$N$10,WEEKDAY(AE28,2),(AE28>=$M$3)*(AE28<$N$3)+2*(AE28>=$N$3)*(AE28<=$BU$36)))} -> 0 | BP28: {=ISERROR(MATCH(AG28,Feiertage!$A$8:$A$19,0))*IF(OR(AG28<$M$3,AG28>$BU$36),0,INDEX($M$4:$N$10,WEEKDAY(AG28,2),(AG28>=$M$3)*(AG28<$N$3)+2*(AG28>=$N$3)*(AG28<=$BU$36)))} -> 8 | BR28: {=ISERROR(MATCH(AI28,Feiertage!$A$8:$A$19,0))*IF(OR(AI28<$M$3,AI28>$BU$36),0,INDEX($M$4:$N$10,WEEKDAY(AI28,2),(AI28>=$M$3)*(AI28<$N$3)+2*(AI28>=$N$3)*(AI28<=$BU$36)))} -> 8 | BT28: {=ISERROR(MATCH(AK28,Feiertage!$A$8:$A$19,0))*IF(OR(AK28<$M$3,AK28>$BU$36),0,INDEX($M$4:$N$10,WEEKDAY(AK28,2),(AK28>=$M$3)*(AK28<$N$3)+2*(AK28>=$N$3)*(AK28<=$BU$36)))} -> 0 | BV28: {=ISERROR(MATCH(AM28,Feiertage!$A$8:$A$19,0))*IF(OR(AM28<$M$3,AM28>$BU$36),0,INDEX($M$4:$N$10,WEEKDAY(AM28,2),(AM28>=$M$3)*(AM28<$N$3)+2*(AM28>=$N$3)*(AM28<=$BU$36)))} -> 8 | CA28: {=ISERROR(MATCH(Q28,$AO$3:$AQ$3,0))*IF(OR(Q28<$M$3,Q28>$BU$36),0,INDEX($M$4:$N$10,WEEKDAY(Q28,2),(Q28>=$M$3)*(Q28<$N$3)+2*(Q28>=$N$3)*(Q28<=$BU$36)))} -> 8 | CC28: {=ISERROR(MATCH(S28,$AO$3:$AQ$3,0))*IF(OR(S28<$M$3,S28>$BU$36),0,INDEX($M$4:$N$10,WEEKDAY(S28,2),(S28>=$M$3)*(S28<$N$3)+2*(S28>=$N$3)*(S28<=$BU$36)))} -> 0 | CE28: {=ISERROR(MATCH(U28,$AO$3:$AQ$3,0))*IF(OR(U28<$M$3,U28>$BU$36),0,INDEX($M$4:$N$10,WEEKDAY(U28,2),(U28>=$M$3)*(U28<$N$3)+2*(U28>=$N$3)*(U28<=$BU$36)))} -> 0 | CG28: {=ISERROR(MATCH(W28,$AO$3:$AQ$3,0))*IF(OR(W28<$M$3,W28>$BU$36),0,INDEX($M$4:$N$10,WEEKDAY(W28,2),(W28>=$M$3)*(W28<$N$3)+2*(W28>=$N$3)*(W28<=$BU$36)))} -> 8 | CI28: {=ISERROR(MATCH(Y28,$AO$3:$AQ$3,0))*IF(OR(Y28<$M$3,Y28>$BU$36),0,INDEX($M$4:$N$10,WEEKDAY(Y28,2),(Y28>=$M$3)*(Y28<$N$3)+2*(Y28>=$N$3)*(Y28<=$BU$36)))} -> 0 | CK28: {=ISERROR(MATCH(AA28,$AO$3:$AQ$3,0))*IF(OR(AA28<$M$3,AA28>$BU$36),0,INDEX($M$4:$N$10,WEEKDAY(AA28,2),(AA28>=$M$3)*(AA28<$N$3)+2*(AA28>=$N$3)*(AA28<=$BU$36)))} -> 8 | CM28: {=ISERROR(MATCH(AC28,$AO$3:$AQ$3,0))*IF(OR(AC28<$M$3,AC28>$BU$36),0,INDEX($M$4:$N$10,WEEKDAY(AC28,2),(AC28>=$M$3)*(AC28<$N$3)+2*(AC28>=$N$3)*(AC28<=$BU$36)))} -> 8 | CO28: {=ISERROR(MATCH(AE28,$AO$3:$AQ$3,0))*IF(OR(AE28<$M$3,AE28>$BU$36),0,INDEX($M$4:$N$10,WEEKDAY(AE28,2),(AE28>=$M$3)*(AE28<$N$3)+2*(AE28>=$N$3)*(AE28<=$BU$36)))} -> 0 | CQ28: {=ISERROR(MATCH(AG28,$AO$3:$AQ$3,0))*IF(OR(AG28<$M$3,AG28>$BU$36),0,INDEX($M$4:$N$10,WEEKDAY(AG28,2),(AG28>=$M$3)*(AG28<$N$3)+2*(AG28>=$N$3)*(AG28<=$BU$36)))} -> 8 | CS28: {=ISERROR(MATCH(AI28,$AO$3:$AQ$3,0))*IF(OR(AI28<$M$3,AI28>$BU$36),0,INDEX($M$4:$N$10,WEEKDAY(AI28,2),(AI28>=$M$3)*(AI28<$N$3)+2*(AI28>=$N$3)*(AI28<=$BU$36)))} -> 8 | CU28: {=ISERROR(MATCH(AK28,$AO$3:$AQ$3,0))*IF(OR(AK28<$M$3,AK28>$BU$36),0,INDEX($M$4:$N$10,WEEKDAY(AK28,2),(AK28>=$M$3)*(AK28<$N$3)+2*(AK28>=$N$3)*(AK28<=$BU$36)))} -> 0 | CW28: {=ISERROR(MATCH(AM28,$AO$3:$AQ$3,0))*IF(OR(AM28<$M$3,AM28>$BU$36),0,INDEX($M$4:$N$10,WEEKDAY(AM28,2),(AM28>=$M$3)*(AM28<$N$3)+2*(AM28>=$N$3)*(AM28<=$BU$36)))} -> 8
D29: {=IF(B29="","",SUMPRODUCT(($Q$2:$AM$32>=A29)*($Q$2:$AM$32<=B29)*($AZ$2:$BV$32>0)))} | G29: =DATE($A$1,11,1) -> 44866 | I29: =COUNTIF($BT$2:$BT$32,">0") -> 18 | J29: =IF($D$4="",SUM($CU$2:$CU$32),SUM($BT$2:$BT$32)) -> 144 | N29: =IF($D$4="",(MAX(MIN(EDATE(G29,1),$N$3)-MAX(G29,$M$3),0))/(EDATE(G29,1)-G29)*($D$6*$J29)+MAX(MIN(EDATE(G29,1),$BU$36)-MAX(G29,$N$3),0)/(EDATE(G29,1)-G29)*($D$7*$J29+$H$7),(MAX(MIN(EDATE(G29,1),$N$3)-MAX(G29,$M$3),0))/(EDATE(G29,1)-G29)*($D$4+$H$4)+MAX(MIN(EDATE(G29,1),$BU$36)-MAX(G29,$N$3),0)/(EDATE(G29,1)-G29)*($D$5+$H$5)) -> 3024 | P29: =IF(MONTH(Q28+1)=MONTH(Q$2),Q28+1,"") -> 44589 | Q29: =IF(MONTH(Q28+1)=MONTH(Q$2),Q28+1,"") -> 44589 | R29: =IF(MONTH(R28+1)=MONTH(R$2),R28+1,"") -> 44620 | S29: =IF(MONTH(S28+1)=MONTH(S$2),S28+1,"") -> 44620 | T29: =IF(MONTH(T28+1)=MONTH(T$2),T28+1,"") -> 44648 | U29: =IF(MONTH(U28+1)=MONTH(U$2),U28+1,"") -> 44648 | V29: =IF(MONTH(V28+1)=MONTH(V$2),V28+1,"") -> 44679 | W29: =IF(MONTH(W28+1)=MONTH(W$2),W28+1,"") -> 44679 | X29: =IF(MONTH(X28+1)=MONTH(X$2),X28+1,"") -> 44709 | ... AM29: =IF(MONTH(AM28+1)=MONTH(AM$2),AM28+1,"") -> 44923 | AT29: =(IF(ISNUMBER($AV$29),DATE(A1,1,1),"")) | AV29: =IF(AND(B10>BR36,B10<BR40),B10-1,"") | AZ29: {=ISERROR(MATCH(Q29,Feiertage!$A$8:$A$19,0))*IF(OR(Q29<$M$3,Q29>$BU$36),0,INDEX($M$4:$N$10,WEEKDAY(Q29,2),(Q29>=$M$3)*(Q29<$N$3)+2*(Q29>=$N$3)*(Q29<=$BU$36)))} -> 0 | BB29: {=ISERROR(MATCH(S29,Feiertage!$A$8:$A$19,0))*IF(OR(S29<$M$3,S29>$BU$36),0,INDEX($M$4:$N$10,WEEKDAY(S29,2),(S29>=$M$3)*(S29<$N$3)+2*(S29>=$N$3)*(S29<=$BU$36)))} -> 8 | BD29: {=ISERROR(MATCH(U29,Feiertage!$A$8:$A$19,0))*IF(OR(U29<$M$3,U29>$BU$36),0,INDEX($M$4:$N$10,WEEKDAY(U29,2),(U29>=$M$3)*(U29<$N$3)+2*(U29>=$N$3)*(U29<=$BU$36)))} -> 8 | BF29: {=ISERROR(MATCH(W29,Feiertage!$A$8:$A$19,0))*IF(OR(W29<$M$3,W29>$BU$36),0,INDEX($M$4:$N$10,WEEKDAY(W29,2),(W29>=$M$3)*(W29<$N$3)+2*(W29>=$N$3)*(W29<=$BU$36)))} -> 8 | BH29: {=ISERROR(MATCH(Y29,Feiertage!$A$8:$A$19,0))*IF(OR(Y29<$M$3,Y29>$BU$36),0,INDEX($M$4:$N$10,WEEKDAY(Y29,2),(Y29>=$M$3)*(Y29<$N$3)+2*(Y29>=$N$3)*(Y29<=$BU$36)))} -> 0 | BJ29: {=ISERROR(MATCH(AA29,Feiertage!$A$8:$A$19,0))*IF(OR(AA29<$M$3,AA29>$BU$36),0,INDEX($M$4:$N$10,WEEKDAY(AA29,2),(AA29>=$M$3)*(AA29<$N$3)+2*(AA29>=$N$3)*(AA29<=$BU$36)))} -> 8 | BL29: {=ISERROR(MATCH(AC29,Feiertage!$A$8:$A$19,0))*IF(OR(AC29<$M$3,AC29>$BU$36),0,INDEX($M$4:$N$10,WEEKDAY(AC29,2),(AC29>=$M$3)*(AC29<$N$3)+2*(AC29>=$N$3)*(AC29<=$BU$36)))} -> 8 | BN29: {=ISERROR(MATCH(AE29,Feiertage!$A$8:$A$19,0))*IF(OR(AE29<$M$3,AE29>$BU$36),0,INDEX($M$4:$N$10,WEEKDAY(AE29,2),(AE29>=$M$3)*(AE29<$N$3)+2*(AE29>=$N$3)*(AE29<=$BU$36)))} -> 0 | BP29: {=ISERROR(MATCH(AG29,Feiertage!$A$8:$A$19,0))*IF(OR(AG29<$M$3,AG29>$BU$36),0,INDEX($M$4:$N$10,WEEKDAY(AG29,2),(AG29>=$M$3)*(AG29<$N$3)+2*(AG29>=$N$3)*(AG29<=$BU$36)))} -> 8 | BR29: {=ISERROR(MATCH(AI29,Feiertage!$A$8:$A$19,0))*IF(OR(AI29<$M$3,AI29>$BU$36),0,INDEX($M$4:$N$10,WEEKDAY(AI29,2),(AI29>=$M$3)*(AI29<$N$3)+2*(AI29>=$N$3)*(AI29<=$BU$36)))} -> 0 | BT29: {=ISERROR(MATCH(AK29,Feiertage!$A$8:$A$19,0))*IF(OR(AK29<$M$3,AK29>$BU$36),0,INDEX($M$4:$N$10,WEEKDAY(AK29,2),(AK29>=$M$3)*(AK29<$N$3)+2*(AK29>=$N$3)*(AK29<=$BU$36)))} -> 8 | BV29: {=ISERROR(MATCH(AM29,Feiertage!$A$8:$A$19,0))*IF(OR(AM29<$M$3,AM29>$BU$36),0,INDEX($M$4:$N$10,WEEKDAY(AM29,2),(AM29>=$M$3)*(AM29<$N$3)+2*(AM29>=$N$3)*(AM29<=$BU$36)))} -> 8 | CA29: {=ISERROR(MATCH(Q29,$AO$3:$AQ$3,0))*IF(OR(Q29<$M$3,Q29>$BU$36),0,INDEX($M$4:$N$10,WEEKDAY(Q29,2),(Q29>=$M$3)*(Q29<$N$3)+2*(Q29>=$N$3)*(Q29<=$BU$36)))} -> 0 | CC29: {=ISERROR(MATCH(S29,$AO$3:$AQ$3,0))*IF(OR(S29<$M$3,S29>$BU$36),0,INDEX($M$4:$N$10,WEEKDAY(S29,2),(S29>=$M$3)*(S29<$N$3)+2*(S29>=$N$3)*(S29<=$BU$36)))} -> 8 | CE29: {=ISERROR(MATCH(U29,$AO$3:$AQ$3,0))*IF(OR(U29<$M$3,U29>$BU$36),0,INDEX($M$4:$N$10,WEEKDAY(U29,2),(U29>=$M$3)*(U29<$N$3)+2*(U29>=$N$3)*(U29<=$BU$36)))} -> 8 | CG29: {=ISERROR(MATCH(W29,$AO$3:$AQ$3,0))*IF(OR(W29<$M$3,W29>$BU$36),0,INDEX($M$4:$N$10,WEEKDAY(W29,2),(W29>=$M$3)*(W29<$N$3)+2*(W29>=$N$3)*(W29<=$BU$36)))} -> 8 | CI29: {=ISERROR(MATCH(Y29,$AO$3:$AQ$3,0))*IF(OR(Y29<$M$3,Y29>$BU$36),0,INDEX($M$4:$N$10,WEEKDAY(Y29,2),(Y29>=$M$3)*(Y29<$N$3)+2*(Y29>=$N$3)*(Y29<=$BU$36)))} -> 0 | CK29: {=ISERROR(MATCH(AA29,$AO$3:$AQ$3,0))*IF(OR(AA29<$M$3,AA29>$BU$36),0,INDEX($M$4:$N$10,WEEKDAY(AA29,2),(AA29>=$M$3)*(AA29<$N$3)+2*(AA29>=$N$3)*(AA29<=$BU$36)))} -> 8 | CM29: {=ISERROR(MATCH(AC29,$AO$3:$AQ$3,0))*IF(OR(AC29<$M$3,AC29>$BU$36),0,INDEX($M$4:$N$10,WEEKDAY(AC29,2),(AC29>=$M$3)*(AC29<$N$3)+2*(AC29>=$N$3)*(AC29<=$BU$36)))} -> 8 | CO29: {=ISERROR(MATCH(AE29,$AO$3:$AQ$3,0))*IF(OR(AE29<$M$3,AE29>$BU$36),0,INDEX($M$4:$N$10,WEEKDAY(AE29,2),(AE29>=$M$3)*(AE29<$N$3)+2*(AE29>=$N$3)*(AE29<=$BU$36)))} -> 0 | CQ29: {=ISERROR(MATCH(AG29,$AO$3:$AQ$3,0))*IF(OR(AG29<$M$3,AG29>$BU$36),0,INDEX($M$4:$N$10,WEEKDAY(AG29,2),(AG29>=$M$3)*(AG29<$N$3)+2*(AG29>=$N$3)*(AG29<=$BU$36)))} -> 8 | CS29: {=ISERROR(MATCH(AI29,$AO$3:$AQ$3,0))*IF(OR(AI29<$M$3,AI29>$BU$36),0,INDEX($M$4:$N$10,WEEKDAY(AI29,2),(AI29>=$M$3)*(AI29<$N$3)+2*(AI29>=$N$3)*(AI29<=$BU$36)))} -> 0 | CU29: {=ISERROR(MATCH(AK29,$AO$3:$AQ$3,0))*IF(OR(AK29<$M$3,AK29>$BU$36),0,INDEX($M$4:$N$10,WEEKDAY(AK29,2),(AK29>=$M$3)*(AK29<$N$3)+2*(AK29>=$N$3)*(AK29<=$BU$36)))} -> 8 | CW29: {=ISERROR(MATCH(AM29,$AO$3:$AQ$3,0))*IF(OR(AM29<$M$3,AM29>$BU$36),0,INDEX($M$4:$N$10,WEEKDAY(AM29,2),(AM29>=$M$3)*(AM29<$N$3)+2*(AM29>=$N$3)*(AM29<=$BU$36)))} -> 8
A30: Summe Urlaub | D30: =SUM(D15:D29) -> 21 | G30: =DATE($A$1,12,1) -> 44896 | I30: =COUNTIF($BV$2:$BV$32,">0") -> 16 | J30: =IF($D$4="",SUM($CW$2:$CW$32),SUM($BV$2:$BV$32)) -> 136 | N30: =IF($D$4="",(MAX(MIN(EDATE(G30,1),$N$3)-MAX(G30,$M$3),0))/(EDATE(G30,1)-G30)*($D$6*$J30)+MAX(MIN(EDATE(G30,1),$BU$36)-MAX(G30,$N$3),0)/(EDATE(G30,1)-G30)*($D$7*$J30+$H$7),(MAX(MIN(EDATE(G30,1),$N$3)-MAX(G30,$M$3),0))/(EDATE(G30,1)-G30)*($D$4+$H$4)+MAX(MIN(EDATE(G30,1),$BU$36)-MAX(G30,$N$3),0)/(EDATE(G30,1)-G30)*($D$5+$H$5)) -> 2856 | P30: =IF(MONTH(Q29+1)=MONTH(Q$2),Q29+1,"") -> 44590 | Q30: =IF(MONTH(Q29+1)=MONTH(Q$2),Q29+1,"") -> 44590 | R30: =IF(MONTH(R29+1)=MONTH(R$2),R29+1,"") | S30: =IF(MONTH(S29+1)=MONTH(S$2),S29+1,"") | T30: =IF(MONTH(T29+1)=MONTH(T$2),T29+1,"") -> 44649 | U30: =IF(MONTH(U29+1)=MONTH(U$2),U29+1,"") -> 44649 | V30: =IF(MONTH(V29+1)=MONTH(V$2),V29+1,"") -> 44680 | W30: =IF(MONTH(W29+1)=MONTH(W$2),W29+1,"") -> 44680 | X30: =IF(MONTH(X29+1)=MONTH(X$2),X29+1,"") -> 44710 | ... AM30: =IF(MONTH(AM29+1)=MONTH(AM$2),AM29+1,"") -> 44924 | AT30: =IF($B$11="","",B11+1) | AV30: =IF(ISNUMBER($AT$30),DATE(A1,12,31),"") | AZ30: {=ISERROR(MATCH(Q30,Feiertage!$A$8:$A$19,0))*IF(OR(Q30<$M$3,Q30>$BU$36),0,INDEX($M$4:$N$10,WEEKDAY(Q30,2),(Q30>=$M$3)*(Q30<$N$3)+2*(Q30>=$N$3)*(Q30<=$BU$36)))} -> 0 | BB30: {=ISERROR(MATCH(S30,Feiertage!$A$8:$A$19,0))*IF(OR(S30<$M$3,S30>$BU$36),0,INDEX($M$4:$N$10,WEEKDAY(S30,2),(S30>=$M$3)*(S30<$N$3)+2*(S30>=$N$3)*(S30<=$BU$36)))} -> 0 | BD30: {=ISERROR(MATCH(U30,Feiertage!$A$8:$A$19,0))*IF(OR(U30<$M$3,U30>$BU$36),0,INDEX($M$4:$N$10,WEEKDAY(U30,2),(U30>=$M$3)*(U30<$N$3)+2*(U30>=$N$3)*(U30<=$BU$36)))} -> 8 | BF30: {=ISERROR(MATCH(W30,Feiertage!$A$8:$A$19,0))*IF(OR(W30<$M$3,W30>$BU$36),0,INDEX($M$4:$N$10,WEEKDAY(W30,2),(W30>=$M$3)*(W30<$N$3)+2*(W30>=$N$3)*(W30<=$BU$36)))} -> 0 | BH30: {=ISERROR(MATCH(Y30,Feiertage!$A$8:$A$19,0))*IF(OR(Y30<$M$3,Y30>$BU$36),0,INDEX($M$4:$N$10,WEEKDAY(Y30,2),(Y30>=$M$3)*(Y30<$N$3)+2*(Y30>=$N$3)*(Y30<=$BU$36)))} -> 0 | BJ30: {=ISERROR(MATCH(AA30,Feiertage!$A$8:$A$19,0))*IF(OR(AA30<$M$3,AA30>$BU$36),0,INDEX($M$4:$N$10,WEEKDAY(AA30,2),(AA30>=$M$3)*(AA30<$N$3)+2*(AA30>=$N$3)*(AA30<=$BU$36)))} -> 8 | BL30: {=ISERROR(MATCH(AC30,Feiertage!$A$8:$A$19,0))*IF(OR(AC30<$M$3,AC30>$BU$36),0,INDEX($M$4:$N$10,WEEKDAY(AC30,2),(AC30>=$M$3)*(AC30<$N$3)+2*(AC30>=$N$3)*(AC30<=$BU$36)))} -> 0 | BN30: {=ISERROR(MATCH(AE30,Feiertage!$A$8:$A$19,0))*IF(OR(AE30<$M$3,AE30>$BU$36),0,INDEX($M$4:$N$10,WEEKDAY(AE30,2),(AE30>=$M$3)*(AE30<$N$3)+2*(AE30>=$N$3)*(AE30<=$BU$36)))} -> 8 | BP30: {=ISERROR(MATCH(AG30,Feiertage!$A$8:$A$19,0))*IF(OR(AG30<$M$3,AG30>$BU$36),0,INDEX($M$4:$N$10,WEEKDAY(AG30,2),(AG30>=$M$3)*(AG30<$N$3)+2*(AG30>=$N$3)*(AG30<=$BU$36)))} -> 8 | BR30: {=ISERROR(MATCH(AI30,Feiertage!$A$8:$A$19,0))*IF(OR(AI30<$M$3,AI30>$BU$36),0,INDEX($M$4:$N$10,WEEKDAY(AI30,2),(AI30>=$M$3)*(AI30<$N$3)+2*(AI30>=$N$3)*(AI30<=$BU$36)))} -> 0 | BT30: {=ISERROR(MATCH(AK30,Feiertage!$A$8:$A$19,0))*IF(OR(AK30<$M$3,AK30>$BU$36),0,INDEX($M$4:$N$10,WEEKDAY(AK30,2),(AK30>=$M$3)*(AK30<$N$3)+2*(AK30>=$N$3)*(AK30<=$BU$36)))} -> 8 | BV30: {=ISERROR(MATCH(AM30,Feiertage!$A$8:$A$19,0))*IF(OR(AM30<$M$3,AM30>$BU$36),0,INDEX($M$4:$N$10,WEEKDAY(AM30,2),(AM30>=$M$3)*(AM30<$N$3)+2*(AM30>=$N$3)*(AM30<=$BU$36)))} -> 8 | CA30: {=ISERROR(MATCH(Q30,$AO$3:$AQ$3,0))*IF(OR(Q30<$M$3,Q30>$BU$36),0,INDEX($M$4:$N$10,WEEKDAY(Q30,2),(Q30>=$M$3)*(Q30<$N$3)+2*(Q30>=$N$3)*(Q30<=$BU$36)))} -> 0 | CC30: {=ISERROR(MATCH(S30,$AO$3:$AQ$3,0))*IF(OR(S30<$M$3,S30>$BU$36),0,INDEX($M$4:$N$10,WEEKDAY(S30,2),(S30>=$M$3)*(S30<$N$3)+2*(S30>=$N$3)*(S30<=$BU$36)))} -> 0 | CE30: {=ISERROR(MATCH(U30,$AO$3:$AQ$3,0))*IF(OR(U30<$M$3,U30>$BU$36),0,INDEX($M$4:$N$10,WEEKDAY(U30,2),(U30>=$M$3)*(U30<$N$3)+2*(U30>=$N$3)*(U30<=$BU$36)))} -> 8 | CG30: {=ISERROR(MATCH(W30,$AO$3:$AQ$3,0))*IF(OR(W30<$M$3,W30>$BU$36),0,INDEX($M$4:$N$10,WEEKDAY(W30,2),(W30>=$M$3)*(W30<$N$3)+2*(W30>=$N$3)*(W30<=$BU$36)))} -> 0 | CI30: {=ISERROR(MATCH(Y30,$AO$3:$AQ$3,0))*IF(OR(Y30<$M$3,Y30>$BU$36),0,INDEX($M$4:$N$10,WEEKDAY(Y30,2),(Y30>=$M$3)*(Y30<$N$3)+2*(Y30>=$N$3)*(Y30<=$BU$36)))} -> 0 | CK30: {=ISERROR(MATCH(AA30,$AO$3:$AQ$3,0))*IF(OR(AA30<$M$3,AA30>$BU$36),0,INDEX($M$4:$N$10,WEEKDAY(AA30,2),(AA30>=$M$3)*(AA30<$N$3)+2*(AA30>=$N$3)*(AA30<=$BU$36)))} -> 8 | CM30: {=ISERROR(MATCH(AC30,$AO$3:$AQ$3,0))*IF(OR(AC30<$M$3,AC30>$BU$36),0,INDEX($M$4:$N$10,WEEKDAY(AC30,2),(AC30>=$M$3)*(AC30<$N$3)+2*(AC30>=$N$3)*(AC30<=$BU$36)))} -> 0 | CO30: {=ISERROR(MATCH(AE30,$AO$3:$AQ$3,0))*IF(OR(AE30<$M$3,AE30>$BU$36),0,INDEX($M$4:$N$10,WEEKDAY(AE30,2),(AE30>=$M$3)*(AE30<$N$3)+2*(AE30>=$N$3)*(AE30<=$BU$36)))} -> 8 | CQ30: {=ISERROR(MATCH(AG30,$AO$3:$AQ$3,0))*IF(OR(AG30<$M$3,AG30>$BU$36),0,INDEX($M$4:$N$10,WEEKDAY(AG30,2),(AG30>=$M$3)*(AG30<$N$3)+2*(AG30>=$N$3)*(AG30<=$BU$36)))} -> 8 | CS30: {=ISERROR(MATCH(AI30,$AO$3:$AQ$3,0))*IF(OR(AI30<$M$3,AI30>$BU$36),0,INDEX($M$4:$N$10,WEEKDAY(AI30,2),(AI30>=$M$3)*(AI30<$N$3)+2*(AI30>=$N$3)*(AI30<=$BU$36)))} -> 0 | CU30: {=ISERROR(MATCH(AK30,$AO$3:$AQ$3,0))*IF(OR(AK30<$M$3,AK30>$BU$36),0,INDEX($M$4:$N$10,WEEKDAY(AK30,2),(AK30>=$M$3)*(AK30<$N$3)+2*(AK30>=$N$3)*(AK30<=$BU$36)))} -> 8 | CW30: {=ISERROR(MATCH(AM30,$AO$3:$AQ$3,0))*IF(OR(AM30<$M$3,AM30>$BU$36),0,INDEX($M$4:$N$10,WEEKDAY(AM30,2),(AM30>=$M$3)*(AM30<$N$3)+2*(AM30>=$N$3)*(AM30<=$BU$36)))} -> 8
A31: Anspruch | B31: =H10 -> 24 | D31: 4 | G31: Gesamt | I31: =SUM(I19:I30) -> 202 | J31: =SUM(J19:J30) -> 1648 | N31: =SUM(N19:N30) -> 34608 | P31: =IF(MONTH(Q30+1)=MONTH(Q$2),Q30+1,"") -> 44591 | Q31: =IF(MONTH(Q30+1)=MONTH(Q$2),Q30+1,"") -> 44591 | S31: =IF(MONTH(S29+2)=MONTH(S$2),S29+2,"") | T31: =IF(MONTH(T30+1)=MONTH(T$2),T30+1,"") -> 44650 | U31: =IF(MONTH(U30+1)=MONTH(U$2),U30+1,"") -> 44650 | V31: =IF(MONTH(V30+1)=MONTH(V$2),V30+1,"") -> 44681 | W31: =IF(MONTH(W30+1)=MONTH(W$2),W30+1,"") -> 44681 | X31: =IF(MONTH(X30+1)=MONTH(X$2),X30+1,"") -> 44711 | Y31: =IF(MONTH(Y30+1)=MONTH(Y$2),Y30+1,"") -> 44711 | Z31: =IF(MONTH(Z30+1)=MONTH(Z$2),Z30+1,"") -> 44742 | AA31: =IF(MONTH(AA30+1)=MONTH(AA$2),AA30+1,"") -> 44742 | ... AM31: =IF(MONTH(AM30+1)=MONTH(AM$2),AM30+1,"") -> 44925 | AZ31: {=ISERROR(MATCH(Q31,Feiertage!$A$8:$A$19,0))*IF(OR(Q31<$M$3,Q31>$BU$36),0,INDEX($M$4:$N$10,WEEKDAY(Q31,2),(Q31>=$M$3)*(Q31<$N$3)+2*(Q31>=$N$3)*(Q31<=$BU$36)))} -> 0 | BB31: {=ISERROR(MATCH(S31,Feiertage!$A$8:$A$19,0))*IF(OR(S31<$M$3,S31>$BU$36),0,INDEX($M$4:$N$10,WEEKDAY(S31,2),(S31>=$M$3)*(S31<$N$3)+2*(S31>=$N$3)*(S31<=$BU$36)))} -> 0 | BD31: {=ISERROR(MATCH(U31,Feiertage!$A$8:$A$19,0))*IF(OR(U31<$M$3,U31>$BU$36),0,INDEX($M$4:$N$10,WEEKDAY(U31,2),(U31>=$M$3)*(U31<$N$3)+2*(U31>=$N$3)*(U31<=$BU$36)))} -> 8 | BF31: {=ISERROR(MATCH(W31,Feiertage!$A$8:$A$19,0))*IF(OR(W31<$M$3,W31>$BU$36),0,INDEX($M$4:$N$10,WEEKDAY(W31,2),(W31>=$M$3)*(W31<$N$3)+2*(W31>=$N$3)*(W31<=$BU$36)))} -> 0 | BH31: {=ISERROR(MATCH(Y31,Feiertage!$A$8:$A$19,0))*IF(OR(Y31<$M$3,Y31>$BU$36),0,INDEX($M$4:$N$10,WEEKDAY(Y31,2),(Y31>=$M$3)*(Y31<$N$3)+2*(Y31>=$N$3)*(Y31<=$BU$36)))} -> 8 | BJ31: {=ISERROR(MATCH(AA31,Feiertage!$A$8:$A$19,0))*IF(OR(AA31<$M$3,AA31>$BU$36),0,INDEX($M$4:$N$10,WEEKDAY(AA31,2),(AA31>=$M$3)*(AA31<$N$3)+2*(AA31>=$N$3)*(AA31<=$BU$36)))} -> 8 | BL31: {=ISERROR(MATCH(AC31,Feiertage!$A$8:$A$19,0))*IF(OR(AC31<$M$3,AC31>$BU$36),0,INDEX($M$4:$N$10,WEEKDAY(AC31,2),(AC31>=$M$3)*(AC31<$N$3)+2*(AC31>=$N$3)*(AC31<=$BU$36)))} -> 0 | BN31: {=ISERROR(MATCH(AE31,Feiertage!$A$8:$A$19,0))*IF(OR(AE31<$M$3,AE31>$BU$36),0,INDEX($M$4:$N$10,WEEKDAY(AE31,2),(AE31>=$M$3)*(AE31<$N$3)+2*(AE31>=$N$3)*(AE31<=$BU$36)))} -> 8 | BP31: {=ISERROR(MATCH(AG31,Feiertage!$A$8:$A$19,0))*IF(OR(AG31<$M$3,AG31>$BU$36),0,INDEX($M$4:$N$10,WEEKDAY(AG31,2),(AG31>=$M$3)*(AG31<$N$3)+2*(AG31>=$N$3)*(AG31<=$BU$36)))} -> 0 | BR31: {=ISERROR(MATCH(AI31,Feiertage!$A$8:$A$19,0))*IF(OR(AI31<$M$3,AI31>$BU$36),0,INDEX($M$4:$N$10,WEEKDAY(AI31,2),(AI31>=$M$3)*(AI31<$N$3)+2*(AI31>=$N$3)*(AI31<=$BU$36)))} -> 0 | BT31: {=ISERROR(MATCH(AK31,Feiertage!$A$8:$A$19,0))*IF(OR(AK31<$M$3,AK31>$BU$36),0,INDEX($M$4:$N$10,WEEKDAY(AK31,2),(AK31>=$M$3)*(AK31<$N$3)+2*(AK31>=$N$3)*(AK31<=$BU$36)))} -> 8 | BV31: {=ISERROR(MATCH(AM31,Feiertage!$A$8:$A$19,0))*IF(OR(AM31<$M$3,AM31>$BU$36),0,INDEX($M$4:$N$10,WEEKDAY(AM31,2),(AM31>=$M$3)*(AM31<$N$3)+2*(AM31>=$N$3)*(AM31<=$BU$36)))} -> 0 | CA31: {=ISERROR(MATCH(Q31,$AO$3:$AQ$3,0))*IF(OR(Q31<$M$3,Q31>$BU$36),0,INDEX($M$4:$N$10,WEEKDAY(Q31,2),(Q31>=$M$3)*(Q31<$N$3)+2*(Q31>=$N$3)*(Q31<=$BU$36)))} -> 0 | CC31: {=ISERROR(MATCH(S31,$AO$3:$AQ$3,0))*IF(OR(S31<$M$3,S31>$BU$36),0,INDEX($M$4:$N$10,WEEKDAY(S31,2),(S31>=$M$3)*(S31<$N$3)+2*(S31>=$N$3)*(S31<=$BU$36)))} -> 0 | CE31: {=ISERROR(MATCH(U31,$AO$3:$AQ$3,0))*IF(OR(U31<$M$3,U31>$BU$36),0,INDEX($M$4:$N$10,WEEKDAY(U31,2),(U31>=$M$3)*(U31<$N$3)+2*(U31>=$N$3)*(U31<=$BU$36)))} -> 8 | CG31: {=ISERROR(MATCH(W31,$AO$3:$AQ$3,0))*IF(OR(W31<$M$3,W31>$BU$36),0,INDEX($M$4:$N$10,WEEKDAY(W31,2),(W31>=$M$3)*(W31<$N$3)+2*(W31>=$N$3)*(W31<=$BU$36)))} -> 0 | CI31: {=ISERROR(MATCH(Y31,$AO$3:$AQ$3,0))*IF(OR(Y31<$M$3,Y31>$BU$36),0,INDEX($M$4:$N$10,WEEKDAY(Y31,2),(Y31>=$M$3)*(Y31<$N$3)+2*(Y31>=$N$3)*(Y31<=$BU$36)))} -> 8 | CK31: {=ISERROR(MATCH(AA31,$AO$3:$AQ$3,0))*IF(OR(AA31<$M$3,AA31>$BU$36),0,INDEX($M$4:$N$10,WEEKDAY(AA31,2),(AA31>=$M$3)*(AA31<$N$3)+2*(AA31>=$N$3)*(AA31<=$BU$36)))} -> 8 | CM31: {=ISERROR(MATCH(AC31,$AO$3:$AQ$3,0))*IF(OR(AC31<$M$3,AC31>$BU$36),0,INDEX($M$4:$N$10,WEEKDAY(AC31,2),(AC31>=$M$3)*(AC31<$N$3)+2*(AC31>=$N$3)*(AC31<=$BU$36)))} -> 0 | CO31: {=ISERROR(MATCH(AE31,$AO$3:$AQ$3,0))*IF(OR(AE31<$M$3,AE31>$BU$36),0,INDEX($M$4:$N$10,WEEKDAY(AE31,2),(AE31>=$M$3)*(AE31<$N$3)+2*(AE31>=$N$3)*(AE31<=$BU$36)))} -> 8 | CQ31: {=ISERROR(MATCH(AG31,$AO$3:$AQ$3,0))*IF(OR(AG31<$M$3,AG31>$BU$36),0,INDEX($M$4:$N$10,WEEKDAY(AG31,2),(AG31>=$M$3)*(AG31<$N$3)+2*(AG31>=$N$3)*(AG31<=$BU$36)))} -> 0 | CS31: {=ISERROR(MATCH(AI31,$AO$3:$AQ$3,0))*IF(OR(AI31<$M$3,AI31>$BU$36),0,INDEX($M$4:$N$10,WEEKDAY(AI31,2),(AI31>=$M$3)*(AI31<$N$3)+2*(AI31>=$N$3)*(AI31<=$BU$36)))} -> 0 | CU31: {=ISERROR(MATCH(AK31,$AO$3:$AQ$3,0))*IF(OR(AK31<$M$3,AK31>$BU$36),0,INDEX($M$4:$N$10,WEEKDAY(AK31,2),(AK31>=$M$3)*(AK31<$N$3)+2*(AK31>=$N$3)*(AK31<=$BU$36)))} -> 8 | CW31: {=ISERROR(MATCH(AM31,$AO$3:$AQ$3,0))*IF(OR(AM31<$M$3,AM31>$BU$36),0,INDEX($M$4:$N$10,WEEKDAY(AM31,2),(AM31>=$M$3)*(AM31<$N$3)+2*(AM31>=$N$3)*(AM31<=$BU$36)))} -> 0
A32: Resturlaub | B32: =B31-D30+D31 -> 7 | P32: =IF(MONTH(Q31+1)=MONTH(Q$2),Q31+1,"") -> 44592 | Q32: =IF(MONTH(Q31+1)=MONTH(Q$2),Q31+1,"") -> 44592 | T32: =IF(MONTH(T31+1)=MONTH(T$2),T31+1,"") -> 44651 | U32: =IF(MONTH(U31+1)=MONTH(U$2),U31+1,"") -> 44651 | V32: =IF(MONTH(V31+1)=MONTH(V$2),V31+1,"") | W32: =IF(MONTH(W31+1)=MONTH(W$2),W31+1,"") | X32: =IF(MONTH(X31+1)=MONTH(X$2),X31+1,"") -> 44712 | Y32: =IF(MONTH(Y31+1)=MONTH(Y$2),Y31+1,"") -> 44712 | Z32: =IF(MONTH(Z31+1)=MONTH(Z$2),Z31+1,"") | AA32: =IF(MONTH(AA31+1)=MONTH(AA$2),AA31+1,"") | ... AM32: =IF(MONTH(AM31+1)=MONTH(AM$2),AM31+1,"") -> 44926 | AZ32: {=ISERROR(MATCH(Q32,Feiertage!$A$8:$A$19,0))*IF(OR(Q32<$M$3,Q32>$BU$36),0,INDEX($M$4:$N$10,WEEKDAY(Q32,2),(Q32>=$M$3)*(Q32<$N$3)+2*(Q32>=$N$3)*(Q32<=$BU$36)))} -> 8 | BB32: {=ISERROR(MATCH(S32,Feiertage!$A$8:$A$19,0))*IF(OR(S32<$M$3,S32>$BU$36),0,INDEX($M$4:$N$10,WEEKDAY(S32,2),(S32>=$M$3)*(S32<$N$3)+2*(S32>=$N$3)*(S32<=$BU$36)))} -> 0 | BD32: {=ISERROR(MATCH(U32,Feiertage!$A$8:$A$19,0))*IF(OR(U32<$M$3,U32>$BU$36),0,INDEX($M$4:$N$10,WEEKDAY(U32,2),(U32>=$M$3)*(U32<$N$3)+2*(U32>=$N$3)*(U32<=$BU$36)))} -> 8 | BF32: {=ISERROR(MATCH(W32,Feiertage!$A$8:$A$19,0))*IF(OR(W32<$M$3,W32>$BU$36),0,INDEX($M$4:$N$10,WEEKDAY(W32,2),(W32>=$M$3)*(W32<$N$3)+2*(W32>=$N$3)*(W32<=$BU$36)))} -> 0 | BH32: {=ISERROR(MATCH(Y32,Feiertage!$A$8:$A$19,0))*IF(OR(Y32<$M$3,Y32>$BU$36),0,INDEX($M$4:$N$10,WEEKDAY(Y32,2),(Y32>=$M$3)*(Y32<$N$3)+2*(Y32>=$N$3)*(Y32<=$BU$36)))} -> 8 | BJ32: {=ISERROR(MATCH(AA32,Feiertage!$A$8:$A$19,0))*IF(OR(AA32<$M$3,AA32>$BU$36),0,INDEX($M$4:$N$10,WEEKDAY(AA32,2),(AA32>=$M$3)*(AA32<$N$3)+2*(AA32>=$N$3)*(AA32<=$BU$36)))} -> 0 | BL32: {=ISERROR(MATCH(AC32,Feiertage!$A$8:$A$19,0))*IF(OR(AC32<$M$3,AC32>$BU$36),0,INDEX($M$4:$N$10,WEEKDAY(AC32,2),(AC32>=$M$3)*(AC32<$N$3)+2*(AC32>=$N$3)*(AC32<=$BU$36)))} -> 0 | BN32: {=ISERROR(MATCH(AE32,Feiertage!$A$8:$A$19,0))*IF(OR(AE32<$M$3,AE32>$BU$36),0,INDEX($M$4:$N$10,WEEKDAY(AE32,2),(AE32>=$M$3)*(AE32<$N$3)+2*(AE32>=$N$3)*(AE32<=$BU$36)))} -> 8 | BP32: {=ISERROR(MATCH(AG32,Feiertage!$A$8:$A$19,0))*IF(OR(AG32<$M$3,AG32>$BU$36),0,INDEX($M$4:$N$10,WEEKDAY(AG32,2),(AG32>=$M$3)*(AG32<$N$3)+2*(AG32>=$N$3)*(AG32<=$BU$36)))} -> 0 | BR32: {=ISERROR(MATCH(AI32,Feiertage!$A$8:$A$19,0))*IF(OR(AI32<$M$3,AI32>$BU$36),0,INDEX($M$4:$N$10,WEEKDAY(AI32,2),(AI32>=$M$3)*(AI32<$N$3)+2*(AI32>=$N$3)*(AI32<=$BU$36)))} -> 0 | BT32: {=ISERROR(MATCH(AK32,Feiertage!$A$8:$A$19,0))*IF(OR(AK32<$M$3,AK32>$BU$36),0,INDEX($M$4:$N$10,WEEKDAY(AK32,2),(AK32>=$M$3)*(AK32<$N$3)+2*(AK32>=$N$3)*(AK32<=$BU$36)))} -> 0 | BV32: {=ISERROR(MATCH(AM32,Feiertage!$A$8:$A$19,0))*IF(OR(AM32<$M$3,AM32>$BU$36),0,INDEX($M$4:$N$10,WEEKDAY(AM32,2),(AM32>=$M$3)*(AM32<$N$3)+2*(AM32>=$N$3)*(AM32<=$BU$36)))} -> 0 | CA32: {=ISERROR(MATCH(Q32,$AO$3:$AQ$3,0))*IF(OR(Q32<$M$3,Q32>$BU$36),0,INDEX($M$4:$N$10,WEEKDAY(Q32,2),(Q32>=$M$3)*(Q32<$N$3)+2*(Q32>=$N$3)*(Q32<=$BU$36)))} -> 8 | CC32: {=ISERROR(MATCH(S32,$AO$3:$AQ$3,0))*IF(OR(S32<$M$3,S32>$BU$36),0,INDEX($M$4:$N$10,WEEKDAY(S32,2),(S32>=$M$3)*(S32<$N$3)+2*(S32>=$N$3)*(S32<=$BU$36)))} -> 0 | CE32: {=ISERROR(MATCH(U32,$AO$3:$AQ$3,0))*IF(OR(U32<$M$3,U32>$BU$36),0,INDEX($M$4:$N$10,WEEKDAY(U32,2),(U32>=$M$3)*(U32<$N$3)+2*(U32>=$N$3)*(U32<=$BU$36)))} -> 8 | CG32: {=ISERROR(MATCH(W32,$AO$3:$AQ$3,0))*IF(OR(W32<$M$3,W32>$BU$36),0,INDEX($M$4:$N$10,WEEKDAY(W32,2),(W32>=$M$3)*(W32<$N$3)+2*(W32>=$N$3)*(W32<=$BU$36)))} -> 0 | CI32: {=ISERROR(MATCH(Y32,$AO$3:$AQ$3,0))*IF(OR(Y32<$M$3,Y32>$BU$36),0,INDEX($M$4:$N$10,WEEKDAY(Y32,2),(Y32>=$M$3)*(Y32<$N$3)+2*(Y32>=$N$3)*(Y32<=$BU$36)))} -> 8 | CK32: {=ISERROR(MATCH(AA32,$AO$3:$AQ$3,0))*IF(OR(AA32<$M$3,AA32>$BU$36),0,INDEX($M$4:$N$10,WEEKDAY(AA32,2),(AA32>=$M$3)*(AA32<$N$3)+2*(AA32>=$N$3)*(AA32<=$BU$36)))} -> 0 | CM32: {=ISERROR(MATCH(AC32,$AO$3:$AQ$3,0))*IF(OR(AC32<$M$3,AC32>$BU$36),0,INDEX($M$4:$N$10,WEEKDAY(AC32,2),(AC32>=$M$3)*(AC32<$N$3)+2*(AC32>=$N$3)*(AC32<=$BU$36)))} -> 0 | CO32: {=ISERROR(MATCH(AE32,$AO$3:$AQ$3,0))*IF(OR(AE32<$M$3,AE32>$BU$36),0,INDEX($M$4:$N$10,WEEKDAY(AE32,2),(AE32>=$M$3)*(AE32<$N$3)+2*(AE32>=$N$3)*(AE32<=$BU$36)))} -> 8 | CQ32: {=ISERROR(MATCH(AG32,$AO$3:$AQ$3,0))*IF(OR(AG32<$M$3,AG32>$BU$36),0,INDEX($M$4:$N$10,WEEKDAY(AG32,2),(AG32>=$M$3)*(AG32<$N$3)+2*(AG32>=$N$3)*(AG32<=$BU$36)))} -> 0 | CS32: {=ISERROR(MATCH(AI32,$AO$3:$AQ$3,0))*IF(OR(AI32<$M$3,AI32>$BU$36),0,INDEX($M$4:$N$10,WEEKDAY(AI32,2),(AI32>=$M$3)*(AI32<$N$3)+2*(AI32>=$N$3)*(AI32<=$BU$36)))} -> 8 | CU32: {=ISERROR(MATCH(AK32,$AO$3:$AQ$3,0))*IF(OR(AK32<$M$3,AK32>$BU$36),0,INDEX($M$4:$N$10,WEEKDAY(AK32,2),(AK32>=$M$3)*(AK32<$N$3)+2*(AK32>=$N$3)*(AK32<=$BU$36)))} -> 0 | CW32: {=ISERROR(MATCH(AM32,$AO$3:$AQ$3,0))*IF(OR(AM32<$M$3,AM32>$BU$36),0,INDEX($M$4:$N$10,WEEKDAY(AM32,2),(AM32>=$M$3)*(AM32<$N$3)+2*(AM32>=$N$3)*(AM32<=$BU$36)))} -> 0
A34: Entgeltfortzahlung | D34: Kalender- tage | F34: Arbeits- | J34: fortgezahltes Brutto | L34: Erstattungssätze Stundenlohnempfänger | T34: fortgezahltes Brutto | V34: Erstattungssätze Kalendertägliche Berechnungsmethode | AD34: fortgezahltes Brutto | AF34: Erstattungssätze Dreißigstel Berechnungsmethode | AN34: fortgezahltes Brutto | AP34: Erstattungssätze arbeitstägliche Berechnungsmethode | AZ34: erster Tag des Monats | BC34: letzter Tag des Monats | BF34: Kalender- tage | BH34: Arbeits- tage | BJ34: Arbeits- stunden | BR34: erster Tag im Jahr | BU34: erster Tag im Folgejahr
A35: von | B35: bis | F35: tage | H35: stunden | L35: =IF($I$13="","",$I$13) -> 0.55 | N35: =IF($K$13="","",$K$13) -> 0.65 | P35: =IF($M$13="","",$M$13) -> 0.75 | R35: =IF($N$13="","",$N$13) | V35: =IF($I$13="","",$I$13) -> 0.55 | X35: =IF($K$13="","",$K$13) -> 0.65 | Z35: =IF($M$13="","",$M$13) -> 0.75 | AB35: =IF($N$13="","",$N$13) | AF35: =IF($I$13="","",$I$13) -> 0.55 | AH35: =IF($K$13="","",$K$13) -> 0.65 | AJ35: =IF($M$13="","",$M$13) -> 0.75 | AL35: =IF($N$13="","",$N$13) | AP35: =IF($I$13="","",$I$13) -> 0.55 | AR35: =IF($K$13="","",$K$13) -> 0.65 | AT35: =IF($M$13="","",$M$13) -> 0.75 | AV35: =IF($N$13="","",$N$13) | BM35: SV-Brutto
A36: 44762 | B36: 44764 | D36: =IF(B36="","",B36-A36+1) -> 3 | F36: {=IF(B36="","",SUMPRODUCT(($Q$2:$AM$32>=A36)*($Q$2:$AM$32<=B36)*($AZ$2:$BV$32>0)))} -> 2 | H36: {=IF(B36="","",SUMPRODUCT(($Q$2:$AM$32>=A36)*($Q$2:$AM$32<=B36)*($AZ$2:$BV$32)))} -> 16 | J36: =IF(OR($B36="",$B$6=""),"",$BM36/$BJ36*$H36) -> 336 | L36: =IF(OR($L$35="",$B$6=""),"",IF($B36="","",J36*$L$35)) -> 184.8 | N36: =IF(OR($N$35="",$B$6=""),"",IF($B36="","",J36*$N$35)) -> 218.4 | P36: =IF(OR($P$35="",$B$6=""),"",IF($B36="","",J36*$P$35)) -> 252 | R36: =IF(OR($R$35="",$B$6=""),"",IF($B36="","",J36*$R$35)) | T36: =IF(OR($B36="",$B$4=""),"",$BM36/$BF36*$D36) | U36: =IF($D$4/$E$81*AU36*$E$12<0.01,"",$D$4/$E$81*AU36*$E$12) -> #DIV/0! | V36: =IF(OR($V$35="",$B$4=""),"",IF($B36="","",T36*$V$35)) | W36: =IF($D$4/$E$81*AW36*$E$12<0.01,"",$D$4/$E$81*AW36*$E$12) -> #DIV/0! | X36: =IF(OR($X$35="",$B$4=""),"",IF($B36="","",T36*$X$35)) | Z36: =IF(OR($Z$35="",$B$4=""),"",IF($B36="","",T36*$Z$35)) | AB36: =IF(OR($AB$35="",$B$4=""),"",IF($B36="","",T36*$AB$35)) | AD36: =IF(OR($B36="",$B$4=""),"",$BM36/30*$D36) | AF36: =IF(OR($AF$35="",$B$4=""),"",IF($B36="","",AD36*$AF$35)) | AG36: =IF($D$4/$N$82*Y36*$E$12<0.01,"",$D$4/$N$82*Y36*$E$12) -> #DIV/0! | AH36: =IF(OR($AH$35="",$B$4=""),"",IF($B36="","",AD36*$AH$35)) | AJ36: =IF(OR($AJ$35="",$B$4=""),"",IF($B36="","",AD36*$AJ$35)) | AK36: =IF($D$4/$N$82*AC36*$E$12<0.01,"",$D$4/$N$82*AC36*$E$12) -> #DIV/0! | AL36: =IF(OR($AL$35="",$B$4=""),"",IF($B36="","",AD36*$AL$35)) | AM36: =IF($D$4/$N$82*AE36*$E$12<0.01,"",$D$4/$N$82*AE36*$E$12) -> #DIV/0! | AN36: =IF(OR($B36="",$B$4=""),"",$BM36/$BH36*$F36) | AP36: =IF(OR($AP$35="",$B$4=""),"",IF($B36="","",AN36*$AP$35)) | AR36: =IF(OR($AR$35="",$B$4=""),"",IF($B36="","",AN36*$AR$35)) | AT36: =IF(OR($AT$35="",$B$4=""),"",IF($B36="","",AN36*$AT$35)) | AU36: =IF($D$4/$E$81*AN36*$E$12<0.01,"",$D$4/$E$81*AN36*$E$12) -> #DIV/0! | AV36: =IF(OR($AV$35="",$B$4=""),"",IF($B36="","",AN36*$AV$35)) | AW36: =IF($D$4/$E$81*#REF!*$E$12<0.01,"",$D$4/$E$81*#REF!*$E$12) -> #DIV/0! | AZ36: =IF(B36="","",EOMONTH(A36,-1)+1) -> 44743 | BC36: =IF(B36="","",EOMONTH(A36,0)) -> 44773 | BF36: =IF(B36="","",DAY(DATE(YEAR(A36),MONTH(A36)+1,1)-1)) -> 31 | BH36: {=IF(B36="","",SUMPRODUCT(($Q$2:$AM$32>=AZ36)*($Q$2:$AM$32<=BC36)*($AZ$2:$BV$32>0)))} -> 16 | BJ36: {=IF($D$4="",IF(BC36="","",SUMPRODUCT(($Q$2:$AM$32>=AZ36)*($Q$2:$AM$32<=BC36)*($CA$2:$CW$32))),IF(BC36="","",SUMPRODUCT(($Q$2:$AM$32>=AZ36)*($Q$2:$AM$32<=BC36)*($AZ$2:$BV$32))))} -> 128 | BM36: =IF($B36="","",IF($D$4="",(MAX(MIN(EDATE(AZ36,1),$N$3)-MAX(AZ36,$M$3),0))/(EDATE(AZ36,1)-AZ36)*($D$6*$BJ36)+MAX(MIN(EDATE(AZ36,1),$BU$36)-MAX(AZ36,$N$3),0)/(EDATE(AZ36,1)-AZ36)*($D$7*$BJ36),(MAX(MIN(EDATE(AZ36,1),$N$3)-MAX(AZ36,$M$3),0))/(EDATE(AZ36,1)-AZ36)*($D$4+$H$4)+MAX(MIN(EDATE(AZ36,1),$BU$36)-MAX(AZ36,$N$3),0)/(EDATE(AZ36,1)-AZ36)*($D$5+$H$5))) -> 2688 | BR36: =DATE(A1,1,1) -> 44562 | BU36: =IF(ISBLANK(B11),DATE(A1,12,31)+1,B11+1) -> 44927
A37: 44765 | B37: 44769 | D37: =IF(B37="","",B37-A37+1) -> 5 | F37: {=IF(B37="","",SUMPRODUCT(($Q$2:$AM$32>=A37)*($Q$2:$AM$32<=B37)*($AZ$2:$BV$32>0)))} -> 3 | H37: {=IF(B37="","",SUMPRODUCT(($Q$2:$AM$32>=A37)*($Q$2:$AM$32<=B37)*($AZ$2:$BV$32)))} -> 24 | J37: =IF(OR($B37="",$B$6=""),"",$BM37/$BJ37*$H37) -> 504 | L37: =IF(OR($L$35="",$B$6=""),"",IF($B37="","",J37*$L$35)) -> 277.2 | N37: =IF(OR($N$35="",$B$6=""),"",IF($B37="","",J37*$N$35)) -> 327.6 | P37: =IF(OR($P$35="",$B$6=""),"",IF($B37="","",J37*$P$35)) -> 378 | R37: =IF(OR($R$35="",$B$6=""),"",IF($B37="","",J37*$R$35)) | T37: =IF(OR($B37="",$B$4=""),"",$BM37/$BF37*$D37) | U37: =IF($D$4/$E$81*AU37*$E$12<0.01,"",$D$4/$E$81*AU37*$E$12) -> #DIV/0! | V37: =IF(OR($V$35="",$B$4=""),"",IF($B37="","",T37*$V$35)) | W37: =IF($D$4/$E$81*AW37*$E$12<0.01,"",$D$4/$E$81*AW37*$E$12) -> #DIV/0! | X37: =IF(OR($X$35="",$B$4=""),"",IF($B37="","",T37*$X$35)) | Z37: =IF(OR($Z$35="",$B$4=""),"",IF($B37="","",T37*$Z$35)) | AB37: =IF(OR($AB$35="",$B$4=""),"",IF($B37="","",T37*$AB$35)) | AD37: =IF(OR($B37="",$B$4=""),"",$BM37/30*$D37) | AF37: =IF(OR($AF$35="",$B$4=""),"",IF($B37="","",AD37*$AF$35)) | AG37: =IF($D$4/$N$82*Y37*$E$12<0.01,"",$D$4/$N$82*Y37*$E$12) -> #DIV/0! | AH37: =IF(OR($AH$35="",$B$4=""),"",IF($B37="","",AD37*$AH$35)) | AJ37: =IF(OR($AJ$35="",$B$4=""),"",IF($B37="","",AD37*$AJ$35)) | AK37: =IF($D$4/$N$82*AC37*$E$12<0.01,"",$D$4/$N$82*AC37*$E$12) -> #DIV/0! | AL37: =IF(OR($AL$35="",$B$4=""),"",IF($B37="","",AD37*$AL$35)) | AM37: =IF($D$4/$N$82*AE37*$E$12<0.01,"",$D$4/$N$82*AE37*$E$12) -> #DIV/0! | AN37: =IF(OR($B37="",$B$4=""),"",$BM37/$BH37*$F37) | AP37: =IF(OR($AP$35="",$B$4=""),"",IF($B37="","",AN37*$AP$35)) | AR37: =IF(OR($AR$35="",$B$4=""),"",IF($B37="","",AN37*$AR$35)) | AT37: =IF(OR($AT$35="",$B$4=""),"",IF($B37="","",AN37*$AT$35)) | AU37: =IF($D$4/$E$81*AN37*$E$12<0.01,"",$D$4/$E$81*AN37*$E$12) -> #DIV/0! | AV37: =IF(OR($AV$35="",$B$4=""),"",IF($B37="","",AN37*$AV$35)) | AW37: =IF($D$4/$E$81*#REF!*$E$12<0.01,"",$D$4/$E$81*#REF!*$E$12) -> #DIV/0! | AZ37: =IF(B37="","",EOMONTH(A37,-1)+1) -> 44743 | BC37: =IF(B37="","",EOMONTH(A37,0)) -> 44773 | BF37: =IF(B37="","",DAY(DATE(YEAR(A37),MONTH(A37)+1,1)-1)) -> 31 | BH37: {=IF(B37="","",SUMPRODUCT(($Q$2:$AM$32>=AZ37)*($Q$2:$AM$32<=BC37)*($AZ$2:$BV$32>0)))} -> 16 | BJ37: {=IF($D$4="",IF(BC37="","",SUMPRODUCT(($Q$2:$AM$32>=AZ37)*($Q$2:$AM$32<=BC37)*($CA$2:$CW$32))),IF(BC37="","",SUMPRODUCT(($Q$2:$AM$32>=AZ37)*($Q$2:$AM$32<=BC37)*($AZ$2:$BV$32))))} -> 128 | BM37: =IF($B37="","",IF($D$4="",(MAX(MIN(EDATE(AZ37,1),$N$3)-MAX(AZ37,$M$3),0))/(EDATE(AZ37,1)-AZ37)*($D$6*$BJ37)+MAX(MIN(EDATE(AZ37,1),$BU$36)-MAX(AZ37,$N$3),0)/(EDATE(AZ37,1)-AZ37)*($D$7*$BJ37),(MAX(MIN(EDATE(AZ37,1),$N$3)-MAX(AZ37,$M$3),0))/(EDATE(AZ37,1)-AZ37)*($D$4+$H$4)+MAX(MIN(EDATE(AZ37,1),$BU$36)-MAX(AZ37,$N$3),0)/(EDATE(AZ37,1)-AZ37)*($D$5+$H$5))) -> 2688
D38: =IF(B38="","",B38-A38+1) | F38: {=IF(B38="","",SUMPRODUCT(($Q$2:$AM$32>=A38)*($Q$2:$AM$32<=B38)*($AZ$2:$BV$32>0)))} | H38: {=IF(B38="","",SUMPRODUCT(($Q$2:$AM$32>=A38)*($Q$2:$AM$32<=B38)*($AZ$2:$BV$32)))} | J38: =IF(OR($B38="",$B$6=""),"",$BM38/$BJ38*$H38) | L38: =IF(OR($L$35="",$B$6=""),"",IF($B38="","",J38*$L$35)) | N38: =IF(OR($N$35="",$B$6=""),"",IF($B38="","",J38*$N$35)) | P38: =IF(OR($P$35="",$B$6=""),"",IF($B38="","",J38*$P$35)) | R38: =IF(OR($R$35="",$B$6=""),"",IF($B38="","",J38*$R$35)) | T38: =IF(OR($B38="",$B$4=""),"",$BM38/$BF38*$D38) | U38: =IF($D$4/$E$81*AU38*$E$12<0.01,"",$D$4/$E$81*AU38*$E$12) -> #DIV/0! | V38: =IF(OR($V$35="",$B$4=""),"",IF($B38="","",T38*$V$35)) | W38: =IF($D$4/$E$81*AW38*$E$12<0.01,"",$D$4/$E$81*AW38*$E$12) -> #DIV/0! | X38: =IF(OR($X$35="",$B$4=""),"",IF($B38="","",T38*$X$35)) | Z38: =IF(OR($Z$35="",$B$4=""),"",IF($B38="","",T38*$Z$35)) | AB38: =IF(OR($AB$35="",$B$4=""),"",IF($B38="","",T38*$AB$35)) | AD38: =IF(OR($B38="",$B$4=""),"",$BM38/30*$D38) | AF38: =IF(OR($AF$35="",$B$4=""),"",IF($B38="","",AD38*$AF$35)) | AG38: =IF($D$4/$N$82*Y38*$E$12<0.01,"",$D$4/$N$82*Y38*$E$12) -> #DIV/0! | AH38: =IF(OR($AH$35="",$B$4=""),"",IF($B38="","",AD38*$AH$35)) | AJ38: =IF(OR($AJ$35="",$B$4=""),"",IF($B38="","",AD38*$AJ$35)) | AK38: =IF($D$4/$N$82*AC38*$E$12<0.01,"",$D$4/$N$82*AC38*$E$12) -> #DIV/0! | AL38: =IF(OR($AL$35="",$B$4=""),"",IF($B38="","",AD38*$AL$35)) | AM38: =IF($D$4/$N$82*AE38*$E$12<0.01,"",$D$4/$N$82*AE38*$E$12) -> #DIV/0! | AN38: =IF(OR($B38="",$B$4=""),"",$BM38/$BH38*$F38) | AP38: =IF(OR($AP$35="",$B$4=""),"",IF($B38="","",AN38*$AP$35)) | AR38: =IF(OR($AR$35="",$B$4=""),"",IF($B38="","",AN38*$AR$35)) | AT38: =IF(OR($AT$35="",$B$4=""),"",IF($B38="","",AN38*$AT$35)) | AU38: =IF($D$4/$E$81*AN38*$E$12<0.01,"",$D$4/$E$81*AN38*$E$12) -> #DIV/0! | AV38: =IF(OR($AV$35="",$B$4=""),"",IF($B38="","",AN38*$AV$35)) | AW38: =IF($D$4/$E$81*#REF!*$E$12<0.01,"",$D$4/$E$81*#REF!*$E$12) -> #DIV/0! | AZ38: =IF(B38="","",EOMONTH(A38,-1)+1) | BC38: =IF(B38="","",EOMONTH(A38,0)) | BF38: =IF(B38="","",DAY(DATE(YEAR(A38),MONTH(A38)+1,1)-1)) | BH38: {=IF(B38="","",SUMPRODUCT(($Q$2:$AM$32>=AZ38)*($Q$2:$AM$32<=BC38)*($AZ$2:$BV$32>0)))} | BJ38: {=IF($D$4="",IF(BC38="","",SUMPRODUCT(($Q$2:$AM$32>=AZ38)*($Q$2:$AM$32<=BC38)*($CA$2:$CW$32))),IF(BC38="","",SUMPRODUCT(($Q$2:$AM$32>=AZ38)*($Q$2:$AM$32<=BC38)*($AZ$2:$BV$32))))} | BM38: =IF($B38="","",IF($D$4="",(MAX(MIN(EDATE(AZ38,1),$N$3)-MAX(AZ38,$M$3),0))/(EDATE(AZ38,1)-AZ38)*($D$6*$BJ38)+MAX(MIN(EDATE(AZ38,1),$BU$36)-MAX(AZ38,$N$3),0)/(EDATE(AZ38,1)-AZ38)*($D$7*$BJ38),(MAX(MIN(EDATE(AZ38,1),$N$3)-MAX(AZ38,$M$3),0))/(EDATE(AZ38,1)-AZ38)*($D$4+$H$4)+MAX(MIN(EDATE(AZ38,1),$BU$36)-MAX(AZ38,$N$3),0)/(EDATE(AZ38,1)-AZ38)*($D$5+$H$5))) | BR38: letzter Tag im Jahr
D39: =IF(B39="","",B39-A39+1) | F39: {=IF(B39="","",SUMPRODUCT(($Q$2:$AM$32>=A39)*($Q$2:$AM$32<=B39)*($AZ$2:$BV$32>0)))} | H39: {=IF(B39="","",SUMPRODUCT(($Q$2:$AM$32>=A39)*($Q$2:$AM$32<=B39)*($AZ$2:$BV$32)))} | J39: =IF(OR($B39="",$B$6=""),"",$BM39/$BJ39*$H39) | L39: =IF(OR($L$35="",$B$6=""),"",IF($B39="","",J39*$L$35)) | N39: =IF(OR($N$35="",$B$6=""),"",IF($B39="","",J39*$N$35)) | P39: =IF(OR($P$35="",$B$6=""),"",IF($B39="","",J39*$P$35)) | R39: =IF(OR($R$35="",$B$6=""),"",IF($B39="","",J39*$R$35)) | T39: =IF(OR($B39="",$B$4=""),"",$BM39/$BF39*$D39) | U39: =IF($D$4/$E$81*AU39*$E$12<0.01,"",$D$4/$E$81*AU39*$E$12) -> #DIV/0! | V39: =IF(OR($V$35="",$B$4=""),"",IF($B39="","",T39*$V$35)) | W39: =IF($D$4/$E$81*AW39*$E$12<0.01,"",$D$4/$E$81*AW39*$E$12) -> #DIV/0! | X39: =IF(OR($X$35="",$B$4=""),"",IF($B39="","",T39*$X$35)) | Z39: =IF(OR($Z$35="",$B$4=""),"",IF($B39="","",T39*$Z$35)) | AB39: =IF(OR($AB$35="",$B$4=""),"",IF($B39="","",T39*$AB$35)) | AD39: =IF(OR($B39="",$B$4=""),"",$BM39/30*$D39) | AF39: =IF(OR($AF$35="",$B$4=""),"",IF($B39="","",AD39*$AF$35)) | AG39: =IF($D$4/$N$82*Y39*$E$12<0.01,"",$D$4/$N$82*Y39*$E$12) -> #DIV/0! | AH39: =IF(OR($AH$35="",$B$4=""),"",IF($B39="","",AD39*$AH$35)) | AJ39: =IF(OR($AJ$35="",$B$4=""),"",IF($B39="","",AD39*$AJ$35)) | AK39: =IF($D$4/$N$82*AC39*$E$12<0.01,"",$D$4/$N$82*AC39*$E$12) -> #DIV/0! | AL39: =IF(OR($AL$35="",$B$4=""),"",IF($B39="","",AD39*$AL$35)) | AM39: =IF($D$4/$N$82*AE39*$E$12<0.01,"",$D$4/$N$82*AE39*$E$12) -> #DIV/0! | AN39: =IF(OR($B39="",$B$4=""),"",$BM39/$BH39*$F39) | AP39: =IF(OR($AP$35="",$B$4=""),"",IF($B39="","",AN39*$AP$35)) | AR39: =IF(OR($AR$35="",$B$4=""),"",IF($B39="","",AN39*$AR$35)) | AT39: =IF(OR($AT$35="",$B$4=""),"",IF($B39="","",AN39*$AT$35)) | AU39: =IF($D$4/$E$81*AN39*$E$12<0.01,"",$D$4/$E$81*AN39*$E$12) -> #DIV/0! | AV39: =IF(OR($AV$35="",$B$4=""),"",IF($B39="","",AN39*$AV$35)) | AW39: =IF($D$4/$E$81*#REF!*$E$12<0.01,"",$D$4/$E$81*#REF!*$E$12) -> #DIV/0! | AZ39: =IF(B39="","",EOMONTH(A39,-1)+1) | BC39: =IF(B39="","",EOMONTH(A39,0)) | BF39: =IF(B39="","",DAY(DATE(YEAR(A39),MONTH(A39)+1,1)-1)) | BH39: {=IF(B39="","",SUMPRODUCT(($Q$2:$AM$32>=AZ39)*($Q$2:$AM$32<=BC39)*($AZ$2:$BV$32>0)))} | BJ39: {=IF($D$4="",IF(BC39="","",SUMPRODUCT(($Q$2:$AM$32>=AZ39)*($Q$2:$AM$32<=BC39)*($CA$2:$CW$32))),IF(BC39="","",SUMPRODUCT(($Q$2:$AM$32>=AZ39)*($Q$2:$AM$32<=BC39)*($AZ$2:$BV$32))))} | BM39: =IF($B39="","",IF($D$4="",(MAX(MIN(EDATE(AZ39,1),$N$3)-MAX(AZ39,$M$3),0))/(EDATE(AZ39,1)-AZ39)*($D$6*$BJ39)+MAX(MIN(EDATE(AZ39,1),$BU$36)-MAX(AZ39,$N$3),0)/(EDATE(AZ39,1)-AZ39)*($D$7*$BJ39),(MAX(MIN(EDATE(AZ39,1),$N$3)-MAX(AZ39,$M$3),0))/(EDATE(AZ39,1)-AZ39)*($D$4+$H$4)+MAX(MIN(EDATE(AZ39,1),$BU$36)-MAX(AZ39,$N$3),0)/(EDATE(AZ39,1)-AZ39)*($D$5+$H$5)))
D40: =IF(B40="","",B40-A40+1) | F40: {=IF(B40="","",SUMPRODUCT(($Q$2:$AM$32>=A40)*($Q$2:$AM$32<=B40)*($AZ$2:$BV$32>0)))} | H40: {=IF(B40="","",SUMPRODUCT(($Q$2:$AM$32>=A40)*($Q$2:$AM$32<=B40)*($AZ$2:$BV$32)))} | J40: =IF(OR($B40="",$B$6=""),"",$BM40/$BJ40*$H40) | L40: =IF(OR($L$35="",$B$6=""),"",IF($B40="","",J40*$L$35)) | N40: =IF(OR($N$35="",$B$6=""),"",IF($B40="","",J40*$N$35)) | P40: =IF(OR($P$35="",$B$6=""),"",IF($B40="","",J40*$P$35)) | R40: =IF(OR($R$35="",$B$6=""),"",IF($B40="","",J40*$R$35)) | T40: =IF(OR($B40="",$B$4=""),"",$BM40/$BF40*$D40) | U40: =IF($D$4/$E$81*AU40*$E$12<0.01,"",$D$4/$E$81*AU40*$E$12) -> #DIV/0! | V40: =IF(OR($V$35="",$B$4=""),"",IF($B40="","",T40*$V$35)) | W40: =IF($D$4/$E$81*AW40*$E$12<0.01,"",$D$4/$E$81*AW40*$E$12) -> #DIV/0! | X40: =IF(OR($X$35="",$B$4=""),"",IF($B40="","",T40*$X$35)) | Z40: =IF(OR($Z$35="",$B$4=""),"",IF($B40="","",T40*$Z$35)) | AB40: =IF(OR($AB$35="",$B$4=""),"",IF($B40="","",T40*$AB$35)) | AD40: =IF(OR($B40="",$B$4=""),"",$BM40/30*$D40) | AF40: =IF(OR($AF$35="",$B$4=""),"",IF($B40="","",AD40*$AF$35)) | AG40: =IF($D$4/$N$82*Y40*$E$12<0.01,"",$D$4/$N$82*Y40*$E$12) -> #DIV/0! | AH40: =IF(OR($AH$35="",$B$4=""),"",IF($B40="","",AD40*$AH$35)) | AJ40: =IF(OR($AJ$35="",$B$4=""),"",IF($B40="","",AD40*$AJ$35)) | AK40: =IF($D$4/$N$82*AC40*$E$12<0.01,"",$D$4/$N$82*AC40*$E$12) -> #DIV/0! | AL40: =IF(OR($AL$35="",$B$4=""),"",IF($B40="","",AD40*$AL$35)) | AM40: =IF($D$4/$N$82*AE40*$E$12<0.01,"",$D$4/$N$82*AE40*$E$12) -> #DIV/0! | AN40: =IF(OR($B40="",$B$4=""),"",$BM40/$BH40*$F40) | AP40: =IF(OR($AP$35="",$B$4=""),"",IF($B40="","",AN40*$AP$35)) | AR40: =IF(OR($AR$35="",$B$4=""),"",IF($B40="","",AN40*$AR$35)) | AT40: =IF(OR($AT$35="",$B$4=""),"",IF($B40="","",AN40*$AT$35)) | AU40: =IF($D$4/$E$81*AN40*$E$12<0.01,"",$D$4/$E$81*AN40*$E$12) -> #DIV/0! | AV40: =IF(OR($AV$35="",$B$4=""),"",IF($B40="","",AN40*$AV$35)) | AW40: =IF($D$4/$E$81*#REF!*$E$12<0.01,"",$D$4/$E$81*#REF!*$E$12) -> #DIV/0! | AZ40: =IF(B40="","",EOMONTH(A40,-1)+1) | BC40: =IF(B40="","",EOMONTH(A40,0)) | BF40: =IF(B40="","",DAY(DATE(YEAR(A40),MONTH(A40)+1,1)-1)) | BH40: {=IF(B40="","",SUMPRODUCT(($Q$2:$AM$32>=AZ40)*($Q$2:$AM$32<=BC40)*($AZ$2:$BV$32>0)))} | BJ40: {=IF($D$4="",IF(BC40="","",SUMPRODUCT(($Q$2:$AM$32>=AZ40)*($Q$2:$AM$32<=BC40)*($CA$2:$CW$32))),IF(BC40="","",SUMPRODUCT(($Q$2:$AM$32>=AZ40)*($Q$2:$AM$32<=BC40)*($AZ$2:$BV$32))))} | BM40: =IF($B40="","",IF($D$4="",(MAX(MIN(EDATE(AZ40,1),$N$3)-MAX(AZ40,$M$3),0))/(EDATE(AZ40,1)-AZ40)*($D$6*$BJ40)+MAX(MIN(EDATE(AZ40,1),$BU$36)-MAX(AZ40,$N$3),0)/(EDATE(AZ40,1)-AZ40)*($D$7*$BJ40),(MAX(MIN(EDATE(AZ40,1),$N$3)-MAX(AZ40,$M$3),0))/(EDATE(AZ40,1)-AZ40)*($D$4+$H$4)+MAX(MIN(EDATE(AZ40,1),$BU$36)-MAX(AZ40,$N$3),0)/(EDATE(AZ40,1)-AZ40)*($D$5+$H$5))) | BR40: =DATE(A1,12,31) -> 44926
D41: =IF(B41="","",B41-A41+1) | F41: {=IF(B41="","",SUMPRODUCT(($Q$2:$AM$32>=A41)*($Q$2:$AM$32<=B41)*($AZ$2:$BV$32>0)))} | H41: {=IF(B41="","",SUMPRODUCT(($Q$2:$AM$32>=A41)*($Q$2:$AM$32<=B41)*($AZ$2:$BV$32)))} | J41: =IF(OR($B41="",$B$6=""),"",$BM41/$BJ41*$H41) | L41: =IF(OR($L$35="",$B$6=""),"",IF($B41="","",J41*$L$35)) | N41: =IF(OR($N$35="",$B$6=""),"",IF($B41="","",J41*$N$35)) | P41: =IF(OR($P$35="",$B$6=""),"",IF($B41="","",J41*$P$35)) | R41: =IF(OR($R$35="",$B$6=""),"",IF($B41="","",J41*$R$35)) | T41: =IF(OR($B41="",$B$4=""),"",$BM41/$BF41*$D41) | U41: =IF($D$4/$E$81*AU41*$E$12<0.01,"",$D$4/$E$81*AU41*$E$12) -> #DIV/0! | V41: =IF(OR($V$35="",$B$4=""),"",IF($B41="","",T41*$V$35)) | W41: =IF($D$4/$E$81*AW41*$E$12<0.01,"",$D$4/$E$81*AW41*$E$12) -> #DIV/0! | X41: =IF(OR($X$35="",$B$4=""),"",IF($B41="","",T41*$X$35)) | Z41: =IF(OR($Z$35="",$B$4=""),"",IF($B41="","",T41*$Z$35)) | AB41: =IF(OR($AB$35="",$B$4=""),"",IF($B41="","",T41*$AB$35)) | AD41: =IF(OR($B41="",$B$4=""),"",$BM41/30*$D41) | AF41: =IF(OR($AF$35="",$B$4=""),"",IF($B41="","",AD41*$AF$35)) | AG41: =IF($D$4/$N$82*Y41*$E$12<0.01,"",$D$4/$N$82*Y41*$E$12) -> #DIV/0! | AH41: =IF(OR($AH$35="",$B$4=""),"",IF($B41="","",AD41*$AH$35)) | AJ41: =IF(OR($AJ$35="",$B$4=""),"",IF($B41="","",AD41*$AJ$35)) | AK41: =IF($D$4/$N$82*AC41*$E$12<0.01,"",$D$4/$N$82*AC41*$E$12) -> #DIV/0! | AL41: =IF(OR($AL$35="",$B$4=""),"",IF($B41="","",AD41*$AL$35)) | AM41: =IF($D$4/$N$82*AE41*$E$12<0.01,"",$D$4/$N$82*AE41*$E$12) -> #DIV/0! | AN41: =IF(OR($B41="",$B$4=""),"",$BM41/$BH41*$F41) | AP41: =IF(OR($AP$35="",$B$4=""),"",IF($B41="","",AN41*$AP$35)) | AR41: =IF(OR($AR$35="",$B$4=""),"",IF($B41="","",AN41*$AR$35)) | AT41: =IF(OR($AT$35="",$B$4=""),"",IF($B41="","",AN41*$AT$35)) | AU41: =IF($D$4/$E$81*AN41*$E$12<0.01,"",$D$4/$E$81*AN41*$E$12) -> #DIV/0! | AV41: =IF(OR($AV$35="",$B$4=""),"",IF($B41="","",AN41*$AV$35)) | AW41: =IF($D$4/$E$81*#REF!*$E$12<0.01,"",$D$4/$E$81*#REF!*$E$12) -> #DIV/0! | AZ41: =IF(B41="","",EOMONTH(A41,-1)+1) | BC41: =IF(B41="","",EOMONTH(A41,0)) | BF41: =IF(B41="","",DAY(DATE(YEAR(A41),MONTH(A41)+1,1)-1)) | BH41: {=IF(B41="","",SUMPRODUCT(($Q$2:$AM$32>=AZ41)*($Q$2:$AM$32<=BC41)*($AZ$2:$BV$32>0)))} | BJ41: {=IF($D$4="",IF(BC41="","",SUMPRODUCT(($Q$2:$AM$32>=AZ41)*($Q$2:$AM$32<=BC41)*($CA$2:$CW$32))),IF(BC41="","",SUMPRODUCT(($Q$2:$AM$32>=AZ41)*($Q$2:$AM$32<=BC41)*($AZ$2:$BV$32))))} | BM41: =IF($B41="","",IF($D$4="",(MAX(MIN(EDATE(AZ41,1),$N$3)-MAX(AZ41,$M$3),0))/(EDATE(AZ41,1)-AZ41)*($D$6*$BJ41)+MAX(MIN(EDATE(AZ41,1),$BU$36)-MAX(AZ41,$N$3),0)/(EDATE(AZ41,1)-AZ41)*($D$7*$BJ41),(MAX(MIN(EDATE(AZ41,1),$N$3)-MAX(AZ41,$M$3),0))/(EDATE(AZ41,1)-AZ41)*($D$4+$H$4)+MAX(MIN(EDATE(AZ41,1),$BU$36)-MAX(AZ41,$N$3),0)/(EDATE(AZ41,1)-AZ41)*($D$5+$H$5)))
D42: =IF(B42="","",B42-A42+1) | F42: {=IF(B42="","",SUMPRODUCT(($Q$2:$AM$32>=A42)*($Q$2:$AM$32<=B42)*($AZ$2:$BV$32>0)))} | H42: {=IF(B42="","",SUMPRODUCT(($Q$2:$AM$32>=A42)*($Q$2:$AM$32<=B42)*($AZ$2:$BV$32)))} | J42: =IF(OR($B42="",$B$6=""),"",$BM42/$BJ42*$H42) | L42: =IF(OR($L$35="",$B$6=""),"",IF($B42="","",J42*$L$35)) | N42: =IF(OR($N$35="",$B$6=""),"",IF($B42="","",J42*$N$35)) | P42: =IF(OR($P$35="",$B$6=""),"",IF($B42="","",J42*$P$35)) | R42: =IF(OR($R$35="",$B$6=""),"",IF($B42="","",J42*$R$35)) | T42: =IF(OR($B42="",$B$4=""),"",$BM42/$BF42*$D42) | U42: =IF($D$4/$E$81*AU42*$E$12<0.01,"",$D$4/$E$81*AU42*$E$12) -> #DIV/0! | V42: =IF(OR($V$35="",$B$4=""),"",IF($B42="","",T42*$V$35)) | W42: =IF($D$4/$E$81*AW42*$E$12<0.01,"",$D$4/$E$81*AW42*$E$12) -> #DIV/0! | X42: =IF(OR($X$35="",$B$4=""),"",IF($B42="","",T42*$X$35)) | Z42: =IF(OR($Z$35="",$B$4=""),"",IF($B42="","",T42*$Z$35)) | AB42: =IF(OR($AB$35="",$B$4=""),"",IF($B42="","",T42*$AB$35)) | AD42: =IF(OR($B42="",$B$4=""),"",$BM42/30*$D42) | AF42: =IF(OR($AF$35="",$B$4=""),"",IF($B42="","",AD42*$AF$35)) | AG42: =IF($D$4/$N$82*Y42*$E$12<0.01,"",$D$4/$N$82*Y42*$E$12) -> #DIV/0! | AH42: =IF(OR($AH$35="",$B$4=""),"",IF($B42="","",AD42*$AH$35)) | AJ42: =IF(OR($AJ$35="",$B$4=""),"",IF($B42="","",AD42*$AJ$35)) | AK42: =IF($D$4/$N$82*AC42*$E$12<0.01,"",$D$4/$N$82*AC42*$E$12) -> #DIV/0! | AL42: =IF(OR($AL$35="",$B$4=""),"",IF($B42="","",AD42*$AL$35)) | AM42: =IF($D$4/$N$82*AE42*$E$12<0.01,"",$D$4/$N$82*AE42*$E$12) -> #DIV/0! | AN42: =IF(OR($B42="",$B$4=""),"",$BM42/$BH42*$F42) | AP42: =IF(OR($AP$35="",$B$4=""),"",IF($B42="","",AN42*$AP$35)) | AR42: =IF(OR($AR$35="",$B$4=""),"",IF($B42="","",AN42*$AR$35)) | AT42: =IF(OR($AT$35="",$B$4=""),"",IF($B42="","",AN42*$AT$35)) | AU42: =IF($D$4/$E$81*AN42*$E$12<0.01,"",$D$4/$E$81*AN42*$E$12) -> #DIV/0! | AV42: =IF(OR($AV$35="",$B$4=""),"",IF($B42="","",AN42*$AV$35)) | AW42: =IF($D$4/$E$81*#REF!*$E$12<0.01,"",$D$4/$E$81*#REF!*$E$12) -> #DIV/0! | AZ42: =IF(B42="","",EOMONTH(A42,-1)+1) | BC42: =IF(B42="","",EOMONTH(A42,0)) | BF42: =IF(B42="","",DAY(DATE(YEAR(A42),MONTH(A42)+1,1)-1)) | BH42: {=IF(B42="","",SUMPRODUCT(($Q$2:$AM$32>=AZ42)*($Q$2:$AM$32<=BC42)*($AZ$2:$BV$32>0)))} | BJ42: {=IF($D$4="",IF(BC42="","",SUMPRODUCT(($Q$2:$AM$32>=AZ42)*($Q$2:$AM$32<=BC42)*($CA$2:$CW$32))),IF(BC42="","",SUMPRODUCT(($Q$2:$AM$32>=AZ42)*($Q$2:$AM$32<=BC42)*($AZ$2:$BV$32))))} | BM42: =IF($B42="","",IF($D$4="",(MAX(MIN(EDATE(AZ42,1),$N$3)-MAX(AZ42,$M$3),0))/(EDATE(AZ42,1)-AZ42)*($D$6*$BJ42)+MAX(MIN(EDATE(AZ42,1),$BU$36)-MAX(AZ42,$N$3),0)/(EDATE(AZ42,1)-AZ42)*($D$7*$BJ42),(MAX(MIN(EDATE(AZ42,1),$N$3)-MAX(AZ42,$M$3),0))/(EDATE(AZ42,1)-AZ42)*($D$4+$H$4)+MAX(MIN(EDATE(AZ42,1),$BU$36)-MAX(AZ42,$N$3),0)/(EDATE(AZ42,1)-AZ42)*($D$5+$H$5)))
D43: =IF(B43="","",B43-A43+1) | F43: {=IF(B43="","",SUMPRODUCT(($Q$2:$AM$32>=A43)*($Q$2:$AM$32<=B43)*($AZ$2:$BV$32>0)))} | H43: {=IF(B43="","",SUMPRODUCT(($Q$2:$AM$32>=A43)*($Q$2:$AM$32<=B43)*($AZ$2:$BV$32)))} | J43: =IF(OR($B43="",$B$6=""),"",$BM43/$BJ43*$H43) | L43: =IF(OR($L$35="",$B$6=""),"",IF($B43="","",J43*$L$35)) | N43: =IF(OR($N$35="",$B$6=""),"",IF($B43="","",J43*$N$35)) | P43: =IF(OR($P$35="",$B$6=""),"",IF($B43="","",J43*$P$35)) | R43: =IF(OR($R$35="",$B$6=""),"",IF($B43="","",J43*$R$35)) | T43: =IF(OR($B43="",$B$4=""),"",$BM43/$BF43*$D43) | U43: =IF($D$4/$E$81*AU43*$E$12<0.01,"",$D$4/$E$81*AU43*$E$12) -> #DIV/0! | V43: =IF(OR($V$35="",$B$4=""),"",IF($B43="","",T43*$V$35)) | W43: =IF($D$4/$E$81*AW43*$E$12<0.01,"",$D$4/$E$81*AW43*$E$12) -> #DIV/0! | X43: =IF(OR($X$35="",$B$4=""),"",IF($B43="","",T43*$X$35)) | Z43: =IF(OR($Z$35="",$B$4=""),"",IF($B43="","",T43*$Z$35)) | AB43: =IF(OR($AB$35="",$B$4=""),"",IF($B43="","",T43*$AB$35)) | AD43: =IF(OR($B43="",$B$4=""),"",$BM43/30*$D43) | AF43: =IF(OR($AF$35="",$B$4=""),"",IF($B43="","",AD43*$AF$35)) | AG43: =IF($D$4/$N$82*Y43*$E$12<0.01,"",$D$4/$N$82*Y43*$E$12) -> #DIV/0! | AH43: =IF(OR($AH$35="",$B$4=""),"",IF($B43="","",AD43*$AH$35)) | AJ43: =IF(OR($AJ$35="",$B$4=""),"",IF($B43="","",AD43*$AJ$35)) | AK43: =IF($D$4/$N$82*AC43*$E$12<0.01,"",$D$4/$N$82*AC43*$E$12) -> #DIV/0! | AL43: =IF(OR($AL$35="",$B$4=""),"",IF($B43="","",AD43*$AL$35)) | AM43: =IF($D$4/$N$82*AE43*$E$12<0.01,"",$D$4/$N$82*AE43*$E$12) -> #DIV/0! | AN43: =IF(OR($B43="",$B$4=""),"",$BM43/$BH43*$F43) | AP43: =IF(OR($AP$35="",$B$4=""),"",IF($B43="","",AN43*$AP$35)) | AR43: =IF(OR($AR$35="",$B$4=""),"",IF($B43="","",AN43*$AR$35)) | AT43: =IF(OR($AT$35="",$B$4=""),"",IF($B43="","",AN43*$AT$35)) | AU43: =IF($D$4/$E$81*AN43*$E$12<0.01,"",$D$4/$E$81*AN43*$E$12) -> #DIV/0! | AV43: =IF(OR($AV$35="",$B$4=""),"",IF($B43="","",AN43*$AV$35)) | AW43: =IF($D$4/$E$81*#REF!*$E$12<0.01,"",$D$4/$E$81*#REF!*$E$12) -> #DIV/0! | AZ43: =IF(B43="","",EOMONTH(A43,-1)+1) | BC43: =IF(B43="","",EOMONTH(A43,0)) | BF43: =IF(B43="","",DAY(DATE(YEAR(A43),MONTH(A43)+1,1)-1)) | BH43: {=IF(B43="","",SUMPRODUCT(($Q$2:$AM$32>=AZ43)*($Q$2:$AM$32<=BC43)*($AZ$2:$BV$32>0)))} | BJ43: {=IF($D$4="",IF(BC43="","",SUMPRODUCT(($Q$2:$AM$32>=AZ43)*($Q$2:$AM$32<=BC43)*($CA$2:$CW$32))),IF(BC43="","",SUMPRODUCT(($Q$2:$AM$32>=AZ43)*($Q$2:$AM$32<=BC43)*($AZ$2:$BV$32))))} | BM43: =IF($B43="","",IF($D$4="",(MAX(MIN(EDATE(AZ43,1),$N$3)-MAX(AZ43,$M$3),0))/(EDATE(AZ43,1)-AZ43)*($D$6*$BJ43)+MAX(MIN(EDATE(AZ43,1),$BU$36)-MAX(AZ43,$N$3),0)/(EDATE(AZ43,1)-AZ43)*($D$7*$BJ43),(MAX(MIN(EDATE(AZ43,1),$N$3)-MAX(AZ43,$M$3),0))/(EDATE(AZ43,1)-AZ43)*($D$4+$H$4)+MAX(MIN(EDATE(AZ43,1),$BU$36)-MAX(AZ43,$N$3),0)/(EDATE(AZ43,1)-AZ43)*($D$5+$H$5)))
D44: =IF(B44="","",B44-A44+1) | F44: {=IF(B44="","",SUMPRODUCT(($Q$2:$AM$32>=A44)*($Q$2:$AM$32<=B44)*($AZ$2:$BV$32>0)))} | H44: {=IF(B44="","",SUMPRODUCT(($Q$2:$AM$32>=A44)*($Q$2:$AM$32<=B44)*($AZ$2:$BV$32)))} | J44: =IF(OR($B44="",$B$6=""),"",$BM44/$BJ44*$H44) | L44: =IF(OR($L$35="",$B$6=""),"",IF($B44="","",J44*$L$35)) | N44: =IF(OR($N$35="",$B$6=""),"",IF($B44="","",J44*$N$35)) | P44: =IF(OR($P$35="",$B$6=""),"",IF($B44="","",J44*$P$35)) | R44: =IF(OR($R$35="",$B$6=""),"",IF($B44="","",J44*$R$35)) | T44: =IF(OR($B44="",$B$4=""),"",$BM44/$BF44*$D44) | U44: =IF($D$4/$E$81*AU44*$E$12<0.01,"",$D$4/$E$81*AU44*$E$12) -> #DIV/0! | V44: =IF(OR($V$35="",$B$4=""),"",IF($B44="","",T44*$V$35)) | W44: =IF($D$4/$E$81*AW44*$E$12<0.01,"",$D$4/$E$81*AW44*$E$12) -> #DIV/0! | X44: =IF(OR($X$35="",$B$4=""),"",IF($B44="","",T44*$X$35)) | Z44: =IF(OR($Z$35="",$B$4=""),"",IF($B44="","",T44*$Z$35)) | AB44: =IF(OR($AB$35="",$B$4=""),"",IF($B44="","",T44*$AB$35)) | AD44: =IF(OR($B44="",$B$4=""),"",$BM44/30*$D44) | AF44: =IF(OR($AF$35="",$B$4=""),"",IF($B44="","",AD44*$AF$35)) | AG44: =IF($D$4/$N$82*Y44*$E$12<0.01,"",$D$4/$N$82*Y44*$E$12) -> #DIV/0! | AH44: =IF(OR($AH$35="",$B$4=""),"",IF($B44="","",AD44*$AH$35)) | AJ44: =IF(OR($AJ$35="",$B$4=""),"",IF($B44="","",AD44*$AJ$35)) | AK44: =IF($D$4/$N$82*AC44*$E$12<0.01,"",$D$4/$N$82*AC44*$E$12) -> #DIV/0! | AL44: =IF(OR($AL$35="",$B$4=""),"",IF($B44="","",AD44*$AL$35)) | AM44: =IF($D$4/$N$82*AE44*$E$12<0.01,"",$D$4/$N$82*AE44*$E$12) -> #DIV/0! | AN44: =IF(OR($B44="",$B$4=""),"",$BM44/$BH44*$F44) | AP44: =IF(OR($AP$35="",$B$4=""),"",IF($B44="","",AN44*$AP$35)) | AR44: =IF(OR($AR$35="",$B$4=""),"",IF($B44="","",AN44*$AR$35)) | AT44: =IF(OR($AT$35="",$B$4=""),"",IF($B44="","",AN44*$AT$35)) | AU44: =IF($D$4/$E$81*AN44*$E$12<0.01,"",$D$4/$E$81*AN44*$E$12) -> #DIV/0! | AV44: =IF(OR($AV$35="",$B$4=""),"",IF($B44="","",AN44*$AV$35)) | AW44: =IF($D$4/$E$81*#REF!*$E$12<0.01,"",$D$4/$E$81*#REF!*$E$12) -> #DIV/0! | AZ44: =IF(B44="","",EOMONTH(A44,-1)+1) | BC44: =IF(B44="","",EOMONTH(A44,0)) | BF44: =IF(B44="","",DAY(DATE(YEAR(A44),MONTH(A44)+1,1)-1)) | BH44: {=IF(B44="","",SUMPRODUCT(($Q$2:$AM$32>=AZ44)*($Q$2:$AM$32<=BC44)*($AZ$2:$BV$32>0)))} | BJ44: {=IF($D$4="",IF(BC44="","",SUMPRODUCT(($Q$2:$AM$32>=AZ44)*($Q$2:$AM$32<=BC44)*($CA$2:$CW$32))),IF(BC44="","",SUMPRODUCT(($Q$2:$AM$32>=AZ44)*($Q$2:$AM$32<=BC44)*($AZ$2:$BV$32))))} | BM44: =IF($B44="","",IF($D$4="",(MAX(MIN(EDATE(AZ44,1),$N$3)-MAX(AZ44,$M$3),0))/(EDATE(AZ44,1)-AZ44)*($D$6*$BJ44)+MAX(MIN(EDATE(AZ44,1),$BU$36)-MAX(AZ44,$N$3),0)/(EDATE(AZ44,1)-AZ44)*($D$7*$BJ44),(MAX(MIN(EDATE(AZ44,1),$N$3)-MAX(AZ44,$M$3),0))/(EDATE(AZ44,1)-AZ44)*($D$4+$H$4)+MAX(MIN(EDATE(AZ44,1),$BU$36)-MAX(AZ44,$N$3),0)/(EDATE(AZ44,1)-AZ44)*($D$5+$H$5)))
D45: =IF(B45="","",B45-A45+1) | F45: {=IF(B45="","",SUMPRODUCT(($Q$2:$AM$32>=A45)*($Q$2:$AM$32<=B45)*($AZ$2:$BV$32>0)))} | H45: {=IF(B45="","",SUMPRODUCT(($Q$2:$AM$32>=A45)*($Q$2:$AM$32<=B45)*($AZ$2:$BV$32)))} | J45: =IF(OR($B45="",$B$6=""),"",$BM45/$BJ45*$H45) | L45: =IF(OR($L$35="",$B$6=""),"",IF($B45="","",J45*$L$35)) | N45: =IF(OR($N$35="",$B$6=""),"",IF($B45="","",J45*$N$35)) | P45: =IF(OR($P$35="",$B$6=""),"",IF($B45="","",J45*$P$35)) | R45: =IF(OR($R$35="",$B$6=""),"",IF($B45="","",J45*$R$35)) | T45: =IF(OR($B45="",$B$4=""),"",$BM45/$BF45*$D45) | U45: =IF($D$4/$E$81*AU45*$E$12<0.01,"",$D$4/$E$81*AU45*$E$12) -> #DIV/0! | V45: =IF(OR($V$35="",$B$4=""),"",IF($B45="","",T45*$V$35)) | W45: =IF($D$4/$E$81*AW45*$E$12<0.01,"",$D$4/$E$81*AW45*$E$12) -> #DIV/0! | X45: =IF(OR($X$35="",$B$4=""),"",IF($B45="","",T45*$X$35)) | Z45: =IF(OR($Z$35="",$B$4=""),"",IF($B45="","",T45*$Z$35)) | AB45: =IF(OR($AB$35="",$B$4=""),"",IF($B45="","",T45*$AB$35)) | AD45: =IF(OR($B45="",$B$4=""),"",$BM45/30*$D45) | AF45: =IF(OR($AF$35="",$B$4=""),"",IF($B45="","",AD45*$AF$35)) | AG45: =IF($D$4/$N$82*Y45*$E$12<0.01,"",$D$4/$N$82*Y45*$E$12) -> #DIV/0! | AH45: =IF(OR($AH$35="",$B$4=""),"",IF($B45="","",AD45*$AH$35)) | AJ45: =IF(OR($AJ$35="",$B$4=""),"",IF($B45="","",AD45*$AJ$35)) | AK45: =IF($D$4/$N$82*AC45*$E$12<0.01,"",$D$4/$N$82*AC45*$E$12) -> #DIV/0! | AL45: =IF(OR($AL$35="",$B$4=""),"",IF($B45="","",AD45*$AL$35)) | AM45: =IF($D$4/$N$82*AE45*$E$12<0.01,"",$D$4/$N$82*AE45*$E$12) -> #DIV/0! | AN45: =IF(OR($B45="",$B$4=""),"",$BM45/$BH45*$F45) | AP45: =IF(OR($AP$35="",$B$4=""),"",IF($B45="","",AN45*$AP$35)) | AR45: =IF(OR($AR$35="",$B$4=""),"",IF($B45="","",AN45*$AR$35)) | AT45: =IF(OR($AT$35="",$B$4=""),"",IF($B45="","",AN45*$AT$35)) | AU45: =IF($D$4/$E$81*AN45*$E$12<0.01,"",$D$4/$E$81*AN45*$E$12) -> #DIV/0! | AV45: =IF(OR($AV$35="",$B$4=""),"",IF($B45="","",AN45*$AV$35)) | AW45: =IF($D$4/$E$81*#REF!*$E$12<0.01,"",$D$4/$E$81*#REF!*$E$12) -> #DIV/0! | AZ45: =IF(B45="","",EOMONTH(A45,-1)+1) | BC45: =IF(B45="","",EOMONTH(A45,0)) | BF45: =IF(B45="","",DAY(DATE(YEAR(A45),MONTH(A45)+1,1)-1)) | BH45: {=IF(B45="","",SUMPRODUCT(($Q$2:$AM$32>=AZ45)*($Q$2:$AM$32<=BC45)*($AZ$2:$BV$32>0)))} | BJ45: {=IF($D$4="",IF(BC45="","",SUMPRODUCT(($Q$2:$AM$32>=AZ45)*($Q$2:$AM$32<=BC45)*($CA$2:$CW$32))),IF(BC45="","",SUMPRODUCT(($Q$2:$AM$32>=AZ45)*($Q$2:$AM$32<=BC45)*($AZ$2:$BV$32))))} | BM45: =IF($B45="","",IF($D$4="",(MAX(MIN(EDATE(AZ45,1),$N$3)-MAX(AZ45,$M$3),0))/(EDATE(AZ45,1)-AZ45)*($D$6*$BJ45)+MAX(MIN(EDATE(AZ45,1),$BU$36)-MAX(AZ45,$N$3),0)/(EDATE(AZ45,1)-AZ45)*($D$7*$BJ45),(MAX(MIN(EDATE(AZ45,1),$N$3)-MAX(AZ45,$M$3),0))/(EDATE(AZ45,1)-AZ45)*($D$4+$H$4)+MAX(MIN(EDATE(AZ45,1),$BU$36)-MAX(AZ45,$N$3),0)/(EDATE(AZ45,1)-AZ45)*($D$5+$H$5)))
D46: =IF(B46="","",B46-A46+1) | F46: {=IF(B46="","",SUMPRODUCT(($Q$2:$AM$32>=A46)*($Q$2:$AM$32<=B46)*($AZ$2:$BV$32>0)))} | H46: {=IF(B46="","",SUMPRODUCT(($Q$2:$AM$32>=A46)*($Q$2:$AM$32<=B46)*($AZ$2:$BV$32)))} | J46: =IF(OR($B46="",$B$6=""),"",$BM46/$BJ46*$H46) | L46: =IF(OR($L$35="",$B$6=""),"",IF($B46="","",J46*$L$35)) | N46: =IF(OR($N$35="",$B$6=""),"",IF($B46="","",J46*$N$35)) | P46: =IF(OR($P$35="",$B$6=""),"",IF($B46="","",J46*$P$35)) | R46: =IF(OR($R$35="",$B$6=""),"",IF($B46="","",J46*$R$35)) | T46: =IF(OR($B46="",$B$4=""),"",$BM46/$BF46*$D46) | U46: =IF($D$4/$E$81*AU46*$E$12<0.01,"",$D$4/$E$81*AU46*$E$12) -> #DIV/0! | V46: =IF(OR($V$35="",$B$4=""),"",IF($B46="","",T46*$V$35)) | W46: =IF($D$4/$E$81*AW46*$E$12<0.01,"",$D$4/$E$81*AW46*$E$12) -> #DIV/0! | X46: =IF(OR($X$35="",$B$4=""),"",IF($B46="","",T46*$X$35)) | Z46: =IF(OR($Z$35="",$B$4=""),"",IF($B46="","",T46*$Z$35)) | AB46: =IF(OR($AB$35="",$B$4=""),"",IF($B46="","",T46*$AB$35)) | AD46: =IF(OR($B46="",$B$4=""),"",$BM46/30*$D46) | AF46: =IF(OR($AF$35="",$B$4=""),"",IF($B46="","",AD46*$AF$35)) | AG46: =IF($D$4/$N$82*Y46*$E$12<0.01,"",$D$4/$N$82*Y46*$E$12) -> #DIV/0! | AH46: =IF(OR($AH$35="",$B$4=""),"",IF($B46="","",AD46*$AH$35)) | AJ46: =IF(OR($AJ$35="",$B$4=""),"",IF($B46="","",AD46*$AJ$35)) | AK46: =IF($D$4/$N$82*AC46*$E$12<0.01,"",$D$4/$N$82*AC46*$E$12) -> #DIV/0! | AL46: =IF(OR($AL$35="",$B$4=""),"",IF($B46="","",AD46*$AL$35)) | AM46: =IF($D$4/$N$82*AE46*$E$12<0.01,"",$D$4/$N$82*AE46*$E$12) -> #DIV/0! | AN46: =IF(OR($B46="",$B$4=""),"",$BM46/$BH46*$F46) | AP46: =IF(OR($AP$35="",$B$4=""),"",IF($B46="","",AN46*$AP$35)) | AR46: =IF(OR($AR$35="",$B$4=""),"",IF($B46="","",AN46*$AR$35)) | AT46: =IF(OR($AT$35="",$B$4=""),"",IF($B46="","",AN46*$AT$35)) | AU46: =IF($D$4/$E$81*AN46*$E$12<0.01,"",$D$4/$E$81*AN46*$E$12) -> #DIV/0! | AV46: =IF(OR($AV$35="",$B$4=""),"",IF($B46="","",AN46*$AV$35)) | AW46: =IF($D$4/$E$81*#REF!*$E$12<0.01,"",$D$4/$E$81*#REF!*$E$12) -> #DIV/0! | AZ46: =IF(B46="","",EOMONTH(A46,-1)+1) | BC46: =IF(B46="","",EOMONTH(A46,0)) | BF46: =IF(B46="","",DAY(DATE(YEAR(A46),MONTH(A46)+1,1)-1)) | BH46: {=IF(B46="","",SUMPRODUCT(($Q$2:$AM$32>=AZ46)*($Q$2:$AM$32<=BC46)*($AZ$2:$BV$32>0)))} | BJ46: {=IF($D$4="",IF(BC46="","",SUMPRODUCT(($Q$2:$AM$32>=AZ46)*($Q$2:$AM$32<=BC46)*($CA$2:$CW$32))),IF(BC46="","",SUMPRODUCT(($Q$2:$AM$32>=AZ46)*($Q$2:$AM$32<=BC46)*($AZ$2:$BV$32))))} | BM46: =IF($B46="","",IF($D$4="",(MAX(MIN(EDATE(AZ46,1),$N$3)-MAX(AZ46,$M$3),0))/(EDATE(AZ46,1)-AZ46)*($D$6*$BJ46)+MAX(MIN(EDATE(AZ46,1),$BU$36)-MAX(AZ46,$N$3),0)/(EDATE(AZ46,1)-AZ46)*($D$7*$BJ46),(MAX(MIN(EDATE(AZ46,1),$N$3)-MAX(AZ46,$M$3),0))/(EDATE(AZ46,1)-AZ46)*($D$4+$H$4)+MAX(MIN(EDATE(AZ46,1),$BU$36)-MAX(AZ46,$N$3),0)/(EDATE(AZ46,1)-AZ46)*($D$5+$H$5)))
D47: =IF(B47="","",B47-A47+1) | F47: {=IF(B47="","",SUMPRODUCT(($Q$2:$AM$32>=A47)*($Q$2:$AM$32<=B47)*($AZ$2:$BV$32>0)))} | H47: {=IF(B47="","",SUMPRODUCT(($Q$2:$AM$32>=A47)*($Q$2:$AM$32<=B47)*($AZ$2:$BV$32)))} | J47: =IF(OR($B47="",$B$6=""),"",$BM47/$BJ47*$H47) | L47: =IF(OR($L$35="",$B$6=""),"",IF($B47="","",J47*$L$35)) | N47: =IF(OR($N$35="",$B$6=""),"",IF($B47="","",J47*$N$35)) | P47: =IF(OR($P$35="",$B$6=""),"",IF($B47="","",J47*$P$35)) | R47: =IF(OR($R$35="",$B$6=""),"",IF($B47="","",J47*$R$35)) | T47: =IF(OR($B47="",$B$4=""),"",$BM47/$BF47*$D47) | U47: =IF($D$4/$E$81*AU47*$E$12<0.01,"",$D$4/$E$81*AU47*$E$12) -> #DIV/0! | V47: =IF(OR($V$35="",$B$4=""),"",IF($B47="","",T47*$V$35)) | W47: =IF($D$4/$E$81*AW47*$E$12<0.01,"",$D$4/$E$81*AW47*$E$12) -> #DIV/0! | X47: =IF(OR($X$35="",$B$4=""),"",IF($B47="","",T47*$X$35)) | Z47: =IF(OR($Z$35="",$B$4=""),"",IF($B47="","",T47*$Z$35)) | AB47: =IF(OR($AB$35="",$B$4=""),"",IF($B47="","",T47*$AB$35)) | AD47: =IF(OR($B47="",$B$4=""),"",$BM47/30*$D47) | AF47: =IF(OR($AF$35="",$B$4=""),"",IF($B47="","",AD47*$AF$35)) | AG47: =IF($D$4/$N$82*Y47*$E$12<0.01,"",$D$4/$N$82*Y47*$E$12) -> #DIV/0! | AH47: =IF(OR($AH$35="",$B$4=""),"",IF($B47="","",AD47*$AH$35)) | AJ47: =IF(OR($AJ$35="",$B$4=""),"",IF($B47="","",AD47*$AJ$35)) | AK47: =IF($D$4/$N$82*AC47*$E$12<0.01,"",$D$4/$N$82*AC47*$E$12) -> #DIV/0! | AL47: =IF(OR($AL$35="",$B$4=""),"",IF($B47="","",AD47*$AL$35)) | AM47: =IF($D$4/$N$82*AE47*$E$12<0.01,"",$D$4/$N$82*AE47*$E$12) -> #DIV/0! | AN47: =IF(OR($B47="",$B$4=""),"",$BM47/$BH47*$F47) | AP47: =IF(OR($AP$35="",$B$4=""),"",IF($B47="","",AN47*$AP$35)) | AR47: =IF(OR($AR$35="",$B$4=""),"",IF($B47="","",AN47*$AR$35)) | AT47: =IF(OR($AT$35="",$B$4=""),"",IF($B47="","",AN47*$AT$35)) | AU47: =IF($D$4/$E$81*AN47*$E$12<0.01,"",$D$4/$E$81*AN47*$E$12) -> #DIV/0! | AV47: =IF(OR($AV$35="",$B$4=""),"",IF($B47="","",AN47*$AV$35)) | AW47: =IF($D$4/$E$81*#REF!*$E$12<0.01,"",$D$4/$E$81*#REF!*$E$12) -> #DIV/0! | AZ47: =IF(B47="","",EOMONTH(A47,-1)+1) | BC47: =IF(B47="","",EOMONTH(A47,0)) | BF47: =IF(B47="","",DAY(DATE(YEAR(A47),MONTH(A47)+1,1)-1)) | BH47: {=IF(B47="","",SUMPRODUCT(($Q$2:$AM$32>=AZ47)*($Q$2:$AM$32<=BC47)*($AZ$2:$BV$32>0)))} | BJ47: {=IF($D$4="",IF(BC47="","",SUMPRODUCT(($Q$2:$AM$32>=AZ47)*($Q$2:$AM$32<=BC47)*($CA$2:$CW$32))),IF(BC47="","",SUMPRODUCT(($Q$2:$AM$32>=AZ47)*($Q$2:$AM$32<=BC47)*($AZ$2:$BV$32))))} | BM47: =IF($B47="","",IF($D$4="",(MAX(MIN(EDATE(AZ47,1),$N$3)-MAX(AZ47,$M$3),0))/(EDATE(AZ47,1)-AZ47)*($D$6*$BJ47)+MAX(MIN(EDATE(AZ47,1),$BU$36)-MAX(AZ47,$N$3),0)/(EDATE(AZ47,1)-AZ47)*($D$7*$BJ47),(MAX(MIN(EDATE(AZ47,1),$N$3)-MAX(AZ47,$M$3),0))/(EDATE(AZ47,1)-AZ47)*($D$4+$H$4)+MAX(MIN(EDATE(AZ47,1),$BU$36)-MAX(AZ47,$N$3),0)/(EDATE(AZ47,1)-AZ47)*($D$5+$H$5)))
D48: =IF(B48="","",B48-A48+1) | F48: {=IF(B48="","",SUMPRODUCT(($Q$2:$AM$32>=A48)*($Q$2:$AM$32<=B48)*($AZ$2:$BV$32>0)))} | H48: {=IF(B48="","",SUMPRODUCT(($Q$2:$AM$32>=A48)*($Q$2:$AM$32<=B48)*($AZ$2:$BV$32)))} | J48: =IF(OR($B48="",$B$6=""),"",$BM48/$BJ48*$H48) | L48: =IF(OR($L$35="",$B$6=""),"",IF($B48="","",J48*$L$35)) | N48: =IF(OR($N$35="",$B$6=""),"",IF($B48="","",J48*$N$35)) | P48: =IF(OR($P$35="",$B$6=""),"",IF($B48="","",J48*$P$35)) | R48: =IF(OR($R$35="",$B$6=""),"",IF($B48="","",J48*$R$35)) | T48: =IF(OR($B48="",$B$4=""),"",$BM48/$BF48*$D48) | U48: =IF($D$4/$E$81*AU48*$E$12<0.01,"",$D$4/$E$81*AU48*$E$12) -> #DIV/0! | V48: =IF(OR($V$35="",$B$4=""),"",IF($B48="","",T48*$V$35)) | W48: =IF($D$4/$E$81*AW48*$E$12<0.01,"",$D$4/$E$81*AW48*$E$12) -> #DIV/0! | X48: =IF(OR($X$35="",$B$4=""),"",IF($B48="","",T48*$X$35)) | Z48: =IF(OR($Z$35="",$B$4=""),"",IF($B48="","",T48*$Z$35)) | AB48: =IF(OR($AB$35="",$B$4=""),"",IF($B48="","",T48*$AB$35)) | AD48: =IF(OR($B48="",$B$4=""),"",$BM48/30*$D48) | AF48: =IF(OR($AF$35="",$B$4=""),"",IF($B48="","",AD48*$AF$35)) | AG48: =IF($D$4/$N$82*Y48*$E$12<0.01,"",$D$4/$N$82*Y48*$E$12) -> #DIV/0! | AH48: =IF(OR($AH$35="",$B$4=""),"",IF($B48="","",AD48*$AH$35)) | AJ48: =IF(OR($AJ$35="",$B$4=""),"",IF($B48="","",AD48*$AJ$35)) | AK48: =IF($D$4/$N$82*AC48*$E$12<0.01,"",$D$4/$N$82*AC48*$E$12) -> #DIV/0! | AL48: =IF(OR($AL$35="",$B$4=""),"",IF($B48="","",AD48*$AL$35)) | AM48: =IF($D$4/$N$82*AE48*$E$12<0.01,"",$D$4/$N$82*AE48*$E$12) -> #DIV/0! | AN48: =IF(OR($B48="",$B$4=""),"",$BM48/$BH48*$F48) | AP48: =IF(OR($AP$35="",$B$4=""),"",IF($B48="","",AN48*$AP$35)) | AR48: =IF(OR($AR$35="",$B$4=""),"",IF($B48="","",AN48*$AR$35)) | AT48: =IF(OR($AT$35="",$B$4=""),"",IF($B48="","",AN48*$AT$35)) | AU48: =IF($D$4/$E$81*AN48*$E$12<0.01,"",$D$4/$E$81*AN48*$E$12) -> #DIV/0! | AV48: =IF(OR($AV$35="",$B$4=""),"",IF($B48="","",AN48*$AV$35)) | AW48: =IF($D$4/$E$81*#REF!*$E$12<0.01,"",$D$4/$E$81*#REF!*$E$12) -> #DIV/0! | AZ48: =IF(B48="","",EOMONTH(A48,-1)+1) | BC48: =IF(B48="","",EOMONTH(A48,0)) | BF48: =IF(B48="","",DAY(DATE(YEAR(A48),MONTH(A48)+1,1)-1)) | BH48: {=IF(B48="","",SUMPRODUCT(($Q$2:$AM$32>=AZ48)*($Q$2:$AM$32<=BC48)*($AZ$2:$BV$32>0)))} | BJ48: {=IF($D$4="",IF(BC48="","",SUMPRODUCT(($Q$2:$AM$32>=AZ48)*($Q$2:$AM$32<=BC48)*($CA$2:$CW$32))),IF(BC48="","",SUMPRODUCT(($Q$2:$AM$32>=AZ48)*($Q$2:$AM$32<=BC48)*($AZ$2:$BV$32))))} | BM48: =IF($B48="","",IF($D$4="",(MAX(MIN(EDATE(AZ48,1),$N$3)-MAX(AZ48,$M$3),0))/(EDATE(AZ48,1)-AZ48)*($D$6*$BJ48)+MAX(MIN(EDATE(AZ48,1),$BU$36)-MAX(AZ48,$N$3),0)/(EDATE(AZ48,1)-AZ48)*($D$7*$BJ48),(MAX(MIN(EDATE(AZ48,1),$N$3)-MAX(AZ48,$M$3),0))/(EDATE(AZ48,1)-AZ48)*($D$4+$H$4)+MAX(MIN(EDATE(AZ48,1),$BU$36)-MAX(AZ48,$N$3),0)/(EDATE(AZ48,1)-AZ48)*($D$5+$H$5)))
D49: =IF(B49="","",B49-A49+1) | F49: {=IF(B49="","",SUMPRODUCT(($Q$2:$AM$32>=A49)*($Q$2:$AM$32<=B49)*($AZ$2:$BV$32>0)))} | H49: {=IF(B49="","",SUMPRODUCT(($Q$2:$AM$32>=A49)*($Q$2:$AM$32<=B49)*($AZ$2:$BV$32)))} | J49: =IF(OR($B49="",$B$6=""),"",$BM49/$BJ49*$H49) | L49: =IF(OR($L$35="",$B$6=""),"",IF($B49="","",J49*$L$35)) | N49: =IF(OR($N$35="",$B$6=""),"",IF($B49="","",J49*$N$35)) | P49: =IF(OR($P$35="",$B$6=""),"",IF($B49="","",J49*$P$35)) | R49: =IF(OR($R$35="",$B$6=""),"",IF($B49="","",J49*$R$35)) | T49: =IF(OR($B49="",$B$4=""),"",$BM49/$BF49*$D49) | U49: =IF($D$4/$E$81*AU49*$E$12<0.01,"",$D$4/$E$81*AU49*$E$12) -> #DIV/0! | V49: =IF(OR($V$35="",$B$4=""),"",IF($B49="","",T49*$V$35)) | W49: =IF($D$4/$E$81*AW49*$E$12<0.01,"",$D$4/$E$81*AW49*$E$12) -> #DIV/0! | X49: =IF(OR($X$35="",$B$4=""),"",IF($B49="","",T49*$X$35)) | Z49: =IF(OR($Z$35="",$B$4=""),"",IF($B49="","",T49*$Z$35)) | AB49: =IF(OR($AB$35="",$B$4=""),"",IF($B49="","",T49*$AB$35)) | AD49: =IF(OR($B49="",$B$4=""),"",$BM49/30*$D49) | AF49: =IF(OR($AF$35="",$B$4=""),"",IF($B49="","",AD49*$AF$35)) | AG49: =IF($D$4/$N$82*Y49*$E$12<0.01,"",$D$4/$N$82*Y49*$E$12) -> #DIV/0! | AH49: =IF(OR($AH$35="",$B$4=""),"",IF($B49="","",AD49*$AH$35)) | AJ49: =IF(OR($AJ$35="",$B$4=""),"",IF($B49="","",AD49*$AJ$35)) | AK49: =IF($D$4/$N$82*AC49*$E$12<0.01,"",$D$4/$N$82*AC49*$E$12) -> #DIV/0! | AL49: =IF(OR($AL$35="",$B$4=""),"",IF($B49="","",AD49*$AL$35)) | AM49: =IF($D$4/$N$82*AE49*$E$12<0.01,"",$D$4/$N$82*AE49*$E$12) -> #DIV/0! | AN49: =IF(OR($B49="",$B$4=""),"",$BM49/$BH49*$F49) | AP49: =IF(OR($AP$35="",$B$4=""),"",IF($B49="","",AN49*$AP$35)) | AR49: =IF(OR($AR$35="",$B$4=""),"",IF($B49="","",AN49*$AR$35)) | AT49: =IF(OR($AT$35="",$B$4=""),"",IF($B49="","",AN49*$AT$35)) | AU49: =IF($D$4/$E$81*AN49*$E$12<0.01,"",$D$4/$E$81*AN49*$E$12) -> #DIV/0! | AV49: =IF(OR($AV$35="",$B$4=""),"",IF($B49="","",AN49*$AV$35)) | AW49: =IF($D$4/$E$81*#REF!*$E$12<0.01,"",$D$4/$E$81*#REF!*$E$12) -> #DIV/0! | AZ49: =IF(B49="","",EOMONTH(A49,-1)+1) | BC49: =IF(B49="","",EOMONTH(A49,0)) | BF49: =IF(B49="","",DAY(DATE(YEAR(A49),MONTH(A49)+1,1)-1)) | BH49: {=IF(B49="","",SUMPRODUCT(($Q$2:$AM$32>=AZ49)*($Q$2:$AM$32<=BC49)*($AZ$2:$BV$32>0)))} | BJ49: {=IF($D$4="",IF(BC49="","",SUMPRODUCT(($Q$2:$AM$32>=AZ49)*($Q$2:$AM$32<=BC49)*($CA$2:$CW$32))),IF(BC49="","",SUMPRODUCT(($Q$2:$AM$32>=AZ49)*($Q$2:$AM$32<=BC49)*($AZ$2:$BV$32))))} | BM49: =IF($B49="","",IF($D$4="",(MAX(MIN(EDATE(AZ49,1),$N$3)-MAX(AZ49,$M$3),0))/(EDATE(AZ49,1)-AZ49)*($D$6*$BJ49)+MAX(MIN(EDATE(AZ49,1),$BU$36)-MAX(AZ49,$N$3),0)/(EDATE(AZ49,1)-AZ49)*($D$7*$BJ49),(MAX(MIN(EDATE(AZ49,1),$N$3)-MAX(AZ49,$M$3),0))/(EDATE(AZ49,1)-AZ49)*($D$4+$H$4)+MAX(MIN(EDATE(AZ49,1),$BU$36)-MAX(AZ49,$N$3),0)/(EDATE(AZ49,1)-AZ49)*($D$5+$H$5)))
D50: =IF(B50="","",B50-A50+1) | F50: {=IF(B50="","",SUMPRODUCT(($Q$2:$AM$32>=A50)*($Q$2:$AM$32<=B50)*($AZ$2:$BV$32>0)))} | H50: {=IF(B50="","",SUMPRODUCT(($Q$2:$AM$32>=A50)*($Q$2:$AM$32<=B50)*($AZ$2:$BV$32)))} | J50: =IF(OR($B50="",$B$6=""),"",$BM50/$BJ50*$H50) | L50: =IF(OR($L$35="",$B$6=""),"",IF($B50="","",J50*$L$35)) | N50: =IF(OR($N$35="",$B$6=""),"",IF($B50="","",J50*$N$35)) | P50: =IF(OR($P$35="",$B$6=""),"",IF($B50="","",J50*$P$35)) | R50: =IF(OR($R$35="",$B$6=""),"",IF($B50="","",J50*$R$35)) | T50: =IF(OR($B50="",$B$4=""),"",$BM50/$BF50*$D50) | U50: =IF($D$4/$E$81*AU50*$E$12<0.01,"",$D$4/$E$81*AU50*$E$12) -> #DIV/0! | V50: =IF(OR($V$35="",$B$4=""),"",IF($B50="","",T50*$V$35)) | W50: =IF($D$4/$E$81*AW50*$E$12<0.01,"",$D$4/$E$81*AW50*$E$12) -> #DIV/0! | X50: =IF(OR($X$35="",$B$4=""),"",IF($B50="","",T50*$X$35)) | Z50: =IF(OR($Z$35="",$B$4=""),"",IF($B50="","",T50*$Z$35)) | AB50: =IF(OR($AB$35="",$B$4=""),"",IF($B50="","",T50*$AB$35)) | AD50: =IF(OR($B50="",$B$4=""),"",$BM50/30*$D50) | AF50: =IF(OR($AF$35="",$B$4=""),"",IF($B50="","",AD50*$AF$35)) | AG50: =IF($D$4/$N$82*Y50*$E$12<0.01,"",$D$4/$N$82*Y50*$E$12) -> #DIV/0! | AH50: =IF(OR($AH$35="",$B$4=""),"",IF($B50="","",AD50*$AH$35)) | AJ50: =IF(OR($AJ$35="",$B$4=""),"",IF($B50="","",AD50*$AJ$35)) | AK50: =IF($D$4/$N$82*AC50*$E$12<0.01,"",$D$4/$N$82*AC50*$E$12) -> #DIV/0! | AL50: =IF(OR($AL$35="",$B$4=""),"",IF($B50="","",AD50*$AL$35)) | AM50: =IF($D$4/$N$82*AE50*$E$12<0.01,"",$D$4/$N$82*AE50*$E$12) -> #DIV/0! | AN50: =IF(OR($B50="",$B$4=""),"",$BM50/$BH50*$F50) | AP50: =IF(OR($AP$35="",$B$4=""),"",IF($B50="","",AN50*$AP$35)) | AR50: =IF(OR($AR$35="",$B$4=""),"",IF($B50="","",AN50*$AR$35)) | AT50: =IF(OR($AT$35="",$B$4=""),"",IF($B50="","",AN50*$AT$35)) | AU50: =IF($D$4/$E$81*AN50*$E$12<0.01,"",$D$4/$E$81*AN50*$E$12) -> #DIV/0! | AV50: =IF(OR($AV$35="",$B$4=""),"",IF($B50="","",AN50*$AV$35)) | AW50: =IF($D$4/$E$81*#REF!*$E$12<0.01,"",$D$4/$E$81*#REF!*$E$12) -> #DIV/0! | AZ50: =IF(B50="","",EOMONTH(A50,-1)+1) | BC50: =IF(B50="","",EOMONTH(A50,0)) | BF50: =IF(B50="","",DAY(DATE(YEAR(A50),MONTH(A50)+1,1)-1)) | BH50: {=IF(B50="","",SUMPRODUCT(($Q$2:$AM$32>=AZ50)*($Q$2:$AM$32<=BC50)*($AZ$2:$BV$32>0)))} | BJ50: {=IF($D$4="",IF(BC50="","",SUMPRODUCT(($Q$2:$AM$32>=AZ50)*($Q$2:$AM$32<=BC50)*($CA$2:$CW$32))),IF(BC50="","",SUMPRODUCT(($Q$2:$AM$32>=AZ50)*($Q$2:$AM$32<=BC50)*($AZ$2:$BV$32))))} | BM50: =IF($B50="","",IF($D$4="",(MAX(MIN(EDATE(AZ50,1),$N$3)-MAX(AZ50,$M$3),0))/(EDATE(AZ50,1)-AZ50)*($D$6*$BJ50)+MAX(MIN(EDATE(AZ50,1),$BU$36)-MAX(AZ50,$N$3),0)/(EDATE(AZ50,1)-AZ50)*($D$7*$BJ50),(MAX(MIN(EDATE(AZ50,1),$N$3)-MAX(AZ50,$M$3),0))/(EDATE(AZ50,1)-AZ50)*($D$4+$H$4)+MAX(MIN(EDATE(AZ50,1),$BU$36)-MAX(AZ50,$N$3),0)/(EDATE(AZ50,1)-AZ50)*($D$5+$H$5)))
