Workbook

Sheet Erläuterung
A1: Stand: 31.01.2024
A2: Büro- und PC-Service
A3: Thomas Kuhn
A4: Melibokusstr. 28, 64625 Bensheim
A5: info@klicktipps.de
A6: www.klicktipps.de
A7: Verwalten eines kleinen Gewerbes oder einer Tätigkeit als Freiberufler
A8: Gewerbe oder Freiberuf mit Umsatzsteuer (USt.) bzw. Mehrwertsteuer (MwSt.) (19%, 7% und 0%)
A9: Diese Tabellenblätter hier sind ein Muster für die Buchhaltung (Einnahmenüberschussrechnung - EÜR) eines kleinen Gewerbes oder einer Tätigkeit als Freiberufler mit Umsatzsteuer (USt.) bzw. Mehrwertsteuer (MwSt.).
A11: Für Kleinunternehmen ohne Umsatzsteuer (USt.) bzw. Mehrwertsteuer (MwSt.) gibt es bei KLICKTIPPS® eine einfachere Tabelle (siehe):
A12: https://www.klicktipps.de/download.php#einnahmenueberschussrechnung
A14: Im Bereich Buchhaltung muss sehr sorgfältig gearbeitet werden. Wenn Sie sich mit der Materie nicht auskennen, nehmen Sie einen Steuerberater in Anspruch! Bitte lesen Sie diesen gesamten Text zunächst gründlich durch und ebenso das Tabellenblatt "Erläuterung Abschreibung"!
... A169: ab 1995 Entwicklung dieser Tabelle und Nutzung für den Eigenbedarf

Sheet Diagramme
A1: Diagramme zu Einnahmen und Ausgaben | N1: =TODAY() -> 45521
A2: - Die Diagramme erzeugen sich automatisch aus den Daten der anderen Tabellenblätter -

Sheet Planung
A1: Planung | O1: =TODAY() -> 45521 | Q1: Hilfe
A3: Ausgaben (Planung)
B4: Typ | C4: Januar | D4: Februar | E4: März | F4: April | G4: Mai | H4: Juni | I4: Juli | J4: August | K4: September | L4: Oktober | M4: November | N4: Dezember | Q4: Tragen Sie in diese Tabelle ihre geplanten Ausgaben über das Jahr ein.
A5: Strom | B5: Fixkosten | C5: 40 | D5: 40 | E5: 40 | F5: 40 | G5: 40 | H5: 40 | I5: 40 | J5: 40 | K5: 40 | L5: 40 | M5: 40 | N5: 40 | Q5: Die Eingaben werden im Reiter bzw. Tabellenblatt "Diagramm" visualisiert.
A6: Miete | B6: Fixkosten | Q6: In die gelben Felder wird eingegeben.
A7: Telefon | B7: Fixkosten
A8: Webseite / Server | B8: Fixkosten
A11: Flyer (Werbung) | B11: variable Kosten
A12: Verbrauchsmaterial | B12: variable Kosten
A13: Gesschenke | B13: variable Kosten
A14: Büromaterial | B14: variable Kosten
A15: Möbel | B15: variable Kosten
A16: Fortbildung | B16: variable Kosten
B17: variable Kosten
C21: =A3 & " pro Monat" -> Ausgaben (Planung) pro Monat | O21: =SUM(C22:N22) -> 480
C22: =SUM(C5:C20) -> 40 | D22: =SUM(D5:D20) -> 40 | E22: =SUM(E5:E20) -> 40 | F22: =SUM(F5:F20) -> 40 | G22: =SUM(G5:G20) -> 40 | H22: =SUM(H5:H20) -> 40 | I22: =SUM(I5:I20) -> 40 | J22: =SUM(J5:J20) -> 40 | ... N22: =SUM(N5:N20) -> 40
B23: variable Kosten
B24: Fixkosten
C26: ="Kummulierte" & " " & A3 -> Kummulierte Ausgaben (Planung)
C27: =C22 -> 40 | D27: =D22+C27 -> 80 | E27: =E22+D27 -> 120 | F27: =F22+E27 -> 160 | G27: =G22+F27 -> 200 | H27: =H22+G27 -> 240 | I27: =I22+H27 -> 280 | J27: =J22+I27 -> 320 | K27: =K22+J27 -> 360 | ... N27: =N22+M27 -> 480
A30: Einnahmen / Umsatz / Erlös (Planung) | Q30: = Summe (Preis * (Produkt oder Dienstleistung))
B31: Typ | C31: Januar | D31: Februar | E31: März | F31: April | G31: Mai | H31: Juni | I31: Juli | J31: August | K31: September | L31: Oktober | M31: November | N31: Dezember
A32: Verkauf Produkt X | B32: Produkt | C32: 50 | D32: 50 | E32: 10 | F32: 50 | G32: 10 | H32: 50 | I32: 50 | J32: 20 | K32: 25 | L32: 30 | M32: 40 | N32: 6
A33: Verkauf Produkt Y | B33: Produkt
A34: Beratung | B34: Beratung
A35: Dienstleistung A | B35: Dienstleistung
B48: Beratung | C48: =A30 & " pro Monat" -> Einnahmen / Umsatz / Erlös (Planung) pro Monat | O48: =SUM(C49:N49) -> 391
B49: Dienstleistung | C49: =SUM(C32:C47) -> 50 | D49: =SUM(D32:D47) -> 50 | E49: =SUM(E32:E47) -> 10 | F49: =SUM(F32:F47) -> 50 | G49: =SUM(G32:G47) -> 10 | H49: =SUM(H32:H47) -> 50 | I49: =SUM(I32:I47) -> 50 | J49: =SUM(J32:J47) -> 20 | ... N49: =SUM(N32:N47) -> 6
B50: Produkt
C53: ="Kummulierte" & " " & A30 -> Kummulierte Einnahmen / Umsatz / Erlös (Planung)
C54: =C49 -> 50 | D54: =D49+C54 -> 100 | E54: =E49+D54 -> 110 | F54: =F49+E54 -> 160 | G54: =G49+F54 -> 170 | H54: =H49+G54 -> 220 | I54: =I49+H54 -> 270 | J54: =J49+I54 -> 290 | K54: =K49+J54 -> 315 | ... N54: =N49+M54 -> 391

Sheet Statistik Monate
A1: =Überschuss!A1 -> 0 | K1: =Überschuss!C1 -> 45521 | P1: Hilfe
A2: =Überschuss!A2 -> 0
P5: Hier ist aufgelistet, was in den Monaten dieses Jahres
A6: ="Statistik " & Überschuss!A7 & " (monatlich)" -> Statistik 2024 (monatlich) | P6: an Einnahmen und Ausgaben angefallen ist.
D7: (bereinigt) | L7: Brutto | M7: Brutto
B8: Einnahmen | C8: Vom FA er- | D8: Ausgaben | F8: Fahrten/Rei- | G8: Ans FA ge- | H8: Abschr. nach Nuzungsdauer | J8: Sammelabschreibung | L8: Ausgaben | M8: Einnahmen | N8: Ergebnis
A9: Monate | B9: brutto | C9: stattete Ust | D9: Netto | F9: sen brutto | G9: zahlte Ust | H9: Ust | I9: Abschr. | J9: Ust | K9: Abschr. | L9: (Summe) | M9: (Summe) | N9: (Gewinn)
A10: Januar | B10: =Einnahmen!H99 -> 38.8 | C10: =UmsatzSt!D53 -> 0 | D10: =Ausgaben!I165 -> 200.31 | E10: =Ausgaben!J165 -> 35.5 | F10: =SUM(FahrtenReisen!H72:M72) -> 0 | G10: =UmsatzSt!C53 -> 0 | H10: =Abschreibung!G35 -> 0 | I10: =ROUND(Abschreibung!$N$29/12,2) -> 0 | J10: =GWGSammel!F43 -> 0 | K10: =ROUND(GWGSammel!$L$36/12,2) -> 16.26 | L10: =SUM(D10:K10) -> 252.07 | M10: =SUM(B10:C10) -> 38.8 | N10: =M10-L10 -> -213.27 | P10: Diese Statistik dient nicht zu steuerlichen Berechnungen,
A11: Februar | B11: =Einnahmen!H100 -> 8256.45 | C11: =UmsatzSt!D54 -> 0 | D11: =Ausgaben!I166 -> 9162.19 | E11: =Ausgaben!J166 -> 16.51 | F11: =SUM(FahrtenReisen!H73:M73) -> 0 | G11: =UmsatzSt!C54 -> 0 | H11: =Abschreibung!G36 -> 0 | I11: =ROUND(Abschreibung!$N$29/12,2) -> 0 | J11: =GWGSammel!F44 -> 0 | K11: =ROUND(GWGSammel!$L$36/12,2) -> 16.26 | L11: =SUM(D11:K11) -> 9194.96 | M11: =SUM(B11:C11) -> 8256.45 | N11: =M11-L11 -> -938.51 | P11: sondern zum Vergleichen, was in den Monaten an Zahlungen
A12: März | B12: =Einnahmen!H101 -> 382.59 | C12: =UmsatzSt!D55 -> 0 | D12: =Ausgaben!I167 -> 309.09 | E12: =Ausgaben!J167 -> 54.54 | F12: =SUM(FahrtenReisen!H74:M74) -> 0 | G12: =UmsatzSt!C55 -> 0 | H12: =Abschreibung!G37 -> 0 | I12: =ROUND(Abschreibung!$N$29/12,2) -> 0 | J12: =GWGSammel!F45 -> 0 | K12: =ROUND(GWGSammel!$L$36/12,2) -> 16.26 | L12: =SUM(D12:K12) -> 379.89 | M12: =SUM(B12:C12) -> 382.59 | N12: =M12-L12 -> 2.7 | P12: zu- und abgeflossen ist.
A13: April | B13: =Einnahmen!H104 -> 931.2 | C13: =UmsatzSt!D56 -> 0 | D13: =Ausgaben!I170 -> 0 | E13: =Ausgaben!J170 -> 0 | F13: =SUM(FahrtenReisen!H77:M77) -> 55.04 | G13: =UmsatzSt!C56 -> 0 | H13: =Abschreibung!G40 -> 0 | I13: =ROUND(Abschreibung!$N$29/12,2) -> 0 | J13: =GWGSammel!F48 -> 45.98 | K13: =ROUND(GWGSammel!$L$36/12,2) -> 16.26 | L13: =SUM(D13:K13) -> 117.28 | M13: =SUM(B13:C13) -> 931.2 | N13: =M13-L13 -> 813.92
A14: Mai | B14: =Einnahmen!H105 -> 0 | C14: =UmsatzSt!D57 -> 0 | D14: =Ausgaben!I171 -> 0 | E14: =Ausgaben!J171 -> 0 | F14: =SUM(FahrtenReisen!H78:M78) -> 0 | G14: =UmsatzSt!C57 -> 0 | H14: =Abschreibung!G41 -> 0 | I14: =ROUND(Abschreibung!$N$29/12,2) -> 0 | J14: =GWGSammel!F49 -> 0 | K14: =ROUND(GWGSammel!$L$36/12,2) -> 16.26 | L14: =SUM(D14:K14) -> 16.26 | M14: =SUM(B14:C14) -> 0 | N14: =M14-L14 -> -16.26
A15: Juni | B15: =Einnahmen!H106 -> 0 | C15: =UmsatzSt!D58 -> 0 | D15: =Ausgaben!I172 -> 0 | E15: =Ausgaben!J172 -> 0 | F15: =SUM(FahrtenReisen!H79:M79) -> 0 | G15: =UmsatzSt!C58 -> 0 | H15: =Abschreibung!G42 -> 0 | I15: =ROUND(Abschreibung!$N$29/12,2) -> 0 | J15: =GWGSammel!F50 -> 0 | K15: =ROUND(GWGSammel!$L$36/12,2) -> 16.26 | L15: =SUM(D15:K15) -> 16.26 | M15: =SUM(B15:C15) -> 0 | N15: =M15-L15 -> -16.26 | P15: Die Abschreibung (eigentlich jährlich anfallend) wurde
A16: Juli | B16: =Einnahmen!H109 -> 0 | C16: =UmsatzSt!D59 -> 0 | D16: =Ausgaben!I175 -> 0 | E16: =Ausgaben!J175 -> 0 | F16: =SUM(FahrtenReisen!H82:M82) -> 0 | G16: =UmsatzSt!C59 -> 0 | H16: =Abschreibung!G45 -> 0 | I16: =ROUND(Abschreibung!$N$29/12,2) -> 0 | J16: =GWGSammel!F53 -> 0 | K16: =ROUND(GWGSammel!$L$36/12,2) -> 16.26 | L16: =SUM(D16:K16) -> 16.26 | M16: =SUM(B16:C16) -> 0 | N16: =M16-L16 -> -16.26 | P16: zur besseren Vergleichbarkeit der Monate
A17: August | B17: =Einnahmen!H110 -> 0 | C17: =UmsatzSt!D60 -> 0 | D17: =Ausgaben!I176 -> 0 | E17: =Ausgaben!J176 -> 0 | F17: =SUM(FahrtenReisen!H83:M83) -> 0 | G17: =UmsatzSt!C60 -> 0 | H17: =Abschreibung!G46 -> 0 | I17: =ROUND(Abschreibung!$N$29/12,2) -> 0 | J17: =GWGSammel!F54 -> 0 | K17: =ROUND(GWGSammel!$L$36/12,2) -> 16.26 | L17: =SUM(D17:K17) -> 16.26 | M17: =SUM(B17:C17) -> 0 | N17: =M17-L17 -> -16.26 | P17: auf die Monate verteilt.
A18: September | B18: =Einnahmen!H111 -> 0 | C18: =UmsatzSt!D61 -> 0 | D18: =Ausgaben!I177 -> 0 | E18: =Ausgaben!J177 -> 0 | F18: =SUM(FahrtenReisen!H84:M84) -> 0 | G18: =UmsatzSt!C61 -> 0 | H18: =Abschreibung!G47 -> 0 | I18: =ROUND(Abschreibung!$N$29/12,2) -> 0 | J18: =GWGSammel!F55 -> 0 | K18: =ROUND(GWGSammel!$L$36/12,2) -> 16.26 | L18: =SUM(D18:K18) -> 16.26 | M18: =SUM(B18:C18) -> 0 | N18: =M18-L18 -> -16.26 | P18: Im laufenden Jahr angeschaffgte Wirtschaftsgüter erscheinen
A19: Oktober | B19: =Einnahmen!H114 -> 0 | C19: =UmsatzSt!D62 -> 0 | D19: =Ausgaben!I180 -> 0 | E19: =Ausgaben!J180 -> 0 | F19: =SUM(FahrtenReisen!H87:M87) -> 0 | G19: =UmsatzSt!C62 -> 0 | H19: =Abschreibung!G50 -> 0 | I19: =ROUND(Abschreibung!$N$29/12,2) -> 0 | J19: =GWGSammel!F58 -> 0 | K19: =ROUND(GWGSammel!$L$36/12,2) -> 16.26 | L19: =SUM(D19:K19) -> 16.26 | M19: =SUM(B19:C19) -> 0 | N19: =M19-L19 -> -16.26 | P19: hier nicht mit ihren Anscahffungskosten, sondern 'nur' als
A20: November | B20: =Einnahmen!H115 -> 0 | C20: =UmsatzSt!D63 -> 0 | D20: =Ausgaben!I181 -> 0 | E20: =Ausgaben!J181 -> 0 | F20: =SUM(FahrtenReisen!H88:M88) -> 0 | G20: =UmsatzSt!C63 -> 0 | H20: =Abschreibung!G51 -> 0 | I20: =ROUND(Abschreibung!$N$29/12,2) -> 0 | J20: =GWGSammel!F59 -> 0 | K20: =ROUND(GWGSammel!$L$36/12,2) -> 16.26 | L20: =SUM(D20:K20) -> 16.26 | M20: =SUM(B20:C20) -> 0 | N20: =M20-L20 -> -16.26 | P20: Abschreibung.
A21: Dezember | B21: =Einnahmen!H116 -> 0 | C21: =UmsatzSt!D64 -> 0 | D21: =Ausgaben!I182 -> 0 | E21: =Ausgaben!J182 -> 0 | F21: =SUM(FahrtenReisen!H89:M89) -> 0 | G21: =UmsatzSt!C64 -> 0 | H21: =Abschreibung!G52 -> 0 | I21: =Abschreibung!$N$29 - 11 * ROUND(Abschreibung!$N$29/12,2) -> 0 | J21: =GWGSammel!F60 -> 0 | K21: =GWGSammel!$L$36 - 11 * ROUND(GWGSammel!$L$36/12,2) -> 16.26 | L21: =SUM(D21:K21) -> 16.26 | M21: =SUM(B21:C21) -> 0 | N21: =M21-L21 -> -16.26
A22: Summe | B22: =SUM(B10:B21) -> 9609.04 | C22: =SUM(C10:C21) -> 0 | D22: =SUM(D10:D21) -> 9671.59 | E22: =SUM(E10:E21) -> 106.55 | F22: =SUM(F10:F21) -> 55.04 | G22: =SUM(G10:G21) -> 0 | H22: =SUM(H10:H21) -> 0 | I22: =SUM(I10:I21) -> 0 | ... M22: =SUM(M10:M21) -> 9609.04 | N22: =M22-L22 -> -465.24 | P22: Diese Tabelle gibt keine Daten an andere Tabellen weiter
L24: kummuliert
L25: Ausgaben | M25: Einnahmen | N25: Gewinn
K26: 1 | L26: =L10 -> 252.07 | M26: =M10 -> 38.8 | N26: =N10 -> -213.27
K27: 2 | L27: =L26+L11 -> 9447.03 | M27: =M26+M11 -> 8295.25 | N27: =N11+N26 -> -1151.78
K28: 3 | L28: =L27+L12 -> 9826.92 | M28: =M27+M12 -> 8677.84 | N28: =N12+N27 -> -1149.08
K29: 4 | L29: =L28+L13 -> 9944.2 | M29: =M28+M13 -> 9609.04 | N29: =N13+N28 -> -335.16
K30: 5 | L30: =L29+L14 -> 9960.46 | M30: =M29+M14 -> 9609.04 | N30: =N14+N29 -> -351.42
K31: 6 | L31: =L30+L15 -> 9976.72 | M31: =M30+M15 -> 9609.04 | N31: =N15+N30 -> -367.68
K32: 7 | L32: =L31+L16 -> 9992.98 | M32: =M31+M16 -> 9609.04 | N32: =N16+N31 -> -383.94
K33: 8 | L33: =L32+L17 -> 10009.24 | M33: =M32+M17 -> 9609.04 | N33: =N17+N32 -> -400.2
K34: 9 | L34: =L33+L18 -> 10025.5 | M34: =M33+M18 -> 9609.04 | N34: =N18+N33 -> -416.46
K35: 10 | L35: =L34+L19 -> 10041.76 | M35: =M34+M19 -> 9609.04 | N35: =N19+N34 -> -432.72
K36: 11 | L36: =L35+L20 -> 10058.02 | M36: =M35+M20 -> 9609.04 | N36: =N20+N35 -> -448.98
K37: 12 | L37: =L36+L21 -> 10074.28 | M37: =M36+M21 -> 9609.04 | N37: =N21+N36 -> -465.24

Sheet Überschuss
C1: =TODAY() -> 45521 | E1: Hilfe
E3: Die Daten oben links werden auf die anderen
E4: Blätter übertragen.
E5: Einfach hier die eigenen Daten eingeben!
A7: 2024
E8: Ab hier nichts ändern,
A9: Einnahmen | E9: die Werte stammen aus den anderen Blättern!
A11: Text | B11: Betrag | C11: UmsatzSt | E11: ="siehe Tabellenblatt 'Einnahmen'" -> siehe Tabellenblatt 'Einnahmen'
A12: Betriebseinnahmen laut Aufstellung zu 19% | B12: =Einnahmen!C90 -> 2171.92 | C12: =Einnahmen!D90 -> 412.72
A13: Betriebseinnahmen laut Aufstellung zu 7% | B13: =Einnahmen!E90 -> 0 | C13: =Einnahmen!F90 -> 0 | E13: Die Zahlen dieser Seite müssen in die Formulare der Finanzämter übertragen werden:
A14: Ust.-pflichtige Einnahmen und vereinnahmte Ust. | B14: =SUM(B12:B13) -> 2171.92 | C14: =SUM(C12:C13) -> 412.72
A15: Betriebseinnahmen laut Aufstellung zu 0% | B15: =Einnahmen!G90 -> 7024.4
A16: Umsatzsteuererstattungen vom FA für Vorjahr | B16: =UmsatzSt!D15 -> 0
A17: Umsatzsteuererstattungen vom FA für laufendes Jahr | B17: =UmsatzSt!D35 -> 0 | E17: - Einnahmenüberschussrechnung - EÜR
A19: Summen | B19: =SUM(B14:B18) -> 9196.32 | C19: =SUM(C14:C18) -> 412.72 | E19: - Einkommensteuererklärung (Anlage G oder S)
A20: Summe der Betriebseinnahmen (Brutto) | B20: =SUM(B19:C19) -> 9609.04 | E20: - Umsatzsteuererklärung
A22: Ausgaben
A24: Text | B24: Betrag (Netto) | C24: Vorsteuer
A25: =Ausgaben!A125 -> Betriebsausgaben | E25: ="siehe Tabellenblatt 'Ausgaben' (Netto bereinigt + USt.): " & SUM(B25:C55) & "€" -> siehe Tabellenblatt 'Ausgaben' (Netto bereinigt + USt.): 9778,14€
A26: =Ausgaben!A126 -> 26 Waren, Rohstoffe oder Hilfsstoffe (W) | B26: =Ausgaben!I126 -> 0 | C26: =Ausgaben!J126 -> 0 | E26: Die Nettobeträge der Ausgaben werden in die
A27: =Ausgaben!A127 -> 27 Bezogene Fremdleistungen (L) | B27: =Ausgaben!I127 -> 71.6 | C27: =Ausgaben!J127 -> 0 | E27: entsprechenden Felder der Anlage EÜR geschrieben.
A28: =Ausgaben!A128 -> 28 Ausgaben für eigenes Personal (z. B. Gehälter, Löhne und Versicherungsbeiträge) (GL) | B28: =Ausgaben!I128 -> 0 | C28: =Ausgaben!J128 -> 0
A29: =Ausgaben!A129 -> Sonstige unbeschränkt abziehbare Betriebsausgaben
A30: =Ausgaben!A130 -> 43 Aufwendungen für geringwertige Wirtschaftsgüter nach § 6 Abs. 2 EStG (GWG) | B30: =Ausgaben!I130 -> 0 | C30: =Ausgaben!J130 -> 0
A31: =Ausgaben!A131 -> Raumkosten und sonstige Grundstücksaufwendungen
A32: =Ausgaben!A132 -> 46 Miete/Pacht für Geschäftsräume und betrieblich genutzte Grundstücke (Rm) | B32: =Ausgaben!I132 -> 320 | C32: =Ausgaben!J132 -> 60.8
A33: =Ausgaben!A133 -> 47 Aufwendungen für doppelte Haushaltsführung (z. B. Miete) (doppH) | B33: =Ausgaben!I133 -> 0 | C33: =Ausgaben!J133 -> 0
A34: =Ausgaben!A134 -> 48 Sonstige Aufwendungen für betrieblich genutzte Grundstücke (ohne Schuldzinsen und AfA) (SonstA) | B34: =Ausgaben!I134 -> 0 | C34: =Ausgaben!J134 -> 0
A35: =Ausgaben!A135 -> Sonstige unbeschränkt abziehbare Betriebsausgaben
A36: =Ausgaben!A136 -> 49 Aufwendungen für Telekommunikation (z. B. Telefon, Internet) (Tk) | B36: =Ausgaben!I136 -> 117.22 | C36: =Ausgaben!J136 -> 22.25
A37: =Ausgaben!A137 -> 51 Fortbildungskosten (ohne Reisekosten) (F) | B37: =Ausgaben!I137 -> 0 | C37: =Ausgaben!J137 -> 0
A38: =Ausgaben!A138 -> 52 Rechts- und Steuerberatung, Buchführung (S) | B38: =Ausgaben!I138 -> 0 | C38: =Ausgaben!J138 -> 0
A39: =Ausgaben!A139 -> 53 Miete/Leasing für bewegliche Wirtschaftsgüter (ohne Kraftfahrzeuge) (Miete) | B39: =Ausgaben!I139 -> 0 | C39: =Ausgaben!J139 -> 0
A40: =Ausgaben!A140 -> 54 Erhaltungsaufwendungen (z. B. Instandhaltung, Wartung, Reparatur; ohne solche für Gebäude und Kraftfahrzeuge) (Wart) | B40: =Ausgaben!I140 -> 0 | C40: =Ausgaben!J140 -> 0
A41: =Ausgaben!A141 -> 55 Beiträge, Gebühren, Abgaben und Versicherungen (ohne solche für Gebäude und Kraftfahrzeuge) (Beitr) | B41: =Ausgaben!I141 -> 14.7 | C41: =Ausgaben!J141 -> 0
A42: =Ausgaben!A142 -> 56 Laufende EDV-Kosten (z. B. Beratung, Wartung, Reparatur) (EDV) | B42: =Ausgaben!I142 -> 0 | C42: =Ausgaben!J142 -> 0
A43: =Ausgaben!A143 -> 57 Arbeitsmittel (z. B. Bürobedarf, Porto, Fachliteratur) (Arb) | B43: =Ausgaben!I143 -> 4.6 | C43: =Ausgaben!J143 -> 0.88
A44: =Ausgaben!A144 -> 58 Kosten für Abfallbeseitigung und Entsorgung (Abfall) | B44: =Ausgaben!I144 -> 0 | C44: =Ausgaben!J144 -> 0
A45: =Ausgaben!A145 -> 59 Kosten für Verpackung und Transport (Verp) | B45: =Ausgaben!I145 -> 24.76 | C45: =Ausgaben!J145 -> 4.71
A46: =Ausgaben!A146 -> 60 Werbekosten (z. B. Inserate, Werbespots, Plakate) (Wr) | B46: =Ausgaben!I146 -> 94.28 | C46: =Ausgaben!J146 -> 17.91
...

Sheet Einnahmen
A1: =Überschuss!A1 -> 0 | J1: =TODAY() -> 45521 | L1: Hilfe
A2: =Überschuss!A2 -> 0
A5: ="Betriebseinnahmen " & Überschuss!A7 -> Betriebseinnahmen 2024 | L5: Bitte tragen Sie den Werte entsprechend Ihrer Unterlagen ein.
C7: Umsätze 19% | E7: Umsätze mit 7% | G7: Umsätze mit 0%
A8: Datum | B8: Text | C8: Netto | D8: MwSt | E8: Netto | F8: MwSt | G8: Umsatz | H8: Brutto | I8: Privat- einlagen | J8: Beleg Nr.
D9: =ROUND(C9*$D$92,2) -> 0 | F9: =ROUND(E9*$F$92,2) -> 0 | H9: =SUM(C9:G9) -> 0
A10: 45320 | B10: Bank, Anja, Heide, Rg. W2401191 | C10: 24.2 | D10: =ROUND(C10*$D$92,2) -> 4.6 | F10: =ROUND(E10*$F$92,2) -> 0 | H10: =SUM(C10:G10) -> 28.8 | J10: eb1 | L10: jede Quittung (und ggf. der zugehörige
A11: 45320 | B11: Paypal, Marco Rzehak, Rg. 240102 | C11: 8.4 | D11: =ROUND(C11*$D$92,2) -> 1.6 | F11: =ROUND(E11*$F$92,2) -> 0 | H11: =SUM(C11:G11) -> 10 | J11: ep1 | L11: Kontoauszg) bekommt eine Belegnummer.
A12: 45327 | B12: Bank, Hagen&Hagen GbR | C12: 54.6 | D12: =ROUND(C12*$D$92,2) -> 10.37 | E12: 0 | F12: =ROUND(E12*$F$92,2) -> 0 | H12: =SUM(C12:G12) -> 64.97 | J12: eb2 | L12: Diese Nummern müssen hier auftauchen
A13: 45327 | B13: Bank, Café Fabric | C13: 187.8 | D13: =ROUND(C13*$D$92,2) -> 35.68 | E13: 0 | F13: =ROUND(E13*$F$92,2) -> 0 | H13: =SUM(C13:G13) -> 223.48 | J13: eb3
A14: 45334 | B14: Bank, Privateinlage | D14: =ROUND(C14*$D$92,2) -> 0 | F14: =ROUND(E14*$F$92,2) -> 0 | G14: 0 | H14: =SUM(C14:G14) -> 0 | I14: 1900 | J14: eb4
A15: 45335 | B15: Bank, Kredit Steffi Klingner | D15: =ROUND(C15*$D$92,2) -> 0 | F15: =ROUND(E15*$F$92,2) -> 0 | G15: 7000 | H15: =SUM(C15:G15) -> 7000 | I15: 0 | J15: eb5 | L15: In die gelben Felder wird eingegeben.
A16: 45336 | B16: Bank, Privateinlage | D16: =ROUND(C16*$D$92,2) -> 0 | F16: =ROUND(E16*$F$92,2) -> 0 | H16: =SUM(C16:G16) -> 0 | I16: 100 | J16: eb6 | L16: Gedruckt wird schwarz-weiß.
A17: 45338 | B17: Bank, Bielbl Handelsgesellschaft mbH, Rg. 240101 | C17: 239.4 | D17: =ROUND(C17*$D$92,2) -> 45.49 | F17: =ROUND(E17*$F$92,2) -> 0 | H17: =SUM(C17:G17) -> 284.89 | J17: eb7
A18: 45338 | B18: Paypal, Mirco Meyer, Rg. 240202 | C18: 45.38 | D18: =ROUND(C18*$D$92,2) -> 8.62 | F18: =ROUND(E18*$F$92,2) -> 0 | H18: =SUM(C18:G18) -> 54 | J18: ep2
A19: 45341 | B19: Bank, HSBA gGmbH, Rg 240201 | C19: 212.77 | D19: =ROUND(C19*$D$92,2) -> 40.43 | F19: =ROUND(E19*$F$92,2) -> 0 | H19: =SUM(C19:G19) -> 253.2 | J19: eb8 | L19: Die Mustereingaben können markiert
A20: 45347 | B20: Paypal, Jens Fischer, Rg. W2401192 | C20: 48.66 | D20: =ROUND(C20*$D$92,2) -> 9.25 | F20: =ROUND(E20*$F$92,2) -> 0 | H20: =SUM(C20:G20) -> 57.91 | J20: ep3 | L20: und gelöscht werden.
A21: 45349 | B21: Paypal, Testbestellungen | C21: 0 | D21: =ROUND(C21*$D$92,2) -> 0 | F21: =ROUND(E21*$F$92,2) -> 0 | G21: 24.4 | H21: =SUM(C21:G21) -> 24.4 | J21: ep4
A22: 45350 | B22: Bank, Hendrik Lorenz, Rg. 240293 | C22: 235.46 | D22: =ROUND(C22*$D$92,2) -> 44.74 | F22: =ROUND(E22*$F$92,2) -> 0 | H22: =SUM(C22:G22) -> 280.2 | J22: eb9 | L22: Bitte löschen Sie auch die Mustereingaben
A23: 45351 | B23: Paypal, Chris da Silva Oliveira Rg. W2402195 | C23: 11.26 | D23: =ROUND(C23*$D$92,2) -> 2.14 | F23: =ROUND(E23*$F$92,2) -> 0 | H23: =SUM(C23:G23) -> 13.4 | J23: ep5 | L23: in allen anderen Tabellen - auch den nicht von Ihnen benutzten.
A24: 45355 | B24: Paypal, Dirk Hartmann, Rg. 240301 | C24: 10.08 | D24: =ROUND(C24*$D$92,2) -> 1.92 | F24: =ROUND(E24*$F$92,2) -> 0 | H24: =SUM(C24:G24) -> 12 | J24: ep6
A25: 45363 | B25: Bank, Alexander Beutel, Rg. 240302 | C25: 32.77 | D25: =ROUND(C25*$D$92,2) -> 6.23 | F25: =ROUND(E25*$F$92,2) -> 0 | H25: =SUM(C25:G25) -> 39 | J25: eb10
A26: 45364 | B26: Kasse, Can Celikkol, Rg. 240303 | C26: 7.56 | D26: =ROUND(C26*$D$92,2) -> 1.44 | F26: =ROUND(E26*$F$92,2) -> 0 | H26: =SUM(C26:G26) -> 9 | J26: ek1 | L26: Diese Tabelle ist nur für Eingaben
A27: 45365 | B27: Paypal, Dirk Hartmann, Rg. 240304 | C27: 10.08 | D27: =ROUND(C27*$D$92,2) -> 1.92 | F27: =ROUND(E27*$F$92,2) -> 0 | H27: =SUM(C27:G27) -> 12 | J27: ep7 | L27: mit MwSt. gedacht.
A28: 45376 | B28: Bank, Café Fabric Rg. 240306 | C28: 261 | D28: =ROUND(C28*$D$92,2) -> 49.59 | F28: =ROUND(E28*$F$92,2) -> 0 | H28: =SUM(C28:G28) -> 310.59 | J28: eb11 | L28: Bei Eingaben ohne MwSt kommt es
A29: 45387 | B29: Bank, Hagen&Hagen GbR | C29: 217.74 | D29: =ROUND(C29*$D$92,2) -> 41.37 | F29: =ROUND(E29*$F$92,2) -> 0 | H29: =SUM(C29:G29) -> 259.11 | J29: eb12 | L29: zu falschen MwSt.-Werten in derTabelle
A30: 45389 | B30: Paypal, Klaus Kany, Rg. W2404196 | C30: 42.61 | D30: =ROUND(C30*$D$92,2) -> 8.1 | F30: =ROUND(E30*$F$92,2) -> 0 | H30: =SUM(C30:G30) -> 50.71 | J30: ep8 | L30: "UmsatzStVA"
A31: 45390 | B31: Bank, Die Speicherconsorten GmbH, Rg. 240307 | C31: 253.8 | D31: =ROUND(C31*$D$92,2) -> 48.22 | F31: =ROUND(E31*$F$92,2) -> 0 | H31: =SUM(C31:G31) -> 302.02 | J31: eb13
A32: 45399 | B32: Paypal, Dirk Hartmann, Rg. 240401 | C32: 5.04 | D32: =ROUND(C32*$D$92,2) -> 0.96 | F32: =ROUND(E32*$F$92,2) -> 0 | H32: =SUM(C32:G32) -> 6 | J32: ep9
A33: 45400 | B33: Kasse, Christina Beier, Rg 240404 | C33: 9.24 | D33: =ROUND(C33*$D$92,2) -> 1.76 | F33: =ROUND(E33*$F$92,2) -> 0 | H33: =SUM(C33:G33) -> 11 | J33: ek2
A34: 45400 | B34: Kasse, Can Celikkol, Rg. 240405 | C34: 7.56 | D34: =ROUND(C34*$D$92,2) -> 1.44 | F34: =ROUND(E34*$F$92,2) -> 0 | H34: =SUM(C34:G34) -> 9 | J34: ek3
A35: 45400 | B35: Kasse, Harry Bail, Rg. 240305 | C35: 4.5 | D35: =ROUND(C35*$D$92,2) -> 0.86 | F35: =ROUND(E35*$F$92,2) -> 0 | H35: =SUM(C35:G35) -> 5.36 | J35: ek4
A36: 45405 | B36: Bank, Alexander Beutel, Rg. 240402 | C36: 60.5 | D36: =ROUND(C36*$D$92,2) -> 11.5 | F36: =ROUND(E36*$F$92,2) -> 0 | H36: =SUM(C36:G36) -> 72 | J36: eb14
A37: 45407 | B37: Bank, Holger Gerhard, Rg. 240403 | C37: 181.51 | D37: =ROUND(C37*$D$92,2) -> 34.49 | F37: =ROUND(E37*$F$92,2) -> 0 | H37: =SUM(C37:G37) -> 216 | J37: eb15
D38: =ROUND(C38*$D$92,2) -> 0 | F38: =ROUND(E38*$F$92,2) -> 0 | H38: =SUM(C38:G38) -> 0
D39: =ROUND(C39*$D$92,2) -> 0 | F39: =ROUND(E39*$F$92,2) -> 0 | H39: =SUM(C39:G39) -> 0
D40: =ROUND(C40*$D$92,2) -> 0 | F40: =ROUND(E40*$F$92,2) -> 0 | H40: =SUM(C40:G40) -> 0
D41: =ROUND(C41*$D$92,2) -> 0 | F41: =ROUND(E41*$F$92,2) -> 0 | H41: =SUM(C41:G41) -> 0
D42: =ROUND(C42*$D$92,2) -> 0 | F42: =ROUND(E42*$F$92,2) -> 0 | H42: =SUM(C42:G42) -> 0
D43: =ROUND(C43*$D$92,2) -> 0 | F43: =ROUND(E43*$F$92,2) -> 0 | H43: =SUM(C43:G43) -> 0
...

Sheet Ausgaben
A1: =Überschuss!A1 -> 0 | C1: =Überschuss!C1 -> 45521 | N1: Hilfe
A2: =Überschuss!A2 -> 0
A5: ="Ausgaben " & Überschuss!A7 -> Ausgaben 2024
A7: Datum | B7: Text | C7: Art | D7: Ausgaben | K7: Privat Entnahmen | L7: Beleg
D8: Brutto | G8: MwSt. | H8: Netto | J8: MwSt | L8: Nr. | N8: In die gelben Felder wird eingegeben.
D9: lt. Bon | E9: Faktor | F9: bereinigt | G9: % | H9: lt. Bon | I9: bereinigt | N9: Gedruckt wird schwarz-weiß.
E10: 1 | F10: =ROUND(D10*E10,2) -> 0 | G10: 0.19 | H10: =ROUND(D10/(1+G10),2) -> 0 | I10: =ROUND(H10*E10,2) -> 0 | J10: =IF(C10="B",D10-H10,F10-I10) -> 0
A11: 45296 | B11: Bank, bitplex GmbH, Hosting | C11: Wr | D11: 17.73 | E11: 1 | F11: 17.73 | G11: 0.19 | H11: =ROUND(D11/(1+G11),2) -> 14.9 | I11: =ROUND(H11*E11,2) -> 14.9 | J11: =IF(C11="B",D11-H11,F11-I11) -> 2.83 | L11: ab1
A12: 45299 | B12: Bank, Vodafone Mobilfunk | C12: Tk | D12: 15 | E12: 1 | F12: =ROUND(D12*E12,2) -> 15 | G12: 0.19 | H12: =ROUND(D12/(1+G12),2) -> 12.61 | I12: =ROUND(H12*E12,2) -> 12.61 | J12: =IF(C12="B",D12-H12,F12-I12) -> 2.39 | L12: ab2
A13: 45299 | B13: Bank, Vodafone Mobilfunk | C13: Tk | D13: 20 | E13: 1 | F13: =ROUND(D13*E13,2) -> 20 | G13: 0.19 | H13: =ROUND(D13/(1+G13),2) -> 16.81 | I13: =ROUND(H13*E13,2) -> 16.81 | J13: =IF(C13="B",D13-H13,F13-I13) -> 3.19 | L13: ab3 | N13: Bei anteiligen Ausgaben für das Gewerbe wird der "Faktor" von "100,00%" z. B. auf "50%" reduziert.
A14: 45299 | B14: Bank, Vodafone Mobilfunk | C14: Tk | D14: 50 | E14: 1 | F14: =ROUND(D14*E14,2) -> 50 | G14: 0.19 | H14: =ROUND(D14/(1+G14),2) -> 42.02 | I14: =ROUND(H14*E14,2) -> 42.02 | J14: =IF(C14="B",D14-H14,F14-I14) -> 7.98 | L14: ab4
A15: 45299 | B15: Bank, Vodafone Mobilfunk | C15: Tk | D15: 5 | E15: 1 | F15: =ROUND(D15*E15,2) -> 5 | G15: 0.19 | H15: =ROUND(D15/(1+G15),2) -> 4.2 | I15: =ROUND(H15*E15,2) -> 4.2 | J15: =IF(C15="B",D15-H15,F15-I15) -> 0.8 | L15: ab5
A16: 45299 | B16: Kasse, Galeria, Versandtaschen | C16: Arb | D16: 2.99 | E16: 1 | F16: =ROUND(D16*E16,2) -> 2.99 | G16: 0.19 | H16: =ROUND(D16/(1+G16),2) -> 2.51 | I16: =ROUND(H16*E16,2) -> 2.51 | J16: =IF(C16="B",D16-H16,F16-I16) -> 0.48 | L16: ak1
A17: 45306 | B17: Bank, Telefonica GmbH/Telefon, Internet 50% | C17: Tk | D17: 32.98 | E17: 0.5 | F17: =ROUND(D17*E17,2) -> 16.49 | G17: 0.19 | H17: =ROUND(D17/(1+G17),2) -> 27.71 | I17: =ROUND(H17*E17,2) -> 13.86 | J17: =IF(C17="B",D17-H17,F17-I17) -> 2.63 | L17: ab6 | N17: (Bewirtungskosten: netto nur zu 70% ansetzbar, die MwSt zu 100%)
A18: 45309 | B18: Bank, Stadt Land Frucht GmbH, Lagermiete | C18: Rm | D18: 95.2 | E18: 1 | F18: =ROUND(D18*E18,2) -> 95.2 | G18: 0.19 | H18: =ROUND(D18/(1+G18),2) -> 80 | I18: =ROUND(H18*E18,2) -> 80 | J18: =IF(C18="B",D18-H18,F18-I18) -> 15.2 | L18: ab7
A19: 45320 | B19: Paypal, Gebühr | C19: L | D19: 0.6 | E19: 1 | F19: =ROUND(D19*E19,2) -> 0.6 | G19: 0 | H19: =ROUND(D19/(1+G19),2) -> 0.6 | I19: =ROUND(H19*E19,2) -> 0.6 | J19: =IF(C19="B",D19-H19,F19-I19) -> 0 | L19: ap1
A20: 45322 | B20: Bank, Verdi, Beitrag | C20: Beitr | D20: 4.9 | E20: 1 | F20: =ROUND(D20*E20,2) -> 4.9 | G20: 0 | H20: =ROUND(D20/(1+G20),2) -> 4.9 | I20: =ROUND(H20*E20,2) -> 4.9 | J20: =IF(C20="B",D20-H20,F20-I20) -> 0 | L20: ab8
A21: 45322 | B21: Bank, Commerzbank Kontoführung | C21: L | D21: 7.9 | E21: 1 | F21: =ROUND(D21*E21,2) -> 7.9 | G21: 0 | H21: =ROUND(D21/(1+G21),2) -> 7.9 | I21: =ROUND(H21*E21,2) -> 7.9 | J21: =IF(C21="B",D21-H21,F21-I21) -> 0 | L21: ab9 | N21: Die Mustereingaben können markiert
A22: 45323 | B22: Bank, Hostpress GmbH, Hosting | C22: Wr | D22: 17.73 | E22: 1 | F22: =ROUND(D22*E22,2) -> 17.73 | G22: 0.19 | H22: =ROUND(D22/(1+G22),2) -> 14.9 | I22: =ROUND(H22*E22,2) -> 14.9 | J22: =IF(C22="B",D22-H22,F22-I22) -> 2.83 | L22: ab10 | N22: und gelöscht werden.
A23: 45327 | B23: Bank, Privatentnahme | E23: 1 | F23: =ROUND(D23*E23,2) -> 0 | G23: 0.19 | H23: =ROUND(D23/(1+G23),2) -> 0 | I23: =ROUND(H23*E23,2) -> 0 | J23: =IF(C23="B",D23-H23,F23-I23) -> 0 | K23: 100 | L23: ab11 | N23: Bitte löschen Sie auch die Mustereingaben
A24: 45327 | B24: Bank,Privatentnahme | E24: 1 | F24: =ROUND(D24*E24,2) -> 0 | G24: 0.19 | H24: =ROUND(D24/(1+G24),2) -> 0 | I24: =ROUND(H24*E24,2) -> 0 | J24: =IF(C24="B",D24-H24,F24-I24) -> 0 | K24: 400 | L24: ab12 | N24: in allen anderen Tabellen - auch den nicht von Ihnen benutzten.
A25: 45335 | B25: Bank, UPS Versand | C25: Verp | D25: 7.69 | E25: 1 | F25: =ROUND(D25*E25,2) -> 7.69 | G25: 0.19 | H25: =ROUND(D25/(1+G25),2) -> 6.46 | I25: =ROUND(H25*E25,2) -> 6.46 | J25: =IF(C25="B",D25-H25,F25-I25) -> 1.23 | L25: ab13
A26: 45335 | B26: Bank, Rückzahlung Corona Soforthilfe | C26: Ü | D26: 9000 | E26: 1 | F26: =ROUND(D26*E26,2) -> 9000 | G26: 0 | H26: =ROUND(D26/(1+G26),2) -> 9000 | I26: =ROUND(H26*E26,2) -> 9000 | J26: =IF(C26="B",D26-H26,F26-I26) -> 0 | L26: ab14
A27: 45337 | B27: Bank, Telefonica GmbH/Telefon, Internet 50% | C27: Tk | D27: 32.98 | E27: 0.5 | F27: =ROUND(D27*E27,2) -> 16.49 | G27: 0.19 | H27: =ROUND(D27/(1+G27),2) -> 27.71 | I27: =ROUND(H27*E27,2) -> 13.86 | J27: =IF(C27="B",D27-H27,F27-I27) -> 2.63 | L27: ab15
A28: 45338 | B28: Paypal, Gebühr | C28: L | D28: 1.69 | E28: 1 | F28: =ROUND(D28*E28,2) -> 1.69 | G28: 0 | H28: =ROUND(D28/(1+G28),2) -> 1.69 | I28: =ROUND(H28*E28,2) -> 1.69 | J28: =IF(C28="B",D28-H28,F28-I28) -> 0 | L28: ap2 | N28: Die möglichen Eingaben
A29: 45341 | B29: Kasse, Müller, Collgegeblock | C29: Arb | D29: 2.49 | E29: 1 | F29: =ROUND(D29*E29,2) -> 2.49 | G29: 0.19 | H29: =ROUND(D29/(1+G29),2) -> 2.09 | I29: =ROUND(H29*E29,2) -> 2.09 | J29: =IF(C29="B",D29-H29,F29-I29) -> 0.4 | L29: ak2 | N29: für die Spalte "Art" sind unten
A30: 45347 | B30: Paypal, Gebühr | C30: L | D30: 2.12 | E30: 1 | F30: =ROUND(D30*E30,2) -> 2.12 | G30: 0 | H30: =ROUND(D30/(1+G30),2) -> 2.12 | I30: =ROUND(H30*E30,2) -> 2.12 | J30: =IF(C30="B",D30-H30,F30-I30) -> 0 | L30: ap3 | N30: aufgelistet.
A31: 45348 | B31: Paypal, vendidero GmbH, Germanized Pro Liizenz | C31: Wr | D31: 59 | E31: 1 | F31: =ROUND(D31*E31,2) -> 59 | G31: 0.19 | H31: =ROUND(D31/(1+G31),2) -> 49.58 | I31: =ROUND(H31*E31,2) -> 49.58 | J31: =IF(C31="B",D31-H31,F31-I31) -> 9.42 | L31: ap4
A32: 45349 | B32: Paypal, Gebühren | C32: L | D32: 1.5 | E32: 1 | F32: =ROUND(D32*E32,2) -> 1.5 | G32: 0 | H32: =ROUND(D32/(1+G32),2) -> 1.5 | I32: =ROUND(H32*E32,2) -> 1.5 | J32: =IF(C32="B",D32-H32,F32-I32) -> 0 | L32: ap5
A33: 45348 | B33: Bank,Commerzbank, Kreditkarte, Gebühr | C33: L | D33: 39.9 | E33: 1 | F33: =ROUND(D33*E33,2) -> 39.9 | G33: 0 | H33: =ROUND(D33/(1+G33),2) -> 39.9 | I33: =ROUND(H33*E33,2) -> 39.9 | J33: =IF(C33="B",D33-H33,F33-I33) -> 0 | L33: ab16
A34: 45351 | B34: Bank, Verdi, Beitrag | C34: Beitr | D34: 4.9 | E34: 1 | F34: =ROUND(D34*E34,2) -> 4.9 | G34: 0 | H34: =ROUND(D34/(1+G34),2) -> 4.9 | I34: =ROUND(H34*E34,2) -> 4.9 | J34: =IF(C34="B",D34-H34,F34-I34) -> 0 | L34: ab17
A35: 45351 | B35: Paypal, Rückzahlung für Testbestellungen vom 27.2.24 | C35: Ü | D35: 24.4 | E35: 1 | F35: =ROUND(D35*E35,2) -> 24.4 | G35: 0 | H35: =ROUND(D35/(1+G35),2) -> 24.4 | I35: =ROUND(H35*E35,2) -> 24.4 | J35: =IF(C35="B",D35-H35,F35-I35) -> 0 | L35: ap6
A36: 45351 | B36: Paypal, Gebühr | C36: L | D36: 0.79 | E36: 1 | F36: =ROUND(D36*E36,2) -> 0.79 | G36: 0 | H36: =ROUND(D36/(1+G36),2) -> 0.79 | I36: =ROUND(H36*E36,2) -> 0.79 | J36: =IF(C36="B",D36-H36,F36-I36) -> 0 | L36: ap7
A37: 45352 | B37: Bank, Commerzbank Kontoführung | C37: L | D37: 7.9 | E37: 1 | F37: =ROUND(D37*E37,2) -> 7.9 | G37: 0 | H37: =ROUND(D37/(1+G37),2) -> 7.9 | I37: =ROUND(H37*E37,2) -> 7.9 | J37: =IF(C37="B",D37-H37,F37-I37) -> 0 | L37: ab18
A38: 45355 | B38: Bank, Hostpress GmbH, Hosting | C38: Wr | D38: 17.73 | E38: 1 | F38: =ROUND(D38*E38,2) -> 17.73 | G38: 0.19 | H38: =ROUND(D38/(1+G38),2) -> 14.9 | I38: =ROUND(H38*E38,2) -> 14.9 | J38: =IF(C38="B",D38-H38,F38-I38) -> 2.83 | L38: ab19
A39: 45355 | B39: Bank, Privatentnahme | E39: 1 | F39: =ROUND(D39*E39,2) -> 0 | G39: 0.19 | H39: =ROUND(D39/(1+G39),2) -> 0 | I39: =ROUND(H39*E39,2) -> 0 | J39: =IF(C39="B",D39-H39,F39-I39) -> 0 | K39: 500 | L39: ab20
A40: 45355 | B40: Paypal, Gebühr | C40: L | D40: 0.65 | E40: 1 | F40: =ROUND(D40*E40,2) -> 0.65 | G40: 0 | H40: =ROUND(D40/(1+G40),2) -> 0.65 | I40: =ROUND(H40*E40,2) -> 0.65 | J40: =IF(C40="B",D40-H40,F40-I40) -> 0 | L40: ap8
A41: 45365 | B41: Paypal, Gebühr | C41: L | D41: 0.65 | E41: 1 | F41: =ROUND(D41*E41,2) -> 0.65 | G41: 0 | H41: =ROUND(D41/(1+G41),2) -> 0.65 | I41: =ROUND(H41*E41,2) -> 0.65 | J41: =IF(C41="B",D41-H41,F41-I41) -> 0 | L41: ap9
A42: 45365 | B42: Bank, Telefonica GmbH/Telefon, Internet 50% | C42: Tk | D42: 32.98 | E42: 0.5 | F42: =ROUND(D42*E42,2) -> 16.49 | G42: 0.19 | H42: =ROUND(D42/(1+G42),2) -> 27.71 | I42: =ROUND(H42*E42,2) -> 13.86 | J42: =IF(C42="B",D42-H42,F42-I42) -> 2.63 | L42: ab21
A43: 45366 | B43: Bank, UPS Versand | C43: Verp | D43: 21.78 | E43: 1 | F43: =ROUND(D43*E43,2) -> 21.78 | G43: 0.19 | H43: =ROUND(D43/(1+G43),2) -> 18.3 | I43: =ROUND(H43*E43,2) -> 18.3 | J43: =IF(C43="B",D43-H43,F43-I43) -> 3.48 | L43: ab22
...

Sheet UmsatzStVA
A1: =Überschuss!A1 -> 0 | G1: In dieser Tabelle bitte nichts eingeben! | M1: =Überschuss!C1 -> 45521 | O1: Hilfe
O2: In dieser Tabelle bitte nichts eingeben!
O3: Bitte lesen Sie die
A4: ="Umsatzsteuervoranmeldung " & Überschuss!A7 -> Umsatzsteuervoranmeldung 2024 | O4: Hinweise unter
O5: dieser Tabelle!
B6: ="Eingenommene Ust (19%)" -> Eingenommene Ust (19%) | D6: Eingenommene USt (7%) | F6: 0% | G6: Gezahlte Umsatzsteuer
A7: Zeitraum | B7: Umsatz (abgerundet) | C7: Eingenom-meine Ust (19%) | D7: Umsatz (abgerundet) | E7: Eingenom- mene USt | F7: Umsatz ohne USt. | G7: USt. auf Ausgaben | H7: USt. auf Wirtschafts- güter | I7: USt. auf GWG | J7: USt. auf Fahrtkosten | K7: USt. auf Reisekosten | L7: Summe | M7: + an FA zu zahlen - zu erstatten
A8: Januar | B8: =ROUNDDOWN( Einnahmen!C99,0) -> 32 | C8: =ROUND(B8 *$C$29,2) -> 6.08 | D8: =ROUNDDOWN( Einnahmen!E99,0) -> 0 | E8: =ROUND(D8 *$E$29,2) -> 0 | F8: =ROUNDDOWN( Einnahmen!G99,0) -> 0 | G8: =Ausgaben!J165 -> 35.5 | H8: =Abschreibung!G35 -> 0 | I8: =GWGSammel!F43 -> 0 | J8: =FahrtenReisen!J72 -> 0 | K8: =FahrtenReisen!M72 -> 0 | L8: =SUM(G8:K8) -> 35.5 | M8: =C8+E8-L8 -> -29.42 | O8: Diese obere Tabelle ist für Unternehmen
A9: Februar | B9: =ROUNDDOWN( Einnahmen!C100,0) -> 1035 | C9: =ROUND(B9 *$C$29,2) -> 196.65 | D9: =ROUNDDOWN( Einnahmen!E100,0) -> 0 | E9: =ROUND(D9 *$E$29,2) -> 0 | F9: =ROUNDDOWN( Einnahmen!G100,0) -> 7024 | G9: =Ausgaben!J166 -> 16.51 | H9: =Abschreibung!G36 -> 0 | I9: =GWGSammel!F44 -> 0 | J9: =FahrtenReisen!J73 -> 0 | K9: =FahrtenReisen!M73 -> 0 | L9: =SUM(G9:K9) -> 16.51 | M9: =C9+E9-L9 -> 180.14 | O9: mit monatlichen UST-Vorausszahlungen
A10: März | B10: =ROUNDDOWN( Einnahmen!C101,0) -> 321 | C10: =ROUND(B10 *$C$29,2) -> 60.99 | D10: =ROUNDDOWN( Einnahmen!E101,0) -> 0 | E10: =ROUND(D10 *$E$29,2) -> 0 | F10: =ROUNDDOWN( Einnahmen!G101,0) -> 0 | G10: =Ausgaben!J167 -> 54.54 | H10: =Abschreibung!G37 -> 0 | I10: =GWGSammel!F45 -> 0 | J10: =FahrtenReisen!J74 -> 0 | K10: =FahrtenReisen!M74 -> 0 | L10: =SUM(G10:K10) -> 54.54 | M10: =C10+E10-L10 -> 6.45 | O10: vorgesehen.
A11: April | B11: =ROUNDDOWN( Einnahmen!C104,0) -> 782 | C11: =ROUND(B11 *$C$29,2) -> 148.58 | D11: =ROUNDDOWN( Einnahmen!E104,0) -> 0 | E11: =ROUND(D11 *$E$29,2) -> 0 | F11: =ROUNDDOWN( Einnahmen!G104,0) -> 0 | G11: =Ausgaben!J170 -> 0 | H11: =Abschreibung!G40 -> 0 | I11: =GWGSammel!F48 -> 45.98 | J11: =FahrtenReisen!J77 -> 8.78 | K11: =FahrtenReisen!M77 -> 0 | L11: =SUM(G11:K11) -> 54.76 | M11: =C11+E11-L11 -> 93.82
A12: Mai | B12: =ROUNDDOWN( Einnahmen!C105,0) -> 0 | C12: =ROUND(B12 *$C$29,2) -> 0 | D12: =ROUNDDOWN( Einnahmen!E105,0) -> 0 | E12: =ROUND(D12 *$E$29,2) -> 0 | F12: =ROUNDDOWN( Einnahmen!G105,0) -> 0 | G12: =Ausgaben!J171 -> 0 | H12: =Abschreibung!G41 -> 0 | I12: =GWGSammel!F49 -> 0 | J12: =FahrtenReisen!J78 -> 0 | K12: =FahrtenReisen!M78 -> 0 | L12: =SUM(G12:K12) -> 0 | M12: =C12+E12-L12 -> 0
A13: Juni | B13: =ROUNDDOWN( Einnahmen!C106,0) -> 0 | C13: =ROUND(B13 *$C$29,2) -> 0 | D13: =ROUNDDOWN( Einnahmen!E106,0) -> 0 | E13: =ROUND(D13 *$E$29,2) -> 0 | F13: =ROUNDDOWN( Einnahmen!G106,0) -> 0 | G13: =Ausgaben!J172 -> 0 | H13: =Abschreibung!G42 -> 0 | I13: =GWGSammel!F50 -> 0 | J13: =FahrtenReisen!J79 -> 0 | K13: =FahrtenReisen!M79 -> 0 | L13: =SUM(G13:K13) -> 0 | M13: =C13+E13-L13 -> 0
A14: Juli | B14: =ROUNDDOWN( Einnahmen!C109,0) -> 0 | C14: =ROUND(B14 *$C$29,2) -> 0 | D14: =ROUNDDOWN( Einnahmen!E109,0) -> 0 | E14: =ROUND(D14 *$E$29,2) -> 0 | F14: =ROUNDDOWN( Einnahmen!G109,0) -> 0 | G14: =Ausgaben!J175 -> 0 | H14: =Abschreibung!G45 -> 0 | I14: =GWGSammel!F53 -> 0 | J14: =FahrtenReisen!J82 -> 0 | K14: =FahrtenReisen!M82 -> 0 | L14: =SUM(G14:K14) -> 0 | M14: =C14+E14-L14 -> 0
A15: August | B15: =ROUNDDOWN( Einnahmen!C110,0) -> 0 | C15: =ROUND(B15 *$C$29,2) -> 0 | D15: =ROUNDDOWN( Einnahmen!E110,0) -> 0 | E15: =ROUND(D15 *$E$29,2) -> 0 | F15: =ROUNDDOWN( Einnahmen!G110,0) -> 0 | G15: =Ausgaben!J176 -> 0 | H15: =Abschreibung!G46 -> 0 | I15: =GWGSammel!F54 -> 0 | J15: =FahrtenReisen!J83 -> 0 | K15: =FahrtenReisen!M83 -> 0 | L15: =SUM(G15:K15) -> 0 | M15: =C15+E15-L15 -> 0
A16: September | B16: =ROUNDDOWN( Einnahmen!C111,0) -> 0 | C16: =ROUND(B16 *$C$29,2) -> 0 | D16: =ROUNDDOWN( Einnahmen!E111,0) -> 0 | E16: =ROUND(D16 *$E$29,2) -> 0 | F16: =ROUNDDOWN( Einnahmen!G111,0) -> 0 | G16: =Ausgaben!J177 -> 0 | H16: =Abschreibung!G47 -> 0 | I16: =GWGSammel!F55 -> 0 | J16: =FahrtenReisen!J84 -> 0 | K16: =FahrtenReisen!M84 -> 0 | L16: =SUM(G16:K16) -> 0 | M16: =C16+E16-L16 -> 0
A17: Oktober | B17: =ROUNDDOWN( Einnahmen!C114,0) -> 0 | C17: =ROUND(B17 *$C$29,2) -> 0 | D17: =ROUNDDOWN( Einnahmen!E114,0) -> 0 | E17: =ROUND(D17 *$E$29,2) -> 0 | F17: =ROUNDDOWN( Einnahmen!G114,0) -> 0 | G17: =Ausgaben!J180 -> 0 | H17: =Abschreibung!G50 -> 0 | I17: =GWGSammel!F58 -> 0 | J17: =FahrtenReisen!J87 -> 0 | K17: =FahrtenReisen!M87 -> 0 | L17: =SUM(G17:K17) -> 0 | M17: =C17+E17-L17 -> 0
A18: November | B18: =ROUNDDOWN( Einnahmen!C115,0) -> 0 | C18: =ROUND(B18 *$C$29,2) -> 0 | D18: =ROUNDDOWN( Einnahmen!E115,0) -> 0 | E18: =ROUND(D18 *$E$29,2) -> 0 | F18: =ROUNDDOWN( Einnahmen!G115,0) -> 0 | G18: =Ausgaben!J181 -> 0 | H18: =Abschreibung!G51 -> 0 | I18: =GWGSammel!F59 -> 0 | J18: =FahrtenReisen!J88 -> 0 | K18: =FahrtenReisen!M88 -> 0 | L18: =SUM(G18:K18) -> 0 | M18: =C18+E18-L18 -> 0
A19: Dezember | B19: =ROUNDDOWN( Einnahmen!C116,0) -> 0 | C19: =ROUND(B19 *$C$29,2) -> 0 | D19: =ROUNDDOWN( Einnahmen!E116,0) -> 0 | E19: =ROUND(D19 *$E$29,2) -> 0 | F19: =ROUNDDOWN( Einnahmen!G116,0) -> 0 | G19: =Ausgaben!J182 -> 0 | H19: =Abschreibung!G52 -> 0 | I19: =GWGSammel!F60 -> 0 | J19: =FahrtenReisen!J89 -> 0 | K19: =FahrtenReisen!M89 -> 0 | L19: =SUM(G19:K19) -> 0 | M19: =C19+E19-L19 -> 0
B22: =B6 -> Eingenommene Ust (19%) | D22: =D6 -> Eingenommene USt (7%) | F22: 0% | G22: =G6 -> Gezahlte Umsatzsteuer
A23: =A7 -> Zeitraum | B23: =B7 -> Umsatz (abgerundet) | C23: =C7 -> Eingenom-meine Ust (19%) | D23: =D7 -> Umsatz (abgerundet) | E23: =E7 -> Eingenom- mene USt | F23: Umsatz ohne USt. | G23: =G7 -> USt. auf Ausgaben | H23: =H7 -> USt. auf Wirtschafts- güter | I23: =I7 -> USt. auf GWG | J23: =J7 -> USt. auf Fahrtkosten | K23: =K7 -> USt. auf Reisekosten | L23: =L7 -> Summe | M23: =M7 -> + an FA zu zahlen - zu erstatten
A24: Q1 | B24: =ROUNDDOWN( Einnahmen!C102, 0) -> 1389 | C24: =ROUND(B24*$C$29,2) -> 263.91 | D24: =ROUNDDOWN( Einnahmen!E102, 0) -> 0 | E24: =ROUND(D24*$E$29,2) -> 0 | F24: =ROUNDDOWN( Einnahmen!G102, 0) -> 7024 | G24: =Ausgaben!J168 -> 106.55 | H24: =Abschreibung!G38 -> 0 | I24: =GWGSammel!F46 -> 0 | J24: =FahrtenReisen!J75 -> 0 | K24: =FahrtenReisen!M75 -> 0 | L24: =SUM(G24:K24) -> 106.55 | M24: =C24+E24-L24 -> 157.36 | O24: Diese Tabelle ist für vierteljährliche
A25: Q2 | B25: =ROUNDDOWN( Einnahmen!C107, 0) -> 782 | C25: =ROUND(B25*$C$29,2) -> 148.58 | D25: =ROUNDDOWN( Einnahmen!E107, 0) -> 0 | E25: =ROUND(D25*$E$29,2) -> 0 | F25: =ROUNDDOWN( Einnahmen!G107, 0) -> 0 | G25: =Ausgaben!J173 -> 0 | H25: =Abschreibung!G43 -> 0 | I25: =GWGSammel!F51 -> 45.98 | J25: =FahrtenReisen!J80 -> 8.78 | K25: =FahrtenReisen!M80 -> 0 | L25: =SUM(G25:K25) -> 54.76 | M25: =C25+E25-L25 -> 93.82 | O25: Umsatzsteuervoranmeldungen
A26: Q3 | B26: =ROUNDDOWN( Einnahmen!C112, 0) -> 0 | C26: =ROUND(B26*$C$29,2) -> 0 | D26: =ROUNDDOWN( Einnahmen!E112, 0) -> 0 | E26: =ROUND(D26*$E$29,2) -> 0 | F26: =ROUNDDOWN( Einnahmen!G112, 0) -> 0 | G26: =Ausgaben!J178 -> 0 | H26: =Abschreibung!G48 -> 0 | I26: =GWGSammel!F56 -> 0 | J26: =FahrtenReisen!J85 -> 0 | K26: =FahrtenReisen!M85 -> 0 | L26: =SUM(G26:K26) -> 0 | M26: =C26+E26-L26 -> 0 | O26: vorgesehen.
A27: Q4 | B27: =ROUNDDOWN( Einnahmen!C117, 0) -> 0 | C27: =ROUND(B27*$C$29,2) -> 0 | D27: =ROUNDDOWN( Einnahmen!E117, 0) -> 0 | E27: =ROUND(D27*$E$29,2) -> 0 | F27: =ROUNDDOWN( Einnahmen!G117, 0) -> 0 | G27: =Ausgaben!J183 -> 0 | H27: =Abschreibung!G53 -> 0 | I27: =GWGSammel!F61 -> 0 | J27: =FahrtenReisen!J90 -> 0 | K27: =FahrtenReisen!M90 -> 0 | L27: =SUM(G27:K27) -> 0 | M27: =C27+E27-L27 -> 0
B29: Ust | C29: 0.19 | E29: 0.07 | F29: 0 | O29: Der Steuersatz wird aus der
O30: Tabelle "Einnahmen" (unten)
A31: In dieser Tabelle bitte nichts eingeben! | O31: übernommen.
A32: Hier werden die Zahlen für die Umsatzsteuervoranmeldung ermittelt.
A33: Die Zahlen stammen aus den übrigen Tabellenblättern, in denen Eingaben oder Ausgaben erfasst werden.
A35: Die Zahlen in Spalte B sind auf ganze € abgerundet. Das Elsterformular für die Umsatzsteuervoranmeldung lässt nur ganze € zu.
A36: Die Zahlen in Spalte C stammen nicht aus dem Blatt "Einnahmen", sondern werden aus Spalte B berechnet.
A38: Achtung: Dieses Tabellenblatt dient nur als Hilfe für die Umsatzsteuervoranmeldung.
A39: Die tatsächlichen Umsatzsteuerzahlungen bzw. -erstattungen tragen Sie bitte im Blatt "Umsatzsteuer" ein!
A40: Nur von dort werden sie in das Blatt "Überschuss" übernommen.
A42: Die obere Tabelle ist für Unternehmen mit monatlichen Umsatzsteuervoranmeldungen vorgesehen.
A43: Die untere Tabelle ist für vierteljährliche Umsatzsteuervoranmeldungen vorgesehen.
A44: Die Tabellen sind zum eigenen Gebrauch gedacht. Sie werden nicht beim FA abgegeben.
A46: Die Quartalszahlen in diesem Tabellenblatt sind keine Summen aus den oberen Monatzszahlen,
A47: sondern sie stammen aus den anderen Blättern.

Sheet UmsatzSt
A1: =Überschuss!A1 -> 0 | D1: =Überschuss!C1 -> 45521 | G1: Hilfe
A2: =Überschuss!A2 -> 0
G3: Diese Tabelle dient nicht zum Berechnen der Zahlen
G4: für die Umsatzsteuervoranmeldung,
G5: sondern es werden die tasächlichen Zahlungen
A6: ="In " & Überschuss!A7 & " an das Finanzamt gezahlte bzw. erstattete Umsatzsteuer" -> In 2024 an das Finanzamt gezahlte bzw. erstattete Umsatzsteuer | G6: eingetragen.
A9: ="Für " & Überschuss!A7-1 &" gezahlte Umsatzsteuer" -> Für 2023 gezahlte Umsatzsteuer
A11: Datum | B11: Text | C11: an das FA gezahlt | D11: vom FA erstattet | E11: Beleg Nr.
A12: 45298 | B12: Umsatzsteuererstattung für 12/2023 | G12: In die gelben Felder wird eingegeben.
A13: 45319 | B13: Umsatzsteuer für 2023 (gemäß USt-Erklärung) | G13: Gedruckt wird schwarz-weiß.
A15: Summe | C15: =SUM(C12:C14) -> 0 | D15: =SUM(D12:D14) -> 0
A19: ="Umsatzsteuerzahlungen gemäß Umsatzsteuervoranmeldungen für " & Überschuss!A7 -> Umsatzsteuerzahlungen gemäß Umsatzsteuervoranmeldungen für 2024
A20: ="(Zahlungen in " & Überschuss!A7 & ")" -> (Zahlungen in 2024)
A22: Datum | B22: Text | C22: an das FA gezahlt | D22: vom FA erstattet | E22: Beleg Nr. | G22: Hier werden die geleiseten Umsatzsteuerzahlungen
A23: 45329 | B23: Umsatzsteuer für 01/2024 | G23: bzw. -erstattungen von Hand eingetragen.
A24: 45358 | B24: Umsatzsteuer für 02/2024
A25: 45387 | B25: Umsatzsteuer für 03/2024 | G25: Falls Sie dieses Jahr einen vierteljährlichen Zeitraum für
A26: 45417 | B26: Umsatzsteuer für 04/2024 | G26: die Umsatzsteuervoranmeldungen haben,
A27: 45448 | B27: Umsatzsteuer für 05/2024 | G27: ändern Sie bitte den Texte passend zu den Quartalen Q1 bis Q4.
A28: 45478 | B28: Umsatzsteuer für 06/2024
A29: 45508 | B29: Umsatzsteuer für 07/2024 | G29: Für die Gewinnermittlung/Einkommensteuer gehört die letzte USt-Zahlung
A30: 45541 | B30: Umsatzsteuer für 08/2024 | G30: an das Finanzamt, also die Zahlung für Dezember oder Quartal 4, noch in
A31: 45571 | B31: Umsatzsteuer für 09/2024 | G31: dieses Jahr, weil sie sofort nach Jahresende geleistet wird.
A32: 45600 | B32: Umsatzsteuer für 10/2024 | G32: Ausname: Dauerfristverlängerung.
A33: 45630 | B33: Umsatzsteuer für 11/2024
A34: 45294 | B34: Umsatzsteuer für 12/2024 | G34: Eine Erstattung des FinAmts an das Unternehmen aufgrund einer
A35: Summen | C35: =SUM(C22:C34) -> 0 | D35: =SUM(D22:D34) -> 0 | G35: Umsatzsteuer-Voranmeldung gehört für die Gewinnermittlung ins nächste Jahr.
G36: Für die Umsatzsteuererklärung (Vorauszahlungssoll)
G37: gehören beide Zahlungen in dieses Jahr.
A38: ="Letzte Umsatzsteuer-Voranmeldung für " & Überschuss!A7 & " (Zahlung in " & Überschuss!A7+1 & ")" -> Letzte Umsatzsteuer-Voranmeldung für 2024 (Zahlung in 2025) | G38: siehe auch:
G39: www.klicktipps.de/gewerbe_faq.php#Buchung_Kalenderjahr
A40: Datum | B40: Text | C40: an das FA gezahlt | D40: vom FA erstattet | G40: Die Zahl aus D41 muss von Hand
A41: 45667 | B41: Umsatzsteuer für 12/2024 | G41: oben in die entsprechende Tabelle des nächsten Jahres
G42: eingetragen werden. Ausname: Dauerfristverlängerng.
G43: Bei einem vieteljährlichen Voranmeldungszeitraum
A44: Vorauszahlungssoll | C44: =C35+C41-D35-D41 -> 0 | G44: wird hier Quartal Q4 eingetragen.
G46: Eine Rückzahlung des Finazmts für
C47: IBAN | G47: den letzten Ust-Voranmeldungszeitraum
B48: Überweisung an: Finanzamt xxxxStadt | C48: DExxxxxxxxxxx | G48: des Vorjahres gehört in das neue Jahr.
G49: Ebenso die späteren Zahlnungen oder
...

Sheet FahrtenReisen
A1: =Überschuss!A1 -> 0 | M1: =Überschuss!C1 -> 45521 | P1: Hilfe
A2: =Überschuss!A2 -> 0
P3: Info:
A4: ="Fahrtkosten (Kilometerpauschale) und Reisekosten " & Überschuss!A7 -> Fahrtkosten (Kilometerpauschale) und Reisekosten 2024 | P4: Unten ist eine separate Tabelle für die Pendlerpauschale (Weg zur Arbeit)
P5: Bei der Kilometerpauschale geht es um Dienstreisen.
F6: Fahrtkosten | K6: Reisekosten
A7: Datum | B7: von | C7: bis | D7: Zeit | E7: Fahrtziel / Zweck | F7: Eigenes Fahrzeug | I7: Sonstige Fahrzeuge | K7: Verpfl.- pauschale | L7: Unterkunft/Sonstges | N7: Beleg | P7: * Umweg auf Privatfahrt
F8: Strecke | G8: Art | H8: Pauschale | I8: Netto | J8: MwSt | L8: Netto | M8: MwSt | N8: Nr.
A9: 45394 | B9: 0 | C9: 0 | D9: =ROUND((C9-B9)*24,2) -> 0 | E9: Cambio Carsharing | H9: =IF(G9=$C$85,$D$85,IF(G9=$C$86,$D$86,IF(G9=$C$87,$D$87,)))*F9 -> 0 | I9: 4.24 | J9: 0.8 | K9: =IF(D9>A$73,IF(D9<A$74,B$73,B$74),0) -> 0 | N9: fk1 | P9: Die Berechnung der Zeit
A10: 45408 | B10: 0 | C10: 0 | D10: =ROUND((C10-B10)*24,2) -> 0 | E10: Cambio Carsharing | F10: 0 | G10: aM | H10: =IF(G10=$C$85,$D$85,IF(G10=$C$86,$D$86,IF(G10=$C$87,$D$87,)))*F10 -> 0 | I10: 42.02 | J10: 7.98 | K10: =IF(D10>A$73,IF(D10<A$74,B$73,B$74),0) -> 0 | N10: fk2 | P10: berücksichtigt Reisen mit Übernachtung
A11: 45360 | B11: 0 | C11: 0 | D11: =ROUND((C11-B11)*24,2) -> 0 | E11: D. Meyer, Cccstadt / PC-Arbeiten + | F11: 0 | G11: Pkw | H11: =IF(G11=$C$85,$D$85,IF(G11=$C$86,$D$86,IF(G11=$C$87,$D$87,)))*F11 -> 0 | K11: =IF(D11>A$73,IF(D11<A$74,B$73,B$74),0) -> 0 | P11: oder Reisen, die nicht die 24/0-Uhr Grenze
D12: =ROUND((C12-B12)*24,2) -> 0 | H12: =IF(G12=$C$85,$D$85,IF(G12=$C$86,$D$86,IF(G12=$C$87,$D$87,)))*F12 -> 0 | K12: =IF(D12>A$73,IF(D12<A$74,B$73,B$74),0) -> 0 | P12: überschreiten.
D13: =ROUND((C13-B13)*24,2) -> 0 | H13: =IF(G13=$C$85,$D$85,IF(G13=$C$86,$D$86,IF(G13=$C$87,$D$87,)))*F13 -> 0 | K13: =IF(D13>A$73,IF(D13<A$74,B$73,B$74),0) -> 0 | P13: Bei Reisen über Mitternacht ohne Übernachtung
D14: =ROUND((C14-B14)*24,2) -> 0 | E14: Alles nur Muster; für die eigene Anwendung | H14: =IF(G14=$C$85,$D$85,IF(G14=$C$86,$D$86,IF(G14=$C$87,$D$87,)))*F14 -> 0 | K14: =IF(D14>A$73,IF(D14<A$74,B$73,B$74),0) -> 0 | P14: berechnen Sie die Zeiten bitte von Hand!
D15: =ROUND((C15-B15)*24,2) -> 0 | E15: bitte die gelben Felder vorher löschen. | H15: =IF(G15=$C$85,$D$85,IF(G15=$C$86,$D$86,IF(G15=$C$87,$D$87,)))*F15 -> 0 | K15: =IF(D15>A$73,IF(D15<A$74,B$73,B$74),0) -> 0 | P15: Siehe § 4 (5) Nr. 5 Satz 2 EStG:
D16: =ROUND((C16-B16)*24,2) -> 0 | H16: =IF(G16=$C$85,$D$85,IF(G16=$C$86,$D$86,IF(G16=$C$87,$D$87,)))*F16 -> 0 | K16: =IF(D16>A$73,IF(D16<A$74,B$73,B$74),0) -> 0 | P16: http://bundesrecht.juris.de/estg/__4.html
D17: =ROUND((C17-B17)*24,2) -> 0 | H17: =IF(G17=$C$85,$D$85,IF(G17=$C$86,$D$86,IF(G17=$C$87,$D$87,)))*F17 -> 0 | K17: =IF(D17>A$73,IF(D17<A$74,B$73,B$74),0) -> 0
D18: =ROUND((C18-B18)*24,2) -> 0 | H18: =IF(G18=$C$85,$D$85,IF(G18=$C$86,$D$86,IF(G18=$C$87,$D$87,)))*F18 -> 0 | K18: =IF(D18>A$73,IF(D18<A$74,B$73,B$74),0) -> 0
D19: =ROUND((C19-B19)*24,2) -> 0 | H19: =IF(G19=$C$85,$D$85,IF(G19=$C$86,$D$86,IF(G19=$C$87,$D$87,)))*F19 -> 0 | K19: =IF(D19>A$73,IF(D19<A$74,B$73,B$74),0) -> 0
D20: =ROUND((C20-B20)*24,2) -> 0 | H20: =IF(G20=$C$85,$D$85,IF(G20=$C$86,$D$86,IF(G20=$C$87,$D$87,)))*F20 -> 0 | K20: =IF(D20>A$73,IF(D20<A$74,B$73,B$74),0) -> 0 | P20: - In die gelben Felder wird eingegeben. Gedruckt wird schwarz-weiß.
D21: =ROUND((C21-B21)*24,2) -> 0 | H21: =IF(G21=$C$85,$D$85,IF(G21=$C$86,$D$86,IF(G21=$C$87,$D$87,)))*F21 -> 0 | K21: =IF(D21>A$73,IF(D21<A$74,B$73,B$74),0) -> 0
D22: =ROUND((C22-B22)*24,2) -> 0 | H22: =IF(G22=$C$85,$D$85,IF(G22=$C$86,$D$86,IF(G22=$C$87,$D$87,)))*F22 -> 0 | K22: =IF(D22>A$73,IF(D22<A$74,B$73,B$74),0) -> 0
D23: =ROUND((C23-B23)*24,2) -> 0 | H23: =IF(G23=$C$85,$D$85,IF(G23=$C$86,$D$86,IF(G23=$C$87,$D$87,)))*F23 -> 0 | K23: =IF(D23>A$73,IF(D23<A$74,B$73,B$74),0) -> 0 | P23: Fahrten mit Bahn, Taxi usw.;
D24: =ROUND((C24-B24)*24,2) -> 0 | H24: =IF(G24=$C$85,$D$85,IF(G24=$C$86,$D$86,IF(G24=$C$87,$D$87,)))*F24 -> 0 | K24: =IF(D24>A$73,IF(D24<A$74,B$73,B$74),0) -> 0 | P24: Lassen Sie einfach die Spalte "Fahrzeug" frei
D25: =ROUND((C25-B25)*24,2) -> 0 | H25: =IF(G25=$C$85,$D$85,IF(G25=$C$86,$D$86,IF(G25=$C$87,$D$87,)))*F25 -> 0 | K25: =IF(D25>A$73,IF(D25<A$74,B$73,B$74),0) -> 0
D26: =ROUND((C26-B26)*24,2) -> 0 | H26: =IF(G26=$C$85,$D$85,IF(G26=$C$86,$D$86,IF(G26=$C$87,$D$87,)))*F26 -> 0 | K26: =IF(D26>A$73,IF(D26<A$74,B$73,B$74),0) -> 0
D27: =ROUND((C27-B27)*24,2) -> 0 | H27: =IF(G27=$C$85,$D$85,IF(G27=$C$86,$D$86,IF(G27=$C$87,$D$87,)))*F27 -> 0 | K27: =IF(D27>A$73,IF(D27<A$74,B$73,B$74),0) -> 0
D28: =ROUND((C28-B28)*24,2) -> 0 | H28: =IF(G28=$C$85,$D$85,IF(G28=$C$86,$D$86,IF(G28=$C$87,$D$87,)))*F28 -> 0 | K28: =IF(D28>A$73,IF(D28<A$74,B$73,B$74),0) -> 0
D29: =ROUND((C29-B29)*24,2) -> 0 | H29: =IF(G29=$C$85,$D$85,IF(G29=$C$86,$D$86,IF(G29=$C$87,$D$87,)))*F29 -> 0 | K29: =IF(D29>A$73,IF(D29<A$74,B$73,B$74),0) -> 0
D30: =ROUND((C30-B30)*24,2) -> 0 | H30: =IF(G30=$C$85,$D$85,IF(G30=$C$86,$D$86,IF(G30=$C$87,$D$87,)))*F30 -> 0 | K30: =IF(D30>A$73,IF(D30<A$74,B$73,B$74),0) -> 0
D31: =ROUND((C31-B31)*24,2) -> 0 | H31: =IF(G31=$C$85,$D$85,IF(G31=$C$86,$D$86,IF(G31=$C$87,$D$87,)))*F31 -> 0 | K31: =IF(D31>A$73,IF(D31<A$74,B$73,B$74),0) -> 0
D32: =ROUND((C32-B32)*24,2) -> 0 | H32: =IF(G32=$C$85,$D$85,IF(G32=$C$86,$D$86,IF(G32=$C$87,$D$87,)))*F32 -> 0 | K32: =IF(D32>A$73,IF(D32<A$74,B$73,B$74),0) -> 0
D33: =ROUND((C33-B33)*24,2) -> 0 | H33: =IF(G33=$C$85,$D$85,IF(G33=$C$86,$D$86,IF(G33=$C$87,$D$87,)))*F33 -> 0 | K33: =IF(D33>A$73,IF(D33<A$74,B$73,B$74),0) -> 0
D34: =ROUND((C34-B34)*24,2) -> 0 | H34: =IF(G34=$C$85,$D$85,IF(G34=$C$86,$D$86,IF(G34=$C$87,$D$87,)))*F34 -> 0 | K34: =IF(D34>A$73,IF(D34<A$74,B$73,B$74),0) -> 0
D35: =ROUND((C35-B35)*24,2) -> 0 | H35: =IF(G35=$C$85,$D$85,IF(G35=$C$86,$D$86,IF(G35=$C$87,$D$87,)))*F35 -> 0 | K35: =IF(D35>A$73,IF(D35<A$74,B$73,B$74),0) -> 0
D36: =ROUND((C36-B36)*24,2) -> 0 | H36: =IF(G36=$C$85,$D$85,IF(G36=$C$86,$D$86,IF(G36=$C$87,$D$87,)))*F36 -> 0 | K36: =IF(D36>A$73,IF(D36<A$74,B$73,B$74),0) -> 0
... D44: =ROUND((C44-B44)*24,2) -> 0 | H44: =IF(G44=$C$85,$D$85,IF(G44=$C$86,$D$86,IF(G44=$C$87,$D$87,)))*F44 -> 0 | K44: =IF(D44>A$73,IF(D44<A$74,B$73,B$74),0) -> 0
D45: =ROUND((C45-B45)*24,2) -> 0 | H45: =IF(G45=$C$85,$D$85,IF(G45=$C$86,$D$86,IF(G45=$C$87,$D$87,)))*F45 -> 0 | K45: =IF(D45>A$73,IF(D45<A$74,B$73,B$74),0) -> 0 | P45: und geben Sie in Spalte "Sonstige Fahrzeuge" den Preis ein.
D46: =ROUND((C46-B46)*24,2) -> 0 | H46: =IF(G46=$C$85,$D$85,IF(G46=$C$86,$D$86,IF(G46=$C$87,$D$87,)))*F46 -> 0 | K46: =IF(D46>A$73,IF(D46<A$74,B$73,B$74),0) -> 0
D47: =ROUND((C47-B47)*24,2) -> 0 | H47: =IF(G47=$C$85,$D$85,IF(G47=$C$86,$D$86,IF(G47=$C$87,$D$87,)))*F47 -> 0 | K47: =IF(D47>A$73,IF(D47<A$74,B$73,B$74),0) -> 0
...

Sheet Abschreibung
A1: =Überschuss!A1 -> 0 | O1: =Überschuss!C1 -> 45521 | R1: Hilfe
A2: =Überschuss!A2 -> 0 | R2: Tabelle für die Abschreibungsverfahren [A] und [B]:
R3: Bitte lesen Sie dazu die Informationen auf der Seite:
R4: in Blatt 'Erläuterung Abschreibung'
A5: Gewerbe: Abschreibung | R5: http://www.klicktipps.de/gewerbe-abschreibung.php
A6: AfA auf bewegliche Wirtschaftsgüter
B7: {=IF( SUM( IF( ISNUMBER(B10:B28), (YEAR(B10:B28)>M7) * 1, 0 ) ) >=1, "Mindestens ein Datum in Spalte B ist größer als " & M7 & "!","")} | J7: Bereits in den Vorjahren abgesetzt | M7: =Überschuss!A7 -> 2024 | R7: Bei Abschreibungsverfahren [A:Einzelabschreibung]:
R8: Für Wirtschaftsgüter mit Anschaffungswert ab 1000,01 € (netto).
A9: Inv. Nr. | B9: Ansch.- Datum | C9: Text | D9: Lieferant | E9: Preis netto | F9: MwSt. | H9: Nutz- dauer | I9: Ansch.- Jahr | J9: Monate | K9: Betrag | L9: Buch- wert | M9: Monate | N9: Absetzung f. Abnutzung | O9: Neuer Buchwert | P9: Beleg Nr.
E10: netto | F10: netto | N10: Abnutzung | R10: Bei Abschreibungsverfahren [B:Sammelabschreibung]:
A11: 1 | G11: =ROUND(E11*F11,2) -> 0 | I11: =IF(B11<>"",1*YEAR(B11),"") | J11: =IF(B11>0, MIN( H11, IF(M$7>YEAR(B11), (M$7-YEAR(B11) -1) *12 + 12- MONTH(B11)+1, 0) ), "") | K11: =IF(E11>0,ROUND(E11/H11*12*INT(J11/12),2 )+ROUND(E11/H11*MOD(J11,12),2 ),0) -> 0 | L11: =E11-K11 -> 0 | M11: =IF( H11>0, IF( I11=$M$7, 12-MONTH(B11)+1, MIN(12,H11-J11) ), "") | N11: =IF(H11>0, IF( H11-J11=M11, L11, ROUND($E11/$H11*M11,2) ), 0) -> 0 | O11: =L11-N11 -> 0 | R11: Bei Abschreibungsverfahren [B] gehören geringwertige Wirtschaftsgüter (GWG), deren Anschaffungskosten (netto ohne MwSt) 250,01 €
A12: 2 | G12: =ROUND(E12*F12,2) -> 0 | I12: =IF(B12<>"",1*YEAR(B12),"") | J12: =IF(B12>0, MIN( H12, IF(M$7>YEAR(B12), (M$7-YEAR(B12) -1) *12 + 12- MONTH(B12)+1, 0) ), "") | K12: =IF(E12>0,ROUND(E12/H12*12*INT(J12/12),2 )+ROUND(E12/H12*MOD(J12,12),2 ),0) -> 0 | L12: =E12-K12 -> 0 | M12: =IF( H12>0, IF( I12=$M$7, 12-MONTH(B12)+1, MIN(12,H12-J12) ), "") | N12: =IF(H12>0, IF( H12-J12=M12, L12, ROUND($E12/$H12*M12,2) ), 0) -> 0 | O12: =L12-N12 -> 0 | R12: bis maximal 5.000,00 € betragen, in die Tabelle GWGSammel.
A13: 3 | G13: =ROUND(E13*F13,2) -> 0 | I13: =IF(B13<>"",1*YEAR(B13),"") | J13: =IF(B13>0, MIN( H13, IF(M$7>YEAR(B13), (M$7-YEAR(B13) -1) *12 + 12- MONTH(B13)+1, 0) ), "") | K13: =IF(E13>0,ROUND(E13/H13*12*INT(J13/12),2 )+ROUND(E13/H13*MOD(J13,12),2 ),0) -> 0 | L13: =E13-K13 -> 0 | M13: =IF( H13>0, IF( I13=$M$7, 12-MONTH(B13)+1, MIN(12,H13-J13) ), "") | N13: =IF(H13>0, IF( H13-J13=M13, L13, ROUND($E13/$H13*M13,2) ), 0) -> 0 | O13: =L13-N13 -> 0
A14: 4 | G14: =ROUND(E14*F14,2) -> 0 | I14: =IF(B14<>"",1*YEAR(B14),"") | J14: =IF(B14>0, MIN( H14, IF(M$7>YEAR(B14), (M$7-YEAR(B14) -1) *12 + 12- MONTH(B14)+1, 0) ), "") | K14: =IF(E14>0,ROUND(E14/H14*12*INT(J14/12),2 )+ROUND(E14/H14*MOD(J14,12),2 ),0) -> 0 | L14: =E14-K14 -> 0 | M14: =IF( H14>0, IF( I14=$M$7, 12-MONTH(B14)+1, MIN(12,H14-J14) ), "") | N14: =IF(H14>0, IF( H14-J14=M14, L14, ROUND($E14/$H14*M14,2) ), 0) -> 0 | O14: =L14-N14 -> 0
A15: 5 | G15: =ROUND(E15*F15,2) -> 0 | I15: =IF(B15<>"",1*YEAR(B15),"") | J15: =IF(B15>0, MIN( H15, IF(M$7>YEAR(B15), (M$7-YEAR(B15) -1) *12 + 12- MONTH(B15)+1, 0) ), "") | K15: =IF(E15>0,ROUND(E15/H15*12*INT(J15/12),2 )+ROUND(E15/H15*MOD(J15,12),2 ),0) -> 0 | L15: =E15-K15 -> 0 | M15: =IF( H15>0, IF( I15=$M$7, 12-MONTH(B15)+1, MIN(12,H15-J15) ), "") | N15: =IF(H15>0, IF( H15-J15=M15, L15, ROUND($E15/$H15*M15,2) ), 0) -> 0 | O15: =L15-N15 -> 0
A16: 6 | G16: =ROUND(E16*F16,2) -> 0 | I16: =IF(B16<>"",1*YEAR(B16),"") | J16: =IF(B16>0, MIN( H16, IF(M$7>YEAR(B16), (M$7-YEAR(B16) -1) *12 + 12- MONTH(B16)+1, 0) ), "") | K16: =IF(E16>0,ROUND(E16/H16*12*INT(J16/12),2 )+ROUND(E16/H16*MOD(J16,12),2 ),0) -> 0 | L16: =E16-K16 -> 0 | M16: =IF( H16>0, IF( I16=$M$7, 12-MONTH(B16)+1, MIN(12,H16-J16) ), "") | N16: =IF(H16>0, IF( H16-J16=M16, L16, ROUND($E16/$H16*M16,2) ), 0) -> 0 | O16: =L16-N16 -> 0
A17: 8 | G17: =ROUND(E17*F17,2) -> 0 | I17: =IF(B17<>"",1*YEAR(B17),"") | J17: =IF(B17>0, MIN( H17, IF(M$7>YEAR(B17), (M$7-YEAR(B17) -1) *12 + 12- MONTH(B17)+1, 0) ), "") | K17: =IF(E17>0,ROUND(E17/H17*12*INT(J17/12),2 )+ROUND(E17/H17*MOD(J17,12),2 ),0) -> 0 | L17: =E17-K17 -> 0 | M17: =IF( H17>0, IF( I17=$M$7, 12-MONTH(B17)+1, MIN(12,H17-J17) ), "") | N17: =IF(H17>0, IF( H17-J17=M17, L17, ROUND($E17/$H17*M17,2) ), 0) -> 0 | O17: =L17-N17 -> 0 | R17: Weitere Hinweise:
A18: 9 | G18: =ROUND(E18*F18,2) -> 0 | I18: =IF(B18<>"",1*YEAR(B18),"") | J18: =IF(B18>0, MIN( H18, IF(M$7>YEAR(B18), (M$7-YEAR(B18) -1) *12 + 12- MONTH(B18)+1, 0) ), "") | K18: =IF(E18>0,ROUND(E18/H18*12*INT(J18/12),2 )+ROUND(E18/H18*MOD(J18,12),2 ),0) -> 0 | L18: =E18-K18 -> 0 | M18: =IF( H18>0, IF( I18=$M$7, 12-MONTH(B18)+1, MIN(12,H18-J18) ), "") | N18: =IF(H18>0, IF( H18-J18=M18, L18, ROUND($E18/$H18*M18,2) ), 0) -> 0 | O18: =L18-N18 -> 0 | R18: Was abgeschrieben wird, darf nicht zusätzlich in der Tabelle "Ausgaben" stehen.
A19: 10 | G19: =ROUND(E19*F19,2) -> 0 | I19: =IF(B19<>"",1*YEAR(B19),"") | J19: =IF(B19>0, MIN( H19, IF(M$7>YEAR(B19), (M$7-YEAR(B19) -1) *12 + 12- MONTH(B19)+1, 0) ), "") | K19: =IF(E19>0,ROUND(E19/H19*12*INT(J19/12),2 )+ROUND(E19/H19*MOD(J19,12),2 ),0) -> 0 | L19: =E19-K19 -> 0 | M19: =IF( H19>0, IF( I19=$M$7, 12-MONTH(B19)+1, MIN(12,H19-J19) ), "") | N19: =IF(H19>0, IF( H19-J19=M19, L19, ROUND($E19/$H19*M19,2) ), 0) -> 0 | O19: =L19-N19 -> 0 | R19: In die gelben Felder wird eingegeben. Gedruckt wird schwarz-weiß.
A20: 11 | G20: =ROUND(E20*F20,2) -> 0 | I20: =IF(B20<>"",1*YEAR(B20),"") | J20: =IF(B20>0, MIN( H20, IF(M$7>YEAR(B20), (M$7-YEAR(B20) -1) *12 + 12- MONTH(B20)+1, 0) ), "") | K20: =IF(E20>0,ROUND(E20/H20*12*INT(J20/12),2 )+ROUND(E20/H20*MOD(J20,12),2 ),0) -> 0 | L20: =E20-K20 -> 0 | M20: =IF( H20>0, IF( I20=$M$7, 12-MONTH(B20)+1, MIN(12,H20-J20) ), "") | N20: =IF(H20>0, IF( H20-J20=M20, L20, ROUND($E20/$H20*M20,2) ), 0) -> 0 | O20: =L20-N20 -> 0 | R20: Abgeschrieben wird der Nettobetrag.
A21: 12 | G21: =ROUND(E21*F21,2) -> 0 | I21: =IF(B21<>"",1*YEAR(B21),"") | J21: =IF(B21>0, MIN( H21, IF(M$7>YEAR(B21), (M$7-YEAR(B21) -1) *12 + 12- MONTH(B21)+1, 0) ), "") | K21: =IF(E21>0,ROUND(E21/H21*12*INT(J21/12),2 )+ROUND(E21/H21*MOD(J21,12),2 ),0) -> 0 | L21: =E21-K21 -> 0 | M21: =IF( H21>0, IF( I21=$M$7, 12-MONTH(B21)+1, MIN(12,H21-J21) ), "") | N21: =IF(H21>0, IF( H21-J21=M21, L21, ROUND($E21/$H21*M21,2) ), 0) -> 0 | O21: =L21-N21 -> 0 | R21: Die Abschreibung muss ab 2004 monatsgenau berechnet werden.
A22: 13 | G22: =ROUND(E22*F22,2) -> 0 | I22: =IF(B22<>"",1*YEAR(B22),"") | J22: =IF(B22>0, MIN( H22, IF(M$7>YEAR(B22), (M$7-YEAR(B22) -1) *12 + 12- MONTH(B22)+1, 0) ), "") | K22: =IF(E22>0,ROUND(E22/H22*12*INT(J22/12),2 )+ROUND(E22/H22*MOD(J22,12),2 ),0) -> 0 | L22: =E22-K22 -> 0 | M22: =IF( H22>0, IF( I22=$M$7, 12-MONTH(B22)+1, MIN(12,H22-J22) ), "") | N22: =IF(H22>0, IF( H22-J22=M22, L22, ROUND($E22/$H22*M22,2) ), 0) -> 0 | O22: =L22-N22 -> 0 | R22: Die MwSt. gehört komplett in den Anschaffungsmonat.
A23: 14 | G23: =ROUND(E23*F23,2) -> 0 | I23: =IF(B23<>"",1*YEAR(B23),"") | J23: =IF(B23>0, MIN( H23, IF(M$7>YEAR(B23), (M$7-YEAR(B23) -1) *12 + 12- MONTH(B23)+1, 0) ), "") | K23: =IF(E23>0,ROUND(E23/H23*12*INT(J23/12),2 )+ROUND(E23/H23*MOD(J23,12),2 ),0) -> 0 | L23: =E23-K23 -> 0 | M23: =IF( H23>0, IF( I23=$M$7, 12-MONTH(B23)+1, MIN(12,H23-J23) ), "") | N23: =IF(H23>0, IF( H23-J23=M23, L23, ROUND($E23/$H23*M23,2) ), 0) -> 0 | O23: =L23-N23 -> 0
A24: 15 | G24: =ROUND(E24*F24,2) -> 0 | I24: =IF(B24<>"",1*YEAR(B24),"") | J24: =IF(B24>0, MIN( H24, IF(M$7>YEAR(B24), (M$7-YEAR(B24) -1) *12 + 12- MONTH(B24)+1, 0) ), "") | K24: =IF(E24>0,ROUND(E24/H24*12*INT(J24/12),2 )+ROUND(E24/H24*MOD(J24,12),2 ),0) -> 0 | L24: =E24-K24 -> 0 | M24: =IF( H24>0, IF( I24=$M$7, 12-MONTH(B24)+1, MIN(12,H24-J24) ), "") | N24: =IF(H24>0, IF( H24-J24=M24, L24, ROUND($E24/$H24*M24,2) ), 0) -> 0 | O24: =L24-N24 -> 0 | R24: Ein Verkauf von Wirtschaftsgütern vor Ende der Abschreibung bzw. Nutzungsdauer ist in dieser Tabelle nicht berücksichtigt.
A25: 16 | G25: =ROUND(E25*F25,2) -> 0 | I25: =IF(B25<>"",1*YEAR(B25),"") | J25: =IF(B25>0, MIN( H25, IF(M$7>YEAR(B25), (M$7-YEAR(B25) -1) *12 + 12- MONTH(B25)+1, 0) ), "") | K25: =IF(E25>0,ROUND(E25/H25*12*INT(J25/12),2 )+ROUND(E25/H25*MOD(J25,12),2 ),0) -> 0 | L25: =E25-K25 -> 0 | M25: =IF( H25>0, IF( I25=$M$7, 12-MONTH(B25)+1, MIN(12,H25-J25) ), "") | N25: =IF(H25>0, IF( H25-J25=M25, L25, ROUND($E25/$H25*M25,2) ), 0) -> 0 | O25: =L25-N25 -> 0 | R25: Er muss im Blatt 'Einnahmen' fesgehalten werden.
