Workbook

Sheet Duplik1
D1: T1A1 | E1: T1B1 | F1: T1C1 | H1: =COUNTIF(Duplik2!$D$1:$F$14,Duplik1!D1) -> 0 | I1: =COUNTIF(Duplik2!$D$1:$F$14,Duplik1!E1) -> 0 | J1: =COUNTIF(Duplik2!$D$1:$F$14,Duplik1!F1) -> 0 | O1: =IFERROR(IF(COUNTIF(Duplik2!$D$1:$F$22,Duplik1!D1)>0,"Duplik2!D"&MATCH(Duplik1!D1,Duplik2!$D$1:$D$22,0),"."),"-") &IFERROR(IF(COUNTIF(Duplik2!$D$1:$F$22,Duplik1!D1)>0,"Duplik2!E"&MATCH(Duplik1!D1,Duplik2!$E$1:$E$22,0),"."),"-") &IFERROR(IF(COUNTIF(Duplik2!$D$1:$F$22,Duplik1!D1)>0,"Duplik2!F"&MATCH(Duplik1!D1,Duplik2!$F$1:$F$22,0),"."),"-") -> ... | P1: =IFERROR(IF(COUNTIF(Duplik2!$D$1:$F$22,Duplik1!E1)>0,"Duplik2!D"&MATCH(Duplik1!E1,Duplik2!$D$1:$D$22,0),"."),"-") &IFERROR(IF(COUNTIF(Duplik2!$D$1:$F$22,Duplik1!E1)>0,"Duplik2!E"&MATCH(Duplik1!E1,Duplik2!$E$1:$E$22,0),"."),"-") &IFERROR(IF(COUNTIF(Duplik2!$D$1:$F$22,Duplik1!E1)>0,"Duplik2!F"&MATCH(Duplik1!E1,Duplik2!$F$1:$F$22,0),"."),"-") -> ... | Q1: =IFERROR(IF(COUNTIF(Duplik2!$D$1:$F$22,Duplik1!F1)>0,"Duplik2!D"&MATCH(Duplik1!F1,Duplik2!$D$1:$D$22,0),"."),"-") &IFERROR(IF(COUNTIF(Duplik2!$D$1:$F$22,Duplik1!F1)>0,"Duplik2!E"&MATCH(Duplik1!F1,Duplik2!$E$1:$E$22,0),"."),"-") &IFERROR(IF(COUNTIF(Duplik2!$D$1:$F$22,Duplik1!F1)>0,"Duplik2!F"&MATCH(Duplik1!F1,Duplik2!$F$1:$F$22,0),"."),"-") -> ... | S1: =IFERROR(IF(COUNTIF(Duplik2!$D$1:$D$22,Duplik1!D1)>0,"Duplik2!D"&MATCH(Duplik1!D1,Duplik2!D$1:D$22,0),"."),"-") -> .
D2: T1_A2 | E2: T1B2 | F2: T1C2 | H2: =COUNTIF(Duplik2!$D$1:$F$14,Duplik1!D2) -> 1 | I2: =COUNTIF(Duplik2!$D$1:$F$14,Duplik1!E2) -> 0 | J2: =COUNTIF(Duplik2!$D$1:$F$14,Duplik1!F2) -> 0 | O2: =IFERROR(IF(COUNTIF(Duplik2!$D$1:$F$22,Duplik1!D2)>0,"Duplik2!D"&MATCH(Duplik1!D2,Duplik2!$D$1:$D$22,0),"."),"-") &IFERROR(IF(COUNTIF(Duplik2!$D$1:$F$22,Duplik1!D2)>0,"Duplik2!E"&MATCH(Duplik1!D2,Duplik2!$E$1:$E$22,0),"."),"-") &IFERROR(IF(COUNTIF(Duplik2!$D$1:$F$22,Duplik1!D2)>0,"Duplik2!F"&MATCH(Duplik1!D2,Duplik2!$F$1:$F$22,0),"."),"-") -> Duplik2!D9-- | P2: =IFERROR(IF(COUNTIF(Duplik2!$D$1:$F$22,Duplik1!E2)>0,"Duplik2!D"&MATCH(Duplik1!E2,Duplik2!$D$1:$D$22,0),"."),"-") &IFERROR(IF(COUNTIF(Duplik2!$D$1:$F$22,Duplik1!E2)>0,"Duplik2!E"&MATCH(Duplik1!E2,Duplik2!$E$1:$E$22,0),"."),"-") &IFERROR(IF(COUNTIF(Duplik2!$D$1:$F$22,Duplik1!E2)>0,"Duplik2!F"&MATCH(Duplik1!E2,Duplik2!$F$1:$F$22,0),"."),"-") -> ... | Q2: =IFERROR(IF(COUNTIF(Duplik2!$D$1:$F$22,Duplik1!F2)>0,"Duplik2!D"&MATCH(Duplik1!F2,Duplik2!$D$1:$D$22,0),"."),"-") &IFERROR(IF(COUNTIF(Duplik2!$D$1:$F$22,Duplik1!F2)>0,"Duplik2!E"&MATCH(Duplik1!F2,Duplik2!$E$1:$E$22,0),"."),"-") &IFERROR(IF(COUNTIF(Duplik2!$D$1:$F$22,Duplik1!F2)>0,"Duplik2!F"&MATCH(Duplik1!F2,Duplik2!$F$1:$F$22,0),"."),"-") -> ... | S2: =IFERROR(IF(COUNTIF(Duplik2!$D$1:$D$22,Duplik1!D2)>0,"Duplik2!D"&MATCH(Duplik1!D2,Duplik2!D$1:D$22,0),"."),"-") -> Duplik2!D9
D3: T1A3 | F3: T1C3 | H3: =COUNTIF(Duplik2!$D$1:$F$14,Duplik1!D3) -> 0 | I3: =COUNTIF(Duplik2!$D$1:$F$14,Duplik1!E3) -> 0 | J3: =COUNTIF(Duplik2!$D$1:$F$14,Duplik1!F3) -> 0 | O3: =IFERROR(IF(COUNTIF(Duplik2!$D$1:$F$22,Duplik1!D3)>0,"Duplik2!D"&MATCH(Duplik1!D3,Duplik2!$D$1:$D$22,0),"."),"-") &IFERROR(IF(COUNTIF(Duplik2!$D$1:$F$22,Duplik1!D3)>0,"Duplik2!E"&MATCH(Duplik1!D3,Duplik2!$E$1:$E$22,0),"."),"-") &IFERROR(IF(COUNTIF(Duplik2!$D$1:$F$22,Duplik1!D3)>0,"Duplik2!F"&MATCH(Duplik1!D3,Duplik2!$F$1:$F$22,0),"."),"-") -> ... | P3: =IFERROR(IF(COUNTIF(Duplik2!$D$1:$F$22,Duplik1!E3)>0,"Duplik2!D"&MATCH(Duplik1!E3,Duplik2!$D$1:$D$22,0),"."),"-") &IFERROR(IF(COUNTIF(Duplik2!$D$1:$F$22,Duplik1!E3)>0,"Duplik2!E"&MATCH(Duplik1!E3,Duplik2!$E$1:$E$22,0),"."),"-") &IFERROR(IF(COUNTIF(Duplik2!$D$1:$F$22,Duplik1!E3)>0,"Duplik2!F"&MATCH(Duplik1!E3,Duplik2!$F$1:$F$22,0),"."),"-") -> ... | Q3: =IFERROR(IF(COUNTIF(Duplik2!$D$1:$F$22,Duplik1!F3)>0,"Duplik2!D"&MATCH(Duplik1!F3,Duplik2!$D$1:$D$22,0),"."),"-") &IFERROR(IF(COUNTIF(Duplik2!$D$1:$F$22,Duplik1!F3)>0,"Duplik2!E"&MATCH(Duplik1!F3,Duplik2!$E$1:$E$22,0),"."),"-") &IFERROR(IF(COUNTIF(Duplik2!$D$1:$F$22,Duplik1!F3)>0,"Duplik2!F"&MATCH(Duplik1!F3,Duplik2!$F$1:$F$22,0),"."),"-") -> ... | S3: =IFERROR(IF(COUNTIF(Duplik2!$D$1:$D$22,Duplik1!D3)>0,"Duplik2!D"&MATCH(Duplik1!D3,Duplik2!D$1:D$22,0),"."),"-") -> .
D4: T1A4 | E4: T1B4 | F4: T1C4 | H4: =COUNTIF(Duplik2!$D$1:$F$14,Duplik1!D4) -> 0 | I4: =COUNTIF(Duplik2!$D$1:$F$14,Duplik1!E4) -> 0 | J4: =COUNTIF(Duplik2!$D$1:$F$14,Duplik1!F4) -> 0 | O4: =IFERROR(IF(COUNTIF(Duplik2!$D$1:$F$22,Duplik1!D4)>0,"Duplik2!D"&MATCH(Duplik1!D4,Duplik2!$D$1:$D$22,0),"."),"-") &IFERROR(IF(COUNTIF(Duplik2!$D$1:$F$22,Duplik1!D4)>0,"Duplik2!E"&MATCH(Duplik1!D4,Duplik2!$E$1:$E$22,0),"."),"-") &IFERROR(IF(COUNTIF(Duplik2!$D$1:$F$22,Duplik1!D4)>0,"Duplik2!F"&MATCH(Duplik1!D4,Duplik2!$F$1:$F$22,0),"."),"-") -> ... | P4: =IFERROR(IF(COUNTIF(Duplik2!$D$1:$F$22,Duplik1!E4)>0,"Duplik2!D"&MATCH(Duplik1!E4,Duplik2!$D$1:$D$22,0),"."),"-") &IFERROR(IF(COUNTIF(Duplik2!$D$1:$F$22,Duplik1!E4)>0,"Duplik2!E"&MATCH(Duplik1!E4,Duplik2!$E$1:$E$22,0),"."),"-") &IFERROR(IF(COUNTIF(Duplik2!$D$1:$F$22,Duplik1!E4)>0,"Duplik2!F"&MATCH(Duplik1!E4,Duplik2!$F$1:$F$22,0),"."),"-") -> ... | Q4: =IFERROR(IF(COUNTIF(Duplik2!$D$1:$F$22,Duplik1!F4)>0,"Duplik2!D"&MATCH(Duplik1!F4,Duplik2!$D$1:$D$22,0),"."),"-") &IFERROR(IF(COUNTIF(Duplik2!$D$1:$F$22,Duplik1!F4)>0,"Duplik2!E"&MATCH(Duplik1!F4,Duplik2!$E$1:$E$22,0),"."),"-") &IFERROR(IF(COUNTIF(Duplik2!$D$1:$F$22,Duplik1!F4)>0,"Duplik2!F"&MATCH(Duplik1!F4,Duplik2!$F$1:$F$22,0),"."),"-") -> ... | S4: =IFERROR(IF(COUNTIF(Duplik2!$D$1:$D$22,Duplik1!D4)>0,"Duplik2!D"&MATCH(Duplik1!D4,Duplik2!D$1:D$22,0),"."),"-") -> .
D5: T1A5 | E5: T_2C3 | F5: T1C5 | H5: =COUNTIF(Duplik2!$D$1:$F$14,Duplik1!D5) -> 0 | I5: =COUNTIF(Duplik2!$D$1:$F$14,Duplik1!E5) -> 1 | J5: =COUNTIF(Duplik2!$D$1:$F$14,Duplik1!F5) -> 0 | O5: =IFERROR(IF(COUNTIF(Duplik2!$D$1:$F$22,Duplik1!D5)>0,"Duplik2!D"&MATCH(Duplik1!D5,Duplik2!$D$1:$D$22,0),"."),"-") &IFERROR(IF(COUNTIF(Duplik2!$D$1:$F$22,Duplik1!D5)>0,"Duplik2!E"&MATCH(Duplik1!D5,Duplik2!$E$1:$E$22,0),"."),"-") &IFERROR(IF(COUNTIF(Duplik2!$D$1:$F$22,Duplik1!D5)>0,"Duplik2!F"&MATCH(Duplik1!D5,Duplik2!$F$1:$F$22,0),"."),"-") -> ... | P5: =IFERROR(IF(COUNTIF(Duplik2!$D$1:$F$22,Duplik1!E5)>0,"Duplik2!D"&MATCH(Duplik1!E5,Duplik2!$D$1:$D$22,0),"."),"-") &IFERROR(IF(COUNTIF(Duplik2!$D$1:$F$22,Duplik1!E5)>0,"Duplik2!E"&MATCH(Duplik1!E5,Duplik2!$E$1:$E$22,0),"."),"-") &IFERROR(IF(COUNTIF(Duplik2!$D$1:$F$22,Duplik1!E5)>0,"Duplik2!F"&MATCH(Duplik1!E5,Duplik2!$F$1:$F$22,0),"."),"-") -> --Duplik2!F3 | Q5: =IFERROR(IF(COUNTIF(Duplik2!$D$1:$F$22,Duplik1!F5)>0,"Duplik2!D"&MATCH(Duplik1!F5,Duplik2!$D$1:$D$22,0),"."),"-") &IFERROR(IF(COUNTIF(Duplik2!$D$1:$F$22,Duplik1!F5)>0,"Duplik2!E"&MATCH(Duplik1!F5,Duplik2!$E$1:$E$22,0),"."),"-") &IFERROR(IF(COUNTIF(Duplik2!$D$1:$F$22,Duplik1!F5)>0,"Duplik2!F"&MATCH(Duplik1!F5,Duplik2!$F$1:$F$22,0),"."),"-") -> ... | S5: =IFERROR(IF(COUNTIF(Duplik2!$D$1:$D$22,Duplik1!D5)>0,"Duplik2!D"&MATCH(Duplik1!D5,Duplik2!D$1:D$22,0),"."),"-") -> .
D6: T1A6 | E6: T1B6 | F6: T1C6 | H6: =COUNTIF(Duplik2!$D$1:$F$14,Duplik1!D6) -> 0 | I6: =COUNTIF(Duplik2!$D$1:$F$14,Duplik1!E6) -> 0 | J6: =COUNTIF(Duplik2!$D$1:$F$14,Duplik1!F6) -> 0 | O6: =IFERROR(IF(COUNTIF(Duplik2!$D$1:$F$22,Duplik1!D6)>0,"Duplik2!D"&MATCH(Duplik1!D6,Duplik2!$D$1:$D$22,0),"."),"-") &IFERROR(IF(COUNTIF(Duplik2!$D$1:$F$22,Duplik1!D6)>0,"Duplik2!E"&MATCH(Duplik1!D6,Duplik2!$E$1:$E$22,0),"."),"-") &IFERROR(IF(COUNTIF(Duplik2!$D$1:$F$22,Duplik1!D6)>0,"Duplik2!F"&MATCH(Duplik1!D6,Duplik2!$F$1:$F$22,0),"."),"-") -> ... | P6: =IFERROR(IF(COUNTIF(Duplik2!$D$1:$F$22,Duplik1!E6)>0,"Duplik2!D"&MATCH(Duplik1!E6,Duplik2!$D$1:$D$22,0),"."),"-") &IFERROR(IF(COUNTIF(Duplik2!$D$1:$F$22,Duplik1!E6)>0,"Duplik2!E"&MATCH(Duplik1!E6,Duplik2!$E$1:$E$22,0),"."),"-") &IFERROR(IF(COUNTIF(Duplik2!$D$1:$F$22,Duplik1!E6)>0,"Duplik2!F"&MATCH(Duplik1!E6,Duplik2!$F$1:$F$22,0),"."),"-") -> ... | Q6: =IFERROR(IF(COUNTIF(Duplik2!$D$1:$F$22,Duplik1!F6)>0,"Duplik2!D"&MATCH(Duplik1!F6,Duplik2!$D$1:$D$22,0),"."),"-") &IFERROR(IF(COUNTIF(Duplik2!$D$1:$F$22,Duplik1!F6)>0,"Duplik2!E"&MATCH(Duplik1!F6,Duplik2!$E$1:$E$22,0),"."),"-") &IFERROR(IF(COUNTIF(Duplik2!$D$1:$F$22,Duplik1!F6)>0,"Duplik2!F"&MATCH(Duplik1!F6,Duplik2!$F$1:$F$22,0),"."),"-") -> ... | S6: =IFERROR(IF(COUNTIF(Duplik2!$D$1:$D$22,Duplik1!D6)>0,"Duplik2!D"&MATCH(Duplik1!D6,Duplik2!D$1:D$22,0),"."),"-") -> .
D7: T1A7 | E7: T1B7 | F7: T1C7 | H7: =COUNTIF(Duplik2!$D$1:$F$14,Duplik1!D7) -> 0 | I7: =COUNTIF(Duplik2!$D$1:$F$14,Duplik1!E7) -> 0 | J7: =COUNTIF(Duplik2!$D$1:$F$14,Duplik1!F7) -> 0 | O7: =IFERROR(IF(COUNTIF(Duplik2!$D$1:$F$22,Duplik1!D7)>0,"Duplik2!D"&MATCH(Duplik1!D7,Duplik2!$D$1:$D$22,0),"."),"-") &IFERROR(IF(COUNTIF(Duplik2!$D$1:$F$22,Duplik1!D7)>0,"Duplik2!E"&MATCH(Duplik1!D7,Duplik2!$E$1:$E$22,0),"."),"-") &IFERROR(IF(COUNTIF(Duplik2!$D$1:$F$22,Duplik1!D7)>0,"Duplik2!F"&MATCH(Duplik1!D7,Duplik2!$F$1:$F$22,0),"."),"-") -> ... | P7: =IFERROR(IF(COUNTIF(Duplik2!$D$1:$F$22,Duplik1!E7)>0,"Duplik2!D"&MATCH(Duplik1!E7,Duplik2!$D$1:$D$22,0),"."),"-") &IFERROR(IF(COUNTIF(Duplik2!$D$1:$F$22,Duplik1!E7)>0,"Duplik2!E"&MATCH(Duplik1!E7,Duplik2!$E$1:$E$22,0),"."),"-") &IFERROR(IF(COUNTIF(Duplik2!$D$1:$F$22,Duplik1!E7)>0,"Duplik2!F"&MATCH(Duplik1!E7,Duplik2!$F$1:$F$22,0),"."),"-") -> ... | Q7: =IFERROR(IF(COUNTIF(Duplik2!$D$1:$F$22,Duplik1!F7)>0,"Duplik2!D"&MATCH(Duplik1!F7,Duplik2!$D$1:$D$22,0),"."),"-") &IFERROR(IF(COUNTIF(Duplik2!$D$1:$F$22,Duplik1!F7)>0,"Duplik2!E"&MATCH(Duplik1!F7,Duplik2!$E$1:$E$22,0),"."),"-") &IFERROR(IF(COUNTIF(Duplik2!$D$1:$F$22,Duplik1!F7)>0,"Duplik2!F"&MATCH(Duplik1!F7,Duplik2!$F$1:$F$22,0),"."),"-") -> ... | S7: =IFERROR(IF(COUNTIF(Duplik2!$D$1:$D$22,Duplik1!D7)>0,"Duplik2!D"&MATCH(Duplik1!D7,Duplik2!D$1:D$22,0),"."),"-") -> .
D8: T_2B6 | E8: T1B8 | F8: T1C8 | H8: =COUNTIF(Duplik2!$D$1:$F$14,Duplik1!D8) -> 1 | I8: =COUNTIF(Duplik2!$D$1:$F$14,Duplik1!E8) -> 0 | J8: =COUNTIF(Duplik2!$D$1:$F$14,Duplik1!F8) -> 0 | O8: =IFERROR(IF(COUNTIF(Duplik2!$D$1:$F$22,Duplik1!D8)>0,"Duplik2!D"&MATCH(Duplik1!D8,Duplik2!$D$1:$D$22,0),"."),"-") &IFERROR(IF(COUNTIF(Duplik2!$D$1:$F$22,Duplik1!D8)>0,"Duplik2!E"&MATCH(Duplik1!D8,Duplik2!$E$1:$E$22,0),"."),"-") &IFERROR(IF(COUNTIF(Duplik2!$D$1:$F$22,Duplik1!D8)>0,"Duplik2!F"&MATCH(Duplik1!D8,Duplik2!$F$1:$F$22,0),"."),"-") -> -Duplik2!E6- | P8: =IFERROR(IF(COUNTIF(Duplik2!$D$1:$F$22,Duplik1!E8)>0,"Duplik2!D"&MATCH(Duplik1!E8,Duplik2!$D$1:$D$22,0),"."),"-") &IFERROR(IF(COUNTIF(Duplik2!$D$1:$F$22,Duplik1!E8)>0,"Duplik2!E"&MATCH(Duplik1!E8,Duplik2!$E$1:$E$22,0),"."),"-") &IFERROR(IF(COUNTIF(Duplik2!$D$1:$F$22,Duplik1!E8)>0,"Duplik2!F"&MATCH(Duplik1!E8,Duplik2!$F$1:$F$22,0),"."),"-") -> ... | Q8: =IFERROR(IF(COUNTIF(Duplik2!$D$1:$F$22,Duplik1!F8)>0,"Duplik2!D"&MATCH(Duplik1!F8,Duplik2!$D$1:$D$22,0),"."),"-") &IFERROR(IF(COUNTIF(Duplik2!$D$1:$F$22,Duplik1!F8)>0,"Duplik2!E"&MATCH(Duplik1!F8,Duplik2!$E$1:$E$22,0),"."),"-") &IFERROR(IF(COUNTIF(Duplik2!$D$1:$F$22,Duplik1!F8)>0,"Duplik2!F"&MATCH(Duplik1!F8,Duplik2!$F$1:$F$22,0),"."),"-") -> ... | S8: =IFERROR(IF(COUNTIF(Duplik2!$D$1:$D$22,Duplik1!D8)>0,"Duplik2!D"&MATCH(Duplik1!D8,Duplik2!D$1:D$22,0),"."),"-") -> .
D9: T1A9 | E9: T1B9 | F9: T1C9 | H9: =COUNTIF(Duplik2!$D$1:$F$14,Duplik1!D9) -> 0 | I9: =COUNTIF(Duplik2!$D$1:$F$14,Duplik1!E9) -> 0 | J9: =COUNTIF(Duplik2!$D$1:$F$14,Duplik1!F9) -> 0 | O9: =IFERROR(IF(COUNTIF(Duplik2!$D$1:$F$22,Duplik1!D9)>0,"Duplik2!D"&MATCH(Duplik1!D9,Duplik2!$D$1:$D$22,0),"."),"-") &IFERROR(IF(COUNTIF(Duplik2!$D$1:$F$22,Duplik1!D9)>0,"Duplik2!E"&MATCH(Duplik1!D9,Duplik2!$E$1:$E$22,0),"."),"-") &IFERROR(IF(COUNTIF(Duplik2!$D$1:$F$22,Duplik1!D9)>0,"Duplik2!F"&MATCH(Duplik1!D9,Duplik2!$F$1:$F$22,0),"."),"-") -> ... | P9: =IFERROR(IF(COUNTIF(Duplik2!$D$1:$F$22,Duplik1!E9)>0,"Duplik2!D"&MATCH(Duplik1!E9,Duplik2!$D$1:$D$22,0),"."),"-") &IFERROR(IF(COUNTIF(Duplik2!$D$1:$F$22,Duplik1!E9)>0,"Duplik2!E"&MATCH(Duplik1!E9,Duplik2!$E$1:$E$22,0),"."),"-") &IFERROR(IF(COUNTIF(Duplik2!$D$1:$F$22,Duplik1!E9)>0,"Duplik2!F"&MATCH(Duplik1!E9,Duplik2!$F$1:$F$22,0),"."),"-") -> ... | Q9: =IFERROR(IF(COUNTIF(Duplik2!$D$1:$F$22,Duplik1!F9)>0,"Duplik2!D"&MATCH(Duplik1!F9,Duplik2!$D$1:$D$22,0),"."),"-") &IFERROR(IF(COUNTIF(Duplik2!$D$1:$F$22,Duplik1!F9)>0,"Duplik2!E"&MATCH(Duplik1!F9,Duplik2!$E$1:$E$22,0),"."),"-") &IFERROR(IF(COUNTIF(Duplik2!$D$1:$F$22,Duplik1!F9)>0,"Duplik2!F"&MATCH(Duplik1!F9,Duplik2!$F$1:$F$22,0),"."),"-") -> ... | S9: =IFERROR(IF(COUNTIF(Duplik2!$D$1:$D$22,Duplik1!D9)>0,"Duplik2!D"&MATCH(Duplik1!D9,Duplik2!D$1:D$22,0),"."),"-") -> .
D10: T1A10 | E10: T1B10 | F10: T1C10 | H10: =COUNTIF(Duplik2!$D$1:$F$14,Duplik1!D10) -> 0 | I10: =COUNTIF(Duplik2!$D$1:$F$14,Duplik1!E10) -> 0 | J10: =COUNTIF(Duplik2!$D$1:$F$14,Duplik1!F10) -> 0 | O10: =IFERROR(IF(COUNTIF(Duplik2!$D$1:$F$22,Duplik1!D10)>0,"Duplik2!D"&MATCH(Duplik1!D10,Duplik2!$D$1:$D$22,0),"."),"-") &IFERROR(IF(COUNTIF(Duplik2!$D$1:$F$22,Duplik1!D10)>0,"Duplik2!E"&MATCH(Duplik1!D10,Duplik2!$E$1:$E$22,0),"."),"-") &IFERROR(IF(COUNTIF(Duplik2!$D$1:$F$22,Duplik1!D10)>0,"Duplik2!F"&MATCH(Duplik1!D10,Duplik2!$F$1:$F$22,0),"."),"-") -> ... | P10: =IFERROR(IF(COUNTIF(Duplik2!$D$1:$F$22,Duplik1!E10)>0,"Duplik2!D"&MATCH(Duplik1!E10,Duplik2!$D$1:$D$22,0),"."),"-") &IFERROR(IF(COUNTIF(Duplik2!$D$1:$F$22,Duplik1!E10)>0,"Duplik2!E"&MATCH(Duplik1!E10,Duplik2!$E$1:$E$22,0),"."),"-") &IFERROR(IF(COUNTIF(Duplik2!$D$1:$F$22,Duplik1!E10)>0,"Duplik2!F"&MATCH(Duplik1!E10,Duplik2!$F$1:$F$22,0),"."),"-") -> ... | Q10: =IFERROR(IF(COUNTIF(Duplik2!$D$1:$F$22,Duplik1!F10)>0,"Duplik2!D"&MATCH(Duplik1!F10,Duplik2!$D$1:$D$22,0),"."),"-") &IFERROR(IF(COUNTIF(Duplik2!$D$1:$F$22,Duplik1!F10)>0,"Duplik2!E"&MATCH(Duplik1!F10,Duplik2!$E$1:$E$22,0),"."),"-") &IFERROR(IF(COUNTIF(Duplik2!$D$1:$F$22,Duplik1!F10)>0,"Duplik2!F"&MATCH(Duplik1!F10,Duplik2!$F$1:$F$22,0),"."),"-") -> ... | S10: =IFERROR(IF(COUNTIF(Duplik2!$D$1:$D$22,Duplik1!D10)>0,"Duplik2!D"&MATCH(Duplik1!D10,Duplik2!D$1:D$22,0),"."),"-") -> .
D11: T1A11 | E11: T1B11 | F11: T1C11 | H11: =COUNTIF(Duplik2!$D$1:$F$14,Duplik1!D11) -> 0 | I11: =COUNTIF(Duplik2!$D$1:$F$14,Duplik1!E11) -> 0 | J11: =COUNTIF(Duplik2!$D$1:$F$14,Duplik1!F11) -> 0 | O11: =IFERROR(IF(COUNTIF(Duplik2!$D$1:$F$22,Duplik1!D11)>0,"Duplik2!D"&MATCH(Duplik1!D11,Duplik2!$D$1:$D$22,0),"."),"-") &IFERROR(IF(COUNTIF(Duplik2!$D$1:$F$22,Duplik1!D11)>0,"Duplik2!E"&MATCH(Duplik1!D11,Duplik2!$E$1:$E$22,0),"."),"-") &IFERROR(IF(COUNTIF(Duplik2!$D$1:$F$22,Duplik1!D11)>0,"Duplik2!F"&MATCH(Duplik1!D11,Duplik2!$F$1:$F$22,0),"."),"-") -> ... | P11: =IFERROR(IF(COUNTIF(Duplik2!$D$1:$F$22,Duplik1!E11)>0,"Duplik2!D"&MATCH(Duplik1!E11,Duplik2!$D$1:$D$22,0),"."),"-") &IFERROR(IF(COUNTIF(Duplik2!$D$1:$F$22,Duplik1!E11)>0,"Duplik2!E"&MATCH(Duplik1!E11,Duplik2!$E$1:$E$22,0),"."),"-") &IFERROR(IF(COUNTIF(Duplik2!$D$1:$F$22,Duplik1!E11)>0,"Duplik2!F"&MATCH(Duplik1!E11,Duplik2!$F$1:$F$22,0),"."),"-") -> ... | Q11: =IFERROR(IF(COUNTIF(Duplik2!$D$1:$F$22,Duplik1!F11)>0,"Duplik2!D"&MATCH(Duplik1!F11,Duplik2!$D$1:$D$22,0),"."),"-") &IFERROR(IF(COUNTIF(Duplik2!$D$1:$F$22,Duplik1!F11)>0,"Duplik2!E"&MATCH(Duplik1!F11,Duplik2!$E$1:$E$22,0),"."),"-") &IFERROR(IF(COUNTIF(Duplik2!$D$1:$F$22,Duplik1!F11)>0,"Duplik2!F"&MATCH(Duplik1!F11,Duplik2!$F$1:$F$22,0),"."),"-") -> ... | S11: =IFERROR(IF(COUNTIF(Duplik2!$D$1:$D$22,Duplik1!D11)>0,"Duplik2!D"&MATCH(Duplik1!D11,Duplik2!D$1:D$22,0),"."),"-") -> .
D12: T1A12 | E12: T1B12 | F12: T1C12 | H12: =COUNTIF(Duplik2!$D$1:$F$14,Duplik1!D12) -> 0 | I12: =COUNTIF(Duplik2!$D$1:$F$14,Duplik1!E12) -> 0 | J12: =COUNTIF(Duplik2!$D$1:$F$14,Duplik1!F12) -> 0 | O12: =IFERROR(IF(COUNTIF(Duplik2!$D$1:$F$22,Duplik1!D12)>0,"Duplik2!D"&MATCH(Duplik1!D12,Duplik2!$D$1:$D$22,0),"."),"-") &IFERROR(IF(COUNTIF(Duplik2!$D$1:$F$22,Duplik1!D12)>0,"Duplik2!E"&MATCH(Duplik1!D12,Duplik2!$E$1:$E$22,0),"."),"-") &IFERROR(IF(COUNTIF(Duplik2!$D$1:$F$22,Duplik1!D12)>0,"Duplik2!F"&MATCH(Duplik1!D12,Duplik2!$F$1:$F$22,0),"."),"-") -> ... | P12: =IFERROR(IF(COUNTIF(Duplik2!$D$1:$F$22,Duplik1!E12)>0,"Duplik2!D"&MATCH(Duplik1!E12,Duplik2!$D$1:$D$22,0),"."),"-") &IFERROR(IF(COUNTIF(Duplik2!$D$1:$F$22,Duplik1!E12)>0,"Duplik2!E"&MATCH(Duplik1!E12,Duplik2!$E$1:$E$22,0),"."),"-") &IFERROR(IF(COUNTIF(Duplik2!$D$1:$F$22,Duplik1!E12)>0,"Duplik2!F"&MATCH(Duplik1!E12,Duplik2!$F$1:$F$22,0),"."),"-") -> ... | Q12: =IFERROR(IF(COUNTIF(Duplik2!$D$1:$F$22,Duplik1!F12)>0,"Duplik2!D"&MATCH(Duplik1!F12,Duplik2!$D$1:$D$22,0),"."),"-") &IFERROR(IF(COUNTIF(Duplik2!$D$1:$F$22,Duplik1!F12)>0,"Duplik2!E"&MATCH(Duplik1!F12,Duplik2!$E$1:$E$22,0),"."),"-") &IFERROR(IF(COUNTIF(Duplik2!$D$1:$F$22,Duplik1!F12)>0,"Duplik2!F"&MATCH(Duplik1!F12,Duplik2!$F$1:$F$22,0),"."),"-") -> ... | S12: =IFERROR(IF(COUNTIF(Duplik2!$D$1:$D$22,Duplik1!D12)>0,"Duplik2!D"&MATCH(Duplik1!D12,Duplik2!D$1:D$22,0),"."),"-") -> .
D13: T1A13 | E13: T1B13 | F13: T1C13 | H13: =COUNTIF(Duplik2!$D$1:$F$14,Duplik1!D13) -> 0 | I13: =COUNTIF(Duplik2!$D$1:$F$14,Duplik1!E13) -> 0 | J13: =COUNTIF(Duplik2!$D$1:$F$14,Duplik1!F13) -> 0 | O13: =IFERROR(IF(COUNTIF(Duplik2!$D$1:$F$22,Duplik1!D13)>0,"Duplik2!D"&MATCH(Duplik1!D13,Duplik2!$D$1:$D$22,0),"."),"-") &IFERROR(IF(COUNTIF(Duplik2!$D$1:$F$22,Duplik1!D13)>0,"Duplik2!E"&MATCH(Duplik1!D13,Duplik2!$E$1:$E$22,0),"."),"-") &IFERROR(IF(COUNTIF(Duplik2!$D$1:$F$22,Duplik1!D13)>0,"Duplik2!F"&MATCH(Duplik1!D13,Duplik2!$F$1:$F$22,0),"."),"-") -> ... | P13: =IFERROR(IF(COUNTIF(Duplik2!$D$1:$F$22,Duplik1!E13)>0,"Duplik2!D"&MATCH(Duplik1!E13,Duplik2!$D$1:$D$22,0),"."),"-") &IFERROR(IF(COUNTIF(Duplik2!$D$1:$F$22,Duplik1!E13)>0,"Duplik2!E"&MATCH(Duplik1!E13,Duplik2!$E$1:$E$22,0),"."),"-") &IFERROR(IF(COUNTIF(Duplik2!$D$1:$F$22,Duplik1!E13)>0,"Duplik2!F"&MATCH(Duplik1!E13,Duplik2!$F$1:$F$22,0),"."),"-") -> ... | Q13: =IFERROR(IF(COUNTIF(Duplik2!$D$1:$F$22,Duplik1!F13)>0,"Duplik2!D"&MATCH(Duplik1!F13,Duplik2!$D$1:$D$22,0),"."),"-") &IFERROR(IF(COUNTIF(Duplik2!$D$1:$F$22,Duplik1!F13)>0,"Duplik2!E"&MATCH(Duplik1!F13,Duplik2!$E$1:$E$22,0),"."),"-") &IFERROR(IF(COUNTIF(Duplik2!$D$1:$F$22,Duplik1!F13)>0,"Duplik2!F"&MATCH(Duplik1!F13,Duplik2!$F$1:$F$22,0),"."),"-") -> ... | S13: =IFERROR(IF(COUNTIF(Duplik2!$D$1:$D$22,Duplik1!D13)>0,"Duplik2!D"&MATCH(Duplik1!D13,Duplik2!D$1:D$22,0),"."),"-") -> .
H14: =COUNTIF(Duplik2!$D$1:$F$14,Duplik1!D14) -> 0 | I14: =COUNTIF(Duplik2!$D$1:$F$14,Duplik1!E14) -> 0 | J14: =COUNTIF(Duplik2!$D$1:$F$14,Duplik1!F14) -> 0 | O14: =IFERROR(IF(COUNTIF(Duplik2!$D$1:$F$22,Duplik1!D14)>0,"Duplik2!D"&MATCH(Duplik1!D14,Duplik2!$D$1:$D$22,0),"."),"-") &IFERROR(IF(COUNTIF(Duplik2!$D$1:$F$22,Duplik1!D14)>0,"Duplik2!E"&MATCH(Duplik1!D14,Duplik2!$E$1:$E$22,0),"."),"-") &IFERROR(IF(COUNTIF(Duplik2!$D$1:$F$22,Duplik1!D14)>0,"Duplik2!F"&MATCH(Duplik1!D14,Duplik2!$F$1:$F$22,0),"."),"-") -> ... | P14: =IFERROR(IF(COUNTIF(Duplik2!$D$1:$F$22,Duplik1!E14)>0,"Duplik2!D"&MATCH(Duplik1!E14,Duplik2!$D$1:$D$22,0),"."),"-") &IFERROR(IF(COUNTIF(Duplik2!$D$1:$F$22,Duplik1!E14)>0,"Duplik2!E"&MATCH(Duplik1!E14,Duplik2!$E$1:$E$22,0),"."),"-") &IFERROR(IF(COUNTIF(Duplik2!$D$1:$F$22,Duplik1!E14)>0,"Duplik2!F"&MATCH(Duplik1!E14,Duplik2!$F$1:$F$22,0),"."),"-") -> ... | Q14: =IFERROR(IF(COUNTIF(Duplik2!$D$1:$F$22,Duplik1!F14)>0,"Duplik2!D"&MATCH(Duplik1!F14,Duplik2!$D$1:$D$22,0),"."),"-") &IFERROR(IF(COUNTIF(Duplik2!$D$1:$F$22,Duplik1!F14)>0,"Duplik2!E"&MATCH(Duplik1!F14,Duplik2!$E$1:$E$22,0),"."),"-") &IFERROR(IF(COUNTIF(Duplik2!$D$1:$F$22,Duplik1!F14)>0,"Duplik2!F"&MATCH(Duplik1!F14,Duplik2!$F$1:$F$22,0),"."),"-") -> ... | S14: nur Suche in korrespond. Spalte (also einzeilig)
H15: =COUNTIF(Duplik2!$D$1:$F$14,Duplik1!D15) -> 0 | I15: =COUNTIF(Duplik2!$D$1:$F$14,Duplik1!E15) -> 0 | J15: =COUNTIF(Duplik2!$D$1:$F$14,Duplik1!F15) -> 0
H16: Erster Anlauf: am Platz von 1 ist jeweils ein Duplikat aus Duplik2
D17: www.gutefrage.net/frage/hilfewelche-formel-nehmen-um-duplikate-in-zwei-arbeitsmappen-zu-finden?

Sheet Duplik2
D1: T2A1 | E1: T2B1 | F1: T2C1 | H1: www.gutefrage.net/frage/hilfewelche-formel-nehmen-um-duplikate-in-zwei-arbeitsmappen-zu-finden?
D2: T2A2 | E2: T2B2 | F2: T2C2
D3: T2A3 | E3: T2B3 | F3: T_2C3
D4: T2A4 | E4: T2B4 | F4: T2C4
D5: T2A5 | E5: T2B5 | F5: T2C5
D6: T2A6 | E6: T_2B6 | F6: T2C6
D7: T2A7 | E7: T2B7 | F7: T2C7
D8: T2A8 | E8: T2B8 | F8: T2C8
D9: T1_A2 | E9: T2B9 | F9: T2C9
D10: T2A10 | E10: T2B10 | F10: T2C10
D11: T2A11 | F11: T2C11
D12: T2A12 | E12: T2_B12 | F12: T2C12
D13: T2A13 | E13: T2B13 | F13: T2_B12 | G13: <grün: Doppel innerhalb desselben Blattes
D14: T2A14 | E14: T2B14 | F14: T2C14
B34: Tab <=> | C34: Duplik

Sheet DuplikFo
A1: =COUNTIF(Duplik1!$D$1:$F$22,Duplik1!D1)-1+COUNTIF(Duplik2!$D$1:$F$22,Duplik1!D1) -> 0 | B1: =COUNTIF(Duplik1!$D$1:$F$22,Duplik1!E1)-1+COUNTIF(Duplik2!$D$1:$F$22,Duplik1!E1) -> 0 | C1: =COUNTIF(Duplik1!$D$1:$F$22,Duplik1!F1)-1+COUNTIF(Duplik2!$D$1:$F$22,Duplik1!F1) -> 0 | G1: =+COUNTIF(Duplik2!$D$1:$F$22,Duplik1!D1) -> 0 | H1: =+COUNTIF(Duplik2!$D$1:$F$22,Duplik1!E1) -> 0 | I1: =+COUNTIF(Duplik2!$D$1:$F$22,Duplik1!F1) -> 0 | N1: zeigt immer nur den ersten Doppeleintrag: | O1: =IFERROR(IF(COUNTIF(Duplik2!$D$1:$F$22,Duplik1!D1)>0,"Zeile "&MATCH(Duplik1!D1,Duplik2!D$1:D$22,0),0),".") &IFERROR(IF(COUNTIF(Duplik2!$D$1:$F$22,Duplik1!D1)>0,"Zeile "&MATCH(Duplik1!D1,Duplik2!E$1:E$22,0),0),".") &IFERROR(IF(COUNTIF(Duplik2!$D$1:$F$22,Duplik1!D1)>0,"Zeile "&MATCH(Duplik1!D1,Duplik2!F$1:F$22,0),0),".") -> 000 | P1: =IFERROR(IF(COUNTIF(Duplik2!$D$1:$F$22,Duplik1!E1)>0,"Zeile "&MATCH(Duplik1!E1,Duplik2!D$1:D$22,0),0),".") &IFERROR(IF(COUNTIF(Duplik2!$D$1:$F$22,Duplik1!E1)>0,"Zeile "&MATCH(Duplik1!E1,Duplik2!E$1:E$22,0),0),".") &IFERROR(IF(COUNTIF(Duplik2!$D$1:$F$22,Duplik1!E1)>0,"Zeile "&MATCH(Duplik1!E1,Duplik2!F$1:F$22,0),0),".") -> 000 | Q1: =IFERROR(IF(COUNTIF(Duplik2!$D$1:$F$22,Duplik1!F1)>0,"Zeile "&MATCH(Duplik1!F1,Duplik2!D$1:D$22,0),0),".") &IFERROR(IF(COUNTIF(Duplik2!$D$1:$F$22,Duplik1!F1)>0,"Zeile "&MATCH(Duplik1!F1,Duplik2!E$1:E$22,0),0),".") &IFERROR(IF(COUNTIF(Duplik2!$D$1:$F$22,Duplik1!F1)>0,"Zeile "&MATCH(Duplik1!F1,Duplik2!F$1:F$22,0),0),".") -> 000 | R1: www.gutefrage.net/frage/hilfewelche-formel-nehmen-um-duplikate-in-zwei-arbeitsmappen-zu-finden?
A2: =COUNTIF(Duplik1!$D$1:$F$22,Duplik1!D2)-1+COUNTIF(Duplik2!$D$1:$F$22,Duplik1!D2) -> 1 | B2: =COUNTIF(Duplik1!$D$1:$F$22,Duplik1!E2)-1+COUNTIF(Duplik2!$D$1:$F$22,Duplik1!E2) -> 0 | C2: =COUNTIF(Duplik1!$D$1:$F$22,Duplik1!F2)-1+COUNTIF(Duplik2!$D$1:$F$22,Duplik1!F2) -> 0 | G2: =+COUNTIF(Duplik2!$D$1:$F$22,Duplik1!D2) -> 1 | H2: =+COUNTIF(Duplik2!$D$1:$F$22,Duplik1!E2) -> 0 | I2: =+COUNTIF(Duplik2!$D$1:$F$22,Duplik1!F2) -> 0 | O2: =IFERROR(IF(COUNTIF(Duplik2!$D$1:$F$22,Duplik1!D2)>0,"Duplik2!D"&MATCH(Duplik1!D2,Duplik2!$D$1:$D$22,0),"."),"-") &IFERROR(IF(COUNTIF(Duplik2!$D$1:$F$22,Duplik1!D2)>0,"Duplik2!E"&MATCH(Duplik1!D2,Duplik2!$E$1:$E$22,0),"."),"-") &IFERROR(IF(COUNTIF(Duplik2!$D$1:$F$22,Duplik1!D2)>0,"Duplik2!F"&MATCH(Duplik1!D2,Duplik2!$F$1:$F$22,0),"."),"-") -> Duplik2!D9-- | P2: =IFERROR(IF(COUNTIF(Duplik2!$D$1:$F$22,Duplik1!E2)>0,"Duplik2!D"&MATCH(Duplik1!E2,Duplik2!$D$1:$D$22,0),"."),"-") &IFERROR(IF(COUNTIF(Duplik2!$D$1:$F$22,Duplik1!E2)>0,"Duplik2!E"&MATCH(Duplik1!E2,Duplik2!$E$1:$E$22,0),"."),"-") &IFERROR(IF(COUNTIF(Duplik2!$D$1:$F$22,Duplik1!E2)>0,"Duplik2!F"&MATCH(Duplik1!E2,Duplik2!$F$1:$F$22,0),"."),"-") -> ... | Q2: =IFERROR(IF(COUNTIF(Duplik2!$D$1:$F$22,Duplik1!F2)>0,"Duplik2!D"&MATCH(Duplik1!F2,Duplik2!$D$1:$D$22,0),"."),"-") &IFERROR(IF(COUNTIF(Duplik2!$D$1:$F$22,Duplik1!F2)>0,"Duplik2!E"&MATCH(Duplik1!F2,Duplik2!$E$1:$E$22,0),"."),"-") &IFERROR(IF(COUNTIF(Duplik2!$D$1:$F$22,Duplik1!F2)>0,"Duplik2!F"&MATCH(Duplik1!F2,Duplik2!$F$1:$F$22,0),"."),"-") -> ...
A3: =COUNTIF(Duplik1!$D$1:$F$22,Duplik1!D3)-1+COUNTIF(Duplik2!$D$1:$F$22,Duplik1!D3) -> 0 | B3: =COUNTIF(Duplik1!$D$1:$F$22,Duplik1!E3)-1+COUNTIF(Duplik2!$D$1:$F$22,Duplik1!E3) -> -1 | C3: =COUNTIF(Duplik1!$D$1:$F$22,Duplik1!F3)-1+COUNTIF(Duplik2!$D$1:$F$22,Duplik1!F3) -> 0 | G3: =+COUNTIF(Duplik2!$D$1:$F$22,Duplik1!D3) -> 0 | H3: =+COUNTIF(Duplik2!$D$1:$F$22,Duplik1!E3) -> 0 | I3: =+COUNTIF(Duplik2!$D$1:$F$22,Duplik1!F3) -> 0 | O3: =IFERROR(IF(COUNTIF(Duplik2!$D$1:$F$22,Duplik1!D3)>0,"Duplik2!D"&MATCH(Duplik1!D3,Duplik2!$D$1:$D$22,0),"."),"-") &IFERROR(IF(COUNTIF(Duplik2!$D$1:$F$22,Duplik1!D3)>0,"Duplik2!E"&MATCH(Duplik1!D3,Duplik2!$E$1:$E$22,0),"."),"-") &IFERROR(IF(COUNTIF(Duplik2!$D$1:$F$22,Duplik1!D3)>0,"Duplik2!F"&MATCH(Duplik1!D3,Duplik2!$F$1:$F$22,0),"."),"-") -> ... | P3: =IFERROR(IF(COUNTIF(Duplik2!$D$1:$F$22,Duplik1!E3)>0,"Duplik2!D"&MATCH(Duplik1!E3,Duplik2!$D$1:$D$22,0),"."),"-") &IFERROR(IF(COUNTIF(Duplik2!$D$1:$F$22,Duplik1!E3)>0,"Duplik2!E"&MATCH(Duplik1!E3,Duplik2!$E$1:$E$22,0),"."),"-") &IFERROR(IF(COUNTIF(Duplik2!$D$1:$F$22,Duplik1!E3)>0,"Duplik2!F"&MATCH(Duplik1!E3,Duplik2!$F$1:$F$22,0),"."),"-") -> ... | Q3: =IFERROR(IF(COUNTIF(Duplik2!$D$1:$F$22,Duplik1!F3)>0,"Duplik2!D"&MATCH(Duplik1!F3,Duplik2!$D$1:$D$22,0),"."),"-") &IFERROR(IF(COUNTIF(Duplik2!$D$1:$F$22,Duplik1!F3)>0,"Duplik2!E"&MATCH(Duplik1!F3,Duplik2!$E$1:$E$22,0),"."),"-") &IFERROR(IF(COUNTIF(Duplik2!$D$1:$F$22,Duplik1!F3)>0,"Duplik2!F"&MATCH(Duplik1!F3,Duplik2!$F$1:$F$22,0),"."),"-") -> ...
A4: =COUNTIF(Duplik1!$D$1:$F$22,Duplik1!D4)-1+COUNTIF(Duplik2!$D$1:$F$22,Duplik1!D4) -> 0 | B4: =COUNTIF(Duplik1!$D$1:$F$22,Duplik1!E4)-1+COUNTIF(Duplik2!$D$1:$F$22,Duplik1!E4) -> 0 | C4: =COUNTIF(Duplik1!$D$1:$F$22,Duplik1!F4)-1+COUNTIF(Duplik2!$D$1:$F$22,Duplik1!F4) -> 0 | G4: =+COUNTIF(Duplik2!$D$1:$F$22,Duplik1!D4) -> 0 | H4: =+COUNTIF(Duplik2!$D$1:$F$22,Duplik1!E4) -> 0 | I4: =+COUNTIF(Duplik2!$D$1:$F$22,Duplik1!F4) -> 0 | O4: =IFERROR(IF(COUNTIF(Duplik2!$D$1:$F$22,Duplik1!D4)>0,"Duplik2!D"&MATCH(Duplik1!D4,Duplik2!$D$1:$D$22,0),"."),"-") &IFERROR(IF(COUNTIF(Duplik2!$D$1:$F$22,Duplik1!D4)>0,"Duplik2!E"&MATCH(Duplik1!D4,Duplik2!$E$1:$E$22,0),"."),"-") &IFERROR(IF(COUNTIF(Duplik2!$D$1:$F$22,Duplik1!D4)>0,"Duplik2!F"&MATCH(Duplik1!D4,Duplik2!$F$1:$F$22,0),"."),"-") -> ... | P4: =IFERROR(IF(COUNTIF(Duplik2!$D$1:$F$22,Duplik1!E4)>0,"Duplik2!D"&MATCH(Duplik1!E4,Duplik2!$D$1:$D$22,0),"."),"-") &IFERROR(IF(COUNTIF(Duplik2!$D$1:$F$22,Duplik1!E4)>0,"Duplik2!E"&MATCH(Duplik1!E4,Duplik2!$E$1:$E$22,0),"."),"-") &IFERROR(IF(COUNTIF(Duplik2!$D$1:$F$22,Duplik1!E4)>0,"Duplik2!F"&MATCH(Duplik1!E4,Duplik2!$F$1:$F$22,0),"."),"-") -> ... | Q4: =IFERROR(IF(COUNTIF(Duplik2!$D$1:$F$22,Duplik1!F4)>0,"Duplik2!D"&MATCH(Duplik1!F4,Duplik2!$D$1:$D$22,0),"."),"-") &IFERROR(IF(COUNTIF(Duplik2!$D$1:$F$22,Duplik1!F4)>0,"Duplik2!E"&MATCH(Duplik1!F4,Duplik2!$E$1:$E$22,0),"."),"-") &IFERROR(IF(COUNTIF(Duplik2!$D$1:$F$22,Duplik1!F4)>0,"Duplik2!F"&MATCH(Duplik1!F4,Duplik2!$F$1:$F$22,0),"."),"-") -> ...
A5: =COUNTIF(Duplik1!$D$1:$F$22,Duplik1!D5)-1+COUNTIF(Duplik2!$D$1:$F$22,Duplik1!D5) -> 0 | B5: =COUNTIF(Duplik1!$D$1:$F$22,Duplik1!E5)-1+COUNTIF(Duplik2!$D$1:$F$22,Duplik1!E5) -> 1 | C5: =COUNTIF(Duplik1!$D$1:$F$22,Duplik1!F5)-1+COUNTIF(Duplik2!$D$1:$F$22,Duplik1!F5) -> 0 | G5: =+COUNTIF(Duplik2!$D$1:$F$22,Duplik1!D5) -> 0 | H5: =+COUNTIF(Duplik2!$D$1:$F$22,Duplik1!E5) -> 1 | I5: =+COUNTIF(Duplik2!$D$1:$F$22,Duplik1!F5) -> 0 | O5: =IFERROR(IF(COUNTIF(Duplik2!$D$1:$F$22,Duplik1!D5)>0,"Duplik2!D"&MATCH(Duplik1!D5,Duplik2!$D$1:$D$22,0),"."),"-") &IFERROR(IF(COUNTIF(Duplik2!$D$1:$F$22,Duplik1!D5)>0,"Duplik2!E"&MATCH(Duplik1!D5,Duplik2!$E$1:$E$22,0),"."),"-") &IFERROR(IF(COUNTIF(Duplik2!$D$1:$F$22,Duplik1!D5)>0,"Duplik2!F"&MATCH(Duplik1!D5,Duplik2!$F$1:$F$22,0),"."),"-") -> ... | P5: =IFERROR(IF(COUNTIF(Duplik2!$D$1:$F$22,Duplik1!E5)>0,"Duplik2!D"&MATCH(Duplik1!E5,Duplik2!$D$1:$D$22,0),"."),"-") &IFERROR(IF(COUNTIF(Duplik2!$D$1:$F$22,Duplik1!E5)>0,"Duplik2!E"&MATCH(Duplik1!E5,Duplik2!$E$1:$E$22,0),"."),"-") &IFERROR(IF(COUNTIF(Duplik2!$D$1:$F$22,Duplik1!E5)>0,"Duplik2!F"&MATCH(Duplik1!E5,Duplik2!$F$1:$F$22,0),"."),"-") -> --Duplik2!F3 | Q5: =IFERROR(IF(COUNTIF(Duplik2!$D$1:$F$22,Duplik1!F5)>0,"Duplik2!D"&MATCH(Duplik1!F5,Duplik2!$D$1:$D$22,0),"."),"-") &IFERROR(IF(COUNTIF(Duplik2!$D$1:$F$22,Duplik1!F5)>0,"Duplik2!E"&MATCH(Duplik1!F5,Duplik2!$E$1:$E$22,0),"."),"-") &IFERROR(IF(COUNTIF(Duplik2!$D$1:$F$22,Duplik1!F5)>0,"Duplik2!F"&MATCH(Duplik1!F5,Duplik2!$F$1:$F$22,0),"."),"-") -> ...
A6: =COUNTIF(Duplik1!$D$1:$F$22,Duplik1!D6)-1+COUNTIF(Duplik2!$D$1:$F$22,Duplik1!D6) -> 0 | B6: =COUNTIF(Duplik1!$D$1:$F$22,Duplik1!E6)-1+COUNTIF(Duplik2!$D$1:$F$22,Duplik1!E6) -> 0 | C6: =COUNTIF(Duplik1!$D$1:$F$22,Duplik1!F6)-1+COUNTIF(Duplik2!$D$1:$F$22,Duplik1!F6) -> 0 | G6: =+COUNTIF(Duplik2!$D$1:$F$22,Duplik1!D6) -> 0 | H6: =+COUNTIF(Duplik2!$D$1:$F$22,Duplik1!E6) -> 0 | I6: =+COUNTIF(Duplik2!$D$1:$F$22,Duplik1!F6) -> 0 | O6: =IFERROR(IF(COUNTIF(Duplik2!$D$1:$F$22,Duplik1!D6)>0,"Duplik2!D"&MATCH(Duplik1!D6,Duplik2!$D$1:$D$22,0),"."),"-") &IFERROR(IF(COUNTIF(Duplik2!$D$1:$F$22,Duplik1!D6)>0,"Duplik2!E"&MATCH(Duplik1!D6,Duplik2!$E$1:$E$22,0),"."),"-") &IFERROR(IF(COUNTIF(Duplik2!$D$1:$F$22,Duplik1!D6)>0,"Duplik2!F"&MATCH(Duplik1!D6,Duplik2!$F$1:$F$22,0),"."),"-") -> ... | P6: =IFERROR(IF(COUNTIF(Duplik2!$D$1:$F$22,Duplik1!E6)>0,"Duplik2!D"&MATCH(Duplik1!E6,Duplik2!$D$1:$D$22,0),"."),"-") &IFERROR(IF(COUNTIF(Duplik2!$D$1:$F$22,Duplik1!E6)>0,"Duplik2!E"&MATCH(Duplik1!E6,Duplik2!$E$1:$E$22,0),"."),"-") &IFERROR(IF(COUNTIF(Duplik2!$D$1:$F$22,Duplik1!E6)>0,"Duplik2!F"&MATCH(Duplik1!E6,Duplik2!$F$1:$F$22,0),"."),"-") -> ... | Q6: =IFERROR(IF(COUNTIF(Duplik2!$D$1:$F$22,Duplik1!F6)>0,"Duplik2!D"&MATCH(Duplik1!F6,Duplik2!$D$1:$D$22,0),"."),"-") &IFERROR(IF(COUNTIF(Duplik2!$D$1:$F$22,Duplik1!F6)>0,"Duplik2!E"&MATCH(Duplik1!F6,Duplik2!$E$1:$E$22,0),"."),"-") &IFERROR(IF(COUNTIF(Duplik2!$D$1:$F$22,Duplik1!F6)>0,"Duplik2!F"&MATCH(Duplik1!F6,Duplik2!$F$1:$F$22,0),"."),"-") -> ...
A7: =COUNTIF(Duplik1!$D$1:$F$22,Duplik1!D7)-1+COUNTIF(Duplik2!$D$1:$F$22,Duplik1!D7) -> 0 | B7: =COUNTIF(Duplik1!$D$1:$F$22,Duplik1!E7)-1+COUNTIF(Duplik2!$D$1:$F$22,Duplik1!E7) -> 0 | C7: =COUNTIF(Duplik1!$D$1:$F$22,Duplik1!F7)-1+COUNTIF(Duplik2!$D$1:$F$22,Duplik1!F7) -> 0 | G7: =+COUNTIF(Duplik2!$D$1:$F$22,Duplik1!D7) -> 0 | H7: =+COUNTIF(Duplik2!$D$1:$F$22,Duplik1!E7) -> 0 | I7: =+COUNTIF(Duplik2!$D$1:$F$22,Duplik1!F7) -> 0 | O7: =IFERROR(IF(COUNTIF(Duplik2!$D$1:$F$22,Duplik1!D7)>0,"Duplik2!D"&MATCH(Duplik1!D7,Duplik2!$D$1:$D$22,0),"."),"-") &IFERROR(IF(COUNTIF(Duplik2!$D$1:$F$22,Duplik1!D7)>0,"Duplik2!E"&MATCH(Duplik1!D7,Duplik2!$E$1:$E$22,0),"."),"-") &IFERROR(IF(COUNTIF(Duplik2!$D$1:$F$22,Duplik1!D7)>0,"Duplik2!F"&MATCH(Duplik1!D7,Duplik2!$F$1:$F$22,0),"."),"-") -> ... | P7: =IFERROR(IF(COUNTIF(Duplik2!$D$1:$F$22,Duplik1!E7)>0,"Duplik2!D"&MATCH(Duplik1!E7,Duplik2!$D$1:$D$22,0),"."),"-") &IFERROR(IF(COUNTIF(Duplik2!$D$1:$F$22,Duplik1!E7)>0,"Duplik2!E"&MATCH(Duplik1!E7,Duplik2!$E$1:$E$22,0),"."),"-") &IFERROR(IF(COUNTIF(Duplik2!$D$1:$F$22,Duplik1!E7)>0,"Duplik2!F"&MATCH(Duplik1!E7,Duplik2!$F$1:$F$22,0),"."),"-") -> ... | Q7: =IFERROR(IF(COUNTIF(Duplik2!$D$1:$F$22,Duplik1!F7)>0,"Duplik2!D"&MATCH(Duplik1!F7,Duplik2!$D$1:$D$22,0),"."),"-") &IFERROR(IF(COUNTIF(Duplik2!$D$1:$F$22,Duplik1!F7)>0,"Duplik2!E"&MATCH(Duplik1!F7,Duplik2!$E$1:$E$22,0),"."),"-") &IFERROR(IF(COUNTIF(Duplik2!$D$1:$F$22,Duplik1!F7)>0,"Duplik2!F"&MATCH(Duplik1!F7,Duplik2!$F$1:$F$22,0),"."),"-") -> ...
A8: =COUNTIF(Duplik1!$D$1:$F$22,Duplik1!D8)-1 -> 0 | B8: =COUNTIF(Duplik1!$D$1:$F$22,Duplik1!E8)-1+COUNTIF(Duplik2!$D$1:$F$22,Duplik1!E8) -> 0 | C8: =COUNTIF(Duplik1!$D$1:$F$22,Duplik1!F8)-1+COUNTIF(Duplik2!$D$1:$F$22,Duplik1!F8) -> 0 | G8: =+COUNTIF(Duplik2!$D$1:$F$22,Duplik1!D8) -> 1 | H8: =+COUNTIF(Duplik2!$D$1:$F$22,Duplik1!E8) -> 0 | I8: =+COUNTIF(Duplik2!$D$1:$F$22,Duplik1!F8) -> 0 | K8: =IFERROR(IF(COUNTIF(Duplik2!$D$1:$F$22,Duplik1!$D8)>0,"Zeile "&MATCH(Duplik1!$D8,Duplik2!D$1:D$22,0),0),".") -> . | L8: =IFERROR(IF(COUNTIF(Duplik2!$D$1:$F$22,Duplik1!$D8)>0,"Zeile "&MATCH(Duplik1!$D8,Duplik2!E$1:E$22,0),0),".") -> Zeile 6 | M8: =IFERROR(IF(COUNTIF(Duplik2!$D$1:$F$22,Duplik1!$D8)>0,"Zeile "&MATCH(Duplik1!$D8,Duplik2!F$1:F$22,0),0),".") -> . | O8: =IFERROR(IF(COUNTIF(Duplik2!$D$1:$F$22,Duplik1!D8)>0,"Duplik2!D"&MATCH(Duplik1!D8,Duplik2!$D$1:$D$22,0),"."),"-") &IFERROR(IF(COUNTIF(Duplik2!$D$1:$F$22,Duplik1!D8)>0,"Duplik2!E"&MATCH(Duplik1!D8,Duplik2!$E$1:$E$22,0),"."),"-") &IFERROR(IF(COUNTIF(Duplik2!$D$1:$F$22,Duplik1!D8)>0,"Duplik2!F"&MATCH(Duplik1!D8,Duplik2!$F$1:$F$22,0),"."),"-") -> -Duplik2!E6- | P8: =IFERROR(IF(COUNTIF(Duplik2!$D$1:$F$22,Duplik1!E8)>0,"Duplik2!D"&MATCH(Duplik1!E8,Duplik2!$D$1:$D$22,0),"."),"-") &IFERROR(IF(COUNTIF(Duplik2!$D$1:$F$22,Duplik1!E8)>0,"Duplik2!E"&MATCH(Duplik1!E8,Duplik2!$E$1:$E$22,0),"."),"-") &IFERROR(IF(COUNTIF(Duplik2!$D$1:$F$22,Duplik1!E8)>0,"Duplik2!F"&MATCH(Duplik1!E8,Duplik2!$F$1:$F$22,0),"."),"-") -> ... | Q8: =IFERROR(IF(COUNTIF(Duplik2!$D$1:$F$22,Duplik1!F8)>0,"Duplik2!D"&MATCH(Duplik1!F8,Duplik2!$D$1:$D$22,0),"."),"-") &IFERROR(IF(COUNTIF(Duplik2!$D$1:$F$22,Duplik1!F8)>0,"Duplik2!E"&MATCH(Duplik1!F8,Duplik2!$E$1:$E$22,0),"."),"-") &IFERROR(IF(COUNTIF(Duplik2!$D$1:$F$22,Duplik1!F8)>0,"Duplik2!F"&MATCH(Duplik1!F8,Duplik2!$F$1:$F$22,0),"."),"-") -> ...
A9: =COUNTIF(Duplik1!$D$1:$F$22,Duplik1!D9)-1+COUNTIF(Duplik2!$D$1:$F$22,Duplik1!D9) -> 0 | B9: =COUNTIF(Duplik1!$D$1:$F$22,Duplik1!E9)-1+COUNTIF(Duplik2!$D$1:$F$22,Duplik1!E9) -> 0 | C9: =COUNTIF(Duplik1!$D$1:$F$22,Duplik1!F9)-1+COUNTIF(Duplik2!$D$1:$F$22,Duplik1!F9) -> 0 | G9: =+COUNTIF(Duplik2!$D$1:$F$22,Duplik1!D9) -> 0 | H9: =+COUNTIF(Duplik2!$D$1:$F$22,Duplik1!E9) -> 0 | I9: =+COUNTIF(Duplik2!$D$1:$F$22,Duplik1!F9) -> 0 | O9: =IFERROR(IF(COUNTIF(Duplik2!$D$1:$F$22,Duplik1!D9)>0,"Duplik2!D"&MATCH(Duplik1!D9,Duplik2!$D$1:$D$22,0),"."),"-") &IFERROR(IF(COUNTIF(Duplik2!$D$1:$F$22,Duplik1!D9)>0,"Duplik2!E"&MATCH(Duplik1!D9,Duplik2!$E$1:$E$22,0),"."),"-") &IFERROR(IF(COUNTIF(Duplik2!$D$1:$F$22,Duplik1!D9)>0,"Duplik2!F"&MATCH(Duplik1!D9,Duplik2!$F$1:$F$22,0),"."),"-") -> ... | P9: =IFERROR(IF(COUNTIF(Duplik2!$D$1:$F$22,Duplik1!E9)>0,"Duplik2!D"&MATCH(Duplik1!E9,Duplik2!$D$1:$D$22,0),"."),"-") &IFERROR(IF(COUNTIF(Duplik2!$D$1:$F$22,Duplik1!E9)>0,"Duplik2!E"&MATCH(Duplik1!E9,Duplik2!$E$1:$E$22,0),"."),"-") &IFERROR(IF(COUNTIF(Duplik2!$D$1:$F$22,Duplik1!E9)>0,"Duplik2!F"&MATCH(Duplik1!E9,Duplik2!$F$1:$F$22,0),"."),"-") -> ... | Q9: =IFERROR(IF(COUNTIF(Duplik2!$D$1:$F$22,Duplik1!F9)>0,"Duplik2!D"&MATCH(Duplik1!F9,Duplik2!$D$1:$D$22,0),"."),"-") &IFERROR(IF(COUNTIF(Duplik2!$D$1:$F$22,Duplik1!F9)>0,"Duplik2!E"&MATCH(Duplik1!F9,Duplik2!$E$1:$E$22,0),"."),"-") &IFERROR(IF(COUNTIF(Duplik2!$D$1:$F$22,Duplik1!F9)>0,"Duplik2!F"&MATCH(Duplik1!F9,Duplik2!$F$1:$F$22,0),"."),"-") -> ...
A10: =COUNTIF(Duplik1!$D$1:$F$22,Duplik1!D10)-1+COUNTIF(Duplik2!$D$1:$F$22,Duplik1!D10) -> 0 | B10: =COUNTIF(Duplik1!$D$1:$F$22,Duplik1!E10)-1+COUNTIF(Duplik2!$D$1:$F$22,Duplik1!E10) -> 0 | C10: =COUNTIF(Duplik1!$D$1:$F$22,Duplik1!F10)-1+COUNTIF(Duplik2!$D$1:$F$22,Duplik1!F10) -> 0 | G10: =+COUNTIF(Duplik2!$D$1:$F$22,Duplik1!D10) -> 0 | H10: =+COUNTIF(Duplik2!$D$1:$F$22,Duplik1!E10) -> 0 | I10: =+COUNTIF(Duplik2!$D$1:$F$22,Duplik1!F10) -> 0 | O10: =IFERROR(IF(COUNTIF(Duplik2!$D$1:$F$22,Duplik1!D10)>0,"Duplik2!D"&MATCH(Duplik1!D10,Duplik2!$D$1:$D$22,0),"."),"-") &IFERROR(IF(COUNTIF(Duplik2!$D$1:$F$22,Duplik1!D10)>0,"Duplik2!E"&MATCH(Duplik1!D10,Duplik2!$E$1:$E$22,0),"."),"-") &IFERROR(IF(COUNTIF(Duplik2!$D$1:$F$22,Duplik1!D10)>0,"Duplik2!F"&MATCH(Duplik1!D10,Duplik2!$F$1:$F$22,0),"."),"-") -> ... | P10: =IFERROR(IF(COUNTIF(Duplik2!$D$1:$F$22,Duplik1!E10)>0,"Duplik2!D"&MATCH(Duplik1!E10,Duplik2!$D$1:$D$22,0),"."),"-") &IFERROR(IF(COUNTIF(Duplik2!$D$1:$F$22,Duplik1!E10)>0,"Duplik2!E"&MATCH(Duplik1!E10,Duplik2!$E$1:$E$22,0),"."),"-") &IFERROR(IF(COUNTIF(Duplik2!$D$1:$F$22,Duplik1!E10)>0,"Duplik2!F"&MATCH(Duplik1!E10,Duplik2!$F$1:$F$22,0),"."),"-") -> ... | Q10: =IFERROR(IF(COUNTIF(Duplik2!$D$1:$F$22,Duplik1!F10)>0,"Duplik2!D"&MATCH(Duplik1!F10,Duplik2!$D$1:$D$22,0),"."),"-") &IFERROR(IF(COUNTIF(Duplik2!$D$1:$F$22,Duplik1!F10)>0,"Duplik2!E"&MATCH(Duplik1!F10,Duplik2!$E$1:$E$22,0),"."),"-") &IFERROR(IF(COUNTIF(Duplik2!$D$1:$F$22,Duplik1!F10)>0,"Duplik2!F"&MATCH(Duplik1!F10,Duplik2!$F$1:$F$22,0),"."),"-") -> ...
A11: =COUNTIF(Duplik1!$D$1:$F$22,Duplik1!D11)-1+COUNTIF(Duplik2!$D$1:$F$22,Duplik1!D11) -> 0 | B11: =COUNTIF(Duplik1!$D$1:$F$22,Duplik1!E11)-1+COUNTIF(Duplik2!$D$1:$F$22,Duplik1!E11) -> 0 | C11: =COUNTIF(Duplik1!$D$1:$F$22,Duplik1!F11)-1+COUNTIF(Duplik2!$D$1:$F$22,Duplik1!F11) -> 0 | G11: =+COUNTIF(Duplik2!$D$1:$F$22,Duplik1!D11) -> 0 | H11: =+COUNTIF(Duplik2!$D$1:$F$22,Duplik1!E11) -> 0 | I11: =+COUNTIF(Duplik2!$D$1:$F$22,Duplik1!F11) -> 0 | O11: =IFERROR(IF(COUNTIF(Duplik2!$D$1:$F$22,Duplik1!D11)>0,"Duplik2!D"&MATCH(Duplik1!D11,Duplik2!$D$1:$D$22,0),"."),"-") &IFERROR(IF(COUNTIF(Duplik2!$D$1:$F$22,Duplik1!D11)>0,"Duplik2!E"&MATCH(Duplik1!D11,Duplik2!$E$1:$E$22,0),"."),"-") &IFERROR(IF(COUNTIF(Duplik2!$D$1:$F$22,Duplik1!D11)>0,"Duplik2!F"&MATCH(Duplik1!D11,Duplik2!$F$1:$F$22,0),"."),"-") -> ... | P11: =IFERROR(IF(COUNTIF(Duplik2!$D$1:$F$22,Duplik1!E11)>0,"Duplik2!D"&MATCH(Duplik1!E11,Duplik2!$D$1:$D$22,0),"."),"-") &IFERROR(IF(COUNTIF(Duplik2!$D$1:$F$22,Duplik1!E11)>0,"Duplik2!E"&MATCH(Duplik1!E11,Duplik2!$E$1:$E$22,0),"."),"-") &IFERROR(IF(COUNTIF(Duplik2!$D$1:$F$22,Duplik1!E11)>0,"Duplik2!F"&MATCH(Duplik1!E11,Duplik2!$F$1:$F$22,0),"."),"-") -> ... | Q11: =IFERROR(IF(COUNTIF(Duplik2!$D$1:$F$22,Duplik1!F11)>0,"Duplik2!D"&MATCH(Duplik1!F11,Duplik2!$D$1:$D$22,0),"."),"-") &IFERROR(IF(COUNTIF(Duplik2!$D$1:$F$22,Duplik1!F11)>0,"Duplik2!E"&MATCH(Duplik1!F11,Duplik2!$E$1:$E$22,0),"."),"-") &IFERROR(IF(COUNTIF(Duplik2!$D$1:$F$22,Duplik1!F11)>0,"Duplik2!F"&MATCH(Duplik1!F11,Duplik2!$F$1:$F$22,0),"."),"-") -> ...
A12: =COUNTIF(Duplik1!$D$1:$F$22,Duplik1!D12)-1+COUNTIF(Duplik2!$D$1:$F$22,Duplik1!D12) -> 0 | B12: =COUNTIF(Duplik1!$D$1:$F$22,Duplik1!E12)-1+COUNTIF(Duplik2!$D$1:$F$22,Duplik1!E12) -> 0 | C12: =COUNTIF(Duplik1!$D$1:$F$22,Duplik1!F12)-1+COUNTIF(Duplik2!$D$1:$F$22,Duplik1!F12) -> 0 | G12: =+COUNTIF(Duplik2!$D$1:$F$22,Duplik1!D12) -> 0 | H12: =+COUNTIF(Duplik2!$D$1:$F$22,Duplik1!E12) -> 0 | I12: =+COUNTIF(Duplik2!$D$1:$F$22,Duplik1!F12) -> 0 | O12: =IFERROR(IF(COUNTIF(Duplik2!$D$1:$F$22,Duplik1!D12)>0,"Duplik2!D"&MATCH(Duplik1!D12,Duplik2!$D$1:$D$22,0),"."),"-") &IFERROR(IF(COUNTIF(Duplik2!$D$1:$F$22,Duplik1!D12)>0,"Duplik2!E"&MATCH(Duplik1!D12,Duplik2!$E$1:$E$22,0),"."),"-") &IFERROR(IF(COUNTIF(Duplik2!$D$1:$F$22,Duplik1!D12)>0,"Duplik2!F"&MATCH(Duplik1!D12,Duplik2!$F$1:$F$22,0),"."),"-") -> ... | P12: =IFERROR(IF(COUNTIF(Duplik2!$D$1:$F$22,Duplik1!E12)>0,"Duplik2!D"&MATCH(Duplik1!E12,Duplik2!$D$1:$D$22,0),"."),"-") &IFERROR(IF(COUNTIF(Duplik2!$D$1:$F$22,Duplik1!E12)>0,"Duplik2!E"&MATCH(Duplik1!E12,Duplik2!$E$1:$E$22,0),"."),"-") &IFERROR(IF(COUNTIF(Duplik2!$D$1:$F$22,Duplik1!E12)>0,"Duplik2!F"&MATCH(Duplik1!E12,Duplik2!$F$1:$F$22,0),"."),"-") -> ... | Q12: =IFERROR(IF(COUNTIF(Duplik2!$D$1:$F$22,Duplik1!F12)>0,"Duplik2!D"&MATCH(Duplik1!F12,Duplik2!$D$1:$D$22,0),"."),"-") &IFERROR(IF(COUNTIF(Duplik2!$D$1:$F$22,Duplik1!F12)>0,"Duplik2!E"&MATCH(Duplik1!F12,Duplik2!$E$1:$E$22,0),"."),"-") &IFERROR(IF(COUNTIF(Duplik2!$D$1:$F$22,Duplik1!F12)>0,"Duplik2!F"&MATCH(Duplik1!F12,Duplik2!$F$1:$F$22,0),"."),"-") -> ...
A13: =COUNTIF(Duplik1!$D$1:$F$22,Duplik1!D13)-1+COUNTIF(Duplik2!$D$1:$F$22,Duplik1!D13) -> 0 | B13: =COUNTIF(Duplik1!$D$1:$F$22,Duplik1!E13)-1+COUNTIF(Duplik2!$D$1:$F$22,Duplik1!E13) -> 0 | C13: =COUNTIF(Duplik1!$D$1:$F$22,Duplik1!F13)-1+COUNTIF(Duplik2!$D$1:$F$22,Duplik1!F13) -> 0 | G13: =+COUNTIF(Duplik2!$D$1:$F$22,Duplik1!D13) -> 0 | H13: =+COUNTIF(Duplik2!$D$1:$F$22,Duplik1!E13) -> 0 | I13: =+COUNTIF(Duplik2!$D$1:$F$22,Duplik1!F13) -> 0 | O13: =IFERROR(IF(COUNTIF(Duplik2!$D$1:$F$22,Duplik1!D13)>0,"Duplik2!D"&MATCH(Duplik1!D13,Duplik2!$D$1:$D$22,0),"."),"-") &IFERROR(IF(COUNTIF(Duplik2!$D$1:$F$22,Duplik1!D13)>0,"Duplik2!E"&MATCH(Duplik1!D13,Duplik2!$E$1:$E$22,0),"."),"-") &IFERROR(IF(COUNTIF(Duplik2!$D$1:$F$22,Duplik1!D13)>0,"Duplik2!F"&MATCH(Duplik1!D13,Duplik2!$F$1:$F$22,0),"."),"-") -> ... | P13: =IFERROR(IF(COUNTIF(Duplik2!$D$1:$F$22,Duplik1!E13)>0,"Duplik2!D"&MATCH(Duplik1!E13,Duplik2!$D$1:$D$22,0),"."),"-") &IFERROR(IF(COUNTIF(Duplik2!$D$1:$F$22,Duplik1!E13)>0,"Duplik2!E"&MATCH(Duplik1!E13,Duplik2!$E$1:$E$22,0),"."),"-") &IFERROR(IF(COUNTIF(Duplik2!$D$1:$F$22,Duplik1!E13)>0,"Duplik2!F"&MATCH(Duplik1!E13,Duplik2!$F$1:$F$22,0),"."),"-") -> ... | Q13: =IFERROR(IF(COUNTIF(Duplik2!$D$1:$F$22,Duplik1!F13)>0,"Duplik2!D"&MATCH(Duplik1!F13,Duplik2!$D$1:$D$22,0),"."),"-") &IFERROR(IF(COUNTIF(Duplik2!$D$1:$F$22,Duplik1!F13)>0,"Duplik2!E"&MATCH(Duplik1!F13,Duplik2!$E$1:$E$22,0),"."),"-") &IFERROR(IF(COUNTIF(Duplik2!$D$1:$F$22,Duplik1!F13)>0,"Duplik2!F"&MATCH(Duplik1!F13,Duplik2!$F$1:$F$22,0),"."),"-") -> ...
A14: =COUNTIF(Duplik1!$D$1:$F$22,Duplik1!D14)-1+COUNTIF(Duplik2!$D$1:$F$22,Duplik1!D14) -> -1 | B14: =COUNTIF(Duplik1!$D$1:$F$22,Duplik1!E14)-1+COUNTIF(Duplik2!$D$1:$F$22,Duplik1!E14) -> -1 | C14: =COUNTIF(Duplik1!$D$1:$F$22,Duplik1!F14)-1+COUNTIF(Duplik2!$D$1:$F$22,Duplik1!F14) -> -1 | G14: =+COUNTIF(Duplik2!$D$1:$F$22,Duplik1!D14) -> 0 | H14: =+COUNTIF(Duplik2!$D$1:$F$22,Duplik1!E14) -> 0 | I14: =+COUNTIF(Duplik2!$D$1:$F$22,Duplik1!F14) -> 0 | O14: =IFERROR(IF(COUNTIF(Duplik2!$D$1:$F$22,Duplik1!D14)>0,"Duplik2!D"&MATCH(Duplik1!D14,Duplik2!$D$1:$D$22,0),"."),"-") &IFERROR(IF(COUNTIF(Duplik2!$D$1:$F$22,Duplik1!D14)>0,"Duplik2!E"&MATCH(Duplik1!D14,Duplik2!$E$1:$E$22,0),"."),"-") &IFERROR(IF(COUNTIF(Duplik2!$D$1:$F$22,Duplik1!D14)>0,"Duplik2!F"&MATCH(Duplik1!D14,Duplik2!$F$1:$F$22,0),"."),"-") -> ... | P14: =IFERROR(IF(COUNTIF(Duplik2!$D$1:$F$22,Duplik1!E14)>0,"Duplik2!D"&MATCH(Duplik1!E14,Duplik2!$D$1:$D$22,0),"."),"-") &IFERROR(IF(COUNTIF(Duplik2!$D$1:$F$22,Duplik1!E14)>0,"Duplik2!E"&MATCH(Duplik1!E14,Duplik2!$E$1:$E$22,0),"."),"-") &IFERROR(IF(COUNTIF(Duplik2!$D$1:$F$22,Duplik1!E14)>0,"Duplik2!F"&MATCH(Duplik1!E14,Duplik2!$F$1:$F$22,0),"."),"-") -> ... | Q14: =IFERROR(IF(COUNTIF(Duplik2!$D$1:$F$22,Duplik1!F14)>0,"Duplik2!D"&MATCH(Duplik1!F14,Duplik2!$D$1:$D$22,0),"."),"-") &IFERROR(IF(COUNTIF(Duplik2!$D$1:$F$22,Duplik1!F14)>0,"Duplik2!E"&MATCH(Duplik1!F14,Duplik2!$E$1:$E$22,0),"."),"-") &IFERROR(IF(COUNTIF(Duplik2!$D$1:$F$22,Duplik1!F14)>0,"Duplik2!F"&MATCH(Duplik1!F14,Duplik2!$F$1:$F$22,0),"."),"-") -> ...
A15: =COUNTIF(Duplik1!$D$1:$F$22,Duplik1!D15)-1+COUNTIF(Duplik2!$D$1:$F$22,Duplik1!D15) -> -1 | B15: =COUNTIF(Duplik1!$D$1:$F$22,Duplik1!E15)-1+COUNTIF(Duplik2!$D$1:$F$22,Duplik1!E15) -> -1 | C15: =COUNTIF(Duplik1!$D$1:$F$22,Duplik1!F15)-1+COUNTIF(Duplik2!$D$1:$F$22,Duplik1!F15) -> -1 | G15: =+COUNTIF(Duplik2!$D$1:$F$22,Duplik1!D15) -> 0 | H15: =+COUNTIF(Duplik2!$D$1:$F$22,Duplik1!E15) -> 0 | I15: =+COUNTIF(Duplik2!$D$1:$F$22,Duplik1!F15) -> 0 | O15: =IFERROR(IF(COUNTIF(Duplik2!$D$1:$F$22,Duplik1!D15)>0,"Duplik2!D"&MATCH(Duplik1!D15,Duplik2!$D$1:$D$22,0),"."),"-") &IFERROR(IF(COUNTIF(Duplik2!$D$1:$F$22,Duplik1!D15)>0,"Duplik2!E"&MATCH(Duplik1!D15,Duplik2!$E$1:$E$22,0),"."),"-") &IFERROR(IF(COUNTIF(Duplik2!$D$1:$F$22,Duplik1!D15)>0,"Duplik2!F"&MATCH(Duplik1!D15,Duplik2!$F$1:$F$22,0),"."),"-") -> ... | P15: =IFERROR(IF(COUNTIF(Duplik2!$D$1:$F$22,Duplik1!E15)>0,"Duplik2!D"&MATCH(Duplik1!E15,Duplik2!$D$1:$D$22,0),"."),"-") &IFERROR(IF(COUNTIF(Duplik2!$D$1:$F$22,Duplik1!E15)>0,"Duplik2!E"&MATCH(Duplik1!E15,Duplik2!$E$1:$E$22,0),"."),"-") &IFERROR(IF(COUNTIF(Duplik2!$D$1:$F$22,Duplik1!E15)>0,"Duplik2!F"&MATCH(Duplik1!E15,Duplik2!$F$1:$F$22,0),"."),"-") -> ... | Q15: =IFERROR(IF(COUNTIF(Duplik2!$D$1:$F$22,Duplik1!F15)>0,"Duplik2!D"&MATCH(Duplik1!F15,Duplik2!$D$1:$D$22,0),"."),"-") &IFERROR(IF(COUNTIF(Duplik2!$D$1:$F$22,Duplik1!F15)>0,"Duplik2!E"&MATCH(Duplik1!F15,Duplik2!$E$1:$E$22,0),"."),"-") &IFERROR(IF(COUNTIF(Duplik2!$D$1:$F$22,Duplik1!F15)>0,"Duplik2!F"&MATCH(Duplik1!F15,Duplik2!$F$1:$F$22,0),"."),"-") -> ...
A16: =COUNTIF(Duplik1!$D$1:$F$22,Verketten!#REF!)-1+COUNTIF(Duplik2!$D$1:$F$22,Verketten!#REF!) -> -1 | B16: =COUNTIF(Duplik1!$D$1:$F$22,Verketten!#REF!)-1+COUNTIF(Duplik2!$D$1:$F$22,Verketten!#REF!) -> -1 | C16: =COUNTIF(Duplik1!$D$1:$F$22,Verketten!#REF!)-1+COUNTIF(Duplik2!$D$1:$F$22,Verketten!#REF!) -> -1 | G16: =+COUNTIF(Duplik2!$D$1:$F$22,Verketten!#REF!) -> 0 | H16: =+COUNTIF(Duplik2!$D$1:$F$22,Verketten!#REF!) -> 0 | I16: =+COUNTIF(Duplik2!$D$1:$F$22,Verketten!#REF!) -> 0 | O16: =IFERROR(IF(COUNTIF(Duplik2!$D$1:$F$22,Duplik1!D16)>0,"Duplik2!D"&MATCH(Duplik1!D16,Duplik2!$D$1:$D$22,0),"."),"-") &IFERROR(IF(COUNTIF(Duplik2!$D$1:$F$22,Duplik1!D16)>0,"Duplik2!E"&MATCH(Duplik1!D16,Duplik2!$E$1:$E$22,0),"."),"-") &IFERROR(IF(COUNTIF(Duplik2!$D$1:$F$22,Duplik1!D16)>0,"Duplik2!F"&MATCH(Duplik1!D16,Duplik2!$F$1:$F$22,0),"."),"-") -> ... | P16: =IFERROR(IF(COUNTIF(Duplik2!$D$1:$F$22,Duplik1!E16)>0,"Duplik2!D"&MATCH(Duplik1!E16,Duplik2!$D$1:$D$22,0),"."),"-") &IFERROR(IF(COUNTIF(Duplik2!$D$1:$F$22,Duplik1!E16)>0,"Duplik2!E"&MATCH(Duplik1!E16,Duplik2!$E$1:$E$22,0),"."),"-") &IFERROR(IF(COUNTIF(Duplik2!$D$1:$F$22,Duplik1!E16)>0,"Duplik2!F"&MATCH(Duplik1!E16,Duplik2!$F$1:$F$22,0),"."),"-") -> ... | Q16: =IFERROR(IF(COUNTIF(Duplik2!$D$1:$F$22,Duplik1!F16)>0,"Duplik2!D"&MATCH(Duplik1!F16,Duplik2!$D$1:$D$22,0),"."),"-") &IFERROR(IF(COUNTIF(Duplik2!$D$1:$F$22,Duplik1!F16)>0,"Duplik2!E"&MATCH(Duplik1!F16,Duplik2!$E$1:$E$22,0),"."),"-") &IFERROR(IF(COUNTIF(Duplik2!$D$1:$F$22,Duplik1!F16)>0,"Duplik2!F"&MATCH(Duplik1!F16,Duplik2!$F$1:$F$22,0),"."),"-") -> ...
A17: =COUNTIF(Duplik1!$D$1:$F$22,Verketten!#REF!)-1+COUNTIF(Duplik2!$D$1:$F$22,Verketten!#REF!) -> -1 | B17: =COUNTIF(Duplik1!$D$1:$F$22,Verketten!#REF!)-1+COUNTIF(Duplik2!$D$1:$F$22,Verketten!#REF!) -> -1 | C17: =COUNTIF(Duplik1!$D$1:$F$22,Verketten!#REF!)-1+COUNTIF(Duplik2!$D$1:$F$22,Verketten!#REF!) -> -1 | G17: =+COUNTIF(Duplik2!$D$1:$F$22,Verketten!#REF!) -> 0 | H17: =+COUNTIF(Duplik2!$D$1:$F$22,Verketten!#REF!) -> 0 | I17: =+COUNTIF(Duplik2!$D$1:$F$22,Verketten!#REF!) -> 0 | O17: =IFERROR(IF(COUNTIF(Duplik2!$D$1:$F$22,Duplik1!D17)>0,"Duplik2!D"&MATCH(Duplik1!D17,Duplik2!$D$1:$D$22,0),"."),"-") &IFERROR(IF(COUNTIF(Duplik2!$D$1:$F$22,Duplik1!D17)>0,"Duplik2!E"&MATCH(Duplik1!D17,Duplik2!$E$1:$E$22,0),"."),"-") &IFERROR(IF(COUNTIF(Duplik2!$D$1:$F$22,Duplik1!D17)>0,"Duplik2!F"&MATCH(Duplik1!D17,Duplik2!$F$1:$F$22,0),"."),"-") -> ... | P17: =IFERROR(IF(COUNTIF(Duplik2!$D$1:$F$22,Duplik1!E17)>0,"Duplik2!D"&MATCH(Duplik1!E17,Duplik2!$D$1:$D$22,0),"."),"-") &IFERROR(IF(COUNTIF(Duplik2!$D$1:$F$22,Duplik1!E17)>0,"Duplik2!E"&MATCH(Duplik1!E17,Duplik2!$E$1:$E$22,0),"."),"-") &IFERROR(IF(COUNTIF(Duplik2!$D$1:$F$22,Duplik1!E17)>0,"Duplik2!F"&MATCH(Duplik1!E17,Duplik2!$F$1:$F$22,0),"."),"-") -> ... | Q17: =IFERROR(IF(COUNTIF(Duplik2!$D$1:$F$22,Duplik1!F17)>0,"Duplik2!D"&MATCH(Duplik1!F17,Duplik2!$D$1:$D$22,0),"."),"-") &IFERROR(IF(COUNTIF(Duplik2!$D$1:$F$22,Duplik1!F17)>0,"Duplik2!E"&MATCH(Duplik1!F17,Duplik2!$E$1:$E$22,0),"."),"-") &IFERROR(IF(COUNTIF(Duplik2!$D$1:$F$22,Duplik1!F17)>0,"Duplik2!F"&MATCH(Duplik1!F17,Duplik2!$F$1:$F$22,0),"."),"-") -> ...
A18: =COUNTIF(Duplik1!$D$1:$F$22,Verketten!#REF!)-1+COUNTIF(Duplik2!$D$1:$F$22,Verketten!#REF!) -> -1 | B18: =COUNTIF(Duplik1!$D$1:$F$22,Verketten!#REF!)-1+COUNTIF(Duplik2!$D$1:$F$22,Verketten!#REF!) -> -1 | C18: =COUNTIF(Duplik1!$D$1:$F$22,Verketten!#REF!)-1+COUNTIF(Duplik2!$D$1:$F$22,Verketten!#REF!) -> -1 | G18: =+COUNTIF(Duplik2!$D$1:$F$22,Verketten!#REF!) -> 0 | H18: =+COUNTIF(Duplik2!$D$1:$F$22,Verketten!#REF!) -> 0 | I18: =+COUNTIF(Duplik2!$D$1:$F$22,Verketten!#REF!) -> 0 | O18: =IFERROR(IF(COUNTIF(Duplik2!$D$1:$F$22,Duplik1!D18)>0,"Duplik2!D"&MATCH(Duplik1!D18,Duplik2!$D$1:$D$22,0),"."),"-") &IFERROR(IF(COUNTIF(Duplik2!$D$1:$F$22,Duplik1!D18)>0,"Duplik2!E"&MATCH(Duplik1!D18,Duplik2!$E$1:$E$22,0),"."),"-") &IFERROR(IF(COUNTIF(Duplik2!$D$1:$F$22,Duplik1!D18)>0,"Duplik2!F"&MATCH(Duplik1!D18,Duplik2!$F$1:$F$22,0),"."),"-") -> ... | P18: =IFERROR(IF(COUNTIF(Duplik2!$D$1:$F$22,Duplik1!E18)>0,"Duplik2!D"&MATCH(Duplik1!E18,Duplik2!$D$1:$D$22,0),"."),"-") &IFERROR(IF(COUNTIF(Duplik2!$D$1:$F$22,Duplik1!E18)>0,"Duplik2!E"&MATCH(Duplik1!E18,Duplik2!$E$1:$E$22,0),"."),"-") &IFERROR(IF(COUNTIF(Duplik2!$D$1:$F$22,Duplik1!E18)>0,"Duplik2!F"&MATCH(Duplik1!E18,Duplik2!$F$1:$F$22,0),"."),"-") -> ... | Q18: =IFERROR(IF(COUNTIF(Duplik2!$D$1:$F$22,Duplik1!F18)>0,"Duplik2!D"&MATCH(Duplik1!F18,Duplik2!$D$1:$D$22,0),"."),"-") &IFERROR(IF(COUNTIF(Duplik2!$D$1:$F$22,Duplik1!F18)>0,"Duplik2!E"&MATCH(Duplik1!F18,Duplik2!$E$1:$E$22,0),"."),"-") &IFERROR(IF(COUNTIF(Duplik2!$D$1:$F$22,Duplik1!F18)>0,"Duplik2!F"&MATCH(Duplik1!F18,Duplik2!$F$1:$F$22,0),"."),"-") -> ...
A19: =COUNTIF(Duplik1!$D$1:$F$22,Duplik1!D16)-1+COUNTIF(Duplik2!$D$1:$F$22,Duplik1!D16) -> -1 | B19: =COUNTIF(Duplik1!$D$1:$F$22,Duplik1!E16)-1+COUNTIF(Duplik2!$D$1:$F$22,Duplik1!E16) -> -1 | C19: =COUNTIF(Duplik1!$D$1:$F$22,Duplik1!F16)-1+COUNTIF(Duplik2!$D$1:$F$22,Duplik1!F16) -> -1 | G19: =+COUNTIF(Duplik2!$D$1:$F$22,Duplik1!D16) -> 0 | H19: =+COUNTIF(Duplik2!$D$1:$F$22,Duplik1!E16) -> 0 | I19: =+COUNTIF(Duplik2!$D$1:$F$22,Duplik1!F16) -> 0 | O19: =IFERROR(IF(COUNTIF(Duplik2!$D$1:$F$22,Duplik1!D19)>0,"Duplik2!D"&MATCH(Duplik1!D19,Duplik2!$D$1:$D$22,0),"."),"-") &IFERROR(IF(COUNTIF(Duplik2!$D$1:$F$22,Duplik1!D19)>0,"Duplik2!E"&MATCH(Duplik1!D19,Duplik2!$E$1:$E$22,0),"."),"-") &IFERROR(IF(COUNTIF(Duplik2!$D$1:$F$22,Duplik1!D19)>0,"Duplik2!F"&MATCH(Duplik1!D19,Duplik2!$F$1:$F$22,0),"."),"-") -> ... | P19: =IFERROR(IF(COUNTIF(Duplik2!$D$1:$F$22,Duplik1!E19)>0,"Duplik2!D"&MATCH(Duplik1!E19,Duplik2!$D$1:$D$22,0),"."),"-") &IFERROR(IF(COUNTIF(Duplik2!$D$1:$F$22,Duplik1!E19)>0,"Duplik2!E"&MATCH(Duplik1!E19,Duplik2!$E$1:$E$22,0),"."),"-") &IFERROR(IF(COUNTIF(Duplik2!$D$1:$F$22,Duplik1!E19)>0,"Duplik2!F"&MATCH(Duplik1!E19,Duplik2!$F$1:$F$22,0),"."),"-") -> ... | Q19: =IFERROR(IF(COUNTIF(Duplik2!$D$1:$F$22,Duplik1!F19)>0,"Duplik2!D"&MATCH(Duplik1!F19,Duplik2!$D$1:$D$22,0),"."),"-") &IFERROR(IF(COUNTIF(Duplik2!$D$1:$F$22,Duplik1!F19)>0,"Duplik2!E"&MATCH(Duplik1!F19,Duplik2!$E$1:$E$22,0),"."),"-") &IFERROR(IF(COUNTIF(Duplik2!$D$1:$F$22,Duplik1!F19)>0,"Duplik2!F"&MATCH(Duplik1!F19,Duplik2!$F$1:$F$22,0),"."),"-") -> ...
A20: =COUNTIF(Duplik1!$D$1:$F$22,Verketten!#REF!)-1+COUNTIF(Duplik2!$D$1:$F$22,Verketten!#REF!) -> -1 | B20: =COUNTIF(Duplik1!$D$1:$F$22,Duplik1!E18)-1+COUNTIF(Duplik2!$D$1:$F$22,Duplik1!E18) -> -1 | C20: =COUNTIF(Duplik1!$D$1:$F$22,Duplik1!F18)-1+COUNTIF(Duplik2!$D$1:$F$22,Duplik1!F18) -> -1 | G20: =+COUNTIF(Duplik2!$D$1:$F$22,Verketten!#REF!) -> 0 | H20: =+COUNTIF(Duplik2!$D$1:$F$22,Duplik1!E18) -> 0 | I20: =+COUNTIF(Duplik2!$D$1:$F$22,Duplik1!F18) -> 0 | O20: =IFERROR(IF(COUNTIF(Duplik2!$D$1:$F$22,Duplik1!D20)>0,"Duplik2!D"&MATCH(Duplik1!D20,Duplik2!$D$1:$D$22,0),"."),"-") &IFERROR(IF(COUNTIF(Duplik2!$D$1:$F$22,Duplik1!D20)>0,"Duplik2!E"&MATCH(Duplik1!D20,Duplik2!$E$1:$E$22,0),"."),"-") &IFERROR(IF(COUNTIF(Duplik2!$D$1:$F$22,Duplik1!D20)>0,"Duplik2!F"&MATCH(Duplik1!D20,Duplik2!$F$1:$F$22,0),"."),"-") -> ... | P20: =IFERROR(IF(COUNTIF(Duplik2!$D$1:$F$22,Duplik1!E20)>0,"Duplik2!D"&MATCH(Duplik1!E20,Duplik2!$D$1:$D$22,0),"."),"-") &IFERROR(IF(COUNTIF(Duplik2!$D$1:$F$22,Duplik1!E20)>0,"Duplik2!E"&MATCH(Duplik1!E20,Duplik2!$E$1:$E$22,0),"."),"-") &IFERROR(IF(COUNTIF(Duplik2!$D$1:$F$22,Duplik1!E20)>0,"Duplik2!F"&MATCH(Duplik1!E20,Duplik2!$F$1:$F$22,0),"."),"-") -> ... | Q20: =IFERROR(IF(COUNTIF(Duplik2!$D$1:$F$22,Duplik1!F20)>0,"Duplik2!D"&MATCH(Duplik1!F20,Duplik2!$D$1:$D$22,0),"."),"-") &IFERROR(IF(COUNTIF(Duplik2!$D$1:$F$22,Duplik1!F20)>0,"Duplik2!E"&MATCH(Duplik1!F20,Duplik2!$E$1:$E$22,0),"."),"-") &IFERROR(IF(COUNTIF(Duplik2!$D$1:$F$22,Duplik1!F20)>0,"Duplik2!F"&MATCH(Duplik1!F20,Duplik2!$F$1:$F$22,0),"."),"-") -> ...
Q21: Duplikate aus Duplik1 in Duplik2
N24: =IF(N24=100,1,N24+1) -> 100 | O24: bcp für verketten | U24: =IF(U24=100,1,U24+1) -> 100
N25: =IF(N25=100,1,N25+1) -> 100 | U25: =IF(U25=100,1,U25+1) -> 100

Sheet Verketten
A1: 1 | B1: a | C1: =IF(C1=100,1,C1+1) -> 100 | D1: {=IF(C1=1,"",IF(C1-1>COUNTIF(A1:A100,1),D1,D1&INDEX(B$1:B$100,SMALL(IF(A$1:A$100=1,ROW(A$1:A$100)),C1-1))))} -> abehiorstuzäß | K1: <= so funktioniert die BEDINGTE Verkettung! | P1: =LEN(D1) -> 13
A2: 1 | B2: b | C2: 101 | D2: {=WENN(C1=1;"";WENN(C1-1>ZÄHLENWENN(A1:A100;1);D1;D1&INDEX(B$1:B$100;KKLEINSTE(WENN(A$1:A$100=1;ZEILE(A$1:A$100));C1-1))))}
B3: c | C3: =IF(C3=100,1,C3+1) -> 100 | D3: {=IF(C3=1,"",IF(C3-1>COUNTA(B:B),D3,D3&INDEX(B$1:B$30,ROW(A$1:A$30))))} -> aaaaaaaaaaaaaaaaaaaaaaaaaaaaaa | K3: <wie bekommt man da eine Laufzahl rein? | P3: =LEN(D3) -> 30
B4: d | D4: {=WENN(C1=1;"";WENN(C1-1>ZÄHLENWENN(A:A;1);D1;D1&INDEX(B$1:B$100;KKLEINSTE(ZEILE(a$1:a$100);C1-1))))} | N4: <=Experim.
A5: 1 | B5: e | C5: =IF(C5=30,1,C5+1) -> 30 | D5: {=IF(C5=1,"",IF(C5-1>COUNTIF(B:B,"> "),D5,D5&INDEX(B$1:B$10,11-ROW(A$1:A$10))))} -> jjjjjjjjjjjjjjjjjjjjjjjjjjjjj | P5: =LEN(D5) -> 29
B6: f | C6: =IF(C6=C7,1,C6+1) -> 50 | D6: {=IF(C6=1,"",IF(C6-1>COUNTIF(B$1:B$30,"<>"),D6,D6&INDEX(B$1:B$30,SMALL(IF(B$1:B$30<>"",ROW(A$1:A$30)),C6-1))))} -> abcdefghijklmnopqrstuvwxyzäöüß | H6: <=Laufzahl funktioniert! | K6: <= so funktioniert die UNbedingte Verkettung! | P6: =LEN(D6) -> 30 | S6: =IF(S6=100,1,S6+1) -> 12
B7: g | C7: 50 | D7: {=IF(C6=1,"",IF(C6-1>COUNTA(B$1:B$30),D6,D6&INDEX(B$1:B$30,SMALL(IF(B$1:B$30<>"",ROW(A$1:A$30)),C6-1))))} -> abcdefghijklmnopqrstuvwxyzäöüß | H7: <=linke Zahl muss größer sein als Bereich | M7: Makro ist einfacher! | P7: =LEN(D7) -> 30 | Q7: {=IF(C6=1,"",IF(C6-1>COUNTA(B$1:B$30),D6,D6&INDEX(B$1:B$30,SMALL(IF(B$1:B$30<>"",ROW(A$1:A$30)),C6-1))))} -> abcdefghijklmnopqrstuvwxyzäöüß
A8: 1 | B8: h | D8: Flexibles Verketten von Zellen eines Bereiches (155) | O8: =WENN(C6-1>ANZAHL2(B1:B30);D6;D6&INDEX(B$1:B$30;KGRÖSSTE(WENN(B$1:B$30<>"";ZEILE(A$1:A$30));C6-1)))
A9: 1 | B9: i | C9: Bedingte: | D9: http://www.excelformeln.de/formeln.html?welcher=155 | J9: <=Texte Verketten | P9: Kkleinste, Kgrösste: egal? | Q9: {=IF(C6=1,"",IF(C6-1>COUNTA(B$1:B$30),D6,D6&INDEX(B$1:B$30,SMALL(IF(B$1:B$30<>"",ROW(A$1:A$30)),C6-1))))} -> abcdefghijklmnopqrstuvwxyzäöüß
B10: j | C10: {=COUNTIF(A1:A30,1)+1} -> 14 | D10: Lösung Wähle Extras>Optionen>Berechnen>Iteration>Maximale Iterationszahl:100 Beispiel in dem alle Einträge aus B verkettet werden sollen, in denen in Spalte A ein Kenner steht: Die Liste geht von A1 bis A100 Für eine längere Liste muß die maximale Iterationszahl erhöht werden In Spalte A stehen die Kenner (hier: die 1) In Spalte B stehen die zu verkettenden Einträge. In C1 steht =WENN(C1=100;1;C1+1)(ausblenden) in D1 steht {=WENN(C1=1;"";WENN(C1-1>ZÄHLENWENN(A:A;1);D1;D1&INDEX(B$1:B$100;KKLEINSTE(WENN(A$1:A$100=1;ZEILE($1:$100));C1-1))))}
B11: k
B12: l
B13: m
B14: n
A15: 1 | B15: o
B16: p
B17: q
A18: 1 | B18: r
A19: 1 | B19: s
A20: 1 | B20: t
A21: 1 | B21: u
B22: v
B23: w
B24: x
B25: y
A26: 1 | B26: z
A27: 1 | B27: ä
B28: ö
B29: ü
A30: 1 | B30: ß
A31: Ken_î_ner
H36: ganz anderes Thema: | I36: www.gutefrage.net/frage/wie-erstelle-ich-in-excel-vba-einen-kalender-unabhaengig-vom-pc-datum?
