Workbook

Sheet Auswertebogen
A1: Was | B1: Wo | C1: Werker | E1: Nest | G1: Menge | I1: ……. | K1: …… | T1: …….
A2: 2 | B2: 1 | C2: 3 | E2: 4 | G2: 2 | T2: 42298
A3: 2 | B3: 1 | C3: 3 | E3: 1 | G3: 1 | T3: 42298
A4: 2 | B4: 1 | C4: 1 | E4: 4 | G4: 1 | T4: 42298
A5: 2 | B5: 2 | C5: 3 | E5: 4 | G5: 1 | T5: 42299
A6: 2 | B6: 4 | C6: 1 | E6: 2 | G6: 1 | T6: 42299
A7: 2 | B7: 1 | C7: 1 | E7: 4 | G7: 1 | T7: 42299
A8: 2 | B8: 1 | C8: 5 | E8: 4 | G8: 1 | T8: 42299
A9: 2 | B9: 2 | C9: 5 | E9: 2 | G9: 1 | T9: 42299
A10: 2 | B10: 4 | C10: 3 | E10: 2 | G10: 1 | T10: 42300
A11: 2 | B11: 1 | C11: 5 | E11: 4 | G11: 2 | T11: 42300
A12: 2 | B12: 9 | C12: 8 | E12: 4 | G12: 1 | T12: 42301
A13: 2 | B13: 9 | C13: 8 | E13: 1 | G13: 1 | T13: 42301
... A119: 2 | B119: 4 | C119: 0 | E119: 2 | G119: 1 | T119: 42380
A120: 5 | B120: 3+4 | C120: 0 | E120: 1 | G120: 1 | T120: 42381
A121: 2 | B121: 3 | C121: 0 | E121: 2 | G121: 1 | T121: 42381
A122: 2 | B122: 4 | C122: 0 | E122: 3 | G122: 1 | T122: 42381
A123: 2 | B123: 1 | C123: 3 | E123: 3 | G123: 1 | T123: 42382
A124: 2 | B124: 1 | C124: 5 | E124: 2 | G124: 1 | T124: 42382
A125: 2 | B125: 3 | C125: 3 | E125: 4 | G125: 1 | T125: 42383
A126: 2 | B126: 4 | C126: 0 | E126: 2 | G126: 1 | T126: 42383
A127: 2 | B127: 3 | C127: 3 | E127: 1 | G127: 1 | T127: 42384
A128: 5 | B128: 1 | C128: 3 | E128: 2 | G128: 1 | T128: 42384
A129: 5 | B129: 1 | C129: 0 | E129: 1 | G129: 1 | T129: 42384
A130: 2 | B130: 4 | C130: 0 | E130: 2 | G130: 1 | T130: 42384
A131: 5 | B131: 1 | C131: 0 | E131: 2 | G131: 1 | T131: 42384
A132: 3 | B132: 7 | C132: 0 | E132: 4 | G132: 1 | T132: 42384
... A158: 1 | B158: 4 | C158: 3 | E158: 4 | G158: 1 | T158: 42395
A159: 2 | B159: 3+4 | C159: 0 | E159: 1 | G159: 1 | T159: 42395
A160: 1 | B160: 3 | C160: 0 | E160: 2 | G160: 1 | T160: 42395
A161: 2 | B161: 1 | C161: 3 | E161: 1 | G161: 1 | T161: 42396
A162: 2 | B162: 4 | C162: 0 | E162: 2 | G162: 1 | T162: 42396
A163: 2 | B163: 2 | C163: 0 | E163: 3 | G163: 1 | T163: 42396
A164: 5 | B164: 4 | C164: 3 | E164: 4 | G164: 1 | T164: 42397
A165: 5 | B165: 4 | C165: 3 | E165: 3 | G165: 1 | T165: 42397
A166: 5 | B166: 4 | C166: 3 | E166: 1 | G166: 1 | T166: 42397
A167: 1 | B167: 4 | C167: 3 | E167: 1 | G167: 1 | T167: 42397
A168: 5 | B168: 4 | C168: 3 | E168: 4 | G168: 1 | T168: 42397
A169: 1 | B169: 4 | C169: 3 | E169: 2 | G169: 1 | T169: 42397
A170: 1 | B170: 4 | C170: 3 | E170: 4 | G170: 1 | T170: 42397
...

Sheet Diagramme, abs.
B2: =SUM(Auswertebogen!A119:A248) -> 345
J4: graphische Auswertung – absolute Zahlen
G11: Bereich am Bauteil
G12: 1 | H12: 2 | I12: 3 | J12: 4 | K12: 5 | L12: 6 | M12: 7 | N12: 8 | O12: 9 | P12: 10
E13: Fehler | F13: 1 | G13: =IF(COUNTIFS(Auswertebogen!A119:A1575,"1",Auswertebogen!B119:B1575,"1")=0,"",COUNTIFS(Auswertebogen!A119:A1575,"1",Auswertebogen!B119:B1575,"1")) | H13: =IF(COUNTIFS(Auswertebogen!A119:A1534,"1",Auswertebogen!B119:B1534,"2")=0,"",COUNTIFS(Auswertebogen!A119:A1534,"1",Auswertebogen!B119:B1534,"2")) | I13: =IF(COUNTIFS(Auswertebogen!A119:A1534,"1",Auswertebogen!B119:B1534,"3")=0,"",COUNTIFS(Auswertebogen!A119:A1534,"1",Auswertebogen!B119:B1534,"3")) -> 1 | J13: =IF(COUNTIFS(Auswertebogen!A119:A1534,"1",Auswertebogen!B119:B1534,"4")=0,"",COUNTIFS(Auswertebogen!A119:A1534,"1",Auswertebogen!B119:B1534,"4")) -> 8 | K13: =IF(COUNTIFS(Auswertebogen!A119:A1534,"1",Auswertebogen!B119:B1534,"5")=0,"",COUNTIFS(Auswertebogen!A119:A1534,"1",Auswertebogen!B119:B1534,"5")) | L13: =IF(COUNTIFS(Auswertebogen!A119:A1534,"1",Auswertebogen!B119:B1534,"6")=0,"",COUNTIFS(Auswertebogen!A119:A1534,"1",Auswertebogen!B119:B1534,"6")) | M13: =IF(COUNTIFS(Auswertebogen!A119:A1534,"1",Auswertebogen!B119:B1534,"7")=0,"",COUNTIFS(Auswertebogen!A119:A1534,"1",Auswertebogen!B119:B1534,"7")) | N13: =IF(COUNTIFS(Auswertebogen!A119:A1534,"1",Auswertebogen!B119:B1534,"8")=0,"",COUNTIFS(Auswertebogen!A119:A1534,"1",Auswertebogen!B119:B1534,"8")) -> 1 | O13: =IF(COUNTIFS(Auswertebogen!A119:A1534,"1",Auswertebogen!B119:B1534,"9")=0,"",COUNTIFS(Auswertebogen!A119:A1534,"1",Auswertebogen!B119:B1534,"9")) -> 1 | P13: =IF(COUNTIFS(Auswertebogen!A119:A1534,"1",Auswertebogen!B119:B1534,"10")=0,"",COUNTIFS(Auswertebogen!A119:A1534,"1",Auswertebogen!B119:B1534,"10")) | Q13: =SUM(G13:P13) -> 11
F14: 2 | G14: =IF(COUNTIFS(Auswertebogen!A119:A1576,"2",Auswertebogen!B119:B1576,"1")=0,"",COUNTIFS(Auswertebogen!A119:A1576,"2",Auswertebogen!B119:B1576,"1")) -> 17 | H14: =IF(COUNTIFS(Auswertebogen!A119:A1535,"2",Auswertebogen!B119:B1535,"2")=0,"",COUNTIFS(Auswertebogen!A119:A1535,"2",Auswertebogen!B119:B1535,"2")) -> 5 | I14: =IF(COUNTIFS(Auswertebogen!A119:A1534,"2",Auswertebogen!B119:B1534,"3")=0,"",COUNTIFS(Auswertebogen!A119:A1534,"2",Auswertebogen!B119:B1534,"3")) -> 13 | J14: =IF(COUNTIFS(Auswertebogen!A119:A1534,"2",Auswertebogen!B119:B1534,"4")=0,"",COUNTIFS(Auswertebogen!A119:A1534,"2",Auswertebogen!B119:B1534,"4")) -> 27 | K14: =IF(COUNTIFS(Auswertebogen!A119:A1534,"2",Auswertebogen!B119:B1534,"5")=0,"",COUNTIFS(Auswertebogen!A119:A1534,"2",Auswertebogen!B119:B1534,"5")) | L14: =IF(COUNTIFS(Auswertebogen!A119:A1534,"2",Auswertebogen!B119:B1534,"6")=0,"",COUNTIFS(Auswertebogen!A119:A1534,"2",Auswertebogen!B119:B1534,"6")) | M14: =IF(COUNTIFS(Auswertebogen!A119:A1534,"2",Auswertebogen!B119:B1534,"7")=0,"",COUNTIFS(Auswertebogen!A119:A1534,"2",Auswertebogen!B119:B1534,"7")) | N14: =IF(COUNTIFS(Auswertebogen!A119:A1534,"2",Auswertebogen!B119:B1534,"8")=0,"",COUNTIFS(Auswertebogen!A119:A1534,"2",Auswertebogen!B119:B1534,"8")) | O14: =IF(COUNTIFS(Auswertebogen!A119:A1534,"2",Auswertebogen!B119:B1534,"9")=0,"",COUNTIFS(Auswertebogen!A119:A1534,"2",Auswertebogen!B119:B1534,"9")) | P14: =IF(COUNTIFS(Auswertebogen!A119:A1534,"2",Auswertebogen!B119:B1534,"10")=0,"",COUNTIFS(Auswertebogen!A119:A1534,"2",Auswertebogen!B119:B1534,"10")) | Q14: =SUM(G14:P14) -> 62
F15: 3 | G15: =IF(COUNTIFS(Auswertebogen!A119:A1577,"3",Auswertebogen!B119:B1577,"1")=0,"",COUNTIFS(Auswertebogen!A119:A1577,"3",Auswertebogen!B119:B1577,"1")) -> 1 | H15: =IF(COUNTIFS(Auswertebogen!A119:A1536,"3",Auswertebogen!B119:B1536,"2")=0,"",COUNTIFS(Auswertebogen!A119:A1536,"3",Auswertebogen!B119:B1536,"2")) | I15: =IF(COUNTIFS(Auswertebogen!A119:A1534,"3",Auswertebogen!B119:B1534,"3")=0,"",COUNTIFS(Auswertebogen!A119:A1534,"3",Auswertebogen!B119:B1534,"3")) | J15: =IF(COUNTIFS(Auswertebogen!A119:A1534,"3",Auswertebogen!B119:B1534,"4")=0,"",COUNTIFS(Auswertebogen!A119:A1534,"3",Auswertebogen!B119:B1534,"4")) -> 1 | K15: =IF(COUNTIFS(Auswertebogen!A119:A1534,"3",Auswertebogen!B119:B1534,"5")=0,"",COUNTIFS(Auswertebogen!A119:A1534,"3",Auswertebogen!B119:B1534,"5")) | L15: =IF(COUNTIFS(Auswertebogen!A119:A1534,"3",Auswertebogen!B119:B1534,"6")=0,"",COUNTIFS(Auswertebogen!A119:A1534,"3",Auswertebogen!B119:B1534,"6")) -> 1 | M15: =IF(COUNTIFS(Auswertebogen!A119:A1534,"3",Auswertebogen!B119:B1534,"7")=0,"",COUNTIFS(Auswertebogen!A119:A1534,"3",Auswertebogen!B119:B1534,"7")) -> 10 | N15: =IF(COUNTIFS(Auswertebogen!A119:A1534,"3",Auswertebogen!B119:B1534,"8")=0,"",COUNTIFS(Auswertebogen!A119:A1534,"3",Auswertebogen!B119:B1534,"8")) | O15: =IF(COUNTIFS(Auswertebogen!A119:A1534,"3",Auswertebogen!B119:B1534,"9")=0,"",COUNTIFS(Auswertebogen!A119:A1534,"3",Auswertebogen!B119:B1534,"9")) | P15: =IF(COUNTIFS(Auswertebogen!A119:A1534,"3",Auswertebogen!B119:B1534,"10")=0,"",COUNTIFS(Auswertebogen!A119:A1534,"3",Auswertebogen!B119:B1534,"10")) | Q15: =SUM(G15:P15) -> 13
F16: 4 | G16: =IF(COUNTIFS(Auswertebogen!A119:A1578,"4",Auswertebogen!B119:B1578,"1")=0,"",COUNTIFS(Auswertebogen!A119:A1578,"4",Auswertebogen!B119:B1578,"1")) -> 1 | H16: =IF(COUNTIFS(Auswertebogen!A119:A1537,"4",Auswertebogen!B119:B1537,"2")=0,"",COUNTIFS(Auswertebogen!A119:A1537,"4",Auswertebogen!B119:B1537,"2")) -> 1 | I16: =IF(COUNTIFS(Auswertebogen!A119:A1534,"4",Auswertebogen!B119:B1534,"3")=0,"",COUNTIFS(Auswertebogen!A119:A1534,"4",Auswertebogen!B119:B1534,"3")) -> 1 | J16: =IF(COUNTIFS(Auswertebogen!A119:A1534,"4",Auswertebogen!B119:B1534,"4")=0,"",COUNTIFS(Auswertebogen!A119:A1534,"4",Auswertebogen!B119:B1534,"4")) -> 18 | K16: =IF(COUNTIFS(Auswertebogen!A119:A1534,"4",Auswertebogen!B119:B1534,"5")=0,"",COUNTIFS(Auswertebogen!A119:A1534,"4",Auswertebogen!B119:B1534,"5")) | L16: =IF(COUNTIFS(Auswertebogen!A119:A1534,"4",Auswertebogen!B119:B1534,"6")=0,"",COUNTIFS(Auswertebogen!A119:A1534,"4",Auswertebogen!B119:B1534,"6")) | M16: =IF(COUNTIFS(Auswertebogen!A119:A1534,"4",Auswertebogen!B119:B1534,"7")=0,"",COUNTIFS(Auswertebogen!A119:A1534,"4",Auswertebogen!B119:B1534,"7")) | N16: =IF(COUNTIFS(Auswertebogen!A119:A1534,"4",Auswertebogen!B119:B1534,"8")=0,"",COUNTIFS(Auswertebogen!A119:A1534,"4",Auswertebogen!B119:B1534,"8")) -> 1 | O16: =IF(COUNTIFS(Auswertebogen!A119:A1534,"4",Auswertebogen!B119:B1534,"9")=0,"",COUNTIFS(Auswertebogen!A119:A1534,"4",Auswertebogen!B119:B1534,"9")) -> 4 | P16: =IF(COUNTIFS(Auswertebogen!A119:A1534,"4",Auswertebogen!B119:B1534,"10")=0,"",COUNTIFS(Auswertebogen!A119:A1534,"4",Auswertebogen!B119:B1534,"10")) | Q16: =SUM(G16:P16) -> 26
F17: 5 | G17: =IF(COUNTIFS(Auswertebogen!A119:A1579,"5",Auswertebogen!B119:B1579,"1")=0,"",COUNTIFS(Auswertebogen!A119:A1579,"5",Auswertebogen!B119:B1579,"1")) -> 4 | H17: =IF(COUNTIFS(Auswertebogen!A119:A1538,"5",Auswertebogen!B119:B1538,"2")=0,"",COUNTIFS(Auswertebogen!A119:A1538,"5",Auswertebogen!B119:B1538,"2")) -> 2 | I17: =IF(COUNTIFS(Auswertebogen!A119:A1534,"5",Auswertebogen!B119:B1534,"3")=0,"",COUNTIFS(Auswertebogen!A119:A1534,"5",Auswertebogen!B119:B1534,"3")) | J17: =IF(COUNTIFS(Auswertebogen!A119:A1534,"5",Auswertebogen!B119:B1534,"4")=0,"",COUNTIFS(Auswertebogen!A119:A1534,"5",Auswertebogen!B119:B1534,"4")) -> 5 | K17: =IF(COUNTIFS(Auswertebogen!A119:A1534,"5",Auswertebogen!B119:B1534,"5")=0,"",COUNTIFS(Auswertebogen!A119:A1534,"5",Auswertebogen!B119:B1534,"5")) | L17: =IF(COUNTIFS(Auswertebogen!A119:A1534,"5",Auswertebogen!B119:B1534,"6")=0,"",COUNTIFS(Auswertebogen!A119:A1534,"5",Auswertebogen!B119:B1534,"6")) | M17: =IF(COUNTIFS(Auswertebogen!A119:A1534,"5",Auswertebogen!B119:B1534,"7")=0,"",COUNTIFS(Auswertebogen!A119:A1534,"5",Auswertebogen!B119:B1534,"7")) | N17: =IF(COUNTIFS(Auswertebogen!A119:A1534,"5",Auswertebogen!B119:B1534,"8")=0,"",COUNTIFS(Auswertebogen!A119:A1534,"5",Auswertebogen!B119:B1534,"8")) -> 1 | O17: =IF(COUNTIFS(Auswertebogen!A119:A1534,"5",Auswertebogen!B119:B1534,"9")=0,"",COUNTIFS(Auswertebogen!A119:A1534,"5",Auswertebogen!B119:B1534,"9")) | P17: =IF(COUNTIFS(Auswertebogen!A119:A1534,"5",Auswertebogen!B119:B1534,"10")=0,"",COUNTIFS(Auswertebogen!A119:A1534,"5",Auswertebogen!B119:B1534,"10")) | Q17: =SUM(G17:P17) -> 12
G18: =SUM(G13:G17) -> 23 | H18: =SUM(H13:H17) -> 8 | I18: =SUM(I13:I17) -> 15 | J18: =SUM(J13:J17) -> 59 | K18: =SUM(K13:K17) -> 0 | L18: =SUM(L13:L17) -> 1 | M18: =SUM(M13:M17) -> 10 | N18: =SUM(N13:N17) -> 3 | ... P18: =SUM(P13:P17) -> 0
G19: Bereich am Bauteil
G20: 1 | H20: 2 | I20: 3 | J20: 4 | K20: 5 | L20: 6 | M20: 7 | N20: 8 | O20: 9 | P20: 10
E21: Werker | F21: 0 | G21: =IF(COUNTIFS(Auswertebogen!B119:B1534,"1",Auswertebogen!C119:C1534,"0")=0,"",COUNTIFS(Auswertebogen!B119:B1534,"1",Auswertebogen!C119:C1534,"0")) -> 8 | H21: =IF(COUNTIFS(Auswertebogen!B119:B1534,"2",Auswertebogen!C119:C1534,"0")=0,"",COUNTIFS(Auswertebogen!B119:B1534,"2",Auswertebogen!C119:C1534,"0")) -> 2 | I21: =IF(COUNTIFS(Auswertebogen!B119:B1534,"3",Auswertebogen!C119:C1534,"0")=0,"",COUNTIFS(Auswertebogen!B119:B1534,"3",Auswertebogen!C119:C1534,"0")) -> 4 | J21: =IF(COUNTIFS(Auswertebogen!B119:B1534,"4",Auswertebogen!C119:C1534,"0")=0,"",COUNTIFS(Auswertebogen!B119:B1534,"4",Auswertebogen!C119:C1534,"0")) -> 29 | K21: =IF(COUNTIFS(Auswertebogen!B119:B1534,"5",Auswertebogen!C119:C1534,"0")=0,"",COUNTIFS(Auswertebogen!B119:B1534,"5",Auswertebogen!C119:C1534,"0")) | L21: =IF(COUNTIFS(Auswertebogen!B119:B1534,"6",Auswertebogen!C119:C1534,"0")=0,"",COUNTIFS(Auswertebogen!B119:B1534,"6",Auswertebogen!C119:C1534,"0")) | M21: =IF(COUNTIFS(Auswertebogen!B119:B1534,"7",Auswertebogen!C119:C1534,"0")=0,"",COUNTIFS(Auswertebogen!B119:B1534,"7",Auswertebogen!C119:C1534,"0")) -> 7 | N21: =IF(COUNTIFS(Auswertebogen!B119:B1534,"8",Auswertebogen!C119:C1534,"0")=0,"",COUNTIFS(Auswertebogen!B119:B1534,"8",Auswertebogen!C119:C1534,"0")) -> 2 | O21: =IF(COUNTIFS(Auswertebogen!B119:B1534,"9",Auswertebogen!C119:C1534,"0")=0,"",COUNTIFS(Auswertebogen!B119:B1534,"9",Auswertebogen!C119:C1534,"0")) -> 1 | P21: =IF(COUNTIFS(Auswertebogen!B119:B1534,"10",Auswertebogen!C119:C1534,"0")=0,"",COUNTIFS(Auswertebogen!B119:B1534,"10",Auswertebogen!C119:C1534,"0")) | Q21: =SUM(G21:P21) -> 53
F22: 3 | G22: =IF(COUNTIFS(Auswertebogen!B119:B1534,"1",Auswertebogen!C119:C1534,"3")=0,"",COUNTIFS(Auswertebogen!B119:B1534,"1",Auswertebogen!C119:C1534,"3")) -> 12 | H22: =IF(COUNTIFS(Auswertebogen!B119:B1534,"2",Auswertebogen!C119:C1534,"3")=0,"",COUNTIFS(Auswertebogen!B119:B1534,"2",Auswertebogen!C119:C1534,"3")) -> 5 | I22: =IF(COUNTIFS(Auswertebogen!B119:B1534,"3",Auswertebogen!C119:C1534,"3")=0,"",COUNTIFS(Auswertebogen!B119:B1534,"3",Auswertebogen!C119:C1534,"3")) -> 11 | J22: =IF(COUNTIFS(Auswertebogen!B119:B1534,"4",Auswertebogen!C119:C1534,"3")=0,"",COUNTIFS(Auswertebogen!B119:B1534,"4",Auswertebogen!C119:C1534,"3")) -> 28 | K22: =IF(COUNTIFS(Auswertebogen!B119:B1534,"5",Auswertebogen!C119:C1534,"3")=0,"",COUNTIFS(Auswertebogen!B119:B1534,"5",Auswertebogen!C119:C1534,"3")) | L22: =IF(COUNTIFS(Auswertebogen!B119:B1534,"6",Auswertebogen!C119:C1534,"3")=0,"",COUNTIFS(Auswertebogen!B119:B1534,"6",Auswertebogen!C119:C1534,"3")) -> 1 | M22: =IF(COUNTIFS(Auswertebogen!B119:B1534,"7",Auswertebogen!C119:C1534,"3")=0,"",COUNTIFS(Auswertebogen!B119:B1534,"7",Auswertebogen!C119:C1534,"3")) -> 3 | N22: =IF(COUNTIFS(Auswertebogen!B119:B1534,"8",Auswertebogen!C119:C1534,"3")=0,"",COUNTIFS(Auswertebogen!B119:B1534,"8",Auswertebogen!C119:C1534,"3")) -> 1 | O22: =IF(COUNTIFS(Auswertebogen!B119:B1534,"9",Auswertebogen!C119:C1534,"3")=0,"",COUNTIFS(Auswertebogen!B119:B1534,"9",Auswertebogen!C119:C1534,"3")) -> 3 | P22: =IF(COUNTIFS(Auswertebogen!B119:B1534,"10",Auswertebogen!C119:C1534,"3")=0,"",COUNTIFS(Auswertebogen!B119:B1534,"10",Auswertebogen!C119:C1534,"3")) | Q22: =SUM(G22:P22) -> 64
F23: 5 | G23: =IF(COUNTIFS(Auswertebogen!B119:B1534,"1",Auswertebogen!C119:C1534,"5")=0,"",COUNTIFS(Auswertebogen!B119:B1534,"1",Auswertebogen!C119:C1534,"5")) -> 3 | H23: =IF(COUNTIFS(Auswertebogen!B119:B1534,"2",Auswertebogen!C119:C1534,"5")=0,"",COUNTIFS(Auswertebogen!B119:B1534,"2",Auswertebogen!C119:C1534,"5")) -> 1 | I23: =IF(COUNTIFS(Auswertebogen!B119:B1534,"3",Auswertebogen!C119:C1534,"5")=0,"",COUNTIFS(Auswertebogen!B119:B1534,"3",Auswertebogen!C119:C1534,"5")) | J23: =IF(COUNTIFS(Auswertebogen!B119:B1534,"4",Auswertebogen!C119:C1534,"5")=0,"",COUNTIFS(Auswertebogen!B119:B1534,"4",Auswertebogen!C119:C1534,"5")) -> 1 | K23: =IF(COUNTIFS(Auswertebogen!B119:B1534,"5",Auswertebogen!C119:C1534,"5")=0,"",COUNTIFS(Auswertebogen!B119:B1534,"5",Auswertebogen!C119:C1534,"5")) | L23: =IF(COUNTIFS(Auswertebogen!B119:B1534,"6",Auswertebogen!C119:C1534,"5")=0,"",COUNTIFS(Auswertebogen!B119:B1534,"6",Auswertebogen!C119:C1534,"5")) | M23: =IF(COUNTIFS(Auswertebogen!B119:B1534,"7",Auswertebogen!C119:C1534,"5")=0,"",COUNTIFS(Auswertebogen!B119:B1534,"7",Auswertebogen!C119:C1534,"5")) | N23: =IF(COUNTIFS(Auswertebogen!B119:B1534,"8",Auswertebogen!C119:C1534,"5")=0,"",COUNTIFS(Auswertebogen!B119:B1534,"8",Auswertebogen!C119:C1534,"5")) | O23: =IF(COUNTIFS(Auswertebogen!B119:B1534,"9",$C$124:$C$1539,"5")=0,"",COUNTIFS(Auswertebogen!B119:B1534,"9",$C$124:$C$1539,"5")) | P23: =IF(COUNTIFS(Auswertebogen!B119:B1534,"10",$C$124:$C$1539,"5")=0,"",COUNTIFS(Auswertebogen!B119:B1534,"10",$C$124:$C$1539,"5")) | Q23: =SUM(G23:P23) -> 5
G24: =SUM(G21:G23) -> 23 | H24: =SUM(H21:H23) -> 8 | I24: =SUM(I21:I23) -> 15 | J24: =SUM(J21:J23) -> 58 | K24: =SUM(K21:K23) -> 0 | L24: =SUM(L21:L23) -> 1 | M24: =SUM(M21:M23) -> 10 | N24: =SUM(N21:N23) -> 3 | ... P24: =SUM(P21:P23) -> 0
G25: Bereich am Bauteil
G26: 1 | H26: 2 | I26: 3 | J26: 4 | K26: 5 | L26: 6 | M26: 7 | N26: 8 | O26: 9 | P26: 10
E27: Nest | F27: 1 | G27: =IF(COUNTIFS(Auswertebogen!B119:B1534,"1",Auswertebogen!E119:E1534,"1")=0,"",COUNTIFS(Auswertebogen!B119:B1534,"1",Auswertebogen!E119:E1534,"1")) -> 7 | H27: =IF(COUNTIFS(Auswertebogen!B119:B1534,"2",Auswertebogen!E119:E1534,"1")=0,"",COUNTIFS(Auswertebogen!B119:B1534,"2",Auswertebogen!E119:E1534,"1")) -> 1 | I27: =IF(COUNTIFS(Auswertebogen!B119:B1534,"3",Auswertebogen!E119:E1534,"1")=0,"",COUNTIFS(Auswertebogen!B119:B1534,"3",Auswertebogen!E119:E1534,"1")) -> 3 | J27: =IF(COUNTIFS(Auswertebogen!B119:B1534,"4",Auswertebogen!E119:E1534,"1")=0,"",COUNTIFS(Auswertebogen!B119:B1534,"4",Auswertebogen!E119:E1534,"1")) -> 16 | K27: =IF(COUNTIFS(Auswertebogen!B119:B1534,"5",Auswertebogen!E119:E1534,"1")=0,"",COUNTIFS(Auswertebogen!B119:B1534,"5",Auswertebogen!E119:E1534,"1")) | L27: =IF(COUNTIFS(Auswertebogen!B119:B1534,"6",Auswertebogen!E119:E1534,"1")=0,"",COUNTIFS(Auswertebogen!B119:B1534,"6",Auswertebogen!E119:E1534,"1")) | M27: =IF(COUNTIFS(Auswertebogen!B119:B1534,"7",Auswertebogen!E119:E1534,"1")=0,"",COUNTIFS(Auswertebogen!B119:B1534,"7",Auswertebogen!E119:E1534,"1")) -> 1 | N27: =IF(COUNTIFS(Auswertebogen!B119:B1534,"8",Auswertebogen!E119:E1534,"1")=0,"",COUNTIFS(Auswertebogen!B119:B1534,"8",Auswertebogen!E119:E1534,"1")) | O27: =IF(COUNTIFS(Auswertebogen!B119:B1534,"9",Auswertebogen!E119:E1534,"1")=0,"",COUNTIFS(Auswertebogen!B119:B1534,"9",Auswertebogen!E119:E1534,"1")) | P27: =IF(COUNTIFS(Auswertebogen!B118:B1533,"10",Auswertebogen!E119:E1534,"1")=0,"",COUNTIFS(Auswertebogen!B118:B1533,"10",Auswertebogen!E119:E1534,"1")) | Q27: =SUM(G27:P27) -> 28
F28: 2 | G28: =IF(COUNTIFS(Auswertebogen!B119:B1534,"1",Auswertebogen!E119:E1534,"2")=0,"",COUNTIFS(Auswertebogen!B119:B1534,"1",Auswertebogen!E119:E1534,"2")) -> 9 | H28: =IF(COUNTIFS(Auswertebogen!B119:B1534,"",Auswertebogen!E119:E1534,"2")=0,"",COUNTIFS(Auswertebogen!B119:B1534,"2",Auswertebogen!E119:E1534,"2")) | I28: =IF(COUNTIFS(Auswertebogen!B119:B1534,"3",Auswertebogen!E119:E1534,"2")=0,"",COUNTIFS(Auswertebogen!B119:B1534,"3",Auswertebogen!E119:E1534,"2")) -> 5 | J28: =IF(COUNTIFS(Auswertebogen!B119:B1534,"4",Auswertebogen!E119:E1534,"2")=0,"",COUNTIFS(Auswertebogen!B119:B1534,"4",Auswertebogen!E119:E1534,"2")) -> 18 | K28: =IF(COUNTIFS(Auswertebogen!B119:B1534,"5",Auswertebogen!E119:E1534,"2")=0,"",COUNTIFS(Auswertebogen!B119:B1534,"5",Auswertebogen!E119:E1534,"2")) | L28: =IF(COUNTIFS(Auswertebogen!B119:B1534,"6",Auswertebogen!E119:E1534,"2")=0,"",COUNTIFS(Auswertebogen!B119:B1534,"6",Auswertebogen!E119:E1534,"2")) | M28: =IF(COUNTIFS(Auswertebogen!B119:B1534,"7",Auswertebogen!E119:E1534,"2")=0,"",COUNTIFS(Auswertebogen!B119:B1534,"7",Auswertebogen!E119:E1534,"2")) -> 5 | N28: =IF(COUNTIFS(Auswertebogen!B119:B1534,"8",Auswertebogen!E119:E1534,"2")=0,"",COUNTIFS(Auswertebogen!B119:B1534,"8",Auswertebogen!E119:E1534,"2")) | O28: =IF(COUNTIFS(Auswertebogen!B119:B1534,"9",Auswertebogen!E119:E1534,"2")=0,"",COUNTIFS(Auswertebogen!B119:B1534,"9",Auswertebogen!E119:E1534,"2")) -> 1 | P28: =IF(COUNTIFS(Auswertebogen!B119:B1534,"10",Auswertebogen!E119:E1534,"2")=0,"",COUNTIFS(Auswertebogen!B119:B1534,"10",Auswertebogen!E119:E1534,"2")) | Q28: =SUM(G28:P28) -> 38
F29: 3 | G29: =IF(COUNTIFS(Auswertebogen!B119:B1534,"1",Auswertebogen!E119:E1534,"3")=0,"",COUNTIFS(Auswertebogen!B119:B1534,"1",Auswertebogen!E119:E1534,"3")) -> 4 | H29: =IF(COUNTIFS(Auswertebogen!B119:B1534,"2",Auswertebogen!E119:E1534,"3")=0,"",COUNTIFS(Auswertebogen!B119:B1534,"2",Auswertebogen!E119:E1534,"3")) -> 3 | I29: =IF(COUNTIFS(Auswertebogen!B119:B1534,"3",Auswertebogen!E119:E1534,"3")=0,"",COUNTIFS(Auswertebogen!B119:B1534,"3",Auswertebogen!E119:E1534,"3")) -> 2 | J29: =IF(COUNTIFS(Auswertebogen!B119:B1534,"4",Auswertebogen!E119:E1534,"3")=0,"",COUNTIFS(Auswertebogen!B119:B1534,"4",Auswertebogen!E119:E1534,"3")) -> 10 | K29: =IF(COUNTIFS(Auswertebogen!B119:B1534,"5",Auswertebogen!E119:E1534,"3")=0,"",COUNTIFS(Auswertebogen!B119:B1534,"5",Auswertebogen!E119:E1534,"3")) | L29: =IF(COUNTIFS(Auswertebogen!B119:B1534,"6",Auswertebogen!E119:E1534,"3")=0,"",COUNTIFS(Auswertebogen!B119:B1534,"6",Auswertebogen!E119:E1534,"3")) -> 1 | M29: =IF(COUNTIFS(Auswertebogen!B119:B1534,"7",Auswertebogen!E119:E1534,"3")=0,"",COUNTIFS(Auswertebogen!B119:B1534,"7",Auswertebogen!E119:E1534,"3")) -> 2 | N29: =IF(COUNTIFS(Auswertebogen!B119:B1534,"8",Auswertebogen!E119:E1534,"3")=0,"",COUNTIFS(Auswertebogen!B119:B1534,"8",Auswertebogen!E119:E1534,"3")) -> 2 | O29: =IF(COUNTIFS(Auswertebogen!B119:B1534,"9",Auswertebogen!E119:E1534,"3")=0,"",COUNTIFS(Auswertebogen!B119:B1534,"9",Auswertebogen!E119:E1534,"3")) -> 4 | P29: =IF(COUNTIFS(Auswertebogen!B119:B1534,"10",Auswertebogen!E119:E1534,"3")=0,"",COUNTIFS(Auswertebogen!B119:B1534,"10",Auswertebogen!E119:E1534,"3")) | Q29: =SUM(G29:P29) -> 28
F30: 4 | G30: =IF(COUNTIFS(Auswertebogen!B119:B1534,"1",Auswertebogen!E119:E1534,"4")=0,"",COUNTIFS(Auswertebogen!B119:B1534,"1",Auswertebogen!E119:E1534,"4")) -> 3 | H30: =IF(COUNTIFS(Auswertebogen!B119:B1534,"2",Auswertebogen!E119:E1534,"4")=0,"",COUNTIFS(Auswertebogen!B119:B1534,"2",Auswertebogen!E119:E1534,"4")) -> 3 | I30: =IF(COUNTIFS(Auswertebogen!B119:B1534,"3",Auswertebogen!E119:E1534,"4")=0,"",COUNTIFS(Auswertebogen!B119:B1534,"3",Auswertebogen!E119:E1534,"4")) -> 5 | J30: =IF(COUNTIFS(Auswertebogen!B119:B1534,"4",Auswertebogen!E119:E1534,"4")=0,"",COUNTIFS(Auswertebogen!B119:B1534,"4",Auswertebogen!E119:E1534,"4")) -> 13 | K30: =IF(COUNTIFS(Auswertebogen!B119:B1534,"5",Auswertebogen!E119:E1534,"4")=0,"",COUNTIFS(Auswertebogen!B119:B1534,"5",Auswertebogen!E119:E1534,"4")) | L30: =IF(COUNTIFS(Auswertebogen!B119:B1534,"6",Auswertebogen!E119:E1534,"4")=0,"",COUNTIFS(Auswertebogen!B119:B1534,"6",Auswertebogen!E119:E1534,"4")) | M30: =IF(COUNTIFS(Auswertebogen!B119:B1534,"7",Auswertebogen!E119:E1534,"4")=0,"",COUNTIFS(Auswertebogen!B119:B1534,"7",Auswertebogen!E119:E1534,"4")) -> 2 | N30: =IF(COUNTIFS(Auswertebogen!B119:B1534,"8",Auswertebogen!E119:E1534,"4")=0,"",COUNTIFS(Auswertebogen!B119:B1534,"8",Auswertebogen!E119:E1534,"4")) -> 1 | O30: =IF(COUNTIFS(Auswertebogen!B119:B1534,"9",Auswertebogen!E119:E1534,"4")=0,"",COUNTIFS(Auswertebogen!B119:B1534,"9",Auswertebogen!E119:E1534,"4")) | P30: =IF(COUNTIFS(Auswertebogen!B119:B1534,"10",$E$124:$E$1539,"4")=0,"",COUNTIFS(Auswertebogen!B119:B1534,"10",$E$124:$E$1539,"4")) | Q30: =SUM(G30:P30) -> 27
G31: =SUM(G27:G30) -> 23 | H31: =SUM(H27:H30) -> 7 | I31: =SUM(I27:I30) -> 15 | J31: =SUM(J27:J30) -> 57 | K31: =SUM(K27:K30) -> 0 | L31: =SUM(L27:L30) -> 1 | M31: =SUM(M27:M30) -> 10 | N31: =SUM(N27:N30) -> 3 | ... P31: =SUM(P27:P30) -> 0
G32: Nest
G33: 1 | H33: 2 | I33: 3 | J33: 4
E34: Fehler | F34: 1 | G34: =IF(COUNTIFS(Auswertebogen!A119:A1534,"1",Auswertebogen!E119:E1534,"1")=0,"",COUNTIFS(Auswertebogen!A119:A1534,"1",Auswertebogen!E119:E1534,"1")) -> 3 | H34: =IF(COUNTIFS(Auswertebogen!A119:A1534,"1",Auswertebogen!E119:E1534,"2")=0,"",COUNTIFS(Auswertebogen!A119:A1534,"1",Auswertebogen!E119:E1534,"2")) -> 2 | I34: =IF(COUNTIFS(Auswertebogen!A119:A1534,"1",Auswertebogen!E119:E1534,"3")=0,"",COUNTIFS(Auswertebogen!A119:A1534,"1",Auswertebogen!E119:E1534,"3")) -> 4 | J34: =IF(COUNTIFS(Auswertebogen!A119:A1534,"1",Auswertebogen!E119:E1534,"4")=0,"",COUNTIFS(Auswertebogen!A119:A1534,"1",Auswertebogen!E119:E1534,"4")) -> 2 | K34: =SUM(G34:J34) -> 11
F35: 2 | G35: =IF(COUNTIFS(Auswertebogen!A119:A1534,"2",Auswertebogen!E119:E1534,"1")=0,"",COUNTIFS(Auswertebogen!A119:A1534,"2",Auswertebogen!E119:E1534,"1")) -> 14 | H35: =IF(COUNTIFS(Auswertebogen!A119:A1534,"2",Auswertebogen!E119:E1534,"2")=0,"",COUNTIFS(Auswertebogen!A119:A1534,"2",Auswertebogen!E119:E1534,"2")) -> 23 | I35: =IF(COUNTIFS(Auswertebogen!A119:A1534,"2",Auswertebogen!E119:E1534,"3")=0,"",COUNTIFS(Auswertebogen!A119:A1534,"2",Auswertebogen!E119:E1534,"3")) -> 10 | J35: =IF(COUNTIFS(Auswertebogen!A119:A1534,"2",Auswertebogen!E119:E1534,"4")=0,"",COUNTIFS(Auswertebogen!A119:A1534,"2",Auswertebogen!E119:E1534,"4")) -> 14 | K35: =SUM(G35:J35) -> 61
F36: 3 | G36: =IF(COUNTIFS(Auswertebogen!A119:A1534,"3",Auswertebogen!E119:E1534,"1")=0,"",COUNTIFS(Auswertebogen!A119:A1534,"3",Auswertebogen!E119:E1534,"1")) -> 1 | H36: =IF(COUNTIFS(Auswertebogen!A119:A1534,"3",Auswertebogen!E119:E1534,"2")=0,"",COUNTIFS(Auswertebogen!A119:A1534,"3",Auswertebogen!E119:E1534,"2")) -> 6 | I36: =IF(COUNTIFS(Auswertebogen!A119:A1534,"3",Auswertebogen!E119:E1534,"3")=0,"",COUNTIFS(Auswertebogen!A119:A1534,"3",Auswertebogen!E119:E1534,"3")) -> 4 | J36: =IF(COUNTIFS(Auswertebogen!A119:A1534,"3",Auswertebogen!E119:E1534,"4")=0,"",COUNTIFS(Auswertebogen!A119:A1534,"3",Auswertebogen!E119:E1534,"4")) -> 2 | K36: =SUM(G36:J36) -> 13
F37: 4 | G37: =IF(COUNTIFS(Auswertebogen!A119:A1534,"4",Auswertebogen!E119:E1534,"1")=0,"",COUNTIFS(Auswertebogen!A119:A1534,"4",Auswertebogen!E119:E1534,"1")) -> 9 | H37: =IF(COUNTIFS(Auswertebogen!A119:A1534,"4",Auswertebogen!E119:E1534,"2")=0,"",COUNTIFS(Auswertebogen!A119:A1534,"4",Auswertebogen!E119:E1534,"2")) -> 6 | I37: =IF(COUNTIFS(Auswertebogen!A119:A1534,"4",Auswertebogen!E119:E1534,"3")=0,"",COUNTIFS(Auswertebogen!A119:A1534,"4",Auswertebogen!E119:E1534,"3")) -> 7 | J37: =IF(COUNTIFS(Auswertebogen!A119:A1534,"4",Auswertebogen!E119:E1534,"4")=0,"",COUNTIFS(Auswertebogen!A119:A1534,"4",Auswertebogen!E119:E1534,"4")) -> 4 | K37: =SUM(G37:J37) -> 26
F38: 5 | G38: =IF(COUNTIFS(Auswertebogen!A119:A1534,"5",Auswertebogen!E119:E1534,"1")=0,"",COUNTIFS(Auswertebogen!A119:A1534,"5",Auswertebogen!E119:E1534,"1")) -> 3 | H38: =IF(COUNTIFS(Auswertebogen!A119:A1534,"5",Auswertebogen!E119:E1534,"2")=0,"",COUNTIFS(Auswertebogen!A119:A1534,"5",Auswertebogen!E119:E1534,"2")) -> 2 | I38: =IF(COUNTIFS(Auswertebogen!A119:A1534,"5",Auswertebogen!E119:E1534,"3")=0,"",COUNTIFS(Auswertebogen!A119:A1534,"5",Auswertebogen!E119:E1534,"3")) -> 3 | J38: =IF(COUNTIFS(Auswertebogen!A119:A1534,"5",Auswertebogen!E119:E1534,"4")=0,"",COUNTIFS(Auswertebogen!A119:A1534,"5",Auswertebogen!E119:E1534,"4")) -> 5 | K38: =SUM(G38:J38) -> 13
G39: =SUM(G34:G38) -> 30 | H39: =SUM(H34:H38) -> 39 | I39: =SUM(I34:I38) -> 28 | J39: =SUM(J34:J38) -> 27

Sheet Diagramme, tägl.
B2: =SUM(Auswertebogen!A119:A248) -> 345
J4: graphische Auswertung – tägliche Zahlen
K6: von | M6: bis
G10: Bereich am Bauteil
G11: 1 | H11: 2 | I11: 3 | J11: 4 | K11: 5 | L11: 6 | M11: 7 | N11: 8 | O11: 9 | P11: 10
E12: Fehler | F12: 1 | G12: =IF(COUNTIFS(Auswertebogen!A119:A1575,"1",Auswertebogen!B119:B1575,"1")=0,"",COUNTIFS(Auswertebogen!A119:A1575,"1",Auswertebogen!B119:B1575,"1")) | H12: =IF(COUNTIFS(Auswertebogen!A119:A1534,"1",Auswertebogen!B119:B1534,"2")=0,"",COUNTIFS(Auswertebogen!A119:A1534,"1",Auswertebogen!B119:B1534,"2")) | I12: =IF(COUNTIFS(Auswertebogen!A119:A1534,"1",Auswertebogen!B119:B1534,"3")=0,"",COUNTIFS(Auswertebogen!A119:A1534,"1",Auswertebogen!B119:B1534,"3")) -> 1 | J12: =IF(COUNTIFS(Auswertebogen!A119:A1534,"1",Auswertebogen!B119:B1534,"4")=0,"",COUNTIFS(Auswertebogen!A119:A1534,"1",Auswertebogen!B119:B1534,"4")) -> 8 | K12: =IF(COUNTIFS(Auswertebogen!A119:A1534,"1",Auswertebogen!B119:B1534,"5")=0,"",COUNTIFS(Auswertebogen!A119:A1534,"1",Auswertebogen!B119:B1534,"5")) | L12: =IF(COUNTIFS(Auswertebogen!A119:A1534,"1",Auswertebogen!B119:B1534,"6")=0,"",COUNTIFS(Auswertebogen!A119:A1534,"1",Auswertebogen!B119:B1534,"6")) | M12: =IF(COUNTIFS(Auswertebogen!A119:A1534,"1",Auswertebogen!B119:B1534,"7")=0,"",COUNTIFS(Auswertebogen!A119:A1534,"1",Auswertebogen!B119:B1534,"7")) | N12: =IF(COUNTIFS(Auswertebogen!A119:A1534,"1",Auswertebogen!B119:B1534,"8")=0,"",COUNTIFS(Auswertebogen!A119:A1534,"1",Auswertebogen!B119:B1534,"8")) -> 1 | O12: =IF(COUNTIFS(Auswertebogen!A119:A1534,"1",Auswertebogen!B119:B1534,"9")=0,"",COUNTIFS(Auswertebogen!A119:A1534,"1",Auswertebogen!B119:B1534,"9")) -> 1 | P12: =IF(COUNTIFS(Auswertebogen!A119:A1534,"1",Auswertebogen!B119:B1534,"10")=0,"",COUNTIFS(Auswertebogen!A119:A1534,"1",Auswertebogen!B119:B1534,"10")) | Q12: =SUM(G12:P12) -> 11
F13: 2 | G13: =IF(COUNTIFS(Auswertebogen!A119:A1576,"2",Auswertebogen!B119:B1576,"1")=0,"",COUNTIFS(Auswertebogen!A119:A1576,"2",Auswertebogen!B119:B1576,"1")) -> 17 | H13: =IF(COUNTIFS(Auswertebogen!A119:A1535,"2",Auswertebogen!B119:B1535,"2")=0,"",COUNTIFS(Auswertebogen!A119:A1535,"2",Auswertebogen!B119:B1535,"2")) -> 5 | I13: =IF(COUNTIFS(Auswertebogen!A119:A1534,"2",Auswertebogen!B119:B1534,"3")=0,"",COUNTIFS(Auswertebogen!A119:A1534,"2",Auswertebogen!B119:B1534,"3")) -> 13 | J13: =IF(COUNTIFS(Auswertebogen!A119:A1534,"2",Auswertebogen!B119:B1534,"4")=0,"",COUNTIFS(Auswertebogen!A119:A1534,"2",Auswertebogen!B119:B1534,"4")) -> 27 | K13: =IF(COUNTIFS(Auswertebogen!A119:A1534,"2",Auswertebogen!B119:B1534,"5")=0,"",COUNTIFS(Auswertebogen!A119:A1534,"2",Auswertebogen!B119:B1534,"5")) | L13: =IF(COUNTIFS(Auswertebogen!A119:A1534,"2",Auswertebogen!B119:B1534,"6")=0,"",COUNTIFS(Auswertebogen!A119:A1534,"2",Auswertebogen!B119:B1534,"6")) | M13: =IF(COUNTIFS(Auswertebogen!A119:A1534,"2",Auswertebogen!B119:B1534,"7")=0,"",COUNTIFS(Auswertebogen!A119:A1534,"2",Auswertebogen!B119:B1534,"7")) | N13: =IF(COUNTIFS(Auswertebogen!A119:A1534,"2",Auswertebogen!B119:B1534,"8")=0,"",COUNTIFS(Auswertebogen!A119:A1534,"2",Auswertebogen!B119:B1534,"8")) | O13: =IF(COUNTIFS(Auswertebogen!A119:A1534,"2",Auswertebogen!B119:B1534,"9")=0,"",COUNTIFS(Auswertebogen!A119:A1534,"2",Auswertebogen!B119:B1534,"9")) | P13: =IF(COUNTIFS(Auswertebogen!A119:A1534,"2",Auswertebogen!B119:B1534,"10")=0,"",COUNTIFS(Auswertebogen!A119:A1534,"2",Auswertebogen!B119:B1534,"10")) | Q13: =SUM(G13:P13) -> 62
F14: 3 | G14: =IF(COUNTIFS(Auswertebogen!A119:A1577,"3",Auswertebogen!B119:B1577,"1")=0,"",COUNTIFS(Auswertebogen!A119:A1577,"3",Auswertebogen!B119:B1577,"1")) -> 1 | H14: =IF(COUNTIFS(Auswertebogen!A119:A1536,"3",Auswertebogen!B119:B1536,"2")=0,"",COUNTIFS(Auswertebogen!A119:A1536,"3",Auswertebogen!B119:B1536,"2")) | I14: =IF(COUNTIFS(Auswertebogen!A119:A1534,"3",Auswertebogen!B119:B1534,"3")=0,"",COUNTIFS(Auswertebogen!A119:A1534,"3",Auswertebogen!B119:B1534,"3")) | J14: =IF(COUNTIFS(Auswertebogen!A119:A1534,"3",Auswertebogen!B119:B1534,"4")=0,"",COUNTIFS(Auswertebogen!A119:A1534,"3",Auswertebogen!B119:B1534,"4")) -> 1 | K14: =IF(COUNTIFS(Auswertebogen!A119:A1534,"3",Auswertebogen!B119:B1534,"5")=0,"",COUNTIFS(Auswertebogen!A119:A1534,"3",Auswertebogen!B119:B1534,"5")) | L14: =IF(COUNTIFS(Auswertebogen!A119:A1534,"3",Auswertebogen!B119:B1534,"6")=0,"",COUNTIFS(Auswertebogen!A119:A1534,"3",Auswertebogen!B119:B1534,"6")) -> 1 | M14: =IF(COUNTIFS(Auswertebogen!A119:A1534,"3",Auswertebogen!B119:B1534,"7")=0,"",COUNTIFS(Auswertebogen!A119:A1534,"3",Auswertebogen!B119:B1534,"7")) -> 10 | N14: =IF(COUNTIFS(Auswertebogen!A119:A1534,"3",Auswertebogen!B119:B1534,"8")=0,"",COUNTIFS(Auswertebogen!A119:A1534,"3",Auswertebogen!B119:B1534,"8")) | O14: =IF(COUNTIFS(Auswertebogen!A119:A1534,"3",Auswertebogen!B119:B1534,"9")=0,"",COUNTIFS(Auswertebogen!A119:A1534,"3",Auswertebogen!B119:B1534,"9")) | P14: =IF(COUNTIFS(Auswertebogen!A119:A1534,"3",Auswertebogen!B119:B1534,"10")=0,"",COUNTIFS(Auswertebogen!A119:A1534,"3",Auswertebogen!B119:B1534,"10")) | Q14: =SUM(G14:P14) -> 13
F15: 4 | G15: =IF(COUNTIFS(Auswertebogen!A119:A1578,"4",Auswertebogen!B119:B1578,"1")=0,"",COUNTIFS(Auswertebogen!A119:A1578,"4",Auswertebogen!B119:B1578,"1")) -> 1 | H15: =IF(COUNTIFS(Auswertebogen!A119:A1537,"4",Auswertebogen!B119:B1537,"2")=0,"",COUNTIFS(Auswertebogen!A119:A1537,"4",Auswertebogen!B119:B1537,"2")) -> 1 | I15: =IF(COUNTIFS(Auswertebogen!A119:A1534,"4",Auswertebogen!B119:B1534,"3")=0,"",COUNTIFS(Auswertebogen!A119:A1534,"4",Auswertebogen!B119:B1534,"3")) -> 1 | J15: =IF(COUNTIFS(Auswertebogen!A119:A1534,"4",Auswertebogen!B119:B1534,"4")=0,"",COUNTIFS(Auswertebogen!A119:A1534,"4",Auswertebogen!B119:B1534,"4")) -> 18 | K15: =IF(COUNTIFS(Auswertebogen!A119:A1534,"4",Auswertebogen!B119:B1534,"5")=0,"",COUNTIFS(Auswertebogen!A119:A1534,"4",Auswertebogen!B119:B1534,"5")) | L15: =IF(COUNTIFS(Auswertebogen!A119:A1534,"4",Auswertebogen!B119:B1534,"6")=0,"",COUNTIFS(Auswertebogen!A119:A1534,"4",Auswertebogen!B119:B1534,"6")) | M15: =IF(COUNTIFS(Auswertebogen!A119:A1534,"4",Auswertebogen!B119:B1534,"7")=0,"",COUNTIFS(Auswertebogen!A119:A1534,"4",Auswertebogen!B119:B1534,"7")) | N15: =IF(COUNTIFS(Auswertebogen!A119:A1534,"4",Auswertebogen!B119:B1534,"8")=0,"",COUNTIFS(Auswertebogen!A119:A1534,"4",Auswertebogen!B119:B1534,"8")) -> 1 | O15: =IF(COUNTIFS(Auswertebogen!A119:A1534,"4",Auswertebogen!B119:B1534,"9")=0,"",COUNTIFS(Auswertebogen!A119:A1534,"4",Auswertebogen!B119:B1534,"9")) -> 4 | P15: =IF(COUNTIFS(Auswertebogen!A119:A1534,"4",Auswertebogen!B119:B1534,"10")=0,"",COUNTIFS(Auswertebogen!A119:A1534,"4",Auswertebogen!B119:B1534,"10")) | Q15: =SUM(G15:P15) -> 26
F16: 5 | G16: =IF(COUNTIFS(Auswertebogen!A119:A1579,"5",Auswertebogen!B119:B1579,"1")=0,"",COUNTIFS(Auswertebogen!A119:A1579,"5",Auswertebogen!B119:B1579,"1")) -> 4 | H16: =IF(COUNTIFS(Auswertebogen!A119:A1538,"5",Auswertebogen!B119:B1538,"2")=0,"",COUNTIFS(Auswertebogen!A119:A1538,"5",Auswertebogen!B119:B1538,"2")) -> 2 | I16: =IF(COUNTIFS(Auswertebogen!A119:A1534,"5",Auswertebogen!B119:B1534,"3")=0,"",COUNTIFS(Auswertebogen!A119:A1534,"5",Auswertebogen!B119:B1534,"3")) | J16: =IF(COUNTIFS(Auswertebogen!A119:A1534,"5",Auswertebogen!B119:B1534,"4")=0,"",COUNTIFS(Auswertebogen!A119:A1534,"5",Auswertebogen!B119:B1534,"4")) -> 5 | K16: =IF(COUNTIFS(Auswertebogen!A119:A1534,"5",Auswertebogen!B119:B1534,"5")=0,"",COUNTIFS(Auswertebogen!A119:A1534,"5",Auswertebogen!B119:B1534,"5")) | L16: =IF(COUNTIFS(Auswertebogen!A119:A1534,"5",Auswertebogen!B119:B1534,"6")=0,"",COUNTIFS(Auswertebogen!A119:A1534,"5",Auswertebogen!B119:B1534,"6")) | M16: =IF(COUNTIFS(Auswertebogen!A119:A1534,"5",Auswertebogen!B119:B1534,"7")=0,"",COUNTIFS(Auswertebogen!A119:A1534,"5",Auswertebogen!B119:B1534,"7")) | N16: =IF(COUNTIFS(Auswertebogen!A119:A1534,"5",Auswertebogen!B119:B1534,"8")=0,"",COUNTIFS(Auswertebogen!A119:A1534,"5",Auswertebogen!B119:B1534,"8")) -> 1 | O16: =IF(COUNTIFS(Auswertebogen!A119:A1534,"5",Auswertebogen!B119:B1534,"9")=0,"",COUNTIFS(Auswertebogen!A119:A1534,"5",Auswertebogen!B119:B1534,"9")) | P16: =IF(COUNTIFS(Auswertebogen!A119:A1534,"5",Auswertebogen!B119:B1534,"10")=0,"",COUNTIFS(Auswertebogen!A119:A1534,"5",Auswertebogen!B119:B1534,"10")) | Q16: =SUM(G16:P16) -> 12
G17: =SUM(G12:G16) -> 23 | H17: =SUM(H12:H16) -> 8 | I17: =SUM(I12:I16) -> 15 | J17: =SUM(J12:J16) -> 59 | K17: =SUM(K12:K16) -> 0 | L17: =SUM(L12:L16) -> 1 | M17: =SUM(M12:M16) -> 10 | N17: =SUM(N12:N16) -> 3 | ... P17: =SUM(P12:P16) -> 0
G18: Bereich am Bauteil
G19: 1 | H19: 2 | I19: 3 | J19: 4 | K19: 5 | L19: 6 | M19: 7 | N19: 8 | O19: 9 | P19: 10
E20: Werker | F20: 0 | G20: =IF(COUNTIFS(Auswertebogen!B119:B1534,"1",Auswertebogen!C119:C1534,"0")=0,"",COUNTIFS(Auswertebogen!B119:B1534,"1",Auswertebogen!C119:C1534,"0")) -> 8 | H20: =IF(COUNTIFS(Auswertebogen!B119:B1534,"2",Auswertebogen!C119:C1534,"0")=0,"",COUNTIFS(Auswertebogen!B119:B1534,"2",Auswertebogen!C119:C1534,"0")) -> 2 | I20: =IF(COUNTIFS(Auswertebogen!B119:B1534,"3",Auswertebogen!C119:C1534,"0")=0,"",COUNTIFS(Auswertebogen!B119:B1534,"3",Auswertebogen!C119:C1534,"0")) -> 4 | J20: =IF(COUNTIFS(Auswertebogen!B119:B1534,"4",Auswertebogen!C119:C1534,"0")=0,"",COUNTIFS(Auswertebogen!B119:B1534,"4",Auswertebogen!C119:C1534,"0")) -> 29 | K20: =IF(COUNTIFS(Auswertebogen!B119:B1534,"5",Auswertebogen!C119:C1534,"0")=0,"",COUNTIFS(Auswertebogen!B119:B1534,"5",Auswertebogen!C119:C1534,"0")) | L20: =IF(COUNTIFS(Auswertebogen!B119:B1534,"6",Auswertebogen!C119:C1534,"0")=0,"",COUNTIFS(Auswertebogen!B119:B1534,"6",Auswertebogen!C119:C1534,"0")) | M20: =IF(COUNTIFS(Auswertebogen!B119:B1534,"7",Auswertebogen!C119:C1534,"0")=0,"",COUNTIFS(Auswertebogen!B119:B1534,"7",Auswertebogen!C119:C1534,"0")) -> 7 | N20: =IF(COUNTIFS(Auswertebogen!B119:B1534,"8",Auswertebogen!C119:C1534,"0")=0,"",COUNTIFS(Auswertebogen!B119:B1534,"8",Auswertebogen!C119:C1534,"0")) -> 2 | O20: =IF(COUNTIFS(Auswertebogen!B119:B1534,"9",Auswertebogen!C119:C1534,"0")=0,"",COUNTIFS(Auswertebogen!B119:B1534,"9",Auswertebogen!C119:C1534,"0")) -> 1 | P20: =IF(COUNTIFS(Auswertebogen!B119:B1534,"10",Auswertebogen!C119:C1534,"0")=0,"",COUNTIFS(Auswertebogen!B119:B1534,"10",Auswertebogen!C119:C1534,"0")) | Q20: =SUM(G20:P20) -> 53
F21: 3 | G21: =IF(COUNTIFS(Auswertebogen!B119:B1534,"1",Auswertebogen!C119:C1534,"3")=0,"",COUNTIFS(Auswertebogen!B119:B1534,"1",Auswertebogen!C119:C1534,"3")) -> 12 | H21: =IF(COUNTIFS(Auswertebogen!B119:B1534,"2",Auswertebogen!C119:C1534,"3")=0,"",COUNTIFS(Auswertebogen!B119:B1534,"2",Auswertebogen!C119:C1534,"3")) -> 5 | I21: =IF(COUNTIFS(Auswertebogen!B119:B1534,"3",Auswertebogen!C119:C1534,"3")=0,"",COUNTIFS(Auswertebogen!B119:B1534,"3",Auswertebogen!C119:C1534,"3")) -> 11 | J21: =IF(COUNTIFS(Auswertebogen!B119:B1534,"4",Auswertebogen!C119:C1534,"3")=0,"",COUNTIFS(Auswertebogen!B119:B1534,"4",Auswertebogen!C119:C1534,"3")) -> 28 | K21: =IF(COUNTIFS(Auswertebogen!B119:B1534,"5",Auswertebogen!C119:C1534,"3")=0,"",COUNTIFS(Auswertebogen!B119:B1534,"5",Auswertebogen!C119:C1534,"3")) | L21: =IF(COUNTIFS(Auswertebogen!B119:B1534,"6",Auswertebogen!C119:C1534,"3")=0,"",COUNTIFS(Auswertebogen!B119:B1534,"6",Auswertebogen!C119:C1534,"3")) -> 1 | M21: =IF(COUNTIFS(Auswertebogen!B119:B1534,"7",Auswertebogen!C119:C1534,"3")=0,"",COUNTIFS(Auswertebogen!B119:B1534,"7",Auswertebogen!C119:C1534,"3")) -> 3 | N21: =IF(COUNTIFS(Auswertebogen!B119:B1534,"8",Auswertebogen!C119:C1534,"3")=0,"",COUNTIFS(Auswertebogen!B119:B1534,"8",Auswertebogen!C119:C1534,"3")) -> 1 | O21: =IF(COUNTIFS(Auswertebogen!B119:B1534,"9",Auswertebogen!C119:C1534,"3")=0,"",COUNTIFS(Auswertebogen!B119:B1534,"9",Auswertebogen!C119:C1534,"3")) -> 3 | P21: =IF(COUNTIFS(Auswertebogen!B119:B1534,"10",Auswertebogen!C119:C1534,"3")=0,"",COUNTIFS(Auswertebogen!B119:B1534,"10",Auswertebogen!C119:C1534,"3")) | Q21: =SUM(G21:P21) -> 64
F22: 5 | G22: =IF(COUNTIFS(Auswertebogen!B119:B1534,"1",Auswertebogen!C119:C1534,"5")=0,"",COUNTIFS(Auswertebogen!B119:B1534,"1",Auswertebogen!C119:C1534,"5")) -> 3 | H22: =IF(COUNTIFS(Auswertebogen!B119:B1534,"2",Auswertebogen!C119:C1534,"5")=0,"",COUNTIFS(Auswertebogen!B119:B1534,"2",Auswertebogen!C119:C1534,"5")) -> 1 | I22: =IF(COUNTIFS(Auswertebogen!B119:B1534,"3",Auswertebogen!C119:C1534,"5")=0,"",COUNTIFS(Auswertebogen!B119:B1534,"3",Auswertebogen!C119:C1534,"5")) | J22: =IF(COUNTIFS(Auswertebogen!B119:B1534,"4",Auswertebogen!C119:C1534,"5")=0,"",COUNTIFS(Auswertebogen!B119:B1534,"4",Auswertebogen!C119:C1534,"5")) -> 1 | K22: =IF(COUNTIFS(Auswertebogen!B119:B1534,"5",Auswertebogen!C119:C1534,"5")=0,"",COUNTIFS(Auswertebogen!B119:B1534,"5",Auswertebogen!C119:C1534,"5")) | L22: =IF(COUNTIFS(Auswertebogen!B119:B1534,"6",Auswertebogen!C119:C1534,"5")=0,"",COUNTIFS(Auswertebogen!B119:B1534,"6",Auswertebogen!C119:C1534,"5")) | M22: =IF(COUNTIFS(Auswertebogen!B119:B1534,"7",Auswertebogen!C119:C1534,"5")=0,"",COUNTIFS(Auswertebogen!B119:B1534,"7",Auswertebogen!C119:C1534,"5")) | N22: =IF(COUNTIFS(Auswertebogen!B119:B1534,"8",Auswertebogen!C119:C1534,"5")=0,"",COUNTIFS(Auswertebogen!B119:B1534,"8",Auswertebogen!C119:C1534,"5")) | O22: =IF(COUNTIFS(Auswertebogen!B119:B1534,"9",$C$123:$C$1538,"5")=0,"",COUNTIFS(Auswertebogen!B119:B1534,"9",$C$123:$C$1538,"5")) | P22: =IF(COUNTIFS(Auswertebogen!B119:B1534,"10",$C$123:$C$1538,"5")=0,"",COUNTIFS(Auswertebogen!B119:B1534,"10",$C$123:$C$1538,"5")) | Q22: =SUM(G22:P22) -> 5
G23: =SUM(G20:G22) -> 23 | H23: =SUM(H20:H22) -> 8 | I23: =SUM(I20:I22) -> 15 | J23: =SUM(J20:J22) -> 58 | K23: =SUM(K20:K22) -> 0 | L23: =SUM(L20:L22) -> 1 | M23: =SUM(M20:M22) -> 10 | N23: =SUM(N20:N22) -> 3 | ... P23: =SUM(P20:P22) -> 0
G24: Bereich am Bauteil
G25: 1 | H25: 2 | I25: 3 | J25: 4 | K25: 5 | L25: 6 | M25: 7 | N25: 8 | O25: 9 | P25: 10
E26: Nest | F26: 1 | G26: =IF(COUNTIFS(Auswertebogen!B119:B1534,"1",Auswertebogen!E119:E1534,"1")=0,"",COUNTIFS(Auswertebogen!B119:B1534,"1",Auswertebogen!E119:E1534,"1")) -> 7 | H26: =IF(COUNTIFS(Auswertebogen!B119:B1534,"2",Auswertebogen!E119:E1534,"1")=0,"",COUNTIFS(Auswertebogen!B119:B1534,"2",Auswertebogen!E119:E1534,"1")) -> 1 | I26: =IF(COUNTIFS(Auswertebogen!B119:B1534,"3",Auswertebogen!E119:E1534,"1")=0,"",COUNTIFS(Auswertebogen!B119:B1534,"3",Auswertebogen!E119:E1534,"1")) -> 3 | J26: =IF(COUNTIFS(Auswertebogen!B119:B1534,"4",Auswertebogen!E119:E1534,"1")=0,"",COUNTIFS(Auswertebogen!B119:B1534,"4",Auswertebogen!E119:E1534,"1")) -> 16 | K26: =IF(COUNTIFS(Auswertebogen!B119:B1534,"5",Auswertebogen!E119:E1534,"1")=0,"",COUNTIFS(Auswertebogen!B119:B1534,"5",Auswertebogen!E119:E1534,"1")) | L26: =IF(COUNTIFS(Auswertebogen!B119:B1534,"6",Auswertebogen!E119:E1534,"1")=0,"",COUNTIFS(Auswertebogen!B119:B1534,"6",Auswertebogen!E119:E1534,"1")) | M26: =IF(COUNTIFS(Auswertebogen!B119:B1534,"7",Auswertebogen!E119:E1534,"1")=0,"",COUNTIFS(Auswertebogen!B119:B1534,"7",Auswertebogen!E119:E1534,"1")) -> 1 | N26: =IF(COUNTIFS(Auswertebogen!B119:B1534,"8",Auswertebogen!E119:E1534,"1")=0,"",COUNTIFS(Auswertebogen!B119:B1534,"8",Auswertebogen!E119:E1534,"1")) | O26: =IF(COUNTIFS(Auswertebogen!B119:B1534,"9",Auswertebogen!E119:E1534,"1")=0,"",COUNTIFS(Auswertebogen!B119:B1534,"9",Auswertebogen!E119:E1534,"1")) | P26: =IF(COUNTIFS(Auswertebogen!B118:B1533,"10",Auswertebogen!E119:E1534,"1")=0,"",COUNTIFS(Auswertebogen!B118:B1533,"10",Auswertebogen!E119:E1534,"1")) | Q26: =SUM(G26:P26) -> 28
F27: 2 | G27: =IF(COUNTIFS(Auswertebogen!B119:B1534,"1",Auswertebogen!E119:E1534,"2")=0,"",COUNTIFS(Auswertebogen!B119:B1534,"1",Auswertebogen!E119:E1534,"2")) -> 9 | H27: =IF(COUNTIFS(Auswertebogen!B119:B1534,"",Auswertebogen!E119:E1534,"2")=0,"",COUNTIFS(Auswertebogen!B119:B1534,"2",Auswertebogen!E119:E1534,"2")) | I27: =IF(COUNTIFS(Auswertebogen!B119:B1534,"3",Auswertebogen!E119:E1534,"2")=0,"",COUNTIFS(Auswertebogen!B119:B1534,"3",Auswertebogen!E119:E1534,"2")) -> 5 | J27: =IF(COUNTIFS(Auswertebogen!B119:B1534,"4",Auswertebogen!E119:E1534,"2")=0,"",COUNTIFS(Auswertebogen!B119:B1534,"4",Auswertebogen!E119:E1534,"2")) -> 18 | K27: =IF(COUNTIFS(Auswertebogen!B119:B1534,"5",Auswertebogen!E119:E1534,"2")=0,"",COUNTIFS(Auswertebogen!B119:B1534,"5",Auswertebogen!E119:E1534,"2")) | L27: =IF(COUNTIFS(Auswertebogen!B119:B1534,"6",Auswertebogen!E119:E1534,"2")=0,"",COUNTIFS(Auswertebogen!B119:B1534,"6",Auswertebogen!E119:E1534,"2")) | M27: =IF(COUNTIFS(Auswertebogen!B119:B1534,"7",Auswertebogen!E119:E1534,"2")=0,"",COUNTIFS(Auswertebogen!B119:B1534,"7",Auswertebogen!E119:E1534,"2")) -> 5 | N27: =IF(COUNTIFS(Auswertebogen!B119:B1534,"8",Auswertebogen!E119:E1534,"2")=0,"",COUNTIFS(Auswertebogen!B119:B1534,"8",Auswertebogen!E119:E1534,"2")) | O27: =IF(COUNTIFS(Auswertebogen!B119:B1534,"9",Auswertebogen!E119:E1534,"2")=0,"",COUNTIFS(Auswertebogen!B119:B1534,"9",Auswertebogen!E119:E1534,"2")) -> 1 | P27: =IF(COUNTIFS(Auswertebogen!B119:B1534,"10",Auswertebogen!E119:E1534,"2")=0,"",COUNTIFS(Auswertebogen!B119:B1534,"10",Auswertebogen!E119:E1534,"2")) | Q27: =SUM(G27:P27) -> 38
F28: 3 | G28: =IF(COUNTIFS(Auswertebogen!B119:B1534,"1",Auswertebogen!E119:E1534,"3")=0,"",COUNTIFS(Auswertebogen!B119:B1534,"1",Auswertebogen!E119:E1534,"3")) -> 4 | H28: =IF(COUNTIFS(Auswertebogen!B119:B1534,"2",Auswertebogen!E119:E1534,"3")=0,"",COUNTIFS(Auswertebogen!B119:B1534,"2",Auswertebogen!E119:E1534,"3")) -> 3 | I28: =IF(COUNTIFS(Auswertebogen!B119:B1534,"3",Auswertebogen!E119:E1534,"3")=0,"",COUNTIFS(Auswertebogen!B119:B1534,"3",Auswertebogen!E119:E1534,"3")) -> 2 | J28: =IF(COUNTIFS(Auswertebogen!B119:B1534,"4",Auswertebogen!E119:E1534,"3")=0,"",COUNTIFS(Auswertebogen!B119:B1534,"4",Auswertebogen!E119:E1534,"3")) -> 10 | K28: =IF(COUNTIFS(Auswertebogen!B119:B1534,"5",Auswertebogen!E119:E1534,"3")=0,"",COUNTIFS(Auswertebogen!B119:B1534,"5",Auswertebogen!E119:E1534,"3")) | L28: =IF(COUNTIFS(Auswertebogen!B119:B1534,"6",Auswertebogen!E119:E1534,"3")=0,"",COUNTIFS(Auswertebogen!B119:B1534,"6",Auswertebogen!E119:E1534,"3")) -> 1 | M28: =IF(COUNTIFS(Auswertebogen!B119:B1534,"7",Auswertebogen!E119:E1534,"3")=0,"",COUNTIFS(Auswertebogen!B119:B1534,"7",Auswertebogen!E119:E1534,"3")) -> 2 | N28: =IF(COUNTIFS(Auswertebogen!B119:B1534,"8",Auswertebogen!E119:E1534,"3")=0,"",COUNTIFS(Auswertebogen!B119:B1534,"8",Auswertebogen!E119:E1534,"3")) -> 2 | O28: =IF(COUNTIFS(Auswertebogen!B119:B1534,"9",Auswertebogen!E119:E1534,"3")=0,"",COUNTIFS(Auswertebogen!B119:B1534,"9",Auswertebogen!E119:E1534,"3")) -> 4 | P28: =IF(COUNTIFS(Auswertebogen!B119:B1534,"10",Auswertebogen!E119:E1534,"3")=0,"",COUNTIFS(Auswertebogen!B119:B1534,"10",Auswertebogen!E119:E1534,"3")) | Q28: =SUM(G28:P28) -> 28
F29: 4 | G29: =IF(COUNTIFS(Auswertebogen!B119:B1534,"1",Auswertebogen!E119:E1534,"4")=0,"",COUNTIFS(Auswertebogen!B119:B1534,"1",Auswertebogen!E119:E1534,"4")) -> 3 | H29: =IF(COUNTIFS(Auswertebogen!B119:B1534,"2",Auswertebogen!E119:E1534,"4")=0,"",COUNTIFS(Auswertebogen!B119:B1534,"2",Auswertebogen!E119:E1534,"4")) -> 3 | I29: =IF(COUNTIFS(Auswertebogen!B119:B1534,"3",Auswertebogen!E119:E1534,"4")=0,"",COUNTIFS(Auswertebogen!B119:B1534,"3",Auswertebogen!E119:E1534,"4")) -> 5 | J29: =IF(COUNTIFS(Auswertebogen!B119:B1534,"4",Auswertebogen!E119:E1534,"4")=0,"",COUNTIFS(Auswertebogen!B119:B1534,"4",Auswertebogen!E119:E1534,"4")) -> 13 | K29: =IF(COUNTIFS(Auswertebogen!B119:B1534,"5",Auswertebogen!E119:E1534,"4")=0,"",COUNTIFS(Auswertebogen!B119:B1534,"5",Auswertebogen!E119:E1534,"4")) | L29: =IF(COUNTIFS(Auswertebogen!B119:B1534,"6",Auswertebogen!E119:E1534,"4")=0,"",COUNTIFS(Auswertebogen!B119:B1534,"6",Auswertebogen!E119:E1534,"4")) | M29: =IF(COUNTIFS(Auswertebogen!B119:B1534,"7",Auswertebogen!E119:E1534,"4")=0,"",COUNTIFS(Auswertebogen!B119:B1534,"7",Auswertebogen!E119:E1534,"4")) -> 2 | N29: =IF(COUNTIFS(Auswertebogen!B119:B1534,"8",Auswertebogen!E119:E1534,"4")=0,"",COUNTIFS(Auswertebogen!B119:B1534,"8",Auswertebogen!E119:E1534,"4")) -> 1 | O29: =IF(COUNTIFS(Auswertebogen!B119:B1534,"9",Auswertebogen!E119:E1534,"4")=0,"",COUNTIFS(Auswertebogen!B119:B1534,"9",Auswertebogen!E119:E1534,"4")) | P29: =IF(COUNTIFS(Auswertebogen!B119:B1534,"10",$E$123:$E$1538,"4")=0,"",COUNTIFS(Auswertebogen!B119:B1534,"10",$E$123:$E$1538,"4")) | Q29: =SUM(G29:P29) -> 27
G30: =SUM(G26:G29) -> 23 | H30: =SUM(H26:H29) -> 7 | I30: =SUM(I26:I29) -> 15 | J30: =SUM(J26:J29) -> 57 | K30: =SUM(K26:K29) -> 0 | L30: =SUM(L26:L29) -> 1 | M30: =SUM(M26:M29) -> 10 | N30: =SUM(N26:N29) -> 3 | ... P30: =SUM(P26:P29) -> 0
G31: Nest
G32: 1 | H32: 2 | I32: 3 | J32: 4
E33: Fehler | F33: 1 | G33: =IF(COUNTIFS(Auswertebogen!A119:A1534,"1",Auswertebogen!E119:E1534,"1")=0,"",COUNTIFS(Auswertebogen!A119:A1534,"1",Auswertebogen!E119:E1534,"1")) -> 3 | H33: =IF(COUNTIFS(Auswertebogen!A119:A1534,"1",Auswertebogen!E119:E1534,"2")=0,"",COUNTIFS(Auswertebogen!A119:A1534,"1",Auswertebogen!E119:E1534,"2")) -> 2 | I33: =IF(COUNTIFS(Auswertebogen!A119:A1534,"1",Auswertebogen!E119:E1534,"3")=0,"",COUNTIFS(Auswertebogen!A119:A1534,"1",Auswertebogen!E119:E1534,"3")) -> 4 | J33: =IF(COUNTIFS(Auswertebogen!A119:A1534,"1",Auswertebogen!E119:E1534,"4")=0,"",COUNTIFS(Auswertebogen!A119:A1534,"1",Auswertebogen!E119:E1534,"4")) -> 2 | K33: =SUM(G33:J33) -> 11
F34: 2 | G34: =IF(COUNTIFS(Auswertebogen!A119:A1534,"2",Auswertebogen!E119:E1534,"1")=0,"",COUNTIFS(Auswertebogen!A119:A1534,"2",Auswertebogen!E119:E1534,"1")) -> 14 | H34: =IF(COUNTIFS(Auswertebogen!A119:A1534,"2",Auswertebogen!E119:E1534,"2")=0,"",COUNTIFS(Auswertebogen!A119:A1534,"2",Auswertebogen!E119:E1534,"2")) -> 23 | I34: =IF(COUNTIFS(Auswertebogen!A119:A1534,"2",Auswertebogen!E119:E1534,"3")=0,"",COUNTIFS(Auswertebogen!A119:A1534,"2",Auswertebogen!E119:E1534,"3")) -> 10 | J34: =IF(COUNTIFS(Auswertebogen!A119:A1534,"2",Auswertebogen!E119:E1534,"4")=0,"",COUNTIFS(Auswertebogen!A119:A1534,"2",Auswertebogen!E119:E1534,"4")) -> 14 | K34: =SUM(G34:J34) -> 61
F35: 3 | G35: =IF(COUNTIFS(Auswertebogen!A119:A1534,"3",Auswertebogen!E119:E1534,"1")=0,"",COUNTIFS(Auswertebogen!A119:A1534,"3",Auswertebogen!E119:E1534,"1")) -> 1 | H35: =IF(COUNTIFS(Auswertebogen!A119:A1534,"3",Auswertebogen!E119:E1534,"2")=0,"",COUNTIFS(Auswertebogen!A119:A1534,"3",Auswertebogen!E119:E1534,"2")) -> 6 | I35: =IF(COUNTIFS(Auswertebogen!A119:A1534,"3",Auswertebogen!E119:E1534,"3")=0,"",COUNTIFS(Auswertebogen!A119:A1534,"3",Auswertebogen!E119:E1534,"3")) -> 4 | J35: =IF(COUNTIFS(Auswertebogen!A119:A1534,"3",Auswertebogen!E119:E1534,"4")=0,"",COUNTIFS(Auswertebogen!A119:A1534,"3",Auswertebogen!E119:E1534,"4")) -> 2 | K35: =SUM(G35:J35) -> 13
F36: 4 | G36: =IF(COUNTIFS(Auswertebogen!A119:A1534,"4",Auswertebogen!E119:E1534,"1")=0,"",COUNTIFS(Auswertebogen!A119:A1534,"4",Auswertebogen!E119:E1534,"1")) -> 9 | H36: =IF(COUNTIFS(Auswertebogen!A119:A1534,"4",Auswertebogen!E119:E1534,"2")=0,"",COUNTIFS(Auswertebogen!A119:A1534,"4",Auswertebogen!E119:E1534,"2")) -> 6 | I36: =IF(COUNTIFS(Auswertebogen!A119:A1534,"4",Auswertebogen!E119:E1534,"3")=0,"",COUNTIFS(Auswertebogen!A119:A1534,"4",Auswertebogen!E119:E1534,"3")) -> 7 | J36: =IF(COUNTIFS(Auswertebogen!A119:A1534,"4",Auswertebogen!E119:E1534,"4")=0,"",COUNTIFS(Auswertebogen!A119:A1534,"4",Auswertebogen!E119:E1534,"4")) -> 4 | K36: =SUM(G36:J36) -> 26
F37: 5 | G37: =IF(COUNTIFS(Auswertebogen!A119:A1534,"5",Auswertebogen!E119:E1534,"1")=0,"",COUNTIFS(Auswertebogen!A119:A1534,"5",Auswertebogen!E119:E1534,"1")) -> 3 | H37: =IF(COUNTIFS(Auswertebogen!A119:A1534,"5",Auswertebogen!E119:E1534,"2")=0,"",COUNTIFS(Auswertebogen!A119:A1534,"5",Auswertebogen!E119:E1534,"2")) -> 2 | I37: =IF(COUNTIFS(Auswertebogen!A119:A1534,"5",Auswertebogen!E119:E1534,"3")=0,"",COUNTIFS(Auswertebogen!A119:A1534,"5",Auswertebogen!E119:E1534,"3")) -> 3 | J37: =IF(COUNTIFS(Auswertebogen!A119:A1534,"5",Auswertebogen!E119:E1534,"4")=0,"",COUNTIFS(Auswertebogen!A119:A1534,"5",Auswertebogen!E119:E1534,"4")) -> 5 | K37: =SUM(G37:J37) -> 13
G38: =SUM(G33:G37) -> 30 | H38: =SUM(H33:H37) -> 39 | I38: =SUM(I33:I37) -> 28 | J38: =SUM(J33:J37) -> 27

Sheet xxxx - ausprobierreiter
B2: =SUM(Auswertebogen!A119:A248) -> 345
J4: graphische Auswertung – tägliche Zahlen
K6: von | M6: bis
G10: Bereich am Bauteil
G11: 1 | H11: 2 | I11: 3 | J11: 4 | K11: 5 | L11: 6 | M11: 7 | N11: 8 | O11: 9 | P11: 10
E12: Fehler | F12: 1 | G12: =IF(COUNTIFS(Auswertebogen!A119:A1575,"1",Auswertebogen!B119:B1575,"1")=0,"",COUNTIFS(Auswertebogen!A119:A1575,"1",Auswertebogen!B119:B1575,"1")) | H12: =IF(COUNTIFS(Auswertebogen!A119:A1534,"1",Auswertebogen!B119:B1534,"2")=0,"",COUNTIFS(Auswertebogen!A119:A1534,"1",Auswertebogen!B119:B1534,"2")) | I12: =IF(COUNTIFS(Auswertebogen!A119:A1534,"1",Auswertebogen!B119:B1534,"3")=0,"",COUNTIFS(Auswertebogen!A119:A1534,"1",Auswertebogen!B119:B1534,"3")) -> 1 | J12: =IF(COUNTIFS(Auswertebogen!A119:A1534,"1",Auswertebogen!B119:B1534,"4")=0,"",COUNTIFS(Auswertebogen!A119:A1534,"1",Auswertebogen!B119:B1534,"4")) -> 8 | K12: =IF(COUNTIFS(Auswertebogen!A119:A1534,"1",Auswertebogen!B119:B1534,"5")=0,"",COUNTIFS(Auswertebogen!A119:A1534,"1",Auswertebogen!B119:B1534,"5")) | L12: =IF(COUNTIFS(Auswertebogen!A119:A1534,"1",Auswertebogen!B119:B1534,"6")=0,"",COUNTIFS(Auswertebogen!A119:A1534,"1",Auswertebogen!B119:B1534,"6")) | M12: =IF(COUNTIFS(Auswertebogen!A119:A1534,"1",Auswertebogen!B119:B1534,"7")=0,"",COUNTIFS(Auswertebogen!A119:A1534,"1",Auswertebogen!B119:B1534,"7")) | N12: =IF(COUNTIFS(Auswertebogen!A119:A1534,"1",Auswertebogen!B119:B1534,"8")=0,"",COUNTIFS(Auswertebogen!A119:A1534,"1",Auswertebogen!B119:B1534,"8")) -> 1 | O12: =IF(COUNTIFS(Auswertebogen!A119:A1534,"1",Auswertebogen!B119:B1534,"9")=0,"",COUNTIFS(Auswertebogen!A119:A1534,"1",Auswertebogen!B119:B1534,"9")) -> 1 | P12: =IF(COUNTIFS(Auswertebogen!A119:A1534,"1",Auswertebogen!B119:B1534,"10")=0,"",COUNTIFS(Auswertebogen!A119:A1534,"1",Auswertebogen!B119:B1534,"10")) | Q12: =SUM(G12:P12) -> 11
F13: 2 | G13: =IF(COUNTIFS(Auswertebogen!A119:A1576,"2",Auswertebogen!B119:B1576,"1")=0,"",COUNTIFS(Auswertebogen!A119:A1576,"2",Auswertebogen!B119:B1576,"1")) -> 17 | H13: =IF(COUNTIFS(Auswertebogen!A119:A1535,"2",Auswertebogen!B119:B1535,"2")=0,"",COUNTIFS(Auswertebogen!A119:A1535,"2",Auswertebogen!B119:B1535,"2")) -> 5 | I13: =IF(COUNTIFS(Auswertebogen!A119:A1534,"2",Auswertebogen!B119:B1534,"3")=0,"",COUNTIFS(Auswertebogen!A119:A1534,"2",Auswertebogen!B119:B1534,"3")) -> 13 | J13: =IF(COUNTIFS(Auswertebogen!A119:A1534,"2",Auswertebogen!B119:B1534,"4")=0,"",COUNTIFS(Auswertebogen!A119:A1534,"2",Auswertebogen!B119:B1534,"4")) -> 27 | K13: =IF(COUNTIFS(Auswertebogen!A119:A1534,"2",Auswertebogen!B119:B1534,"5")=0,"",COUNTIFS(Auswertebogen!A119:A1534,"2",Auswertebogen!B119:B1534,"5")) | L13: =IF(COUNTIFS(Auswertebogen!A119:A1534,"2",Auswertebogen!B119:B1534,"6")=0,"",COUNTIFS(Auswertebogen!A119:A1534,"2",Auswertebogen!B119:B1534,"6")) | M13: =IF(COUNTIFS(Auswertebogen!A119:A1534,"2",Auswertebogen!B119:B1534,"7")=0,"",COUNTIFS(Auswertebogen!A119:A1534,"2",Auswertebogen!B119:B1534,"7")) | N13: =IF(COUNTIFS(Auswertebogen!A119:A1534,"2",Auswertebogen!B119:B1534,"8")=0,"",COUNTIFS(Auswertebogen!A119:A1534,"2",Auswertebogen!B119:B1534,"8")) | O13: =IF(COUNTIFS(Auswertebogen!A119:A1534,"2",Auswertebogen!B119:B1534,"9")=0,"",COUNTIFS(Auswertebogen!A119:A1534,"2",Auswertebogen!B119:B1534,"9")) | P13: =IF(COUNTIFS(Auswertebogen!A119:A1534,"2",Auswertebogen!B119:B1534,"10")=0,"",COUNTIFS(Auswertebogen!A119:A1534,"2",Auswertebogen!B119:B1534,"10")) | Q13: =SUM(G13:P13) -> 62
F14: 3 | G14: =IF(COUNTIFS(Auswertebogen!A119:A1577,"3",Auswertebogen!B119:B1577,"1")=0,"",COUNTIFS(Auswertebogen!A119:A1577,"3",Auswertebogen!B119:B1577,"1")) -> 1 | H14: =IF(COUNTIFS(Auswertebogen!A119:A1536,"3",Auswertebogen!B119:B1536,"2")=0,"",COUNTIFS(Auswertebogen!A119:A1536,"3",Auswertebogen!B119:B1536,"2")) | I14: =IF(COUNTIFS(Auswertebogen!A119:A1534,"3",Auswertebogen!B119:B1534,"3")=0,"",COUNTIFS(Auswertebogen!A119:A1534,"3",Auswertebogen!B119:B1534,"3")) | J14: =IF(COUNTIFS(Auswertebogen!A119:A1534,"3",Auswertebogen!B119:B1534,"4")=0,"",COUNTIFS(Auswertebogen!A119:A1534,"3",Auswertebogen!B119:B1534,"4")) -> 1 | K14: =IF(COUNTIFS(Auswertebogen!A119:A1534,"3",Auswertebogen!B119:B1534,"5")=0,"",COUNTIFS(Auswertebogen!A119:A1534,"3",Auswertebogen!B119:B1534,"5")) | L14: =IF(COUNTIFS(Auswertebogen!A119:A1534,"3",Auswertebogen!B119:B1534,"6")=0,"",COUNTIFS(Auswertebogen!A119:A1534,"3",Auswertebogen!B119:B1534,"6")) -> 1 | M14: =IF(COUNTIFS(Auswertebogen!A119:A1534,"3",Auswertebogen!B119:B1534,"7")=0,"",COUNTIFS(Auswertebogen!A119:A1534,"3",Auswertebogen!B119:B1534,"7")) -> 10 | N14: =IF(COUNTIFS(Auswertebogen!A119:A1534,"3",Auswertebogen!B119:B1534,"8")=0,"",COUNTIFS(Auswertebogen!A119:A1534,"3",Auswertebogen!B119:B1534,"8")) | O14: =IF(COUNTIFS(Auswertebogen!A119:A1534,"3",Auswertebogen!B119:B1534,"9")=0,"",COUNTIFS(Auswertebogen!A119:A1534,"3",Auswertebogen!B119:B1534,"9")) | P14: =IF(COUNTIFS(Auswertebogen!A119:A1534,"3",Auswertebogen!B119:B1534,"10")=0,"",COUNTIFS(Auswertebogen!A119:A1534,"3",Auswertebogen!B119:B1534,"10")) | Q14: =SUM(G14:P14) -> 13
F15: 4 | G15: =IF(COUNTIFS(Auswertebogen!A119:A1578,"4",Auswertebogen!B119:B1578,"1")=0,"",COUNTIFS(Auswertebogen!A119:A1578,"4",Auswertebogen!B119:B1578,"1")) -> 1 | H15: =IF(COUNTIFS(Auswertebogen!A119:A1537,"4",Auswertebogen!B119:B1537,"2")=0,"",COUNTIFS(Auswertebogen!A119:A1537,"4",Auswertebogen!B119:B1537,"2")) -> 1 | I15: =IF(COUNTIFS(Auswertebogen!A119:A1534,"4",Auswertebogen!B119:B1534,"3")=0,"",COUNTIFS(Auswertebogen!A119:A1534,"4",Auswertebogen!B119:B1534,"3")) -> 1 | J15: =IF(COUNTIFS(Auswertebogen!A119:A1534,"4",Auswertebogen!B119:B1534,"4")=0,"",COUNTIFS(Auswertebogen!A119:A1534,"4",Auswertebogen!B119:B1534,"4")) -> 18 | K15: =IF(COUNTIFS(Auswertebogen!A119:A1534,"4",Auswertebogen!B119:B1534,"5")=0,"",COUNTIFS(Auswertebogen!A119:A1534,"4",Auswertebogen!B119:B1534,"5")) | L15: =IF(COUNTIFS(Auswertebogen!A119:A1534,"4",Auswertebogen!B119:B1534,"6")=0,"",COUNTIFS(Auswertebogen!A119:A1534,"4",Auswertebogen!B119:B1534,"6")) | M15: =IF(COUNTIFS(Auswertebogen!A119:A1534,"4",Auswertebogen!B119:B1534,"7")=0,"",COUNTIFS(Auswertebogen!A119:A1534,"4",Auswertebogen!B119:B1534,"7")) | N15: =IF(COUNTIFS(Auswertebogen!A119:A1534,"4",Auswertebogen!B119:B1534,"8")=0,"",COUNTIFS(Auswertebogen!A119:A1534,"4",Auswertebogen!B119:B1534,"8")) -> 1 | O15: =IF(COUNTIFS(Auswertebogen!A119:A1534,"4",Auswertebogen!B119:B1534,"9")=0,"",COUNTIFS(Auswertebogen!A119:A1534,"4",Auswertebogen!B119:B1534,"9")) -> 4 | P15: =IF(COUNTIFS(Auswertebogen!A119:A1534,"4",Auswertebogen!B119:B1534,"10")=0,"",COUNTIFS(Auswertebogen!A119:A1534,"4",Auswertebogen!B119:B1534,"10")) | Q15: =SUM(G15:P15) -> 26
F16: 5 | G16: =IF(COUNTIFS(Auswertebogen!A119:A1579,"5",Auswertebogen!B119:B1579,"1")=0,"",COUNTIFS(Auswertebogen!A119:A1579,"5",Auswertebogen!B119:B1579,"1")) -> 4 | H16: =IF(COUNTIFS(Auswertebogen!A119:A1538,"5",Auswertebogen!B119:B1538,"2")=0,"",COUNTIFS(Auswertebogen!A119:A1538,"5",Auswertebogen!B119:B1538,"2")) -> 2 | I16: =IF(COUNTIFS(Auswertebogen!A119:A1534,"5",Auswertebogen!B119:B1534,"3")=0,"",COUNTIFS(Auswertebogen!A119:A1534,"5",Auswertebogen!B119:B1534,"3")) | J16: =IF(COUNTIFS(Auswertebogen!A119:A1534,"5",Auswertebogen!B119:B1534,"4")=0,"",COUNTIFS(Auswertebogen!A119:A1534,"5",Auswertebogen!B119:B1534,"4")) -> 5 | K16: =IF(COUNTIFS(Auswertebogen!A119:A1534,"5",Auswertebogen!B119:B1534,"5")=0,"",COUNTIFS(Auswertebogen!A119:A1534,"5",Auswertebogen!B119:B1534,"5")) | L16: =IF(COUNTIFS(Auswertebogen!A119:A1534,"5",Auswertebogen!B119:B1534,"6")=0,"",COUNTIFS(Auswertebogen!A119:A1534,"5",Auswertebogen!B119:B1534,"6")) | M16: =IF(COUNTIFS(Auswertebogen!A119:A1534,"5",Auswertebogen!B119:B1534,"7")=0,"",COUNTIFS(Auswertebogen!A119:A1534,"5",Auswertebogen!B119:B1534,"7")) | N16: =IF(COUNTIFS(Auswertebogen!A119:A1534,"5",Auswertebogen!B119:B1534,"8")=0,"",COUNTIFS(Auswertebogen!A119:A1534,"5",Auswertebogen!B119:B1534,"8")) -> 1 | O16: =IF(COUNTIFS(Auswertebogen!A119:A1534,"5",Auswertebogen!B119:B1534,"9")=0,"",COUNTIFS(Auswertebogen!A119:A1534,"5",Auswertebogen!B119:B1534,"9")) | P16: =IF(COUNTIFS(Auswertebogen!A119:A1534,"5",Auswertebogen!B119:B1534,"10")=0,"",COUNTIFS(Auswertebogen!A119:A1534,"5",Auswertebogen!B119:B1534,"10")) | Q16: =SUM(G16:P16) -> 12
G17: =SUM(G12:G16) -> 23 | H17: =SUM(H12:H16) -> 8 | I17: =SUM(I12:I16) -> 15 | J17: =SUM(J12:J16) -> 59 | K17: =SUM(K12:K16) -> 0 | L17: =SUM(L12:L16) -> 1 | M17: =SUM(M12:M16) -> 10 | N17: =SUM(N12:N16) -> 3 | ... P17: =SUM(P12:P16) -> 0
G18: Bereich am Bauteil
G19: 1 | H19: 2 | I19: 3 | J19: 4 | K19: 5 | L19: 6 | M19: 7 | N19: 8 | O19: 9 | P19: 10
