Workbook

Sheet Bedarf
D1: Arbeitstage | E1: 5 | G1: Summe | H1: 168 | I1: 169 | J1: 170 | K1: 173 | L1: 179
D2: Tagesstunden | E2: 8 | F2: Kapa- bedarf | G2: =SUM(H2:L2) -> 95 | H2: =Aufträge!J2 -> 0 | I2: =Aufträge!J3 -> 0 | J2: =Aufträge!J4 -> 95 | K2: =Aufträge!J5 -> 0 | L2: =Aufträge!J6 -> 0
A3: Name | B3: Vorname | C3: Status | D3: Qualifikation | E3: Abwesend | F3: Kapa- Angebot | G3: =SUM(H3:L3) -> 0 | H3: =COUNTA(H4:H29)*$E1*$E2*$P$3 -> 0 | I3: =COUNTA(I4:I29)*$E1*$E2*$P$3 -> 0 | J3: =COUNTA(J4:J29)*$E1*$E2*$P$3 -> 0 | K3: =COUNTA(K4:K29)*$E1*$E2*$P$3 -> 0 | L3: =COUNTA(L4:L29)*$E1*$E2*$P$3 -> 0 | M3: =COUNTA(A4:A29)-COUNTA(E4:E29) -> 0 | O3: Produktivität | P3: 0.8
C4: MA
C5: MA
C6: MA
C7: MA
C8: MA
C9: MA
C10: MA
C11: MA
C12: MA
C13: MA
C14: MA
C15: MA
... C30: MA

Sheet Aufträge
A1: F-Nummer | B1: Stellplatz | C1: Bedarf | D1: Geliefert | E1: Lieferdatum | F1: Artikelnum.: | G1: Bezeichnung | H1: Zeit | I1: Datum: | J1: 42748
A2: 1116 100243 | B2: 0170 | C2: 600 | D2: 0 | E2: 42711 | F2: 46710008 | G2: Schnellwechselfuß 70x22L Karat | H2: =IF(F2:F104="46710008",(C2:C104*Tabelle3!F81/60),("???")) -> 31.666667 | I2: 0168 | J2: =SUMIFS(H:H,B:B,I2,E:E,) -> 0
A3: 1116 102318 | B3: 0170 | C3: 300 | D3: 0 | E3: 42720 | F3: 46710008 | G3: Schnellwechselfuß 70x22L Karat | H3: =IF(F2:F104="46710008",(C2:C104*Tabelle3!F81/60),("???")) -> 15.833333 | I3: 0169 | J3: =SUMIFS(H:H,B:B,I3,E:E,"<="&$J$1) -> 0
A4: 1116 106287 | B4: 0169 | C4: 150 | D4: 75 | E4: 42723 | F4: 46710008 | G4: Verstrebung CS40 RE CK14 | H4: =IF(F2:F104="46710008",(C2:C104*Tabelle3!F81/60),("???")) -> ??? | I4: 0170 | J4: =SUMIFS(H:H,B:B,I4,E:E,"<="&$J$1) -> 95
A5: 1116 108704 | B5: 0170 | C5: 300 | D5: 0 | E5: 42726 | F5: 46710008 | G5: Schnellwechselfuß 70x22L Karat | H5: =IF(F2:F104="46710008",(C2:C104*Tabelle3!F81/60),("???")) -> 15.833333 | I5: 0173 | J5: =SUMIFS(H:H,B:B,I5,E:E,"<="&$J$1) -> 0
A6: 1116 106288 | B6: 0179 | C6: 8 | D6: 7 | E6: 42726 | F6: 470 1666 | G6: Halter 50x15x1055 | H6: =IF(F2:F104="46710008",(C2:C104*Tabelle3!F81/60),("???")) -> ??? | I6: 0179 | J6: =SUMIFS(H:H,B:B,I6,E:E,"<="&$J$1) -> 0
A7: 1116 107639 | B7: 0168 | C7: 150 | D7: 0 | E7: 42739 | F7: 337 4447 | G7: Randscharspitze K8PM LI | H7: =IF(F2:F104="46710008",(C2:C104*Tabelle3!F81/60),("???")) -> ???
A8: 1116 107160 | B8: 0170 | C8: 60 | D8: 0 | E8: 42740 | F8: 402 2612 | G8: Lagerung D38x149-2xD16 VO7 | H8: =IF(F2:F104="46710008",(C2:C104*Tabelle3!F81/60),("???")) -> ??? | I8: Insgesamt | J8: =SUM(J2:J6) -> 95
A9: 1116 105657 | B9: 0179 | C9: 300 | D9: 0 | E9: 42740 | F9: 433 9201 | G9: Anschlag D75/90-M27 | H9: =IF(F2:F104="46710008",(C2:C104*Tabelle3!F81/60),("???")) -> ???
A10: 1116 108573 | B10: 0179 | C10: 240 | D10: 0 | E10: 42741 | F10: 433 9206 | G10: Anschlag D110-M27 | H10: =IF(F2:F104="46710008",(C2:C104*Tabelle3!F81/60),("???")) -> ???
A11: 1116 108577 | B11: 0179 | C11: 50 | D11: 0 | E11: 42741 | F11: 436 0150 | G11: Schwinge D25/35x255 | H11: =IF(F2:F104="46710008",(C2:C104*Tabelle3!F81/60),("???")) -> ???
A12: 1116 109098 | B12: 0179 | C12: 80 | D12: 0 | E12: 42741 | F12: 457 2481 | G12: Scheibenträger 18x50x228x450 | H12: =IF(F2:F104="46710008",(C2:C104*Tabelle3!F81/60),("???")) -> ???
A13: 1116 107883 | B13: 0179 | C13: 150 | D13: 0 | E13: 42741 | F13: 465 3903 | G13: Halm 40x15x450 m.Hebel | H13: =IF(F2:F104="46710008",(C2:C104*Tabelle3!F81/60),("???")) -> ???
A14: 1116 110290 | B14: 0170 | C14: 300 | D14: 0 | E14: 42741 | F14: 46710008 | G14: Schnellwechselfuß 70x22L Karat | H14: =IF(F2:F104="46710008",(C2:C104*Tabelle3!F81/60),("???")) -> 15.833333
A15: 1116 106286 | B15: 0169 | C15: 300 | D15: 0 | E15: 42741 | F15: 469 5620 | G15: Verstrebung BS40+42 RE BK13 | H15: =IF(F2:F104="46710008",(C2:C104*Tabelle3!F81/60),("???")) -> ???
A16: 1116 108180 | B16: 0169 | C16: 300 | D16: 0 | E16: 42741 | F16: 469 5621 | G16: Verstrebung BS40+42 LI BK13 | H16: =IF(F2:F104="46710008",(C2:C104*Tabelle3!F81/60),("???")) -> ???
A17: 1116 110861 | B17: 0179 | C17: 50 | D17: 0 | E17: 42741 | F17: 481 3019 | G17: Kupplungsteil 65 Saphir 7 | H17: =IF(F2:F104="46710008",(C2:C104*Tabelle3!F81/60),("???")) -> ???
A18: 1116 111042 | B18: 0179 | C18: 55 | D18: 0 | E18: 42744 | F18: 351 3221 | G18: Halm z.U-Dorn LI Stiftvers. | H18: =IF(F2:F104="46710008",(C2:C104*Tabelle3!F81/60),("???")) -> ???
A19: 1116 110250 | B19: 0179 | C19: 40 | D19: 0 | E19: 42744 | F19: 457 9304 | G19: Konsole 100x12/80x20x850 | H19: =IF(F2:F104="46710008",(C2:C104*Tabelle3!F81/60),("???")) -> ???
A20: 1116 108862 | B20: 0179 | C20: 64 | D20: 0 | E20: 42745 | F20: 245 1762 | G20: Gelenkstück D55 M36x3x190 | H20: =IF(F2:F104="46710008",(C2:C104*Tabelle3!F81/60),("???")) -> ???
A21: 1116 109087 | B21: 0168 | C21: 100 | D21: 0 | E21: 42745 | F21: 337 4522 | G21: Flügelschar KF52TP RE | H21: =IF(F2:F104="46710008",(C2:C104*Tabelle3!F81/60),("???")) -> ???
A22: 1116 105985 | B22: 0179 | C22: 250 | D22: 0 | E22: 42745 | F22: 427 0858 | G22: Halter z.Zinken FSÜ | H22: =IF(F2:F104="46710008",(C2:C104*Tabelle3!F81/60),("???")) -> ???
A23: 1116 110283 | B23: 0179 | C23: 40 | D23: 0 | E23: 42745 | F23: 427 5712 | G23: Halmführung 50x18-18 2xD17 | H23: =IF(F2:F104="46710008",(C2:C104*Tabelle3!F81/60),("???")) -> ???
A24: 1116 110281 | B24: 0168 | C24: 100 | D24: 0 | E24: 42746 | F24: 337 4444 | G24: Randscharspitze K12PM RE | H24: =IF(F2:F104="46710008",(C2:C104*Tabelle3!F81/60),("???")) -> ???
A25: 1116 109310 | B25: 0168 | C25: 100 | D25: 0 | E25: 42746 | F25: 337 4446 | G25: Randscharspitze K8PM RE | H25: =IF(F2:F104="46710008",(C2:C104*Tabelle3!F81/60),("???")) -> ???
A26: 1116 110684 | B26: 0179 | C26: 60 | D26: 0 | E26: 42746 | F26: 402 2622 | G26: Lagerung D38x163-2xD16 VO 9 | H26: =IF(F2:F104="46710008",(C2:C104*Tabelle3!F81/60),("???")) -> ???
A27: 1116 105693 | B27: 0179 | C27: 24 | D27: 0 | E27: 42746 | F27: 417 8483 | G27: Fangklaue 60x139x404 | H27: =IF(F2:F104="46710008",(C2:C104*Tabelle3!F81/60),("???")) -> ???
A28: 1116 111588 | B28: 0179 | C28: 15 | D28: 0 | E28: 42746 | F28: 457 2482 | G28: Scheibenträger 18x50x225x470 | H28: =IF(F2:F104="46710008",(C2:C104*Tabelle3!F81/60),("???")) -> ???
A29: 1116 110299 | B29: 0179 | C29: 20 | D29: 0 | E29: 42746 | F29: 457 2483 | G29: Scheibenträger 18x50x256x450 | H29: =IF(F2:F104="46710008",(C2:C104*Tabelle3!F81/60),("???")) -> ???
A30: 1116 109848 | B30: 0179 | C30: 30 | D30: 0 | E30: 42746 | F30: 457 4602 | G30: Konsole z.U-Dorn UD6-80 RE St. | H30: =IF(F2:F104="46710008",(C2:C104*Tabelle3!F81/60),("???")) -> ???
A31: 1116 110294 | B31: 0179 | C31: 100 | D31: 0 | E31: 42746 | F31: 457 9305 | G31: Secharm D35x590 Zn | H31: =IF(F2:F104="46710008",(C2:C104*Tabelle3!F81/60),("???")) -> ???
A32: 1116 108223 | B32: 0179 | C32: 100 | D32: 0 | E32: 42746 | F32: 482 2506 | G32: Halter Verteiler A D77-2xD10 | H32: =IF(F2:F104="46710008",(C2:C104*Tabelle3!F81/60),("???")) -> ???
A33: 1116 110843 | B33: 0179 | C33: 25 | D33: 0 | E33: 42746 | F33: 482 7957 | G33: Halter 70x60x265 D25 2xM16 | H33: =IF(F2:F104="46710008",(C2:C104*Tabelle3!F81/60),("???")) -> ???
A34: 1116 113563 | B34: 0170 | C34: 48 | D34: 0 | E34: 42747 | F34: 402 2610 | G34: Lagerung D38x119-4xD16 VO7 | H34: =IF(F2:F104="46710008",(C2:C104*Tabelle3!F81/60),("???")) -> ???
A35: 1116 110689 | B35: 0179 | C35: 10 | D35: 0 | E35: 42747 | F35: 40210002 | G35: Schwenktasche Diamant 11 V T | H35: =IF(F2:F104="46710008",(C2:C104*Tabelle3!F81/60),("???")) -> ???
A36: 1116 111468 | B36: 0179 | C36: 10 | D36: 0 | E36: 42747 | F36: 40210002 | G36: Schwenktasche Diamant 11 V T | H36: =IF(F2:F104="46710008",(C2:C104*Tabelle3!F81/60),("???")) -> ???
A37: 1116 110750 | B37: 0179 | C37: 38 | D37: 0 | E37: 42747 | F37: 449 5758 | G37: Schwenklager D60 D20,1 UPR | H37: =IF(F2:F104="46710008",(C2:C104*Tabelle3!F81/60),("???")) -> ???
A38: 1116 108179 | B38: 0169 | C38: 300 | D38: 0 | E38: 42747 | F38: 469 5620 | G38: Verstrebung BS40+42 RE BK13 | H38: =IF(F2:F104="46710008",(C2:C104*Tabelle3!F81/60),("???")) -> ???
A39: 1116 110771 | B39: 0169 | C39: 300 | D39: 0 | E39: 42747 | F39: 469 5621 | G39: Verstrebung BS40+42 LI BK13 | H39: =IF(F2:F104="46710008",(C2:C104*Tabelle3!F81/60),("???")) -> ???
A40: 1116 110287 | B40: 0179 | C40: 50 | D40: 0 | E40: 42748 | F40: 417 8140 | G40: Gelenkstück 20x130x315-M30 | H40: =IF(F2:F104="46710008",(C2:C104*Tabelle3!F81/60),("???")) -> ???
A41: 1116 110216 | B41: 0179 | C41: 20 | D41: 0 | E41: 42748 | F41: 417 8328 | G41: Zugstange D30x1591-M30 Zn | H41: =IF(F2:F104="46710008",(C2:C104*Tabelle3!F81/60),("???")) -> ???
A42: 1116 109471 | B42: 0179 | C42: 25 | D42: 0 | E42: 42748 | F42: 422 6029 | G42: Riegel 50x30x450 | H42: =IF(F2:F104="46710008",(C2:C104*Tabelle3!F81/60),("???")) -> ???
A43: 1116 110291 | B43: 0170 | C43: 300 | D43: 0 | E43: 42748 | F43: 46710008 | G43: Schnellwechselfuß 70x22L Karat | H43: =IF(F2:F104="46710008",(C2:C104*Tabelle3!F81/60),("???")) -> 15.833333
A44: 1116 110773 | B44: 0169 | C44: 150 | D44: 0 | E44: 42748 | F44: 469 5633 | G44: Verstrebung CS40 LI CK14 | H44: =IF(F2:F104="46710008",(C2:C104*Tabelle3!F81/60),("???")) -> ???
A45: 1116 109997 | B45: 0173 | C45: 1050 | D45: 700 | E45: 42751 | F45: 337 4443 | G45: Scharspitze K12P | H45: =IF(F2:F104="46710008",(C2:C104*Tabelle3!F81/60),("???")) -> ???
A46: 1116 111677 | B46: 0179 | C46: 75 | D46: 0 | E46: 42751 | F46: 417 8149 | G46: Blattfeder 100x6 Ru.9-K | H46: =IF(F2:F104="46710008",(C2:C104*Tabelle3!F81/60),("???")) -> ???
A47: 1116 110282 | B47: 0179 | C47: 80 | D47: 0 | E47: 42751 | F47: 457 2481 | G47: Scheibenträger 18x50x228x450 | H47: =IF(F2:F104="46710008",(C2:C104*Tabelle3!F81/60),("???")) -> ???
A48: 1117 000026 | B48: 0179 | C48: 150 | D48: 0 | E48: 42751 | F48: 465 3903 | G48: Halm 40x15x450 m.Hebel | H48: =IF(F2:F104="46710008",(C2:C104*Tabelle3!F81/60),("???")) -> ???
A49: 1116 110772 | B49: 0169 | C49: 150 | D49: 0 | E49: 42751 | F49: 469 5632 | G49: Verstrebung CS40 RE CK14 | H49: =IF(F2:F104="46710008",(C2:C104*Tabelle3!F81/60),("???")) -> ???
A50: 1116 110271 | B50: 0168 | C50: 100 | D50: 0 | E50: 42752 | F50: 337 4523 | G50: Flügelschar KF52TP LI | H50: =IF(F2:F104="46710008",(C2:C104*Tabelle3!F81/60),("???")) -> ???
A51: 1116 112593 | B51: 0179 | C51: 30 | D51: 0 | E51: 42752 | F51: 457 4603 | G51: Konsole z.U-Dorn UD6-80 LI St. | H51: =IF(F2:F104="46710008",(C2:C104*Tabelle3!F81/60),("???")) -> ???
A52: 1116 111589 | B52: 0179 | C52: 40 | D52: 0 | E52: 42752 | F52: 457 9304 | G52: Konsole 100x12/80x20x850 | H52: =IF(F2:F104="46710008",(C2:C104*Tabelle3!F81/60),("???")) -> ???
A53: 1116 110292 | B53: 0170 | C53: 300 | D53: 0 | E53: 42752 | F53: 46710008 | G53: Schnellwechselfuß 70x22L Karat | H53: =IF(F2:F104="46710008",(C2:C104*Tabelle3!F81/60),("???")) -> 15.833333
A54: 1116 110770 | B54: 0169 | C54: 300 | D54: 0 | E54: 42752 | F54: 469 5620 | G54: Verstrebung BS40+42 RE BK13 | H54: =IF(F2:F104="46710008",(C2:C104*Tabelle3!F81/60),("???")) -> ???
A55: 1116 111631 | B55: 0168 | C55: 100 | D55: 0 | E55: 42753 | F55: 337 4445 | G55: Randscharspitze K12PM LI | H55: =IF(F2:F104="46710008",(C2:C104*Tabelle3!F81/60),("???")) -> ???
A56: 1116 113564 | B56: 0170 | C56: 48 | D56: 0 | E56: 42753 | F56: 402 2621 | G56: Lagerung D38x193-4xD16 VO 9 | H56: =IF(F2:F104="46710008",(C2:C104*Tabelle3!F81/60),("???")) -> ???
A57: 1116 111597 | B57: 0179 | C57: 40 | D57: 0 | E57: 42753 | F57: 412 8184 | G57: Zapfen m.Platte Rubin (C) RE | H57: =IF(F2:F104="46710008",(C2:C104*Tabelle3!F81/60),("???")) -> ???
A58: 1116 112904 | B58: 0179 | C58: 12 | D58: 0 | E58: 42753 | F58: 417 8443 | G58: Zwischenstange 51x1389 | H58: =IF(F2:F104="46710008",(C2:C104*Tabelle3!F81/60),("???")) -> ???
A59: 1116 110267 | B59: 0179 | C59: 40 | D59: 0 | E59: 42753 | F59: 427 8240 | G59: Führung D30G M30x580 D32 | H59: =IF(F2:F104="46710008",(C2:C104*Tabelle3!F81/60),("???")) -> ???
A60: 1116 111469 | B60: 0179 | C60: 30 | D60: 0 | E60: 42754 | F60: 40210002 | G60: Schwenktasche Diamant 11 V T | H60: =IF(F2:F104="46710008",(C2:C104*Tabelle3!F81/60),("???")) -> ???
A61: 1116 111470 | B61: 0179 | C61: 15 | D61: 0 | E61: 42754 | F61: 46710008 | G61: Schwenktasche Diamant 11 V T | H61: =IF(F2:F104="46710008",(C2:C104*Tabelle3!F81/60),("???")) -> ???
A62: 1116 112273 | B62: 0179 | C62: 10 | D62: 0 | E62: 42754 | F62: 417 8444 | G62: Zwischenstange 51x1190 | H62: =IF(F2:F104="46710008",(C2:C104*Tabelle3!F81/60),("???")) -> ???
A63: 1116 110573 | B63: 0179 | C63: 390 | D63: 0 | E63: 42758 | F63: 302 8159 | G63: Spindel M20x45-290lg | H63: =IF(F2:F104="46710008",(C2:C104*Tabelle3!F81/60),("???")) -> ???
A64: 1116 109998 | B64: 0173 | C64: 1050 | D64: 0 | E64: 42758 | F64: 337 4443 | G64: Scharspitze K12P | H64: =IF(F2:F104="46710008",(C2:C104*Tabelle3!F81/60),("???")) -> ???
A65: 1116 112040 | B65: 0179 | C65: 80 | D65: 0 | E65: 42758 | F65: 457 2481 | G65: Scheibenträger 18x50x228x450 | H65: =IF(F2:F104="46710008",(C2:C104*Tabelle3!F81/60),("???")) -> ???
H66: =IF(F2:F104="46710008",(C2:C104*Tabelle3!F81/60),("???")) -> ???

Sheet Tabelle3
A1: Artikel | B1: Zeit Heften | C1: Zeit Schweißen | D1: Zeit Säubern | E1: Zeit Sonstiges | F1: Gesamt Zeit pro Teil
A2: 245 1646 | B2: 10 | C2: 10 | D2: 10 | E2: 10 | F2: =SUM(B2:E2)/60 -> 0.66666667
A3: 245 1647 | B3: 1 | C3: 0 | D3: 0 | E3: 0 | F3: =SUM(B3:E3)/60 -> 0.016666667
A4: 245 1730 | B4: 1 | C4: 0 | D4: 0 | E4: 0 | F4: =SUM(B4:E4)/60 -> 0.016666667
A5: 245 1757 | B5: 1 | C5: 0 | D5: 0 | E5: 0 | F5: =SUM(B5:E5)/60 -> 0.016666667
A6: 245 1762 | B6: 1 | C6: 0 | D6: 0 | E6: 0 | F6: =SUM(B6:E6)/60 -> 0.016666667
A7: 302 8159 | B7: 0 | C7: 0 | D7: 0 | E7: 0 | F7: =SUM(B7:E7)/60 -> 0
A8: 302 8962 | B8: 0 | C8: 0 | D8: 0 | E8: 0 | F8: =SUM(B8:E8)/60 -> 0
A9: 313 8290 | B9: 0 | C9: 0 | D9: 0 | E9: 0 | F9: =SUM(B9:E9)/60 -> 0
A10: 337 4443 | B10: 0 | C10: 0 | D10: 0 | E10: 0 | F10: =SUM(B10:E10)/60 -> 0
A11: 337 4444 | B11: 0 | C11: 0 | D11: 0 | E11: 0 | F11: =SUM(B11:E11)/60 -> 0
A12: 337 4445 | B12: 0 | C12: 0 | D12: 0 | E12: 0 | F12: =SUM(B12:E12)/60 -> 0
A13: 337 4446 | B13: 0 | C13: 0 | D13: 0 | E13: 0 | F13: =SUM(B13:E13)/60 -> 0
... A95: Seitenteile | B95: 0 | C95: 0 | D95: 0 | E95: 0 | F95: =SUM(B95:E95)/60 -> 0
