Workbook

Sheet Januar
A1: 41639 | B1: =DATEVALUE("1 " & RIGHT(CELL("dateiname",$A$1),LEN(CELL("dateiname",$A$1))-FIND("]",CELL("dateiname",$A$1))) & " " & YEAR(Januar!$A$1)) -> 41639
E3: Arbeitszeit
B4: Datum | C4: Tag | E4: von | F4: bis | G4: von | H4: bis | I4: Pause | J4: Istzeit | K4: Sollzeit | L4: Differenz | M4: Abwesenheit | N4: Lohn | P4: Wochenplan | U4: Monatssaldo | AV4: Feiertag | AW4: Abws | AX4: Abws Dauer | AY4: Pause | AZ4: Istzeit | BA4: Ist Dez | BB4: Sollzeit
B5: =B1 -> 41639 | C5: =B5 -> 41639 | I5: =IF(AZ5=0,"",IF(AY5=0,"",IF(OR(B5<=TODAY(),AZ5),AY5,""))) | J5: =IF(AND(Feiertage!$G$2<>"ja",AV5=1),IF(AZ5>0,BB5+AZ5,BB5),IF(AZ5=0,0, IF(I5<>"",AZ5-I5,AZ5)))+AX5 -> 0 | K5: =IF(AV5=0,BB5,IF(Feiertage!$G$2="ja","00:00",BB5)) -> 00:00 | L5: =IF(OR(B5<=TODAY(),J5,AW5="G"),IF(J5<>"",IF(J5-K5=0,"",J5-K5),IF(K5<>"",-K5,"")),"") | M5: =IF(LOWER(AW5)=LOWER(Urlaub!$W$19),Urlaub!$S$19, IF(LOWER(AW5)=LOWER(Urlaub!$W$20),Urlaub!$S$20, IF(LOWER(AW5)=LOWER(Urlaub!$W$21),Urlaub!$S$21, IF(LOWER(AW5)=LOWER(Urlaub!$W$22),Urlaub!$S$22, IF(LOWER(AW5)=LOWER(Urlaub!$W$23),Urlaub!$S$23, IF(LOWER(AW5)=LOWER(Urlaub!$W$24),Urlaub!$S$24,""))))))&IF(AND(EXACT(LOWER(AW5),AW5),AW5<>0)," 1/2","") | N5: =24*J5*IF(WEEKDAY(C5)=WEEKDAY($P$6),$S$6, IF(WEEKDAY(C5)=WEEKDAY($P$7),$S$7, IF(WEEKDAY(C5)=WEEKDAY($P$8),$S$8, IF(WEEKDAY(C5)=WEEKDAY($P$9),$S$9, IF(WEEKDAY(C5)=WEEKDAY($P$10),$S$10, IF(WEEKDAY(C5)=WEEKDAY($P$11),$S$11, IF(WEEKDAY(C5)=WEEKDAY($P$12),$S$12,""))))))) -> 0 | P5: Wochentag | Q5: Sollzeit | R5: Pause | S5: Stundenlohn | U5: ="Übertrag aus " & IF( MONTH(B1)=1, YEAR(B1)-1, TEXT(EDATE(B1,-1),"MMMM")) -> Übertrag aus 2017 | V5: -0.12847222 | AV5: =IF(IFERROR(MATCH($B5,Feiertage!$B$2:$B$34,0)>0,0),1,0) -> 1 | AW5: =IFERROR(HLOOKUP(DAY(B5),Urlaub!$C$4:$AG$16,MONTH(B5)+1,0),0) -> 0 | AX5: =IFERROR(IF(AW5=0,0,IF(EXACT(LOWER(AW5),AW5),0.5*BB5,BB5)),"") -> 0 | AY5: =IFERROR(IF(WEEKDAY(C5)=WEEKDAY($P$6),$R$6, IF(WEEKDAY(C5)=WEEKDAY($P$7),$R$7, IF(WEEKDAY(C5)=WEEKDAY($P$8),$R$8, IF(WEEKDAY(C5)=WEEKDAY($P$9),$R$9, IF(WEEKDAY(C5)=WEEKDAY($P$10),$R$10, IF(WEEKDAY(C5)=WEEKDAY($P$11),$R$11, IF(WEEKDAY(C5)=WEEKDAY($P$12),$R$12,""))))))),"") -> 0.020833333 | AZ5: =IF(F5,IF(E5,IF(E5>F5,F5+"24:00"-E5,F5-E5),0),0)+IF(G5,IF(G5,IF(G5>H5,H5+"24:00"-G5,H5-G5),0),0) -> 0 | BA5: =AZ5*24 -> 0 | BB5: =IFERROR(IF(WEEKDAY(C5)=WEEKDAY($P$6),$Q$6, IF(WEEKDAY(C5)=WEEKDAY($P$7),$Q$7, IF(WEEKDAY(C5)=WEEKDAY($P$8),$Q$8, IF(WEEKDAY(C5)=WEEKDAY($P$9),$Q$9, IF(WEEKDAY(C5)=WEEKDAY($P$10),$Q$10, IF(WEEKDAY(C5)=WEEKDAY($P$11),$Q$11, IF(WEEKDAY(C5)=WEEKDAY($P$12),$Q$12,""))))))),"") -> 0.33333333
B6: =B5+1 -> 41640 | C6: =B6 -> 41640 | G6: 0.37152778 | H6: 0.73263889 | I6: =IF(AZ6=0,"",IF(AY6=0,"",IF(OR(B6<=TODAY(),AZ6),AY6,""))) -> 0.020833333 | J6: =IF(AND(Feiertage!$G$2<>"ja",AV6=1),IF(AZ6>0,BB6+AZ6,BB6),IF(AZ6=0,0, IF(I6<>"",AZ6-I6,AZ6)))+AX6 -> 0.34027778 | K6: =IF(AV6=0,BB6,IF(Feiertage!$G$2="ja","00:00",BB6)) -> 0.33333333 | L6: =IF(OR(B6<=TODAY(),J6,AW6="G"),IF(J6<>"",IF(J6-K6=0,"",J6-K6),IF(K6<>"",-K6,"")),"") -> 0.0069444444 | M6: =IF(LOWER(AW6)=LOWER(Urlaub!$W$19),Urlaub!$S$19, IF(LOWER(AW6)=LOWER(Urlaub!$W$20),Urlaub!$S$20, IF(LOWER(AW6)=LOWER(Urlaub!$W$21),Urlaub!$S$21, IF(LOWER(AW6)=LOWER(Urlaub!$W$22),Urlaub!$S$22, IF(LOWER(AW6)=LOWER(Urlaub!$W$23),Urlaub!$S$23, IF(LOWER(AW6)=LOWER(Urlaub!$W$24),Urlaub!$S$24,""))))))&IF(AND(EXACT(LOWER(AW6),AW6),AW6<>0)," 1/2","") | N6: =24*J6*IF(WEEKDAY(C6)=WEEKDAY($P$6),$S$6, IF(WEEKDAY(C6)=WEEKDAY($P$7),$S$7, IF(WEEKDAY(C6)=WEEKDAY($P$8),$S$8, IF(WEEKDAY(C6)=WEEKDAY($P$9),$S$9, IF(WEEKDAY(C6)=WEEKDAY($P$10),$S$10, IF(WEEKDAY(C6)=WEEKDAY($P$11),$S$11, IF(WEEKDAY(C6)=WEEKDAY($P$12),$S$12,""))))))) -> 0 | P6: 41639 | Q6: 0.33333333 | R6: 0.020833333 | U6: Sollzeit | V6: =SUM(K5:K35) -> 7 | AV6: =IF(IFERROR(MATCH($B6,Feiertage!$B$2:$B$34,0)>0,0),1,0) -> 0 | AW6: =IFERROR(HLOOKUP(DAY(B6),Urlaub!$C$4:$AG$16,MONTH(B6)+1,0),0) -> 0 | AX6: =IFERROR(IF(AW6=0,0,IF(EXACT(LOWER(AW6),AW6),0.5*BB6,BB6)),"") -> 0 | AY6: =IFERROR(IF(WEEKDAY(C6)=WEEKDAY($P$6),$R$6, IF(WEEKDAY(C6)=WEEKDAY($P$7),$R$7, IF(WEEKDAY(C6)=WEEKDAY($P$8),$R$8, IF(WEEKDAY(C6)=WEEKDAY($P$9),$R$9, IF(WEEKDAY(C6)=WEEKDAY($P$10),$R$10, IF(WEEKDAY(C6)=WEEKDAY($P$11),$R$11, IF(WEEKDAY(C6)=WEEKDAY($P$12),$R$12,""))))))),"") -> 0.020833333 | AZ6: =IF(F6,IF(E6,IF(E6>F6,F6+"24:00"-E6,F6-E6),0),0)+IF(G6,IF(G6,IF(G6>H6,H6+"24:00"-G6,H6-G6),0),0) -> 0.36111111 | BA6: =AZ6*24 -> 8.6666667 | BB6: =IFERROR(IF(WEEKDAY(C6)=WEEKDAY($P$6),$Q$6, IF(WEEKDAY(C6)=WEEKDAY($P$7),$Q$7, IF(WEEKDAY(C6)=WEEKDAY($P$8),$Q$8, IF(WEEKDAY(C6)=WEEKDAY($P$9),$Q$9, IF(WEEKDAY(C6)=WEEKDAY($P$10),$Q$10, IF(WEEKDAY(C6)=WEEKDAY($P$11),$Q$11, IF(WEEKDAY(C6)=WEEKDAY($P$12),$Q$12,""))))))),"") -> 0.33333333
B7: =B6+1 -> 41641 | C7: =B7 -> 41641 | G7: 0.37152778 | H7: 0.73263889 | I7: =IF(AZ7=0,"",IF(AY7=0,"",IF(OR(B7<=TODAY(),AZ7),AY7,""))) -> 0.020833333 | J7: =IF(AND(Feiertage!$G$2<>"ja",AV7=1),IF(AZ7>0,BB7+AZ7,BB7),IF(AZ7=0,0, IF(I7<>"",AZ7-I7,AZ7)))+AX7 -> 0.34027778 | K7: =IF(AV7=0,BB7,IF(Feiertage!$G$2="ja","00:00",BB7)) -> 0.33333333 | L7: =IF(OR(B7<=TODAY(),J7,AW7="G"),IF(J7<>"",IF(J7-K7=0,"",J7-K7),IF(K7<>"",-K7,"")),"") -> 0.0069444444 | M7: =IF(LOWER(AW7)=LOWER(Urlaub!$W$19),Urlaub!$S$19, IF(LOWER(AW7)=LOWER(Urlaub!$W$20),Urlaub!$S$20, IF(LOWER(AW7)=LOWER(Urlaub!$W$21),Urlaub!$S$21, IF(LOWER(AW7)=LOWER(Urlaub!$W$22),Urlaub!$S$22, IF(LOWER(AW7)=LOWER(Urlaub!$W$23),Urlaub!$S$23, IF(LOWER(AW7)=LOWER(Urlaub!$W$24),Urlaub!$S$24,""))))))&IF(AND(EXACT(LOWER(AW7),AW7),AW7<>0)," 1/2","") | N7: =24*J7*IF(WEEKDAY(C7)=WEEKDAY($P$6),$S$6, IF(WEEKDAY(C7)=WEEKDAY($P$7),$S$7, IF(WEEKDAY(C7)=WEEKDAY($P$8),$S$8, IF(WEEKDAY(C7)=WEEKDAY($P$9),$S$9, IF(WEEKDAY(C7)=WEEKDAY($P$10),$S$10, IF(WEEKDAY(C7)=WEEKDAY($P$11),$S$11, IF(WEEKDAY(C7)=WEEKDAY($P$12),$S$12,""))))))) -> 0 | P7: 41640 | Q7: 0.33333333 | R7: 0.020833333 | U7: Istzeit | V7: =SUM(J5:J35) -> 2.8263889 | AV7: =IF(IFERROR(MATCH($B7,Feiertage!$B$2:$B$34,0)>0,0),1,0) -> 0 | AW7: =IFERROR(HLOOKUP(DAY(B7),Urlaub!$C$4:$AG$16,MONTH(B7)+1,0),0) -> 0 | AX7: =IFERROR(IF(AW7=0,0,IF(EXACT(LOWER(AW7),AW7),0.5*BB7,BB7)),"") -> 0 | AY7: =IFERROR(IF(WEEKDAY(C7)=WEEKDAY($P$6),$R$6, IF(WEEKDAY(C7)=WEEKDAY($P$7),$R$7, IF(WEEKDAY(C7)=WEEKDAY($P$8),$R$8, IF(WEEKDAY(C7)=WEEKDAY($P$9),$R$9, IF(WEEKDAY(C7)=WEEKDAY($P$10),$R$10, IF(WEEKDAY(C7)=WEEKDAY($P$11),$R$11, IF(WEEKDAY(C7)=WEEKDAY($P$12),$R$12,""))))))),"") -> 0.020833333 | AZ7: =IF(F7,IF(E7,IF(E7>F7,F7+"24:00"-E7,F7-E7),0),0)+IF(G7,IF(G7,IF(G7>H7,H7+"24:00"-G7,H7-G7),0),0) -> 0.36111111 | BA7: =AZ7*24 -> 8.6666667 | BB7: =IFERROR(IF(WEEKDAY(C7)=WEEKDAY($P$6),$Q$6, IF(WEEKDAY(C7)=WEEKDAY($P$7),$Q$7, IF(WEEKDAY(C7)=WEEKDAY($P$8),$Q$8, IF(WEEKDAY(C7)=WEEKDAY($P$9),$Q$9, IF(WEEKDAY(C7)=WEEKDAY($P$10),$Q$10, IF(WEEKDAY(C7)=WEEKDAY($P$11),$Q$11, IF(WEEKDAY(C7)=WEEKDAY($P$12),$Q$12,""))))))),"") -> 0.33333333
B8: =B7+1 -> 41642 | C8: =B8 -> 41642 | G8: 0.37152778 | H8: 0.72569444 | I8: =IF(AZ8=0,"",IF(AY8=0,"",IF(OR(B8<=TODAY(),AZ8),AY8,""))) -> 0.020833333 | J8: =IF(AND(Feiertage!$G$2<>"ja",AV8=1),IF(AZ8>0,BB8+AZ8,BB8),IF(AZ8=0,0, IF(I8<>"",AZ8-I8,AZ8)))+AX8 -> 0.33333333 | K8: =IF(AV8=0,BB8,IF(Feiertage!$G$2="ja","00:00",BB8)) -> 0.33333333 | L8: =IF(OR(B8<=TODAY(),J8,AW8="G"),IF(J8<>"",IF(J8-K8=0,"",J8-K8),IF(K8<>"",-K8,"")),"") | M8: =IF(LOWER(AW8)=LOWER(Urlaub!$W$19),Urlaub!$S$19, IF(LOWER(AW8)=LOWER(Urlaub!$W$20),Urlaub!$S$20, IF(LOWER(AW8)=LOWER(Urlaub!$W$21),Urlaub!$S$21, IF(LOWER(AW8)=LOWER(Urlaub!$W$22),Urlaub!$S$22, IF(LOWER(AW8)=LOWER(Urlaub!$W$23),Urlaub!$S$23, IF(LOWER(AW8)=LOWER(Urlaub!$W$24),Urlaub!$S$24,""))))))&IF(AND(EXACT(LOWER(AW8),AW8),AW8<>0)," 1/2","") | N8: =24*J8*IF(WEEKDAY(C8)=WEEKDAY($P$6),$S$6, IF(WEEKDAY(C8)=WEEKDAY($P$7),$S$7, IF(WEEKDAY(C8)=WEEKDAY($P$8),$S$8, IF(WEEKDAY(C8)=WEEKDAY($P$9),$S$9, IF(WEEKDAY(C8)=WEEKDAY($P$10),$S$10, IF(WEEKDAY(C8)=WEEKDAY($P$11),$S$11, IF(WEEKDAY(C8)=WEEKDAY($P$12),$S$12,""))))))) -> 0 | P8: 41641 | Q8: 0.33333333 | R8: 0.020833333 | U8: ="Saldo " & TEXT(B1,"MMMM") -> Saldo Januar | V8: =SUM(L5:L35) -> -0.0069444444 | AV8: =IF(IFERROR(MATCH($B8,Feiertage!$B$2:$B$34,0)>0,0),1,0) -> 0 | AW8: =IFERROR(HLOOKUP(DAY(B8),Urlaub!$C$4:$AG$16,MONTH(B8)+1,0),0) -> 0 | AX8: =IFERROR(IF(AW8=0,0,IF(EXACT(LOWER(AW8),AW8),0.5*BB8,BB8)),"") -> 0 | AY8: =IFERROR(IF(WEEKDAY(C8)=WEEKDAY($P$6),$R$6, IF(WEEKDAY(C8)=WEEKDAY($P$7),$R$7, IF(WEEKDAY(C8)=WEEKDAY($P$8),$R$8, IF(WEEKDAY(C8)=WEEKDAY($P$9),$R$9, IF(WEEKDAY(C8)=WEEKDAY($P$10),$R$10, IF(WEEKDAY(C8)=WEEKDAY($P$11),$R$11, IF(WEEKDAY(C8)=WEEKDAY($P$12),$R$12,""))))))),"") -> 0.020833333 | AZ8: =IF(F8,IF(E8,IF(E8>F8,F8+"24:00"-E8,F8-E8),0),0)+IF(G8,IF(G8,IF(G8>H8,H8+"24:00"-G8,H8-G8),0),0) -> 0.35416667 | BA8: =AZ8*24 -> 8.5 | BB8: =IFERROR(IF(WEEKDAY(C8)=WEEKDAY($P$6),$Q$6, IF(WEEKDAY(C8)=WEEKDAY($P$7),$Q$7, IF(WEEKDAY(C8)=WEEKDAY($P$8),$Q$8, IF(WEEKDAY(C8)=WEEKDAY($P$9),$Q$9, IF(WEEKDAY(C8)=WEEKDAY($P$10),$Q$10, IF(WEEKDAY(C8)=WEEKDAY($P$11),$Q$11, IF(WEEKDAY(C8)=WEEKDAY($P$12),$Q$12,""))))))),"") -> 0.33333333
B9: =B8+1 -> 41643 | C9: =B9 -> 41643 | G9: 0.37152778 | H9: 0.64236111 | I9: =IF(AZ9=0,"",IF(AY9=0,"",IF(OR(B9<=TODAY(),AZ9),AY9,""))) -> 0.020833333 | J9: =IF(AND(Feiertage!$G$2<>"ja",AV9=1),IF(AZ9>0,BB9+AZ9,BB9),IF(AZ9=0,0, IF(I9<>"",AZ9-I9,AZ9)))+AX9 -> 0.25 | K9: =IF(AV9=0,BB9,IF(Feiertage!$G$2="ja","00:00",BB9)) -> 0.25 | L9: =IF(OR(B9<=TODAY(),J9,AW9="G"),IF(J9<>"",IF(J9-K9=0,"",J9-K9),IF(K9<>"",-K9,"")),"") | M9: =IF(LOWER(AW9)=LOWER(Urlaub!$W$19),Urlaub!$S$19, IF(LOWER(AW9)=LOWER(Urlaub!$W$20),Urlaub!$S$20, IF(LOWER(AW9)=LOWER(Urlaub!$W$21),Urlaub!$S$21, IF(LOWER(AW9)=LOWER(Urlaub!$W$22),Urlaub!$S$22, IF(LOWER(AW9)=LOWER(Urlaub!$W$23),Urlaub!$S$23, IF(LOWER(AW9)=LOWER(Urlaub!$W$24),Urlaub!$S$24,""))))))&IF(AND(EXACT(LOWER(AW9),AW9),AW9<>0)," 1/2","") | N9: =24*J9*IF(WEEKDAY(C9)=WEEKDAY($P$6),$S$6, IF(WEEKDAY(C9)=WEEKDAY($P$7),$S$7, IF(WEEKDAY(C9)=WEEKDAY($P$8),$S$8, IF(WEEKDAY(C9)=WEEKDAY($P$9),$S$9, IF(WEEKDAY(C9)=WEEKDAY($P$10),$S$10, IF(WEEKDAY(C9)=WEEKDAY($P$11),$S$11, IF(WEEKDAY(C9)=WEEKDAY($P$12),$S$12,""))))))) -> 0 | P9: 41642 | Q9: 0.33333333 | R9: 0.020833333 | U9: ="Übertrag in " & IF( MONTH(B1)=12, YEAR(B1)+1, TEXT(EDATE(B1,1),"MMMM")) -> Übertrag in Februar | V9: =IF(V5="",0,V5)+V8 -> -0.13541667 | AV9: =IF(IFERROR(MATCH($B9,Feiertage!$B$2:$B$34,0)>0,0),1,0) -> 0 | AW9: =IFERROR(HLOOKUP(DAY(B9),Urlaub!$C$4:$AG$16,MONTH(B9)+1,0),0) -> 0 | AX9: =IFERROR(IF(AW9=0,0,IF(EXACT(LOWER(AW9),AW9),0.5*BB9,BB9)),"") -> 0 | AY9: =IFERROR(IF(WEEKDAY(C9)=WEEKDAY($P$6),$R$6, IF(WEEKDAY(C9)=WEEKDAY($P$7),$R$7, IF(WEEKDAY(C9)=WEEKDAY($P$8),$R$8, IF(WEEKDAY(C9)=WEEKDAY($P$9),$R$9, IF(WEEKDAY(C9)=WEEKDAY($P$10),$R$10, IF(WEEKDAY(C9)=WEEKDAY($P$11),$R$11, IF(WEEKDAY(C9)=WEEKDAY($P$12),$R$12,""))))))),"") -> 0.020833333 | AZ9: =IF(F9,IF(E9,IF(E9>F9,F9+"24:00"-E9,F9-E9),0),0)+IF(G9,IF(G9,IF(G9>H9,H9+"24:00"-G9,H9-G9),0),0) -> 0.27083333 | BA9: =AZ9*24 -> 6.5 | BB9: =IFERROR(IF(WEEKDAY(C9)=WEEKDAY($P$6),$Q$6, IF(WEEKDAY(C9)=WEEKDAY($P$7),$Q$7, IF(WEEKDAY(C9)=WEEKDAY($P$8),$Q$8, IF(WEEKDAY(C9)=WEEKDAY($P$9),$Q$9, IF(WEEKDAY(C9)=WEEKDAY($P$10),$Q$10, IF(WEEKDAY(C9)=WEEKDAY($P$11),$Q$11, IF(WEEKDAY(C9)=WEEKDAY($P$12),$Q$12,""))))))),"") -> 0.25
B10: =B9+1 -> 41644 | C10: =B10 -> 41644 | I10: =IF(AZ10=0,"",IF(AY10=0,"",IF(OR(B10<=TODAY(),AZ10),AY10,""))) | J10: =IF(AND(Feiertage!$G$2<>"ja",AV10=1),IF(AZ10>0,BB10+AZ10,BB10),IF(AZ10=0,0, IF(I10<>"",AZ10-I10,AZ10)))+AX10 -> 0 | K10: =IF(AV10=0,BB10,IF(Feiertage!$G$2="ja","00:00",BB10)) -> 00:00 | L10: =IF(OR(B10<=TODAY(),J10,AW10="G"),IF(J10<>"",IF(J10-K10=0,"",J10-K10),IF(K10<>"",-K10,"")),"") | M10: =IF(LOWER(AW10)=LOWER(Urlaub!$W$19),Urlaub!$S$19, IF(LOWER(AW10)=LOWER(Urlaub!$W$20),Urlaub!$S$20, IF(LOWER(AW10)=LOWER(Urlaub!$W$21),Urlaub!$S$21, IF(LOWER(AW10)=LOWER(Urlaub!$W$22),Urlaub!$S$22, IF(LOWER(AW10)=LOWER(Urlaub!$W$23),Urlaub!$S$23, IF(LOWER(AW10)=LOWER(Urlaub!$W$24),Urlaub!$S$24,""))))))&IF(AND(EXACT(LOWER(AW10),AW10),AW10<>0)," 1/2","") | N10: =24*J10*IF(WEEKDAY(C10)=WEEKDAY($P$6),$S$6, IF(WEEKDAY(C10)=WEEKDAY($P$7),$S$7, IF(WEEKDAY(C10)=WEEKDAY($P$8),$S$8, IF(WEEKDAY(C10)=WEEKDAY($P$9),$S$9, IF(WEEKDAY(C10)=WEEKDAY($P$10),$S$10, IF(WEEKDAY(C10)=WEEKDAY($P$11),$S$11, IF(WEEKDAY(C10)=WEEKDAY($P$12),$S$12,""))))))) -> 0 | P10: 41643 | Q10: 0.25 | R10: 0.020833333 | AV10: =IF(IFERROR(MATCH($B10,Feiertage!$B$2:$B$34,0)>0,0),1,0) -> 1 | AW10: =IFERROR(HLOOKUP(DAY(B10),Urlaub!$C$4:$AG$16,MONTH(B10)+1,0),0) -> 0 | AX10: =IFERROR(IF(AW10=0,0,IF(EXACT(LOWER(AW10),AW10),0.5*BB10,BB10)),"") -> 0 | AY10: =IFERROR(IF(WEEKDAY(C10)=WEEKDAY($P$6),$R$6, IF(WEEKDAY(C10)=WEEKDAY($P$7),$R$7, IF(WEEKDAY(C10)=WEEKDAY($P$8),$R$8, IF(WEEKDAY(C10)=WEEKDAY($P$9),$R$9, IF(WEEKDAY(C10)=WEEKDAY($P$10),$R$10, IF(WEEKDAY(C10)=WEEKDAY($P$11),$R$11, IF(WEEKDAY(C10)=WEEKDAY($P$12),$R$12,""))))))),"") -> 0.020833333 | AZ10: =IF(F10,IF(E10,IF(E10>F10,F10+"24:00"-E10,F10-E10),0),0)+IF(G10,IF(G10,IF(G10>H10,H10+"24:00"-G10,H10-G10),0),0) -> 0 | BA10: =AZ10*24 -> 0 | BB10: =IFERROR(IF(WEEKDAY(C10)=WEEKDAY($P$6),$Q$6, IF(WEEKDAY(C10)=WEEKDAY($P$7),$Q$7, IF(WEEKDAY(C10)=WEEKDAY($P$8),$Q$8, IF(WEEKDAY(C10)=WEEKDAY($P$9),$Q$9, IF(WEEKDAY(C10)=WEEKDAY($P$10),$Q$10, IF(WEEKDAY(C10)=WEEKDAY($P$11),$Q$11, IF(WEEKDAY(C10)=WEEKDAY($P$12),$Q$12,""))))))),"") -> 0
B11: =B10+1 -> 41645 | C11: =B11 -> 41645 | I11: =IF(AZ11=0,"",IF(AY11=0,"",IF(OR(B11<=TODAY(),AZ11),AY11,""))) | J11: =IF(AND(Feiertage!$G$2<>"ja",AV11=1),IF(AZ11>0,BB11+AZ11,BB11),IF(AZ11=0,0, IF(I11<>"",AZ11-I11,AZ11)))+AX11 -> 0 | K11: =IF(AV11=0,BB11,IF(Feiertage!$G$2="ja","00:00",BB11)) -> 0 | L11: =IF(OR(B11<=TODAY(),J11,AW11="G"),IF(J11<>"",IF(J11-K11=0,"",J11-K11),IF(K11<>"",-K11,"")),"") | M11: =IF(LOWER(AW11)=LOWER(Urlaub!$W$19),Urlaub!$S$19, IF(LOWER(AW11)=LOWER(Urlaub!$W$20),Urlaub!$S$20, IF(LOWER(AW11)=LOWER(Urlaub!$W$21),Urlaub!$S$21, IF(LOWER(AW11)=LOWER(Urlaub!$W$22),Urlaub!$S$22, IF(LOWER(AW11)=LOWER(Urlaub!$W$23),Urlaub!$S$23, IF(LOWER(AW11)=LOWER(Urlaub!$W$24),Urlaub!$S$24,""))))))&IF(AND(EXACT(LOWER(AW11),AW11),AW11<>0)," 1/2","") | N11: =24*J11*IF(WEEKDAY(C11)=WEEKDAY($P$6),$S$6, IF(WEEKDAY(C11)=WEEKDAY($P$7),$S$7, IF(WEEKDAY(C11)=WEEKDAY($P$8),$S$8, IF(WEEKDAY(C11)=WEEKDAY($P$9),$S$9, IF(WEEKDAY(C11)=WEEKDAY($P$10),$S$10, IF(WEEKDAY(C11)=WEEKDAY($P$11),$S$11, IF(WEEKDAY(C11)=WEEKDAY($P$12),$S$12,""))))))) -> 0 | P11: 41644 | Q11: 0 | R11: 0.020833333 | AV11: =IF(IFERROR(MATCH($B11,Feiertage!$B$2:$B$34,0)>0,0),1,0) -> 0 | AW11: =IFERROR(HLOOKUP(DAY(B11),Urlaub!$C$4:$AG$16,MONTH(B11)+1,0),0) -> 0 | AX11: =IFERROR(IF(AW11=0,0,IF(EXACT(LOWER(AW11),AW11),0.5*BB11,BB11)),"") -> 0 | AY11: =IFERROR(IF(WEEKDAY(C11)=WEEKDAY($P$6),$R$6, IF(WEEKDAY(C11)=WEEKDAY($P$7),$R$7, IF(WEEKDAY(C11)=WEEKDAY($P$8),$R$8, IF(WEEKDAY(C11)=WEEKDAY($P$9),$R$9, IF(WEEKDAY(C11)=WEEKDAY($P$10),$R$10, IF(WEEKDAY(C11)=WEEKDAY($P$11),$R$11, IF(WEEKDAY(C11)=WEEKDAY($P$12),$R$12,""))))))),"") -> 0.020833333 | AZ11: =IF(F11,IF(E11,IF(E11>F11,F11+"24:00"-E11,F11-E11),0),0)+IF(G11,IF(G11,IF(G11>H11,H11+"24:00"-G11,H11-G11),0),0) -> 0 | BA11: =AZ11*24 -> 0 | BB11: =IFERROR(IF(WEEKDAY(C11)=WEEKDAY($P$6),$Q$6, IF(WEEKDAY(C11)=WEEKDAY($P$7),$Q$7, IF(WEEKDAY(C11)=WEEKDAY($P$8),$Q$8, IF(WEEKDAY(C11)=WEEKDAY($P$9),$Q$9, IF(WEEKDAY(C11)=WEEKDAY($P$10),$Q$10, IF(WEEKDAY(C11)=WEEKDAY($P$11),$Q$11, IF(WEEKDAY(C11)=WEEKDAY($P$12),$Q$12,""))))))),"") -> 0
B12: =B11+1 -> 41646 | C12: =B12 -> 41646 | G12: 0.37152778 | H12: 0.72569444 | I12: =IF(AZ12=0,"",IF(AY12=0,"",IF(OR(B12<=TODAY(),AZ12),AY12,""))) -> 0.020833333 | J12: =IF(AND(Feiertage!$G$2<>"ja",AV12=1),IF(AZ12>0,BB12+AZ12,BB12),IF(AZ12=0,0, IF(I12<>"",AZ12-I12,AZ12)))+AX12 -> 0.33333333 | K12: =IF(AV12=0,BB12,IF(Feiertage!$G$2="ja","00:00",BB12)) -> 0.33333333 | L12: =IF(OR(B12<=TODAY(),J12,AW12="G"),IF(J12<>"",IF(J12-K12=0,"",J12-K12),IF(K12<>"",-K12,"")),"") | M12: =IF(LOWER(AW12)=LOWER(Urlaub!$W$19),Urlaub!$S$19, IF(LOWER(AW12)=LOWER(Urlaub!$W$20),Urlaub!$S$20, IF(LOWER(AW12)=LOWER(Urlaub!$W$21),Urlaub!$S$21, IF(LOWER(AW12)=LOWER(Urlaub!$W$22),Urlaub!$S$22, IF(LOWER(AW12)=LOWER(Urlaub!$W$23),Urlaub!$S$23, IF(LOWER(AW12)=LOWER(Urlaub!$W$24),Urlaub!$S$24,""))))))&IF(AND(EXACT(LOWER(AW12),AW12),AW12<>0)," 1/2","") | N12: =24*J12*IF(WEEKDAY(C12)=WEEKDAY($P$6),$S$6, IF(WEEKDAY(C12)=WEEKDAY($P$7),$S$7, IF(WEEKDAY(C12)=WEEKDAY($P$8),$S$8, IF(WEEKDAY(C12)=WEEKDAY($P$9),$S$9, IF(WEEKDAY(C12)=WEEKDAY($P$10),$S$10, IF(WEEKDAY(C12)=WEEKDAY($P$11),$S$11, IF(WEEKDAY(C12)=WEEKDAY($P$12),$S$12,""))))))) -> 0 | P12: 41645 | Q12: 0 | R12: 0.020833333 | AV12: =IF(IFERROR(MATCH($B12,Feiertage!$B$2:$B$34,0)>0,0),1,0) -> 0 | AW12: =IFERROR(HLOOKUP(DAY(B12),Urlaub!$C$4:$AG$16,MONTH(B12)+1,0),0) -> 0 | AX12: =IFERROR(IF(AW12=0,0,IF(EXACT(LOWER(AW12),AW12),0.5*BB12,BB12)),"") -> 0 | AY12: =IFERROR(IF(WEEKDAY(C12)=WEEKDAY($P$6),$R$6, IF(WEEKDAY(C12)=WEEKDAY($P$7),$R$7, IF(WEEKDAY(C12)=WEEKDAY($P$8),$R$8, IF(WEEKDAY(C12)=WEEKDAY($P$9),$R$9, IF(WEEKDAY(C12)=WEEKDAY($P$10),$R$10, IF(WEEKDAY(C12)=WEEKDAY($P$11),$R$11, IF(WEEKDAY(C12)=WEEKDAY($P$12),$R$12,""))))))),"") -> 0.020833333 | AZ12: =IF(F12,IF(E12,IF(E12>F12,F12+"24:00"-E12,F12-E12),0),0)+IF(G12,IF(G12,IF(G12>H12,H12+"24:00"-G12,H12-G12),0),0) -> 0.35416667 | BA12: =AZ12*24 -> 8.5 | BB12: =IFERROR(IF(WEEKDAY(C12)=WEEKDAY($P$6),$Q$6, IF(WEEKDAY(C12)=WEEKDAY($P$7),$Q$7, IF(WEEKDAY(C12)=WEEKDAY($P$8),$Q$8, IF(WEEKDAY(C12)=WEEKDAY($P$9),$Q$9, IF(WEEKDAY(C12)=WEEKDAY($P$10),$Q$10, IF(WEEKDAY(C12)=WEEKDAY($P$11),$Q$11, IF(WEEKDAY(C12)=WEEKDAY($P$12),$Q$12,""))))))),"") -> 0.33333333
B13: =B12+1 -> 41647 | C13: =B13 -> 41647 | G13: 0.37152778 | H13: 0.71180556 | I13: =IF(AZ13=0,"",IF(AY13=0,"",IF(OR(B13<=TODAY(),AZ13),AY13,""))) -> 0.020833333 | J13: =IF(AND(Feiertage!$G$2<>"ja",AV13=1),IF(AZ13>0,BB13+AZ13,BB13),IF(AZ13=0,0, IF(I13<>"",AZ13-I13,AZ13)))+AX13 -> 0.31944444 | K13: =IF(AV13=0,BB13,IF(Feiertage!$G$2="ja","00:00",BB13)) -> 0.33333333 | L13: =IF(OR(B13<=TODAY(),J13,AW13="G"),IF(J13<>"",IF(J13-K13=0,"",J13-K13),IF(K13<>"",-K13,"")),"") -> -0.013888889 | M13: =IF(LOWER(AW13)=LOWER(Urlaub!$W$19),Urlaub!$S$19, IF(LOWER(AW13)=LOWER(Urlaub!$W$20),Urlaub!$S$20, IF(LOWER(AW13)=LOWER(Urlaub!$W$21),Urlaub!$S$21, IF(LOWER(AW13)=LOWER(Urlaub!$W$22),Urlaub!$S$22, IF(LOWER(AW13)=LOWER(Urlaub!$W$23),Urlaub!$S$23, IF(LOWER(AW13)=LOWER(Urlaub!$W$24),Urlaub!$S$24,""))))))&IF(AND(EXACT(LOWER(AW13),AW13),AW13<>0)," 1/2","") | N13: =24*J13*IF(WEEKDAY(C13)=WEEKDAY($P$6),$S$6, IF(WEEKDAY(C13)=WEEKDAY($P$7),$S$7, IF(WEEKDAY(C13)=WEEKDAY($P$8),$S$8, IF(WEEKDAY(C13)=WEEKDAY($P$9),$S$9, IF(WEEKDAY(C13)=WEEKDAY($P$10),$S$10, IF(WEEKDAY(C13)=WEEKDAY($P$11),$S$11, IF(WEEKDAY(C13)=WEEKDAY($P$12),$S$12,""))))))) -> 0 | P13: Wochensoll | Q13: =SUM(Q6:Q12) -> 1.5833333 | AV13: =IF(IFERROR(MATCH($B13,Feiertage!$B$2:$B$34,0)>0,0),1,0) -> 0 | AW13: =IFERROR(HLOOKUP(DAY(B13),Urlaub!$C$4:$AG$16,MONTH(B13)+1,0),0) -> 0 | AX13: =IFERROR(IF(AW13=0,0,IF(EXACT(LOWER(AW13),AW13),0.5*BB13,BB13)),"") -> 0 | AY13: =IFERROR(IF(WEEKDAY(C13)=WEEKDAY($P$6),$R$6, IF(WEEKDAY(C13)=WEEKDAY($P$7),$R$7, IF(WEEKDAY(C13)=WEEKDAY($P$8),$R$8, IF(WEEKDAY(C13)=WEEKDAY($P$9),$R$9, IF(WEEKDAY(C13)=WEEKDAY($P$10),$R$10, IF(WEEKDAY(C13)=WEEKDAY($P$11),$R$11, IF(WEEKDAY(C13)=WEEKDAY($P$12),$R$12,""))))))),"") -> 0.020833333 | AZ13: =IF(F13,IF(E13,IF(E13>F13,F13+"24:00"-E13,F13-E13),0),0)+IF(G13,IF(G13,IF(G13>H13,H13+"24:00"-G13,H13-G13),0),0) -> 0.34027778 | BA13: =AZ13*24 -> 8.1666667 | BB13: =IFERROR(IF(WEEKDAY(C13)=WEEKDAY($P$6),$Q$6, IF(WEEKDAY(C13)=WEEKDAY($P$7),$Q$7, IF(WEEKDAY(C13)=WEEKDAY($P$8),$Q$8, IF(WEEKDAY(C13)=WEEKDAY($P$9),$Q$9, IF(WEEKDAY(C13)=WEEKDAY($P$10),$Q$10, IF(WEEKDAY(C13)=WEEKDAY($P$11),$Q$11, IF(WEEKDAY(C13)=WEEKDAY($P$12),$Q$12,""))))))),"") -> 0.33333333
B14: =B13+1 -> 41648 | C14: =B14 -> 41648 | G14: 0.37152778 | H14: 0.71875 | I14: =IF(AZ14=0,"",IF(AY14=0,"",IF(OR(B14<=TODAY(),AZ14),AY14,""))) -> 0.020833333 | J14: =IF(AND(Feiertage!$G$2<>"ja",AV14=1),IF(AZ14>0,BB14+AZ14,BB14),IF(AZ14=0,0, IF(I14<>"",AZ14-I14,AZ14)))+AX14 -> 0.32638889 | K14: =IF(AV14=0,BB14,IF(Feiertage!$G$2="ja","00:00",BB14)) -> 0.33333333 | L14: =IF(OR(B14<=TODAY(),J14,AW14="G"),IF(J14<>"",IF(J14-K14=0,"",J14-K14),IF(K14<>"",-K14,"")),"") -> -0.0069444444 | M14: =IF(LOWER(AW14)=LOWER(Urlaub!$W$19),Urlaub!$S$19, IF(LOWER(AW14)=LOWER(Urlaub!$W$20),Urlaub!$S$20, IF(LOWER(AW14)=LOWER(Urlaub!$W$21),Urlaub!$S$21, IF(LOWER(AW14)=LOWER(Urlaub!$W$22),Urlaub!$S$22, IF(LOWER(AW14)=LOWER(Urlaub!$W$23),Urlaub!$S$23, IF(LOWER(AW14)=LOWER(Urlaub!$W$24),Urlaub!$S$24,""))))))&IF(AND(EXACT(LOWER(AW14),AW14),AW14<>0)," 1/2","") | N14: =24*J14*IF(WEEKDAY(C14)=WEEKDAY($P$6),$S$6, IF(WEEKDAY(C14)=WEEKDAY($P$7),$S$7, IF(WEEKDAY(C14)=WEEKDAY($P$8),$S$8, IF(WEEKDAY(C14)=WEEKDAY($P$9),$S$9, IF(WEEKDAY(C14)=WEEKDAY($P$10),$S$10, IF(WEEKDAY(C14)=WEEKDAY($P$11),$S$11, IF(WEEKDAY(C14)=WEEKDAY($P$12),$S$12,""))))))) -> 0 | AV14: =IF(IFERROR(MATCH($B14,Feiertage!$B$2:$B$34,0)>0,0),1,0) -> 0 | AW14: =IFERROR(HLOOKUP(DAY(B14),Urlaub!$C$4:$AG$16,MONTH(B14)+1,0),0) -> 0 | AX14: =IFERROR(IF(AW14=0,0,IF(EXACT(LOWER(AW14),AW14),0.5*BB14,BB14)),"") -> 0 | AY14: =IFERROR(IF(WEEKDAY(C14)=WEEKDAY($P$6),$R$6, IF(WEEKDAY(C14)=WEEKDAY($P$7),$R$7, IF(WEEKDAY(C14)=WEEKDAY($P$8),$R$8, IF(WEEKDAY(C14)=WEEKDAY($P$9),$R$9, IF(WEEKDAY(C14)=WEEKDAY($P$10),$R$10, IF(WEEKDAY(C14)=WEEKDAY($P$11),$R$11, IF(WEEKDAY(C14)=WEEKDAY($P$12),$R$12,""))))))),"") -> 0.020833333 | AZ14: =IF(F14,IF(E14,IF(E14>F14,F14+"24:00"-E14,F14-E14),0),0)+IF(G14,IF(G14,IF(G14>H14,H14+"24:00"-G14,H14-G14),0),0) -> 0.34722222 | BA14: =AZ14*24 -> 8.3333333 | BB14: =IFERROR(IF(WEEKDAY(C14)=WEEKDAY($P$6),$Q$6, IF(WEEKDAY(C14)=WEEKDAY($P$7),$Q$7, IF(WEEKDAY(C14)=WEEKDAY($P$8),$Q$8, IF(WEEKDAY(C14)=WEEKDAY($P$9),$Q$9, IF(WEEKDAY(C14)=WEEKDAY($P$10),$Q$10, IF(WEEKDAY(C14)=WEEKDAY($P$11),$Q$11, IF(WEEKDAY(C14)=WEEKDAY($P$12),$Q$12,""))))))),"") -> 0.33333333
B15: =B14+1 -> 41649 | C15: =B15 -> 41649 | I15: =IF(AZ15=0,"",IF(AY15=0,"",IF(OR(B15<=TODAY(),AZ15),AY15,""))) | J15: =IF(AND(Feiertage!$G$2<>"ja",AV15=1),IF(AZ15>0,BB15+AZ15,BB15),IF(AZ15=0,0, IF(I15<>"",AZ15-I15,AZ15)))+AX15 -> 0.33333333 | K15: =IF(AV15=0,BB15,IF(Feiertage!$G$2="ja","00:00",BB15)) -> 0.33333333 | L15: =IF(OR(B15<=TODAY(),J15,AW15="G"),IF(J15<>"",IF(J15-K15=0,"",J15-K15),IF(K15<>"",-K15,"")),"") | M15: =IF(LOWER(AW15)=LOWER(Urlaub!$W$19),Urlaub!$S$19, IF(LOWER(AW15)=LOWER(Urlaub!$W$20),Urlaub!$S$20, IF(LOWER(AW15)=LOWER(Urlaub!$W$21),Urlaub!$S$21, IF(LOWER(AW15)=LOWER(Urlaub!$W$22),Urlaub!$S$22, IF(LOWER(AW15)=LOWER(Urlaub!$W$23),Urlaub!$S$23, IF(LOWER(AW15)=LOWER(Urlaub!$W$24),Urlaub!$S$24,""))))))&IF(AND(EXACT(LOWER(AW15),AW15),AW15<>0)," 1/2","") -> Krank | N15: =24*J15*IF(WEEKDAY(C15)=WEEKDAY($P$6),$S$6, IF(WEEKDAY(C15)=WEEKDAY($P$7),$S$7, IF(WEEKDAY(C15)=WEEKDAY($P$8),$S$8, IF(WEEKDAY(C15)=WEEKDAY($P$9),$S$9, IF(WEEKDAY(C15)=WEEKDAY($P$10),$S$10, IF(WEEKDAY(C15)=WEEKDAY($P$11),$S$11, IF(WEEKDAY(C15)=WEEKDAY($P$12),$S$12,""))))))) -> 0 | AV15: =IF(IFERROR(MATCH($B15,Feiertage!$B$2:$B$34,0)>0,0),1,0) -> 0 | AW15: =IFERROR(HLOOKUP(DAY(B15),Urlaub!$C$4:$AG$16,MONTH(B15)+1,0),0) -> K | AX15: =IFERROR(IF(AW15=0,0,IF(EXACT(LOWER(AW15),AW15),0.5*BB15,BB15)),"") -> 0.33333333 | AY15: =IFERROR(IF(WEEKDAY(C15)=WEEKDAY($P$6),$R$6, IF(WEEKDAY(C15)=WEEKDAY($P$7),$R$7, IF(WEEKDAY(C15)=WEEKDAY($P$8),$R$8, IF(WEEKDAY(C15)=WEEKDAY($P$9),$R$9, IF(WEEKDAY(C15)=WEEKDAY($P$10),$R$10, IF(WEEKDAY(C15)=WEEKDAY($P$11),$R$11, IF(WEEKDAY(C15)=WEEKDAY($P$12),$R$12,""))))))),"") -> 0.020833333 | AZ15: =IF(F15,IF(E15,IF(E15>F15,F15+"24:00"-E15,F15-E15),0),0)+IF(G15,IF(G15,IF(G15>H15,H15+"24:00"-G15,H15-G15),0),0) -> 0 | BA15: =AZ15*24 -> 0 | BB15: =IFERROR(IF(WEEKDAY(C15)=WEEKDAY($P$6),$Q$6, IF(WEEKDAY(C15)=WEEKDAY($P$7),$Q$7, IF(WEEKDAY(C15)=WEEKDAY($P$8),$Q$8, IF(WEEKDAY(C15)=WEEKDAY($P$9),$Q$9, IF(WEEKDAY(C15)=WEEKDAY($P$10),$Q$10, IF(WEEKDAY(C15)=WEEKDAY($P$11),$Q$11, IF(WEEKDAY(C15)=WEEKDAY($P$12),$Q$12,""))))))),"") -> 0.33333333
B16: =B15+1 -> 41650 | C16: =B16 -> 41650 | I16: =IF(AZ16=0,"",IF(AY16=0,"",IF(OR(B16<=TODAY(),AZ16),AY16,""))) | J16: =IF(AND(Feiertage!$G$2<>"ja",AV16=1),IF(AZ16>0,BB16+AZ16,BB16),IF(AZ16=0,0, IF(I16<>"",AZ16-I16,AZ16)))+AX16 -> 0.25 | K16: =IF(AV16=0,BB16,IF(Feiertage!$G$2="ja","00:00",BB16)) -> 0.25 | L16: =IF(OR(B16<=TODAY(),J16,AW16="G"),IF(J16<>"",IF(J16-K16=0,"",J16-K16),IF(K16<>"",-K16,"")),"") | M16: =IF(LOWER(AW16)=LOWER(Urlaub!$W$19),Urlaub!$S$19, IF(LOWER(AW16)=LOWER(Urlaub!$W$20),Urlaub!$S$20, IF(LOWER(AW16)=LOWER(Urlaub!$W$21),Urlaub!$S$21, IF(LOWER(AW16)=LOWER(Urlaub!$W$22),Urlaub!$S$22, IF(LOWER(AW16)=LOWER(Urlaub!$W$23),Urlaub!$S$23, IF(LOWER(AW16)=LOWER(Urlaub!$W$24),Urlaub!$S$24,""))))))&IF(AND(EXACT(LOWER(AW16),AW16),AW16<>0)," 1/2","") -> Krank | N16: =24*J16*IF(WEEKDAY(C16)=WEEKDAY($P$6),$S$6, IF(WEEKDAY(C16)=WEEKDAY($P$7),$S$7, IF(WEEKDAY(C16)=WEEKDAY($P$8),$S$8, IF(WEEKDAY(C16)=WEEKDAY($P$9),$S$9, IF(WEEKDAY(C16)=WEEKDAY($P$10),$S$10, IF(WEEKDAY(C16)=WEEKDAY($P$11),$S$11, IF(WEEKDAY(C16)=WEEKDAY($P$12),$S$12,""))))))) -> 0 | AV16: =IF(IFERROR(MATCH($B16,Feiertage!$B$2:$B$34,0)>0,0),1,0) -> 0 | AW16: =IFERROR(HLOOKUP(DAY(B16),Urlaub!$C$4:$AG$16,MONTH(B16)+1,0),0) -> K | AX16: =IFERROR(IF(AW16=0,0,IF(EXACT(LOWER(AW16),AW16),0.5*BB16,BB16)),"") -> 0.25 | AY16: =IFERROR(IF(WEEKDAY(C16)=WEEKDAY($P$6),$R$6, IF(WEEKDAY(C16)=WEEKDAY($P$7),$R$7, IF(WEEKDAY(C16)=WEEKDAY($P$8),$R$8, IF(WEEKDAY(C16)=WEEKDAY($P$9),$R$9, IF(WEEKDAY(C16)=WEEKDAY($P$10),$R$10, IF(WEEKDAY(C16)=WEEKDAY($P$11),$R$11, IF(WEEKDAY(C16)=WEEKDAY($P$12),$R$12,""))))))),"") -> 0.020833333 | AZ16: =IF(F16,IF(E16,IF(E16>F16,F16+"24:00"-E16,F16-E16),0),0)+IF(G16,IF(G16,IF(G16>H16,H16+"24:00"-G16,H16-G16),0),0) -> 0 | BA16: =AZ16*24 -> 0 | BB16: =IFERROR(IF(WEEKDAY(C16)=WEEKDAY($P$6),$Q$6, IF(WEEKDAY(C16)=WEEKDAY($P$7),$Q$7, IF(WEEKDAY(C16)=WEEKDAY($P$8),$Q$8, IF(WEEKDAY(C16)=WEEKDAY($P$9),$Q$9, IF(WEEKDAY(C16)=WEEKDAY($P$10),$Q$10, IF(WEEKDAY(C16)=WEEKDAY($P$11),$Q$11, IF(WEEKDAY(C16)=WEEKDAY($P$12),$Q$12,""))))))),"") -> 0.25
B17: =B16+1 -> 41651 | C17: =B17 -> 41651 | I17: =IF(AZ17=0,"",IF(AY17=0,"",IF(OR(B17<=TODAY(),AZ17),AY17,""))) | J17: =IF(AND(Feiertage!$G$2<>"ja",AV17=1),IF(AZ17>0,BB17+AZ17,BB17),IF(AZ17=0,0, IF(I17<>"",AZ17-I17,AZ17)))+AX17 -> 0 | K17: =IF(AV17=0,BB17,IF(Feiertage!$G$2="ja","00:00",BB17)) -> 0 | L17: =IF(OR(B17<=TODAY(),J17,AW17="G"),IF(J17<>"",IF(J17-K17=0,"",J17-K17),IF(K17<>"",-K17,"")),"") | M17: =IF(LOWER(AW17)=LOWER(Urlaub!$W$19),Urlaub!$S$19, IF(LOWER(AW17)=LOWER(Urlaub!$W$20),Urlaub!$S$20, IF(LOWER(AW17)=LOWER(Urlaub!$W$21),Urlaub!$S$21, IF(LOWER(AW17)=LOWER(Urlaub!$W$22),Urlaub!$S$22, IF(LOWER(AW17)=LOWER(Urlaub!$W$23),Urlaub!$S$23, IF(LOWER(AW17)=LOWER(Urlaub!$W$24),Urlaub!$S$24,""))))))&IF(AND(EXACT(LOWER(AW17),AW17),AW17<>0)," 1/2","") | N17: =24*J17*IF(WEEKDAY(C17)=WEEKDAY($P$6),$S$6, IF(WEEKDAY(C17)=WEEKDAY($P$7),$S$7, IF(WEEKDAY(C17)=WEEKDAY($P$8),$S$8, IF(WEEKDAY(C17)=WEEKDAY($P$9),$S$9, IF(WEEKDAY(C17)=WEEKDAY($P$10),$S$10, IF(WEEKDAY(C17)=WEEKDAY($P$11),$S$11, IF(WEEKDAY(C17)=WEEKDAY($P$12),$S$12,""))))))) -> 0 | AV17: =IF(IFERROR(MATCH($B17,Feiertage!$B$2:$B$34,0)>0,0),1,0) -> 0 | AW17: =IFERROR(HLOOKUP(DAY(B17),Urlaub!$C$4:$AG$16,MONTH(B17)+1,0),0) -> 0 | AX17: =IFERROR(IF(OR(AW17=0,AW17="G"),0,IF(EXACT(LOWER(AW17),AW17),0.5*BB17,BB17)),"") -> 0 | AY17: =IFERROR(IF(WEEKDAY(C17)=WEEKDAY($P$6),$R$6, IF(WEEKDAY(C17)=WEEKDAY($P$7),$R$7, IF(WEEKDAY(C17)=WEEKDAY($P$8),$R$8, IF(WEEKDAY(C17)=WEEKDAY($P$9),$R$9, IF(WEEKDAY(C17)=WEEKDAY($P$10),$R$10, IF(WEEKDAY(C17)=WEEKDAY($P$11),$R$11, IF(WEEKDAY(C17)=WEEKDAY($P$12),$R$12,""))))))),"") -> 0.020833333 | AZ17: =IF(F17,IF(E17,IF(E17>F17,F17+"24:00"-E17,F17-E17),0),0)+IF(G17,IF(G17,IF(G17>H17,H17+"24:00"-G17,H17-G17),0),0) -> 0 | BA17: =AZ17*24 -> 0 | BB17: =IFERROR(IF(WEEKDAY(C17)=WEEKDAY($P$6),$Q$6, IF(WEEKDAY(C17)=WEEKDAY($P$7),$Q$7, IF(WEEKDAY(C17)=WEEKDAY($P$8),$Q$8, IF(WEEKDAY(C17)=WEEKDAY($P$9),$Q$9, IF(WEEKDAY(C17)=WEEKDAY($P$10),$Q$10, IF(WEEKDAY(C17)=WEEKDAY($P$11),$Q$11, IF(WEEKDAY(C17)=WEEKDAY($P$12),$Q$12,""))))))),"") -> 0
B18: =B17+1 -> 41652 | C18: =B18 -> 41652 | I18: =IF(AZ18=0,"",IF(AY18=0,"",IF(OR(B18<=TODAY(),AZ18),AY18,""))) | J18: =IF(AND(Feiertage!$G$2<>"ja",AV18=1),IF(AZ18>0,BB18+AZ18,BB18),IF(AZ18=0,0, IF(I18<>"",AZ18-I18,AZ18)))+AX18 -> 0 | K18: =IF(AV18=0,BB18,IF(Feiertage!$G$2="ja","00:00",BB18)) -> 0 | L18: =IF(OR(B18<=TODAY(),J18,AW18="G"),IF(J18<>"",IF(J18-K18=0,"",J18-K18),IF(K18<>"",-K18,"")),"") | M18: =IF(LOWER(AW18)=LOWER(Urlaub!$W$19),Urlaub!$S$19, IF(LOWER(AW18)=LOWER(Urlaub!$W$20),Urlaub!$S$20, IF(LOWER(AW18)=LOWER(Urlaub!$W$21),Urlaub!$S$21, IF(LOWER(AW18)=LOWER(Urlaub!$W$22),Urlaub!$S$22, IF(LOWER(AW18)=LOWER(Urlaub!$W$23),Urlaub!$S$23, IF(LOWER(AW18)=LOWER(Urlaub!$W$24),Urlaub!$S$24,""))))))&IF(AND(EXACT(LOWER(AW18),AW18),AW18<>0)," 1/2","") | N18: =24*J18*IF(WEEKDAY(C18)=WEEKDAY($P$6),$S$6, IF(WEEKDAY(C18)=WEEKDAY($P$7),$S$7, IF(WEEKDAY(C18)=WEEKDAY($P$8),$S$8, IF(WEEKDAY(C18)=WEEKDAY($P$9),$S$9, IF(WEEKDAY(C18)=WEEKDAY($P$10),$S$10, IF(WEEKDAY(C18)=WEEKDAY($P$11),$S$11, IF(WEEKDAY(C18)=WEEKDAY($P$12),$S$12,""))))))) -> 0 | AV18: =IF(IFERROR(MATCH($B18,Feiertage!$B$2:$B$34,0)>0,0),1,0) -> 0 | AW18: =IFERROR(HLOOKUP(DAY(B18),Urlaub!$C$4:$AG$16,MONTH(B18)+1,0),0) -> 0 | AX18: =IFERROR(IF(OR(AW18=0,AW18="G"),0,IF(EXACT(LOWER(AW18),AW18),0.5*BB18,BB18)),"") -> 0 | AY18: =IFERROR(IF(WEEKDAY(C18)=WEEKDAY($P$6),$R$6, IF(WEEKDAY(C18)=WEEKDAY($P$7),$R$7, IF(WEEKDAY(C18)=WEEKDAY($P$8),$R$8, IF(WEEKDAY(C18)=WEEKDAY($P$9),$R$9, IF(WEEKDAY(C18)=WEEKDAY($P$10),$R$10, IF(WEEKDAY(C18)=WEEKDAY($P$11),$R$11, IF(WEEKDAY(C18)=WEEKDAY($P$12),$R$12,""))))))),"") -> 0.020833333 | AZ18: =IF(F18,IF(E18,IF(E18>F18,F18+"24:00"-E18,F18-E18),0),0)+IF(G18,IF(G18,IF(G18>H18,H18+"24:00"-G18,H18-G18),0),0) -> 0 | BA18: =AZ18*24 -> 0 | BB18: =IFERROR(IF(WEEKDAY(C18)=WEEKDAY($P$6),$Q$6, IF(WEEKDAY(C18)=WEEKDAY($P$7),$Q$7, IF(WEEKDAY(C18)=WEEKDAY($P$8),$Q$8, IF(WEEKDAY(C18)=WEEKDAY($P$9),$Q$9, IF(WEEKDAY(C18)=WEEKDAY($P$10),$Q$10, IF(WEEKDAY(C18)=WEEKDAY($P$11),$Q$11, IF(WEEKDAY(C18)=WEEKDAY($P$12),$Q$12,""))))))),"") -> 0
B19: =B18+1 -> 41653 | C19: =B19 -> 41653 | I19: =IF(AZ19=0,"",IF(AY19=0,"",IF(OR(B19<=TODAY(),AZ19),AY19,""))) | J19: =IF(AND(Feiertage!$G$2<>"ja",AV19=1),IF(AZ19>0,BB19+AZ19,BB19),IF(AZ19=0,0, IF(I19<>"",AZ19-I19,AZ19)))+AX19 -> 0 | K19: =IF(AV19=0,BB19,IF(Feiertage!$G$2="ja","00:00",BB19)) -> 0.33333333 | L19: =IF(OR(B19<=TODAY(),J19,AW19="G"),IF(J19<>"",IF(J19-K19=0,"",J19-K19),IF(K19<>"",-K19,"")),"") | M19: =IF(LOWER(AW19)=LOWER(Urlaub!$W$19),Urlaub!$S$19, IF(LOWER(AW19)=LOWER(Urlaub!$W$20),Urlaub!$S$20, IF(LOWER(AW19)=LOWER(Urlaub!$W$21),Urlaub!$S$21, IF(LOWER(AW19)=LOWER(Urlaub!$W$22),Urlaub!$S$22, IF(LOWER(AW19)=LOWER(Urlaub!$W$23),Urlaub!$S$23, IF(LOWER(AW19)=LOWER(Urlaub!$W$24),Urlaub!$S$24,""))))))&IF(AND(EXACT(LOWER(AW19),AW19),AW19<>0)," 1/2","") | N19: =24*J19*IF(WEEKDAY(C19)=WEEKDAY($P$6),$S$6, IF(WEEKDAY(C19)=WEEKDAY($P$7),$S$7, IF(WEEKDAY(C19)=WEEKDAY($P$8),$S$8, IF(WEEKDAY(C19)=WEEKDAY($P$9),$S$9, IF(WEEKDAY(C19)=WEEKDAY($P$10),$S$10, IF(WEEKDAY(C19)=WEEKDAY($P$11),$S$11, IF(WEEKDAY(C19)=WEEKDAY($P$12),$S$12,""))))))) -> 0 | AV19: =IF(IFERROR(MATCH($B19,Feiertage!$B$2:$B$34,0)>0,0),1,0) -> 0 | AW19: =IFERROR(HLOOKUP(DAY(B19),Urlaub!$C$4:$AG$16,MONTH(B19)+1,0),0) -> 0 | AX19: =IFERROR(IF(OR(AW19=0,AW19="G"),0,IF(EXACT(LOWER(AW19),AW19),0.5*BB19,BB19)),"") -> 0 | AY19: =IFERROR(IF(WEEKDAY(C19)=WEEKDAY($P$6),$R$6, IF(WEEKDAY(C19)=WEEKDAY($P$7),$R$7, IF(WEEKDAY(C19)=WEEKDAY($P$8),$R$8, IF(WEEKDAY(C19)=WEEKDAY($P$9),$R$9, IF(WEEKDAY(C19)=WEEKDAY($P$10),$R$10, IF(WEEKDAY(C19)=WEEKDAY($P$11),$R$11, IF(WEEKDAY(C19)=WEEKDAY($P$12),$R$12,""))))))),"") -> 0.020833333 | AZ19: =IF(F19,IF(E19,IF(E19>F19,F19+"24:00"-E19,F19-E19),0),0)+IF(G19,IF(G19,IF(G19>H19,H19+"24:00"-G19,H19-G19),0),0) -> 0 | BA19: =AZ19*24 -> 0 | BB19: =IFERROR(IF(WEEKDAY(C19)=WEEKDAY($P$6),$Q$6, IF(WEEKDAY(C19)=WEEKDAY($P$7),$Q$7, IF(WEEKDAY(C19)=WEEKDAY($P$8),$Q$8, IF(WEEKDAY(C19)=WEEKDAY($P$9),$Q$9, IF(WEEKDAY(C19)=WEEKDAY($P$10),$Q$10, IF(WEEKDAY(C19)=WEEKDAY($P$11),$Q$11, IF(WEEKDAY(C19)=WEEKDAY($P$12),$Q$12,""))))))),"") -> 0.33333333
B20: =B19+1 -> 41654 | C20: =B20 -> 41654 | I20: =IF(AZ20=0,"",IF(AY20=0,"",IF(OR(B20<=TODAY(),AZ20),AY20,""))) | J20: =IF(AND(Feiertage!$G$2<>"ja",AV20=1),IF(AZ20>0,BB20+AZ20,BB20),IF(AZ20=0,0, IF(I20<>"",AZ20-I20,AZ20)))+AX20 -> 0 | K20: =IF(AV20=0,BB20,IF(Feiertage!$G$2="ja","00:00",BB20)) -> 0.33333333 | L20: =IF(OR(B20<=TODAY(),J20,AW20="G"),IF(J20<>"",IF(J20-K20=0,"",J20-K20),IF(K20<>"",-K20,"")),"") | M20: =IF(LOWER(AW20)=LOWER(Urlaub!$W$19),Urlaub!$S$19, IF(LOWER(AW20)=LOWER(Urlaub!$W$20),Urlaub!$S$20, IF(LOWER(AW20)=LOWER(Urlaub!$W$21),Urlaub!$S$21, IF(LOWER(AW20)=LOWER(Urlaub!$W$22),Urlaub!$S$22, IF(LOWER(AW20)=LOWER(Urlaub!$W$23),Urlaub!$S$23, IF(LOWER(AW20)=LOWER(Urlaub!$W$24),Urlaub!$S$24,""))))))&IF(AND(EXACT(LOWER(AW20),AW20),AW20<>0)," 1/2","") | N20: =24*J20*IF(WEEKDAY(C20)=WEEKDAY($P$6),$S$6, IF(WEEKDAY(C20)=WEEKDAY($P$7),$S$7, IF(WEEKDAY(C20)=WEEKDAY($P$8),$S$8, IF(WEEKDAY(C20)=WEEKDAY($P$9),$S$9, IF(WEEKDAY(C20)=WEEKDAY($P$10),$S$10, IF(WEEKDAY(C20)=WEEKDAY($P$11),$S$11, IF(WEEKDAY(C20)=WEEKDAY($P$12),$S$12,""))))))) -> 0 | AV20: =IF(IFERROR(MATCH($B20,Feiertage!$B$2:$B$34,0)>0,0),1,0) -> 0 | AW20: =IFERROR(HLOOKUP(DAY(B20),Urlaub!$C$4:$AG$16,MONTH(B20)+1,0),0) -> 0 | AX20: =IFERROR(IF(OR(AW20=0,AW20="G"),0,IF(EXACT(LOWER(AW20),AW20),0.5*BB20,BB20)),"") -> 0 | AY20: =IFERROR(IF(WEEKDAY(C20)=WEEKDAY($P$6),$R$6, IF(WEEKDAY(C20)=WEEKDAY($P$7),$R$7, IF(WEEKDAY(C20)=WEEKDAY($P$8),$R$8, IF(WEEKDAY(C20)=WEEKDAY($P$9),$R$9, IF(WEEKDAY(C20)=WEEKDAY($P$10),$R$10, IF(WEEKDAY(C20)=WEEKDAY($P$11),$R$11, IF(WEEKDAY(C20)=WEEKDAY($P$12),$R$12,""))))))),"") -> 0.020833333 | AZ20: =IF(F20,IF(E20,IF(E20>F20,F20+"24:00"-E20,F20-E20),0),0)+IF(G20,IF(G20,IF(G20>H20,H20+"24:00"-G20,H20-G20),0),0) -> 0 | BA20: =AZ20*24 -> 0 | BB20: =IFERROR(IF(WEEKDAY(C20)=WEEKDAY($P$6),$Q$6, IF(WEEKDAY(C20)=WEEKDAY($P$7),$Q$7, IF(WEEKDAY(C20)=WEEKDAY($P$8),$Q$8, IF(WEEKDAY(C20)=WEEKDAY($P$9),$Q$9, IF(WEEKDAY(C20)=WEEKDAY($P$10),$Q$10, IF(WEEKDAY(C20)=WEEKDAY($P$11),$Q$11, IF(WEEKDAY(C20)=WEEKDAY($P$12),$Q$12,""))))))),"") -> 0.33333333
B21: =B20+1 -> 41655 | C21: =B21 -> 41655 | I21: =IF(AZ21=0,"",IF(AY21=0,"",IF(OR(B21<=TODAY(),AZ21),AY21,""))) | J21: =IF(AND(Feiertage!$G$2<>"ja",AV21=1),IF(AZ21>0,BB21+AZ21,BB21),IF(AZ21=0,0, IF(I21<>"",AZ21-I21,AZ21)))+AX21 -> 0 | K21: =IF(AV21=0,BB21,IF(Feiertage!$G$2="ja","00:00",BB21)) -> 0.33333333 | L21: =IF(OR(B21<=TODAY(),J21,AW21="G"),IF(J21<>"",IF(J21-K21=0,"",J21-K21),IF(K21<>"",-K21,"")),"") | M21: =IF(LOWER(AW21)=LOWER(Urlaub!$W$19),Urlaub!$S$19, IF(LOWER(AW21)=LOWER(Urlaub!$W$20),Urlaub!$S$20, IF(LOWER(AW21)=LOWER(Urlaub!$W$21),Urlaub!$S$21, IF(LOWER(AW21)=LOWER(Urlaub!$W$22),Urlaub!$S$22, IF(LOWER(AW21)=LOWER(Urlaub!$W$23),Urlaub!$S$23, IF(LOWER(AW21)=LOWER(Urlaub!$W$24),Urlaub!$S$24,""))))))&IF(AND(EXACT(LOWER(AW21),AW21),AW21<>0)," 1/2","") | N21: =24*J21*IF(WEEKDAY(C21)=WEEKDAY($P$6),$S$6, IF(WEEKDAY(C21)=WEEKDAY($P$7),$S$7, IF(WEEKDAY(C21)=WEEKDAY($P$8),$S$8, IF(WEEKDAY(C21)=WEEKDAY($P$9),$S$9, IF(WEEKDAY(C21)=WEEKDAY($P$10),$S$10, IF(WEEKDAY(C21)=WEEKDAY($P$11),$S$11, IF(WEEKDAY(C21)=WEEKDAY($P$12),$S$12,""))))))) -> 0 | AV21: =IF(IFERROR(MATCH($B21,Feiertage!$B$2:$B$34,0)>0,0),1,0) -> 0 | AW21: =IFERROR(HLOOKUP(DAY(B21),Urlaub!$C$4:$AG$16,MONTH(B21)+1,0),0) -> 0 | AX21: =IFERROR(IF(OR(AW21=0,AW21="G"),0,IF(EXACT(LOWER(AW21),AW21),0.5*BB21,BB21)),"") -> 0 | AY21: =IFERROR(IF(WEEKDAY(C21)=WEEKDAY($P$6),$R$6, IF(WEEKDAY(C21)=WEEKDAY($P$7),$R$7, IF(WEEKDAY(C21)=WEEKDAY($P$8),$R$8, IF(WEEKDAY(C21)=WEEKDAY($P$9),$R$9, IF(WEEKDAY(C21)=WEEKDAY($P$10),$R$10, IF(WEEKDAY(C21)=WEEKDAY($P$11),$R$11, IF(WEEKDAY(C21)=WEEKDAY($P$12),$R$12,""))))))),"") -> 0.020833333 | AZ21: =IF(F21,IF(E21,IF(E21>F21,F21+"24:00"-E21,F21-E21),0),0)+IF(G21,IF(G21,IF(G21>H21,H21+"24:00"-G21,H21-G21),0),0) -> 0 | BA21: =AZ21*24 -> 0 | BB21: =IFERROR(IF(WEEKDAY(C21)=WEEKDAY($P$6),$Q$6, IF(WEEKDAY(C21)=WEEKDAY($P$7),$Q$7, IF(WEEKDAY(C21)=WEEKDAY($P$8),$Q$8, IF(WEEKDAY(C21)=WEEKDAY($P$9),$Q$9, IF(WEEKDAY(C21)=WEEKDAY($P$10),$Q$10, IF(WEEKDAY(C21)=WEEKDAY($P$11),$Q$11, IF(WEEKDAY(C21)=WEEKDAY($P$12),$Q$12,""))))))),"") -> 0.33333333
B22: =B21+1 -> 41656 | C22: =B22 -> 41656 | I22: =IF(AZ22=0,"",IF(AY22=0,"",IF(OR(B22<=TODAY(),AZ22),AY22,""))) | J22: =IF(AND(Feiertage!$G$2<>"ja",AV22=1),IF(AZ22>0,BB22+AZ22,BB22),IF(AZ22=0,0, IF(I22<>"",AZ22-I22,AZ22)))+AX22 -> 0 | K22: =IF(AV22=0,BB22,IF(Feiertage!$G$2="ja","00:00",BB22)) -> 0.33333333 | L22: =IF(OR(B22<=TODAY(),J22,AW22="G"),IF(J22<>"",IF(J22-K22=0,"",J22-K22),IF(K22<>"",-K22,"")),"") | M22: =IF(LOWER(AW22)=LOWER(Urlaub!$W$19),Urlaub!$S$19, IF(LOWER(AW22)=LOWER(Urlaub!$W$20),Urlaub!$S$20, IF(LOWER(AW22)=LOWER(Urlaub!$W$21),Urlaub!$S$21, IF(LOWER(AW22)=LOWER(Urlaub!$W$22),Urlaub!$S$22, IF(LOWER(AW22)=LOWER(Urlaub!$W$23),Urlaub!$S$23, IF(LOWER(AW22)=LOWER(Urlaub!$W$24),Urlaub!$S$24,""))))))&IF(AND(EXACT(LOWER(AW22),AW22),AW22<>0)," 1/2","") | N22: =24*J22*IF(WEEKDAY(C22)=WEEKDAY($P$6),$S$6, IF(WEEKDAY(C22)=WEEKDAY($P$7),$S$7, IF(WEEKDAY(C22)=WEEKDAY($P$8),$S$8, IF(WEEKDAY(C22)=WEEKDAY($P$9),$S$9, IF(WEEKDAY(C22)=WEEKDAY($P$10),$S$10, IF(WEEKDAY(C22)=WEEKDAY($P$11),$S$11, IF(WEEKDAY(C22)=WEEKDAY($P$12),$S$12,""))))))) -> 0 | AV22: =IF(IFERROR(MATCH($B22,Feiertage!$B$2:$B$34,0)>0,0),1,0) -> 0 | AW22: =IFERROR(HLOOKUP(DAY(B22),Urlaub!$C$4:$AG$16,MONTH(B22)+1,0),0) -> 0 | AX22: =IFERROR(IF(OR(AW22=0,AW22="G"),0,IF(EXACT(LOWER(AW22),AW22),0.5*BB22,BB22)),"") -> 0 | AY22: =IFERROR(IF(WEEKDAY(C22)=WEEKDAY($P$6),$R$6, IF(WEEKDAY(C22)=WEEKDAY($P$7),$R$7, IF(WEEKDAY(C22)=WEEKDAY($P$8),$R$8, IF(WEEKDAY(C22)=WEEKDAY($P$9),$R$9, IF(WEEKDAY(C22)=WEEKDAY($P$10),$R$10, IF(WEEKDAY(C22)=WEEKDAY($P$11),$R$11, IF(WEEKDAY(C22)=WEEKDAY($P$12),$R$12,""))))))),"") -> 0.020833333 | AZ22: =IF(F22,IF(E22,IF(E22>F22,F22+"24:00"-E22,F22-E22),0),0)+IF(G22,IF(G22,IF(G22>H22,H22+"24:00"-G22,H22-G22),0),0) -> 0 | BA22: =AZ22*24 -> 0 | BB22: =IFERROR(IF(WEEKDAY(C22)=WEEKDAY($P$6),$Q$6, IF(WEEKDAY(C22)=WEEKDAY($P$7),$Q$7, IF(WEEKDAY(C22)=WEEKDAY($P$8),$Q$8, IF(WEEKDAY(C22)=WEEKDAY($P$9),$Q$9, IF(WEEKDAY(C22)=WEEKDAY($P$10),$Q$10, IF(WEEKDAY(C22)=WEEKDAY($P$11),$Q$11, IF(WEEKDAY(C22)=WEEKDAY($P$12),$Q$12,""))))))),"") -> 0.33333333
B23: =B22+1 -> 41657 | C23: =B23 -> 41657 | I23: =IF(AZ23=0,"",IF(AY23=0,"",IF(OR(B23<=TODAY(),AZ23),AY23,""))) | J23: =IF(AND(Feiertage!$G$2<>"ja",AV23=1),IF(AZ23>0,BB23+AZ23,BB23),IF(AZ23=0,0, IF(I23<>"",AZ23-I23,AZ23)))+AX23 -> 0 | K23: =IF(AV23=0,BB23,IF(Feiertage!$G$2="ja","00:00",BB23)) -> 0.25 | L23: =IF(OR(B23<=TODAY(),J23,AW23="G"),IF(J23<>"",IF(J23-K23=0,"",J23-K23),IF(K23<>"",-K23,"")),"") | M23: =IF(LOWER(AW23)=LOWER(Urlaub!$W$19),Urlaub!$S$19, IF(LOWER(AW23)=LOWER(Urlaub!$W$20),Urlaub!$S$20, IF(LOWER(AW23)=LOWER(Urlaub!$W$21),Urlaub!$S$21, IF(LOWER(AW23)=LOWER(Urlaub!$W$22),Urlaub!$S$22, IF(LOWER(AW23)=LOWER(Urlaub!$W$23),Urlaub!$S$23, IF(LOWER(AW23)=LOWER(Urlaub!$W$24),Urlaub!$S$24,""))))))&IF(AND(EXACT(LOWER(AW23),AW23),AW23<>0)," 1/2","") | N23: =24*J23*IF(WEEKDAY(C23)=WEEKDAY($P$6),$S$6, IF(WEEKDAY(C23)=WEEKDAY($P$7),$S$7, IF(WEEKDAY(C23)=WEEKDAY($P$8),$S$8, IF(WEEKDAY(C23)=WEEKDAY($P$9),$S$9, IF(WEEKDAY(C23)=WEEKDAY($P$10),$S$10, IF(WEEKDAY(C23)=WEEKDAY($P$11),$S$11, IF(WEEKDAY(C23)=WEEKDAY($P$12),$S$12,""))))))) -> 0 | AV23: =IF(IFERROR(MATCH($B23,Feiertage!$B$2:$B$34,0)>0,0),1,0) -> 0 | AW23: =IFERROR(HLOOKUP(DAY(B23),Urlaub!$C$4:$AG$16,MONTH(B23)+1,0),0) -> 0 | AX23: =IFERROR(IF(OR(AW23=0,AW23="G"),0,IF(EXACT(LOWER(AW23),AW23),0.5*BB23,BB23)),"") -> 0 | AY23: =IFERROR(IF(WEEKDAY(C23)=WEEKDAY($P$6),$R$6, IF(WEEKDAY(C23)=WEEKDAY($P$7),$R$7, IF(WEEKDAY(C23)=WEEKDAY($P$8),$R$8, IF(WEEKDAY(C23)=WEEKDAY($P$9),$R$9, IF(WEEKDAY(C23)=WEEKDAY($P$10),$R$10, IF(WEEKDAY(C23)=WEEKDAY($P$11),$R$11, IF(WEEKDAY(C23)=WEEKDAY($P$12),$R$12,""))))))),"") -> 0.020833333 | AZ23: =IF(F23,IF(E23,IF(E23>F23,F23+"24:00"-E23,F23-E23),0),0)+IF(G23,IF(G23,IF(G23>H23,H23+"24:00"-G23,H23-G23),0),0) -> 0 | BA23: =AZ23*24 -> 0 | BB23: =IFERROR(IF(WEEKDAY(C23)=WEEKDAY($P$6),$Q$6, IF(WEEKDAY(C23)=WEEKDAY($P$7),$Q$7, IF(WEEKDAY(C23)=WEEKDAY($P$8),$Q$8, IF(WEEKDAY(C23)=WEEKDAY($P$9),$Q$9, IF(WEEKDAY(C23)=WEEKDAY($P$10),$Q$10, IF(WEEKDAY(C23)=WEEKDAY($P$11),$Q$11, IF(WEEKDAY(C23)=WEEKDAY($P$12),$Q$12,""))))))),"") -> 0.25
B24: =B23+1 -> 41658 | C24: =B24 -> 41658 | I24: =IF(AZ24=0,"",IF(AY24=0,"",IF(OR(B24<=TODAY(),AZ24),AY24,""))) | J24: =IF(AND(Feiertage!$G$2<>"ja",AV24=1),IF(AZ24>0,BB24+AZ24,BB24),IF(AZ24=0,0, IF(I24<>"",AZ24-I24,AZ24)))+AX24 -> 0 | K24: =IF(AV24=0,BB24,IF(Feiertage!$G$2="ja","00:00",BB24)) -> 0 | L24: =IF(OR(B24<=TODAY(),J24,AW24="G"),IF(J24<>"",IF(J24-K24=0,"",J24-K24),IF(K24<>"",-K24,"")),"") | M24: =IF(LOWER(AW24)=LOWER(Urlaub!$W$19),Urlaub!$S$19, IF(LOWER(AW24)=LOWER(Urlaub!$W$20),Urlaub!$S$20, IF(LOWER(AW24)=LOWER(Urlaub!$W$21),Urlaub!$S$21, IF(LOWER(AW24)=LOWER(Urlaub!$W$22),Urlaub!$S$22, IF(LOWER(AW24)=LOWER(Urlaub!$W$23),Urlaub!$S$23, IF(LOWER(AW24)=LOWER(Urlaub!$W$24),Urlaub!$S$24,""))))))&IF(AND(EXACT(LOWER(AW24),AW24),AW24<>0)," 1/2","") | N24: =24*J24*IF(WEEKDAY(C24)=WEEKDAY($P$6),$S$6, IF(WEEKDAY(C24)=WEEKDAY($P$7),$S$7, IF(WEEKDAY(C24)=WEEKDAY($P$8),$S$8, IF(WEEKDAY(C24)=WEEKDAY($P$9),$S$9, IF(WEEKDAY(C24)=WEEKDAY($P$10),$S$10, IF(WEEKDAY(C24)=WEEKDAY($P$11),$S$11, IF(WEEKDAY(C24)=WEEKDAY($P$12),$S$12,""))))))) -> 0 | AV24: =IF(IFERROR(MATCH($B24,Feiertage!$B$2:$B$34,0)>0,0),1,0) -> 0 | AW24: =IFERROR(HLOOKUP(DAY(B24),Urlaub!$C$4:$AG$16,MONTH(B24)+1,0),0) -> 0 | AX24: =IFERROR(IF(OR(AW24=0,AW24="G"),0,IF(EXACT(LOWER(AW24),AW24),0.5*BB24,BB24)),"") -> 0 | AY24: =IFERROR(IF(WEEKDAY(C24)=WEEKDAY($P$6),$R$6, IF(WEEKDAY(C24)=WEEKDAY($P$7),$R$7, IF(WEEKDAY(C24)=WEEKDAY($P$8),$R$8, IF(WEEKDAY(C24)=WEEKDAY($P$9),$R$9, IF(WEEKDAY(C24)=WEEKDAY($P$10),$R$10, IF(WEEKDAY(C24)=WEEKDAY($P$11),$R$11, IF(WEEKDAY(C24)=WEEKDAY($P$12),$R$12,""))))))),"") -> 0.020833333 | AZ24: =IF(F24,IF(E24,IF(E24>F24,F24+"24:00"-E24,F24-E24),0),0)+IF(G24,IF(G24,IF(G24>H24,H24+"24:00"-G24,H24-G24),0),0) -> 0 | BA24: =AZ24*24 -> 0 | BB24: =IFERROR(IF(WEEKDAY(C24)=WEEKDAY($P$6),$Q$6, IF(WEEKDAY(C24)=WEEKDAY($P$7),$Q$7, IF(WEEKDAY(C24)=WEEKDAY($P$8),$Q$8, IF(WEEKDAY(C24)=WEEKDAY($P$9),$Q$9, IF(WEEKDAY(C24)=WEEKDAY($P$10),$Q$10, IF(WEEKDAY(C24)=WEEKDAY($P$11),$Q$11, IF(WEEKDAY(C24)=WEEKDAY($P$12),$Q$12,""))))))),"") -> 0
B25: =B24+1 -> 41659 | C25: =B25 -> 41659 | I25: =IF(AZ25=0,"",IF(AY25=0,"",IF(OR(B25<=TODAY(),AZ25),AY25,""))) | J25: =IF(AND(Feiertage!$G$2<>"ja",AV25=1),IF(AZ25>0,BB25+AZ25,BB25),IF(AZ25=0,0, IF(I25<>"",AZ25-I25,AZ25)))+AX25 -> 0 | K25: =IF(AV25=0,BB25,IF(Feiertage!$G$2="ja","00:00",BB25)) -> 0 | L25: =IF(OR(B25<=TODAY(),J25,AW25="G"),IF(J25<>"",IF(J25-K25=0,"",J25-K25),IF(K25<>"",-K25,"")),"") | M25: =IF(LOWER(AW25)=LOWER(Urlaub!$W$19),Urlaub!$S$19, IF(LOWER(AW25)=LOWER(Urlaub!$W$20),Urlaub!$S$20, IF(LOWER(AW25)=LOWER(Urlaub!$W$21),Urlaub!$S$21, IF(LOWER(AW25)=LOWER(Urlaub!$W$22),Urlaub!$S$22, IF(LOWER(AW25)=LOWER(Urlaub!$W$23),Urlaub!$S$23, IF(LOWER(AW25)=LOWER(Urlaub!$W$24),Urlaub!$S$24,""))))))&IF(AND(EXACT(LOWER(AW25),AW25),AW25<>0)," 1/2","") | N25: =24*J25*IF(WEEKDAY(C25)=WEEKDAY($P$6),$S$6, IF(WEEKDAY(C25)=WEEKDAY($P$7),$S$7, IF(WEEKDAY(C25)=WEEKDAY($P$8),$S$8, IF(WEEKDAY(C25)=WEEKDAY($P$9),$S$9, IF(WEEKDAY(C25)=WEEKDAY($P$10),$S$10, IF(WEEKDAY(C25)=WEEKDAY($P$11),$S$11, IF(WEEKDAY(C25)=WEEKDAY($P$12),$S$12,""))))))) -> 0 | AV25: =IF(IFERROR(MATCH($B25,Feiertage!$B$2:$B$34,0)>0,0),1,0) -> 0 | AW25: =IFERROR(HLOOKUP(DAY(B25),Urlaub!$C$4:$AG$16,MONTH(B25)+1,0),0) -> 0 | AX25: =IFERROR(IF(OR(AW25=0,AW25="G"),0,IF(EXACT(LOWER(AW25),AW25),0.5*BB25,BB25)),"") -> 0 | AY25: =IFERROR(IF(WEEKDAY(C25)=WEEKDAY($P$6),$R$6, IF(WEEKDAY(C25)=WEEKDAY($P$7),$R$7, IF(WEEKDAY(C25)=WEEKDAY($P$8),$R$8, IF(WEEKDAY(C25)=WEEKDAY($P$9),$R$9, IF(WEEKDAY(C25)=WEEKDAY($P$10),$R$10, IF(WEEKDAY(C25)=WEEKDAY($P$11),$R$11, IF(WEEKDAY(C25)=WEEKDAY($P$12),$R$12,""))))))),"") -> 0.020833333 | AZ25: =IF(F25,IF(E25,IF(E25>F25,F25+"24:00"-E25,F25-E25),0),0)+IF(G25,IF(G25,IF(G25>H25,H25+"24:00"-G25,H25-G25),0),0) -> 0 | BA25: =AZ25*24 -> 0 | BB25: =IFERROR(IF(WEEKDAY(C25)=WEEKDAY($P$6),$Q$6, IF(WEEKDAY(C25)=WEEKDAY($P$7),$Q$7, IF(WEEKDAY(C25)=WEEKDAY($P$8),$Q$8, IF(WEEKDAY(C25)=WEEKDAY($P$9),$Q$9, IF(WEEKDAY(C25)=WEEKDAY($P$10),$Q$10, IF(WEEKDAY(C25)=WEEKDAY($P$11),$Q$11, IF(WEEKDAY(C25)=WEEKDAY($P$12),$Q$12,""))))))),"") -> 0
B26: =B25+1 -> 41660 | C26: =B26 -> 41660 | I26: =IF(AZ26=0,"",IF(AY26=0,"",IF(OR(B26<=TODAY(),AZ26),AY26,""))) | J26: =IF(AND(Feiertage!$G$2<>"ja",AV26=1),IF(AZ26>0,BB26+AZ26,BB26),IF(AZ26=0,0, IF(I26<>"",AZ26-I26,AZ26)))+AX26 -> 0 | K26: =IF(AV26=0,BB26,IF(Feiertage!$G$2="ja","00:00",BB26)) -> 0.33333333 | L26: =IF(OR(B26<=TODAY(),J26,AW26="G"),IF(J26<>"",IF(J26-K26=0,"",J26-K26),IF(K26<>"",-K26,"")),"") | M26: =IF(LOWER(AW26)=LOWER(Urlaub!$W$19),Urlaub!$S$19, IF(LOWER(AW26)=LOWER(Urlaub!$W$20),Urlaub!$S$20, IF(LOWER(AW26)=LOWER(Urlaub!$W$21),Urlaub!$S$21, IF(LOWER(AW26)=LOWER(Urlaub!$W$22),Urlaub!$S$22, IF(LOWER(AW26)=LOWER(Urlaub!$W$23),Urlaub!$S$23, IF(LOWER(AW26)=LOWER(Urlaub!$W$24),Urlaub!$S$24,""))))))&IF(AND(EXACT(LOWER(AW26),AW26),AW26<>0)," 1/2","") | N26: =24*J26*IF(WEEKDAY(C26)=WEEKDAY($P$6),$S$6, IF(WEEKDAY(C26)=WEEKDAY($P$7),$S$7, IF(WEEKDAY(C26)=WEEKDAY($P$8),$S$8, IF(WEEKDAY(C26)=WEEKDAY($P$9),$S$9, IF(WEEKDAY(C26)=WEEKDAY($P$10),$S$10, IF(WEEKDAY(C26)=WEEKDAY($P$11),$S$11, IF(WEEKDAY(C26)=WEEKDAY($P$12),$S$12,""))))))) -> 0 | AV26: =IF(IFERROR(MATCH($B26,Feiertage!$B$2:$B$34,0)>0,0),1,0) -> 0 | AW26: =IFERROR(HLOOKUP(DAY(B26),Urlaub!$C$4:$AG$16,MONTH(B26)+1,0),0) -> 0 | AX26: =IFERROR(IF(OR(AW26=0,AW26="G"),0,IF(EXACT(LOWER(AW26),AW26),0.5*BB26,BB26)),"") -> 0 | AY26: =IFERROR(IF(WEEKDAY(C26)=WEEKDAY($P$6),$R$6, IF(WEEKDAY(C26)=WEEKDAY($P$7),$R$7, IF(WEEKDAY(C26)=WEEKDAY($P$8),$R$8, IF(WEEKDAY(C26)=WEEKDAY($P$9),$R$9, IF(WEEKDAY(C26)=WEEKDAY($P$10),$R$10, IF(WEEKDAY(C26)=WEEKDAY($P$11),$R$11, IF(WEEKDAY(C26)=WEEKDAY($P$12),$R$12,""))))))),"") -> 0.020833333 | AZ26: =IF(F26,IF(E26,IF(E26>F26,F26+"24:00"-E26,F26-E26),0),0)+IF(G26,IF(G26,IF(G26>H26,H26+"24:00"-G26,H26-G26),0),0) -> 0 | BA26: =AZ26*24 -> 0 | BB26: =IFERROR(IF(WEEKDAY(C26)=WEEKDAY($P$6),$Q$6, IF(WEEKDAY(C26)=WEEKDAY($P$7),$Q$7, IF(WEEKDAY(C26)=WEEKDAY($P$8),$Q$8, IF(WEEKDAY(C26)=WEEKDAY($P$9),$Q$9, IF(WEEKDAY(C26)=WEEKDAY($P$10),$Q$10, IF(WEEKDAY(C26)=WEEKDAY($P$11),$Q$11, IF(WEEKDAY(C26)=WEEKDAY($P$12),$Q$12,""))))))),"") -> 0.33333333
B27: =B26+1 -> 41661 | C27: =B27 -> 41661 | I27: =IF(AZ27=0,"",IF(AY27=0,"",IF(OR(B27<=TODAY(),AZ27),AY27,""))) | J27: =IF(AND(Feiertage!$G$2<>"ja",AV27=1),IF(AZ27>0,BB27+AZ27,BB27),IF(AZ27=0,0, IF(I27<>"",AZ27-I27,AZ27)))+AX27 -> 0 | K27: =IF(AV27=0,BB27,IF(Feiertage!$G$2="ja","00:00",BB27)) -> 0.33333333 | L27: =IF(OR(B27<=TODAY(),J27,AW27="G"),IF(J27<>"",IF(J27-K27=0,"",J27-K27),IF(K27<>"",-K27,"")),"") | M27: =IF(LOWER(AW27)=LOWER(Urlaub!$W$19),Urlaub!$S$19, IF(LOWER(AW27)=LOWER(Urlaub!$W$20),Urlaub!$S$20, IF(LOWER(AW27)=LOWER(Urlaub!$W$21),Urlaub!$S$21, IF(LOWER(AW27)=LOWER(Urlaub!$W$22),Urlaub!$S$22, IF(LOWER(AW27)=LOWER(Urlaub!$W$23),Urlaub!$S$23, IF(LOWER(AW27)=LOWER(Urlaub!$W$24),Urlaub!$S$24,""))))))&IF(AND(EXACT(LOWER(AW27),AW27),AW27<>0)," 1/2","") | N27: =24*J27*IF(WEEKDAY(C27)=WEEKDAY($P$6),$S$6, IF(WEEKDAY(C27)=WEEKDAY($P$7),$S$7, IF(WEEKDAY(C27)=WEEKDAY($P$8),$S$8, IF(WEEKDAY(C27)=WEEKDAY($P$9),$S$9, IF(WEEKDAY(C27)=WEEKDAY($P$10),$S$10, IF(WEEKDAY(C27)=WEEKDAY($P$11),$S$11, IF(WEEKDAY(C27)=WEEKDAY($P$12),$S$12,""))))))) -> 0 | AV27: =IF(IFERROR(MATCH($B27,Feiertage!$B$2:$B$34,0)>0,0),1,0) -> 0 | AW27: =IFERROR(HLOOKUP(DAY(B27),Urlaub!$C$4:$AG$16,MONTH(B27)+1,0),0) -> 0 | AX27: =IFERROR(IF(OR(AW27=0,AW27="G"),0,IF(EXACT(LOWER(AW27),AW27),0.5*BB27,BB27)),"") -> 0 | AY27: =IFERROR(IF(WEEKDAY(C27)=WEEKDAY($P$6),$R$6, IF(WEEKDAY(C27)=WEEKDAY($P$7),$R$7, IF(WEEKDAY(C27)=WEEKDAY($P$8),$R$8, IF(WEEKDAY(C27)=WEEKDAY($P$9),$R$9, IF(WEEKDAY(C27)=WEEKDAY($P$10),$R$10, IF(WEEKDAY(C27)=WEEKDAY($P$11),$R$11, IF(WEEKDAY(C27)=WEEKDAY($P$12),$R$12,""))))))),"") -> 0.020833333 | AZ27: =IF(F27,IF(E27,IF(E27>F27,F27+"24:00"-E27,F27-E27),0),0)+IF(G27,IF(G27,IF(G27>H27,H27+"24:00"-G27,H27-G27),0),0) -> 0 | BA27: =AZ27*24 -> 0 | BB27: =IFERROR(IF(WEEKDAY(C27)=WEEKDAY($P$6),$Q$6, IF(WEEKDAY(C27)=WEEKDAY($P$7),$Q$7, IF(WEEKDAY(C27)=WEEKDAY($P$8),$Q$8, IF(WEEKDAY(C27)=WEEKDAY($P$9),$Q$9, IF(WEEKDAY(C27)=WEEKDAY($P$10),$Q$10, IF(WEEKDAY(C27)=WEEKDAY($P$11),$Q$11, IF(WEEKDAY(C27)=WEEKDAY($P$12),$Q$12,""))))))),"") -> 0.33333333
B28: =B27+1 -> 41662 | C28: =B28 -> 41662 | I28: =IF(AZ28=0,"",IF(AY28=0,"",IF(OR(B28<=TODAY(),AZ28),AY28,""))) | J28: =IF(AND(Feiertage!$G$2<>"ja",AV28=1),IF(AZ28>0,BB28+AZ28,BB28),IF(AZ28=0,0, IF(I28<>"",AZ28-I28,AZ28)))+AX28 -> 0 | K28: =IF(AV28=0,BB28,IF(Feiertage!$G$2="ja","00:00",BB28)) -> 0.33333333 | L28: =IF(OR(B28<=TODAY(),J28,AW28="G"),IF(J28<>"",IF(J28-K28=0,"",J28-K28),IF(K28<>"",-K28,"")),"") | M28: =IF(LOWER(AW28)=LOWER(Urlaub!$W$19),Urlaub!$S$19, IF(LOWER(AW28)=LOWER(Urlaub!$W$20),Urlaub!$S$20, IF(LOWER(AW28)=LOWER(Urlaub!$W$21),Urlaub!$S$21, IF(LOWER(AW28)=LOWER(Urlaub!$W$22),Urlaub!$S$22, IF(LOWER(AW28)=LOWER(Urlaub!$W$23),Urlaub!$S$23, IF(LOWER(AW28)=LOWER(Urlaub!$W$24),Urlaub!$S$24,""))))))&IF(AND(EXACT(LOWER(AW28),AW28),AW28<>0)," 1/2","") | N28: =24*J28*IF(WEEKDAY(C28)=WEEKDAY($P$6),$S$6, IF(WEEKDAY(C28)=WEEKDAY($P$7),$S$7, IF(WEEKDAY(C28)=WEEKDAY($P$8),$S$8, IF(WEEKDAY(C28)=WEEKDAY($P$9),$S$9, IF(WEEKDAY(C28)=WEEKDAY($P$10),$S$10, IF(WEEKDAY(C28)=WEEKDAY($P$11),$S$11, IF(WEEKDAY(C28)=WEEKDAY($P$12),$S$12,""))))))) -> 0 | AV28: =IF(IFERROR(MATCH($B28,Feiertage!$B$2:$B$34,0)>0,0),1,0) -> 0 | AW28: =IFERROR(HLOOKUP(DAY(B28),Urlaub!$C$4:$AG$16,MONTH(B28)+1,0),0) -> 0 | AX28: =IFERROR(IF(OR(AW28=0,AW28="G"),0,IF(EXACT(LOWER(AW28),AW28),0.5*BB28,BB28)),"") -> 0 | AY28: =IFERROR(IF(WEEKDAY(C28)=WEEKDAY($P$6),$R$6, IF(WEEKDAY(C28)=WEEKDAY($P$7),$R$7, IF(WEEKDAY(C28)=WEEKDAY($P$8),$R$8, IF(WEEKDAY(C28)=WEEKDAY($P$9),$R$9, IF(WEEKDAY(C28)=WEEKDAY($P$10),$R$10, IF(WEEKDAY(C28)=WEEKDAY($P$11),$R$11, IF(WEEKDAY(C28)=WEEKDAY($P$12),$R$12,""))))))),"") -> 0.020833333 | AZ28: =IF(F28,IF(E28,IF(E28>F28,F28+"24:00"-E28,F28-E28),0),0)+IF(G28,IF(G28,IF(G28>H28,H28+"24:00"-G28,H28-G28),0),0) -> 0 | BA28: =AZ28*24 -> 0 | BB28: =IFERROR(IF(WEEKDAY(C28)=WEEKDAY($P$6),$Q$6, IF(WEEKDAY(C28)=WEEKDAY($P$7),$Q$7, IF(WEEKDAY(C28)=WEEKDAY($P$8),$Q$8, IF(WEEKDAY(C28)=WEEKDAY($P$9),$Q$9, IF(WEEKDAY(C28)=WEEKDAY($P$10),$Q$10, IF(WEEKDAY(C28)=WEEKDAY($P$11),$Q$11, IF(WEEKDAY(C28)=WEEKDAY($P$12),$Q$12,""))))))),"") -> 0.33333333
... B32: =B31+1 -> 41666 | C32: =B32 -> 41666 | I32: =IF(AZ32=0,"",IF(AY32=0,"",IF(OR(B32<=TODAY(),AZ32),AY32,""))) | J32: =IF(AND(Feiertage!$G$2<>"ja",AV32=1),IF(AZ32>0,BB32+AZ32,BB32),IF(AZ32=0,0, IF(I32<>"",AZ32-I32,AZ32)))+AX32 -> 0 | K32: =IF(AV32=0,BB32,IF(Feiertage!$G$2="ja","00:00",BB32)) -> 0 | L32: =IF(OR(B32<=TODAY(),J32,AW32="G"),IF(J32<>"",IF(J32-K32=0,"",J32-K32),IF(K32<>"",-K32,"")),"") | M32: =IF(LOWER(AW32)=LOWER(Urlaub!$W$19),Urlaub!$S$19, IF(LOWER(AW32)=LOWER(Urlaub!$W$20),Urlaub!$S$20, IF(LOWER(AW32)=LOWER(Urlaub!$W$21),Urlaub!$S$21, IF(LOWER(AW32)=LOWER(Urlaub!$W$22),Urlaub!$S$22, IF(LOWER(AW32)=LOWER(Urlaub!$W$23),Urlaub!$S$23, IF(LOWER(AW32)=LOWER(Urlaub!$W$24),Urlaub!$S$24,""))))))&IF(AND(EXACT(LOWER(AW32),AW32),AW32<>0)," 1/2","") | N32: =24*J32*IF(WEEKDAY(C32)=WEEKDAY($P$6),$S$6, IF(WEEKDAY(C32)=WEEKDAY($P$7),$S$7, IF(WEEKDAY(C32)=WEEKDAY($P$8),$S$8, IF(WEEKDAY(C32)=WEEKDAY($P$9),$S$9, IF(WEEKDAY(C32)=WEEKDAY($P$10),$S$10, IF(WEEKDAY(C32)=WEEKDAY($P$11),$S$11, IF(WEEKDAY(C32)=WEEKDAY($P$12),$S$12,""))))))) -> 0 | AV32: =IF(IFERROR(MATCH($B32,Feiertage!$B$2:$B$34,0)>0,0),1,0) -> 0 | AW32: =IFERROR(HLOOKUP(DAY(B32),Urlaub!$C$4:$AG$16,MONTH(B32)+1,0),0) -> 0 | AX32: =IFERROR(IF(OR(AW32=0,AW32="G"),0,IF(EXACT(LOWER(AW32),AW32),0.5*BB32,BB32)),"") -> 0 | AY32: =IFERROR(IF(WEEKDAY(C32)=WEEKDAY($P$6),$R$6, IF(WEEKDAY(C32)=WEEKDAY($P$7),$R$7, IF(WEEKDAY(C32)=WEEKDAY($P$8),$R$8, IF(WEEKDAY(C32)=WEEKDAY($P$9),$R$9, IF(WEEKDAY(C32)=WEEKDAY($P$10),$R$10, IF(WEEKDAY(C32)=WEEKDAY($P$11),$R$11, IF(WEEKDAY(C32)=WEEKDAY($P$12),$R$12,""))))))),"") -> 0.020833333 | AZ32: =IF(F32,IF(E32,IF(E32>F32,F32+"24:00"-E32,F32-E32),0),0)+IF(G32,IF(G32,IF(G32>H32,H32+"24:00"-G32,H32-G32),0),0) -> 0 | BA32: =AZ32*24 -> 0 | BB32: =IFERROR(IF(WEEKDAY(C32)=WEEKDAY($P$6),$Q$6, IF(WEEKDAY(C32)=WEEKDAY($P$7),$Q$7, IF(WEEKDAY(C32)=WEEKDAY($P$8),$Q$8, IF(WEEKDAY(C32)=WEEKDAY($P$9),$Q$9, IF(WEEKDAY(C32)=WEEKDAY($P$10),$Q$10, IF(WEEKDAY(C32)=WEEKDAY($P$11),$Q$11, IF(WEEKDAY(C32)=WEEKDAY($P$12),$Q$12,""))))))),"") -> 0
B33: =IF(B32<>"",IF(MONTH($B$1)<MONTH(B32+1),"",B32+1),"") -> 41667 | C33: =B33 -> 41667 | I33: =IF(AZ33=0,"",IF(AY33=0,"",IF(OR(B33<=TODAY(),AZ33),AY33,""))) | J33: =IF(B33<>"",IF(AND(Feiertage!$G$2<>"ja",AV33=1),IF(AZ33>0,BB33+AZ33,BB33),IF(AZ33=0,0, IF(I33<>"",AZ33-I33,AZ33)))+AX33,"") -> 0 | K33: =IF(B33<>"",IF(AV33=0,BB33,IF(Feiertage!$G$2="ja","00:00",BB33)),"") -> 0.33333333 | L33: =IF(OR(B33<=TODAY(),J33,AW33="G"),IF(J33<>"",IF(J33-K33=0,"",J33-K33),IF(K33<>"",-K33,"")),"") | M33: =IF(LOWER(AW33)=LOWER(Urlaub!$W$19),Urlaub!$S$19, IF(LOWER(AW33)=LOWER(Urlaub!$W$20),Urlaub!$S$20, IF(LOWER(AW33)=LOWER(Urlaub!$W$21),Urlaub!$S$21, IF(LOWER(AW33)=LOWER(Urlaub!$W$22),Urlaub!$S$22, IF(LOWER(AW33)=LOWER(Urlaub!$W$23),Urlaub!$S$23, IF(LOWER(AW33)=LOWER(Urlaub!$W$24),Urlaub!$S$24,""))))))&IF(AND(EXACT(LOWER(AW33),AW33),AW33<>0)," 1/2","") | N33: =IF(J33<>"",24*J33*IF(WEEKDAY(C33)=WEEKDAY($P$6),$S$6, IF(WEEKDAY(C33)=WEEKDAY($P$7),$S$7, IF(WEEKDAY(C33)=WEEKDAY($P$8),$S$8, IF(WEEKDAY(C33)=WEEKDAY($P$9),$S$9, IF(WEEKDAY(C33)=WEEKDAY($P$10),$S$10, IF(WEEKDAY(C33)=WEEKDAY($P$11),$S$11, IF(WEEKDAY(C33)=WEEKDAY($P$12),$S$12,""))))))),"") -> 0 | AV33: =IF(IFERROR(MATCH($B33,Feiertage!$B$2:$B$34,0)>0,0),1,0) -> 0 | AW33: =IFERROR(HLOOKUP(DAY(B33),Urlaub!$C$4:$AG$16,MONTH(B33)+1,0),0) -> 0 | AX33: =IFERROR(IF(OR(AW33=0,AW33="G"),0,IF(EXACT(LOWER(AW33),AW33),0.5*BB33,BB33)),"") -> 0 | AY33: =IFERROR(IF(WEEKDAY(C33)=WEEKDAY($P$6),$R$6, IF(WEEKDAY(C33)=WEEKDAY($P$7),$R$7, IF(WEEKDAY(C33)=WEEKDAY($P$8),$R$8, IF(WEEKDAY(C33)=WEEKDAY($P$9),$R$9, IF(WEEKDAY(C33)=WEEKDAY($P$10),$R$10, IF(WEEKDAY(C33)=WEEKDAY($P$11),$R$11, IF(WEEKDAY(C33)=WEEKDAY($P$12),$R$12,""))))))),"") -> 0.020833333 | AZ33: =IF(F33,IF(E33,IF(E33>F33,F33+"24:00"-E33,F33-E33),0),0)+IF(G33,IF(G33,IF(G33>H33,H33+"24:00"-G33,H33-G33),0),0) -> 0 | BA33: =AZ33*24 -> 0 | BB33: =IFERROR(IF(WEEKDAY(C33)=WEEKDAY($P$6),$Q$6, IF(WEEKDAY(C33)=WEEKDAY($P$7),$Q$7, IF(WEEKDAY(C33)=WEEKDAY($P$8),$Q$8, IF(WEEKDAY(C33)=WEEKDAY($P$9),$Q$9, IF(WEEKDAY(C33)=WEEKDAY($P$10),$Q$10, IF(WEEKDAY(C33)=WEEKDAY($P$11),$Q$11, IF(WEEKDAY(C33)=WEEKDAY($P$12),$Q$12,""))))))),"") -> 0.33333333
B34: =IF(B33<>"",IF(MONTH($B$1)<MONTH(B33+1),"",B33+1),"") -> 41668 | C34: =B34 -> 41668 | I34: =IF(AZ34=0,"",IF(AY34=0,"",IF(OR(B34<=TODAY(),AZ34),AY34,""))) | J34: =IF(B34<>"",IF(AND(Feiertage!$G$2<>"ja",AV34=1),IF(AZ34>0,BB34+AZ34,BB34),IF(AZ34=0,0, IF(I34<>"",AZ34-I34,AZ34)))+AX34,"") -> 0 | K34: =IF(B34<>"",IF(AV34=0,BB34,IF(Feiertage!$G$2="ja","00:00",BB34)),"") -> 0.33333333 | L34: =IF(OR(B34<=TODAY(),J34,AW34="G"),IF(J34<>"",IF(J34-K34=0,"",J34-K34),IF(K34<>"",-K34,"")),"") | M34: =IF(LOWER(AW34)=LOWER(Urlaub!$W$19),Urlaub!$S$19, IF(LOWER(AW34)=LOWER(Urlaub!$W$20),Urlaub!$S$20, IF(LOWER(AW34)=LOWER(Urlaub!$W$21),Urlaub!$S$21, IF(LOWER(AW34)=LOWER(Urlaub!$W$22),Urlaub!$S$22, IF(LOWER(AW34)=LOWER(Urlaub!$W$23),Urlaub!$S$23, IF(LOWER(AW34)=LOWER(Urlaub!$W$24),Urlaub!$S$24,""))))))&IF(AND(EXACT(LOWER(AW34),AW34),AW34<>0)," 1/2","") | N34: =IF(J34<>"",24*J34*IF(WEEKDAY(C34)=WEEKDAY($P$6),$S$6, IF(WEEKDAY(C34)=WEEKDAY($P$7),$S$7, IF(WEEKDAY(C34)=WEEKDAY($P$8),$S$8, IF(WEEKDAY(C34)=WEEKDAY($P$9),$S$9, IF(WEEKDAY(C34)=WEEKDAY($P$10),$S$10, IF(WEEKDAY(C34)=WEEKDAY($P$11),$S$11, IF(WEEKDAY(C34)=WEEKDAY($P$12),$S$12,""))))))),"") -> 0 | AV34: =IF(IFERROR(MATCH($B34,Feiertage!$B$2:$B$34,0)>0,0),1,0) -> 0 | AW34: =IFERROR(HLOOKUP(DAY(B34),Urlaub!$C$4:$AG$16,MONTH(B34)+1,0),0) -> 0 | AX34: =IFERROR(IF(OR(AW34=0,AW34="G"),0,IF(EXACT(LOWER(AW34),AW34),0.5*BB34,BB34)),"") -> 0 | AY34: =IFERROR(IF(WEEKDAY(C34)=WEEKDAY($P$6),$R$6, IF(WEEKDAY(C34)=WEEKDAY($P$7),$R$7, IF(WEEKDAY(C34)=WEEKDAY($P$8),$R$8, IF(WEEKDAY(C34)=WEEKDAY($P$9),$R$9, IF(WEEKDAY(C34)=WEEKDAY($P$10),$R$10, IF(WEEKDAY(C34)=WEEKDAY($P$11),$R$11, IF(WEEKDAY(C34)=WEEKDAY($P$12),$R$12,""))))))),"") -> 0.020833333 | AZ34: =IF(F34,IF(E34,IF(E34>F34,F34+"24:00"-E34,F34-E34),0),0)+IF(G34,IF(G34,IF(G34>H34,H34+"24:00"-G34,H34-G34),0),0) -> 0 | BA34: =AZ34*24 -> 0 | BB34: =IFERROR(IF(WEEKDAY(C34)=WEEKDAY($P$6),$Q$6, IF(WEEKDAY(C34)=WEEKDAY($P$7),$Q$7, IF(WEEKDAY(C34)=WEEKDAY($P$8),$Q$8, IF(WEEKDAY(C34)=WEEKDAY($P$9),$Q$9, IF(WEEKDAY(C34)=WEEKDAY($P$10),$Q$10, IF(WEEKDAY(C34)=WEEKDAY($P$11),$Q$11, IF(WEEKDAY(C34)=WEEKDAY($P$12),$Q$12,""))))))),"") -> 0.33333333
B35: =IF(B34<>"",IF(MONTH($B$1)<MONTH(B34+1),"",B34+1),"") -> 41669 | C35: =B35 -> 41669 | I35: =IF(AZ35=0,"",IF(AY35=0,"",IF(OR(B35<=TODAY(),AZ35),AY35,""))) | J35: =IF(B35<>"",IF(AND(Feiertage!$G$2<>"ja",AV35=1),IF(AZ35>0,BB35+AZ35,BB35),IF(AZ35=0,0, IF(I35<>"",AZ35-I35,AZ35)))+AX35,"") -> 0 | K35: =IF(B35<>"",IF(AV35=0,BB35,IF(Feiertage!$G$2="ja","00:00",BB35)),"") -> 0.33333333 | L35: =IF(OR(B35<=TODAY(),J35,AW35="G"),IF(J35<>"",IF(J35-K35=0,"",J35-K35),IF(K35<>"",-K35,"")),"") | M35: =IF(LOWER(AW35)=LOWER(Urlaub!$W$19),Urlaub!$S$19, IF(LOWER(AW35)=LOWER(Urlaub!$W$20),Urlaub!$S$20, IF(LOWER(AW35)=LOWER(Urlaub!$W$21),Urlaub!$S$21, IF(LOWER(AW35)=LOWER(Urlaub!$W$22),Urlaub!$S$22, IF(LOWER(AW35)=LOWER(Urlaub!$W$23),Urlaub!$S$23, IF(LOWER(AW35)=LOWER(Urlaub!$W$24),Urlaub!$S$24,""))))))&IF(AND(EXACT(LOWER(AW35),AW35),AW35<>0)," 1/2","") | N35: =IF(J35<>"",24*J35*IF(WEEKDAY(C35)=WEEKDAY($P$6),$S$6, IF(WEEKDAY(C35)=WEEKDAY($P$7),$S$7, IF(WEEKDAY(C35)=WEEKDAY($P$8),$S$8, IF(WEEKDAY(C35)=WEEKDAY($P$9),$S$9, IF(WEEKDAY(C35)=WEEKDAY($P$10),$S$10, IF(WEEKDAY(C35)=WEEKDAY($P$11),$S$11, IF(WEEKDAY(C35)=WEEKDAY($P$12),$S$12,""))))))),"") -> 0 | AV35: =IF(IFERROR(MATCH($B35,Feiertage!$B$2:$B$34,0)>0,0),1,0) -> 0 | AW35: =IFERROR(HLOOKUP(DAY(B35),Urlaub!$C$4:$AG$16,MONTH(B35)+1,0),0) -> 0 | AX35: =IFERROR(IF(OR(AW35=0,AW35="G"),0,IF(EXACT(LOWER(AW35),AW35),0.5*BB35,BB35)),"") -> 0 | AY35: =IFERROR(IF(WEEKDAY(C35)=WEEKDAY($P$6),$R$6, IF(WEEKDAY(C35)=WEEKDAY($P$7),$R$7, IF(WEEKDAY(C35)=WEEKDAY($P$8),$R$8, IF(WEEKDAY(C35)=WEEKDAY($P$9),$R$9, IF(WEEKDAY(C35)=WEEKDAY($P$10),$R$10, IF(WEEKDAY(C35)=WEEKDAY($P$11),$R$11, IF(WEEKDAY(C35)=WEEKDAY($P$12),$R$12,""))))))),"") -> 0.020833333 | AZ35: =IF(F35,IF(E35,IF(E35>F35,F35+"24:00"-E35,F35-E35),0),0)+IF(G35,IF(G35,IF(G35>H35,H35+"24:00"-G35,H35-G35),0),0) -> 0 | BA35: =AZ35*24 -> 0 | BB35: =IFERROR(IF(WEEKDAY(C35)=WEEKDAY($P$6),$Q$6, IF(WEEKDAY(C35)=WEEKDAY($P$7),$Q$7, IF(WEEKDAY(C35)=WEEKDAY($P$8),$Q$8, IF(WEEKDAY(C35)=WEEKDAY($P$9),$Q$9, IF(WEEKDAY(C35)=WEEKDAY($P$10),$Q$10, IF(WEEKDAY(C35)=WEEKDAY($P$11),$Q$11, IF(WEEKDAY(C35)=WEEKDAY($P$12),$Q$12,""))))))),"") -> 0.33333333
B37: Gesamt | J37: =SUM(J5:J35) -> 2.8263889 | K37: =SUM(K5:K35) -> 7 | L37: =SUM(L5:L35) -> -0.0069444444 | M37: =SUM(AX5:AX35) -> 0.58333333 | N37: =SUM(N5:N35) -> 0

Sheet Februar
A1: 41639 | B1: =DATEVALUE("1 " & RIGHT(CELL("dateiname",$A$1),LEN(CELL("dateiname",$A$1))-FIND("]",CELL("dateiname",$A$1))) & " " & YEAR(Januar!$A$1)) -> 41670
E3: Arbeitszeit
B4: Datum | C4: Tag | E4: von | F4: bis | G4: von | H4: bis | I4: Pause | J4: Istzeit | K4: Sollzeit | L4: Differenz | M4: Abwesenheit | N4: Lohn | P4: Wochenplan | U4: Monatssaldo | AV4: Feiertag | AW4: Abws | AX4: Abws Dauer | AY4: Pause | AZ4: Istzeit | BA4: Ist Dez | BB4: Sollzeit
B5: =B1 -> 41670 | C5: =B5 -> 41670 | I5: =IF(AZ5=0,"",IF(AY5=0,"",IF(OR(B5<=TODAY(),AZ5),AY5,""))) | J5: =IF(AND(Feiertage!$G$2<>"ja",AV5=1),IF(AZ5>0,BB5+AZ5,BB5),IF(AZ5=0,0, IF(I5<>"",AZ5-I5,AZ5)))+AX5 -> 0 | K5: =IF(AV5=0,BB5,IF(Feiertage!$G$2="ja","00:00",BB5)) -> 0.33333333 | L5: =IF(OR(B5<=TODAY(),J5,AW5="G"),IF(J5<>"",IF(J5-K5=0,"",J5-K5),IF(K5<>"",-K5,"")),"") | M5: =IF(LOWER(AW5)=LOWER(Urlaub!$W$19),Urlaub!$S$19, IF(LOWER(AW5)=LOWER(Urlaub!$W$20),Urlaub!$S$20, IF(LOWER(AW5)=LOWER(Urlaub!$W$21),Urlaub!$S$21, IF(LOWER(AW5)=LOWER(Urlaub!$W$22),Urlaub!$S$22, IF(LOWER(AW5)=LOWER(Urlaub!$W$23),Urlaub!$S$23, IF(LOWER(AW5)=LOWER(Urlaub!$W$24),Urlaub!$S$24,""))))))&IF(AND(EXACT(LOWER(AW5),AW5),AW5<>0)," 1/2","") | N5: =24*J5*IF(WEEKDAY(C5)=WEEKDAY($P$6),$S$6, IF(WEEKDAY(C5)=WEEKDAY($P$7),$S$7, IF(WEEKDAY(C5)=WEEKDAY($P$8),$S$8, IF(WEEKDAY(C5)=WEEKDAY($P$9),$S$9, IF(WEEKDAY(C5)=WEEKDAY($P$10),$S$10, IF(WEEKDAY(C5)=WEEKDAY($P$11),$S$11, IF(WEEKDAY(C5)=WEEKDAY($P$12),$S$12,""))))))) -> 0 | P5: Wochentag | Q5: Sollzeit | R5: Pause | S5: Stundenlohn | U5: ="Übertrag aus " & IF( MONTH(B1)=1, YEAR(B1)-1, TEXT(EDATE(B1,-1),"MMMM")) -> Übertrag aus Januar | V5: =IF(MONTH(B1)>1,INDIRECT(TEXT(EDATE(B1,-1),"MMMM")&"!v9"),"") -> -0.13541667 | AV5: =IF(IFERROR(MATCH($B5,Feiertage!$B$2:$B$34,0)>0,0),1,0) -> 0 | AW5: =IFERROR(HLOOKUP(DAY(B5),Urlaub!$C$4:$AG$16,MONTH(B5)+1,0),0) -> 0 | AX5: =IFERROR(IF(AW5=0,0,IF(EXACT(LOWER(AW5),AW5),0.5*BB5,BB5)),"") -> 0 | AY5: =IFERROR(IF(WEEKDAY(C5)=WEEKDAY($P$6),$R$6, IF(WEEKDAY(C5)=WEEKDAY($P$7),$R$7, IF(WEEKDAY(C5)=WEEKDAY($P$8),$R$8, IF(WEEKDAY(C5)=WEEKDAY($P$9),$R$9, IF(WEEKDAY(C5)=WEEKDAY($P$10),$R$10, IF(WEEKDAY(C5)=WEEKDAY($P$11),$R$11, IF(WEEKDAY(C5)=WEEKDAY($P$12),$R$12,""))))))),"") -> 0.020833333 | AZ5: =IF(F5,IF(E5,IF(E5>F5,F5+"24:00"-E5,F5-E5),0),0)+IF(G5,IF(G5,IF(G5>H5,H5+"24:00"-G5,H5-G5),0),0) -> 0 | BA5: =AZ5*24 -> 0 | BB5: =IFERROR(IF(WEEKDAY(C5)=WEEKDAY($P$6),$Q$6, IF(WEEKDAY(C5)=WEEKDAY($P$7),$Q$7, IF(WEEKDAY(C5)=WEEKDAY($P$8),$Q$8, IF(WEEKDAY(C5)=WEEKDAY($P$9),$Q$9, IF(WEEKDAY(C5)=WEEKDAY($P$10),$Q$10, IF(WEEKDAY(C5)=WEEKDAY($P$11),$Q$11, IF(WEEKDAY(C5)=WEEKDAY($P$12),$Q$12,""))))))),"") -> 0.33333333
B6: =B5+1 -> 41671 | C6: =B6 -> 41671 | I6: =IF(AZ6=0,"",IF(AY6=0,"",IF(OR(B6<=TODAY(),AZ6),AY6,""))) | J6: =IF(AND(Feiertage!$G$2<>"ja",AV6=1),IF(AZ6>0,BB6+AZ6,BB6),IF(AZ6=0,0, IF(I6<>"",AZ6-I6,AZ6)))+AX6 -> 0 | K6: =IF(AV6=0,BB6,IF(Feiertage!$G$2="ja","00:00",BB6)) -> 0.25 | L6: =IF(OR(B6<=TODAY(),J6,AW6="G"),IF(J6<>"",IF(J6-K6=0,"",J6-K6),IF(K6<>"",-K6,"")),"") | M6: =IF(LOWER(AW6)=LOWER(Urlaub!$W$19),Urlaub!$S$19, IF(LOWER(AW6)=LOWER(Urlaub!$W$20),Urlaub!$S$20, IF(LOWER(AW6)=LOWER(Urlaub!$W$21),Urlaub!$S$21, IF(LOWER(AW6)=LOWER(Urlaub!$W$22),Urlaub!$S$22, IF(LOWER(AW6)=LOWER(Urlaub!$W$23),Urlaub!$S$23, IF(LOWER(AW6)=LOWER(Urlaub!$W$24),Urlaub!$S$24,""))))))&IF(AND(EXACT(LOWER(AW6),AW6),AW6<>0)," 1/2","") | N6: =24*J6*IF(WEEKDAY(C6)=WEEKDAY($P$6),$S$6, IF(WEEKDAY(C6)=WEEKDAY($P$7),$S$7, IF(WEEKDAY(C6)=WEEKDAY($P$8),$S$8, IF(WEEKDAY(C6)=WEEKDAY($P$9),$S$9, IF(WEEKDAY(C6)=WEEKDAY($P$10),$S$10, IF(WEEKDAY(C6)=WEEKDAY($P$11),$S$11, IF(WEEKDAY(C6)=WEEKDAY($P$12),$S$12,""))))))) -> 0 | P6: 41639 | Q6: 0.33333333 | R6: 0.020833333 | U6: Sollzeit | V6: =SUM(K5:K35) -> 6.3333333 | AV6: =IF(IFERROR(MATCH($B6,Feiertage!$B$2:$B$34,0)>0,0),1,0) -> 0 | AW6: =IFERROR(HLOOKUP(DAY(B6),Urlaub!$C$4:$AG$16,MONTH(B6)+1,0),0) -> 0 | AX6: =IFERROR(IF(AW6=0,0,IF(EXACT(LOWER(AW6),AW6),0.5*BB6,BB6)),"") -> 0 | AY6: =IFERROR(IF(WEEKDAY(C6)=WEEKDAY($P$6),$R$6, IF(WEEKDAY(C6)=WEEKDAY($P$7),$R$7, IF(WEEKDAY(C6)=WEEKDAY($P$8),$R$8, IF(WEEKDAY(C6)=WEEKDAY($P$9),$R$9, IF(WEEKDAY(C6)=WEEKDAY($P$10),$R$10, IF(WEEKDAY(C6)=WEEKDAY($P$11),$R$11, IF(WEEKDAY(C6)=WEEKDAY($P$12),$R$12,""))))))),"") -> 0.020833333 | AZ6: =IF(F6,IF(E6,IF(E6>F6,F6+"24:00"-E6,F6-E6),0),0)+IF(G6,IF(G6,IF(G6>H6,H6+"24:00"-G6,H6-G6),0),0) -> 0 | BA6: =AZ6*24 -> 0 | BB6: =IFERROR(IF(WEEKDAY(C6)=WEEKDAY($P$6),$Q$6, IF(WEEKDAY(C6)=WEEKDAY($P$7),$Q$7, IF(WEEKDAY(C6)=WEEKDAY($P$8),$Q$8, IF(WEEKDAY(C6)=WEEKDAY($P$9),$Q$9, IF(WEEKDAY(C6)=WEEKDAY($P$10),$Q$10, IF(WEEKDAY(C6)=WEEKDAY($P$11),$Q$11, IF(WEEKDAY(C6)=WEEKDAY($P$12),$Q$12,""))))))),"") -> 0.25
B7: =B6+1 -> 41672 | C7: =B7 -> 41672 | I7: =IF(AZ7=0,"",IF(AY7=0,"",IF(OR(B7<=TODAY(),AZ7),AY7,""))) | J7: =IF(AND(Feiertage!$G$2<>"ja",AV7=1),IF(AZ7>0,BB7+AZ7,BB7),IF(AZ7=0,0, IF(I7<>"",AZ7-I7,AZ7)))+AX7 -> 0 | K7: =IF(AV7=0,BB7,IF(Feiertage!$G$2="ja","00:00",BB7)) -> 0 | L7: =IF(OR(B7<=TODAY(),J7,AW7="G"),IF(J7<>"",IF(J7-K7=0,"",J7-K7),IF(K7<>"",-K7,"")),"") | M7: =IF(LOWER(AW7)=LOWER(Urlaub!$W$19),Urlaub!$S$19, IF(LOWER(AW7)=LOWER(Urlaub!$W$20),Urlaub!$S$20, IF(LOWER(AW7)=LOWER(Urlaub!$W$21),Urlaub!$S$21, IF(LOWER(AW7)=LOWER(Urlaub!$W$22),Urlaub!$S$22, IF(LOWER(AW7)=LOWER(Urlaub!$W$23),Urlaub!$S$23, IF(LOWER(AW7)=LOWER(Urlaub!$W$24),Urlaub!$S$24,""))))))&IF(AND(EXACT(LOWER(AW7),AW7),AW7<>0)," 1/2","") | N7: =24*J7*IF(WEEKDAY(C7)=WEEKDAY($P$6),$S$6, IF(WEEKDAY(C7)=WEEKDAY($P$7),$S$7, IF(WEEKDAY(C7)=WEEKDAY($P$8),$S$8, IF(WEEKDAY(C7)=WEEKDAY($P$9),$S$9, IF(WEEKDAY(C7)=WEEKDAY($P$10),$S$10, IF(WEEKDAY(C7)=WEEKDAY($P$11),$S$11, IF(WEEKDAY(C7)=WEEKDAY($P$12),$S$12,""))))))) -> 0 | P7: 41640 | Q7: 0.33333333 | R7: 0.020833333 | U7: Istzeit | V7: =SUM(J5:J35) -> 0 | AV7: =IF(IFERROR(MATCH($B7,Feiertage!$B$2:$B$34,0)>0,0),1,0) -> 0 | AW7: =IFERROR(HLOOKUP(DAY(B7),Urlaub!$C$4:$AG$16,MONTH(B7)+1,0),0) -> 0 | AX7: =IFERROR(IF(AW7=0,0,IF(EXACT(LOWER(AW7),AW7),0.5*BB7,BB7)),"") -> 0 | AY7: =IFERROR(IF(WEEKDAY(C7)=WEEKDAY($P$6),$R$6, IF(WEEKDAY(C7)=WEEKDAY($P$7),$R$7, IF(WEEKDAY(C7)=WEEKDAY($P$8),$R$8, IF(WEEKDAY(C7)=WEEKDAY($P$9),$R$9, IF(WEEKDAY(C7)=WEEKDAY($P$10),$R$10, IF(WEEKDAY(C7)=WEEKDAY($P$11),$R$11, IF(WEEKDAY(C7)=WEEKDAY($P$12),$R$12,""))))))),"") -> 0.020833333 | AZ7: =IF(F7,IF(E7,IF(E7>F7,F7+"24:00"-E7,F7-E7),0),0)+IF(G7,IF(G7,IF(G7>H7,H7+"24:00"-G7,H7-G7),0),0) -> 0 | BA7: =AZ7*24 -> 0 | BB7: =IFERROR(IF(WEEKDAY(C7)=WEEKDAY($P$6),$Q$6, IF(WEEKDAY(C7)=WEEKDAY($P$7),$Q$7, IF(WEEKDAY(C7)=WEEKDAY($P$8),$Q$8, IF(WEEKDAY(C7)=WEEKDAY($P$9),$Q$9, IF(WEEKDAY(C7)=WEEKDAY($P$10),$Q$10, IF(WEEKDAY(C7)=WEEKDAY($P$11),$Q$11, IF(WEEKDAY(C7)=WEEKDAY($P$12),$Q$12,""))))))),"") -> 0
B8: =B7+1 -> 41673 | C8: =B8 -> 41673 | I8: =IF(AZ8=0,"",IF(AY8=0,"",IF(OR(B8<=TODAY(),AZ8),AY8,""))) | J8: =IF(AND(Feiertage!$G$2<>"ja",AV8=1),IF(AZ8>0,BB8+AZ8,BB8),IF(AZ8=0,0, IF(I8<>"",AZ8-I8,AZ8)))+AX8 -> 0 | K8: =IF(AV8=0,BB8,IF(Feiertage!$G$2="ja","00:00",BB8)) -> 0 | L8: =IF(OR(B8<=TODAY(),J8,AW8="G"),IF(J8<>"",IF(J8-K8=0,"",J8-K8),IF(K8<>"",-K8,"")),"") | M8: =IF(LOWER(AW8)=LOWER(Urlaub!$W$19),Urlaub!$S$19, IF(LOWER(AW8)=LOWER(Urlaub!$W$20),Urlaub!$S$20, IF(LOWER(AW8)=LOWER(Urlaub!$W$21),Urlaub!$S$21, IF(LOWER(AW8)=LOWER(Urlaub!$W$22),Urlaub!$S$22, IF(LOWER(AW8)=LOWER(Urlaub!$W$23),Urlaub!$S$23, IF(LOWER(AW8)=LOWER(Urlaub!$W$24),Urlaub!$S$24,""))))))&IF(AND(EXACT(LOWER(AW8),AW8),AW8<>0)," 1/2","") | N8: =24*J8*IF(WEEKDAY(C8)=WEEKDAY($P$6),$S$6, IF(WEEKDAY(C8)=WEEKDAY($P$7),$S$7, IF(WEEKDAY(C8)=WEEKDAY($P$8),$S$8, IF(WEEKDAY(C8)=WEEKDAY($P$9),$S$9, IF(WEEKDAY(C8)=WEEKDAY($P$10),$S$10, IF(WEEKDAY(C8)=WEEKDAY($P$11),$S$11, IF(WEEKDAY(C8)=WEEKDAY($P$12),$S$12,""))))))) -> 0 | P8: 41641 | Q8: 0.33333333 | R8: 0.020833333 | U8: ="Saldo " & TEXT(B1,"MMMM") -> Saldo Februar | V8: =SUM(L5:L35) -> 0 | AV8: =IF(IFERROR(MATCH($B8,Feiertage!$B$2:$B$34,0)>0,0),1,0) -> 0 | AW8: =IFERROR(HLOOKUP(DAY(B8),Urlaub!$C$4:$AG$16,MONTH(B8)+1,0),0) -> 0 | AX8: =IFERROR(IF(AW8=0,0,IF(EXACT(LOWER(AW8),AW8),0.5*BB8,BB8)),"") -> 0 | AY8: =IFERROR(IF(WEEKDAY(C8)=WEEKDAY($P$6),$R$6, IF(WEEKDAY(C8)=WEEKDAY($P$7),$R$7, IF(WEEKDAY(C8)=WEEKDAY($P$8),$R$8, IF(WEEKDAY(C8)=WEEKDAY($P$9),$R$9, IF(WEEKDAY(C8)=WEEKDAY($P$10),$R$10, IF(WEEKDAY(C8)=WEEKDAY($P$11),$R$11, IF(WEEKDAY(C8)=WEEKDAY($P$12),$R$12,""))))))),"") -> 0.020833333 | AZ8: =IF(F8,IF(E8,IF(E8>F8,F8+"24:00"-E8,F8-E8),0),0)+IF(G8,IF(G8,IF(G8>H8,H8+"24:00"-G8,H8-G8),0),0) -> 0 | BA8: =AZ8*24 -> 0 | BB8: =IFERROR(IF(WEEKDAY(C8)=WEEKDAY($P$6),$Q$6, IF(WEEKDAY(C8)=WEEKDAY($P$7),$Q$7, IF(WEEKDAY(C8)=WEEKDAY($P$8),$Q$8, IF(WEEKDAY(C8)=WEEKDAY($P$9),$Q$9, IF(WEEKDAY(C8)=WEEKDAY($P$10),$Q$10, IF(WEEKDAY(C8)=WEEKDAY($P$11),$Q$11, IF(WEEKDAY(C8)=WEEKDAY($P$12),$Q$12,""))))))),"") -> 0
B9: =B8+1 -> 41674 | C9: =B9 -> 41674 | I9: =IF(AZ9=0,"",IF(AY9=0,"",IF(OR(B9<=TODAY(),AZ9),AY9,""))) | J9: =IF(AND(Feiertage!$G$2<>"ja",AV9=1),IF(AZ9>0,BB9+AZ9,BB9),IF(AZ9=0,0, IF(I9<>"",AZ9-I9,AZ9)))+AX9 -> 0 | K9: =IF(AV9=0,BB9,IF(Feiertage!$G$2="ja","00:00",BB9)) -> 0.33333333 | L9: =IF(OR(B9<=TODAY(),J9,AW9="G"),IF(J9<>"",IF(J9-K9=0,"",J9-K9),IF(K9<>"",-K9,"")),"") | M9: =IF(LOWER(AW9)=LOWER(Urlaub!$W$19),Urlaub!$S$19, IF(LOWER(AW9)=LOWER(Urlaub!$W$20),Urlaub!$S$20, IF(LOWER(AW9)=LOWER(Urlaub!$W$21),Urlaub!$S$21, IF(LOWER(AW9)=LOWER(Urlaub!$W$22),Urlaub!$S$22, IF(LOWER(AW9)=LOWER(Urlaub!$W$23),Urlaub!$S$23, IF(LOWER(AW9)=LOWER(Urlaub!$W$24),Urlaub!$S$24,""))))))&IF(AND(EXACT(LOWER(AW9),AW9),AW9<>0)," 1/2","") | N9: =24*J9*IF(WEEKDAY(C9)=WEEKDAY($P$6),$S$6, IF(WEEKDAY(C9)=WEEKDAY($P$7),$S$7, IF(WEEKDAY(C9)=WEEKDAY($P$8),$S$8, IF(WEEKDAY(C9)=WEEKDAY($P$9),$S$9, IF(WEEKDAY(C9)=WEEKDAY($P$10),$S$10, IF(WEEKDAY(C9)=WEEKDAY($P$11),$S$11, IF(WEEKDAY(C9)=WEEKDAY($P$12),$S$12,""))))))) -> 0 | P9: 41642 | Q9: 0.33333333 | R9: 0.020833333 | U9: ="Übertrag in " & IF( MONTH(B1)=12, YEAR(B1)+1, TEXT(EDATE(B1,1),"MMMM")) -> Übertrag in März | V9: =IF(V5="",0,V5)+V8 -> -0.13541667 | AV9: =IF(IFERROR(MATCH($B9,Feiertage!$B$2:$B$34,0)>0,0),1,0) -> 0 | AW9: =IFERROR(HLOOKUP(DAY(B9),Urlaub!$C$4:$AG$16,MONTH(B9)+1,0),0) -> 0 | AX9: =IFERROR(IF(AW9=0,0,IF(EXACT(LOWER(AW9),AW9),0.5*BB9,BB9)),"") -> 0 | AY9: =IFERROR(IF(WEEKDAY(C9)=WEEKDAY($P$6),$R$6, IF(WEEKDAY(C9)=WEEKDAY($P$7),$R$7, IF(WEEKDAY(C9)=WEEKDAY($P$8),$R$8, IF(WEEKDAY(C9)=WEEKDAY($P$9),$R$9, IF(WEEKDAY(C9)=WEEKDAY($P$10),$R$10, IF(WEEKDAY(C9)=WEEKDAY($P$11),$R$11, IF(WEEKDAY(C9)=WEEKDAY($P$12),$R$12,""))))))),"") -> 0.020833333 | AZ9: =IF(F9,IF(E9,IF(E9>F9,F9+"24:00"-E9,F9-E9),0),0)+IF(G9,IF(G9,IF(G9>H9,H9+"24:00"-G9,H9-G9),0),0) -> 0 | BA9: =AZ9*24 -> 0 | BB9: =IFERROR(IF(WEEKDAY(C9)=WEEKDAY($P$6),$Q$6, IF(WEEKDAY(C9)=WEEKDAY($P$7),$Q$7, IF(WEEKDAY(C9)=WEEKDAY($P$8),$Q$8, IF(WEEKDAY(C9)=WEEKDAY($P$9),$Q$9, IF(WEEKDAY(C9)=WEEKDAY($P$10),$Q$10, IF(WEEKDAY(C9)=WEEKDAY($P$11),$Q$11, IF(WEEKDAY(C9)=WEEKDAY($P$12),$Q$12,""))))))),"") -> 0.33333333
B10: =B9+1 -> 41675 | C10: =B10 -> 41675 | I10: =IF(AZ10=0,"",IF(AY10=0,"",IF(OR(B10<=TODAY(),AZ10),AY10,""))) | J10: =IF(AND(Feiertage!$G$2<>"ja",AV10=1),IF(AZ10>0,BB10+AZ10,BB10),IF(AZ10=0,0, IF(I10<>"",AZ10-I10,AZ10)))+AX10 -> 0 | K10: =IF(AV10=0,BB10,IF(Feiertage!$G$2="ja","00:00",BB10)) -> 0.33333333 | L10: =IF(OR(B10<=TODAY(),J10,AW10="G"),IF(J10<>"",IF(J10-K10=0,"",J10-K10),IF(K10<>"",-K10,"")),"") | M10: =IF(LOWER(AW10)=LOWER(Urlaub!$W$19),Urlaub!$S$19, IF(LOWER(AW10)=LOWER(Urlaub!$W$20),Urlaub!$S$20, IF(LOWER(AW10)=LOWER(Urlaub!$W$21),Urlaub!$S$21, IF(LOWER(AW10)=LOWER(Urlaub!$W$22),Urlaub!$S$22, IF(LOWER(AW10)=LOWER(Urlaub!$W$23),Urlaub!$S$23, IF(LOWER(AW10)=LOWER(Urlaub!$W$24),Urlaub!$S$24,""))))))&IF(AND(EXACT(LOWER(AW10),AW10),AW10<>0)," 1/2","") | N10: =24*J10*IF(WEEKDAY(C10)=WEEKDAY($P$6),$S$6, IF(WEEKDAY(C10)=WEEKDAY($P$7),$S$7, IF(WEEKDAY(C10)=WEEKDAY($P$8),$S$8, IF(WEEKDAY(C10)=WEEKDAY($P$9),$S$9, IF(WEEKDAY(C10)=WEEKDAY($P$10),$S$10, IF(WEEKDAY(C10)=WEEKDAY($P$11),$S$11, IF(WEEKDAY(C10)=WEEKDAY($P$12),$S$12,""))))))) -> 0 | P10: 41643 | Q10: 0.25 | R10: 0.020833333 | AV10: =IF(IFERROR(MATCH($B10,Feiertage!$B$2:$B$34,0)>0,0),1,0) -> 0 | AW10: =IFERROR(HLOOKUP(DAY(B10),Urlaub!$C$4:$AG$16,MONTH(B10)+1,0),0) -> 0 | AX10: =IFERROR(IF(AW10=0,0,IF(EXACT(LOWER(AW10),AW10),0.5*BB10,BB10)),"") -> 0 | AY10: =IFERROR(IF(WEEKDAY(C10)=WEEKDAY($P$6),$R$6, IF(WEEKDAY(C10)=WEEKDAY($P$7),$R$7, IF(WEEKDAY(C10)=WEEKDAY($P$8),$R$8, IF(WEEKDAY(C10)=WEEKDAY($P$9),$R$9, IF(WEEKDAY(C10)=WEEKDAY($P$10),$R$10, IF(WEEKDAY(C10)=WEEKDAY($P$11),$R$11, IF(WEEKDAY(C10)=WEEKDAY($P$12),$R$12,""))))))),"") -> 0.020833333 | AZ10: =IF(F10,IF(E10,IF(E10>F10,F10+"24:00"-E10,F10-E10),0),0)+IF(G10,IF(G10,IF(G10>H10,H10+"24:00"-G10,H10-G10),0),0) -> 0 | BA10: =AZ10*24 -> 0 | BB10: =IFERROR(IF(WEEKDAY(C10)=WEEKDAY($P$6),$Q$6, IF(WEEKDAY(C10)=WEEKDAY($P$7),$Q$7, IF(WEEKDAY(C10)=WEEKDAY($P$8),$Q$8, IF(WEEKDAY(C10)=WEEKDAY($P$9),$Q$9, IF(WEEKDAY(C10)=WEEKDAY($P$10),$Q$10, IF(WEEKDAY(C10)=WEEKDAY($P$11),$Q$11, IF(WEEKDAY(C10)=WEEKDAY($P$12),$Q$12,""))))))),"") -> 0.33333333
B11: =B10+1 -> 41676 | C11: =B11 -> 41676 | I11: =IF(AZ11=0,"",IF(AY11=0,"",IF(OR(B11<=TODAY(),AZ11),AY11,""))) | J11: =IF(AND(Feiertage!$G$2<>"ja",AV11=1),IF(AZ11>0,BB11+AZ11,BB11),IF(AZ11=0,0, IF(I11<>"",AZ11-I11,AZ11)))+AX11 -> 0 | K11: =IF(AV11=0,BB11,IF(Feiertage!$G$2="ja","00:00",BB11)) -> 0.33333333 | L11: =IF(OR(B11<=TODAY(),J11,AW11="G"),IF(J11<>"",IF(J11-K11=0,"",J11-K11),IF(K11<>"",-K11,"")),"") | M11: =IF(LOWER(AW11)=LOWER(Urlaub!$W$19),Urlaub!$S$19, IF(LOWER(AW11)=LOWER(Urlaub!$W$20),Urlaub!$S$20, IF(LOWER(AW11)=LOWER(Urlaub!$W$21),Urlaub!$S$21, IF(LOWER(AW11)=LOWER(Urlaub!$W$22),Urlaub!$S$22, IF(LOWER(AW11)=LOWER(Urlaub!$W$23),Urlaub!$S$23, IF(LOWER(AW11)=LOWER(Urlaub!$W$24),Urlaub!$S$24,""))))))&IF(AND(EXACT(LOWER(AW11),AW11),AW11<>0)," 1/2","") | N11: =24*J11*IF(WEEKDAY(C11)=WEEKDAY($P$6),$S$6, IF(WEEKDAY(C11)=WEEKDAY($P$7),$S$7, IF(WEEKDAY(C11)=WEEKDAY($P$8),$S$8, IF(WEEKDAY(C11)=WEEKDAY($P$9),$S$9, IF(WEEKDAY(C11)=WEEKDAY($P$10),$S$10, IF(WEEKDAY(C11)=WEEKDAY($P$11),$S$11, IF(WEEKDAY(C11)=WEEKDAY($P$12),$S$12,""))))))) -> 0 | P11: 41644 | Q11: 0 | R11: 0.020833333 | AV11: =IF(IFERROR(MATCH($B11,Feiertage!$B$2:$B$34,0)>0,0),1,0) -> 0 | AW11: =IFERROR(HLOOKUP(DAY(B11),Urlaub!$C$4:$AG$16,MONTH(B11)+1,0),0) -> 0 | AX11: =IFERROR(IF(AW11=0,0,IF(EXACT(LOWER(AW11),AW11),0.5*BB11,BB11)),"") -> 0 | AY11: =IFERROR(IF(WEEKDAY(C11)=WEEKDAY($P$6),$R$6, IF(WEEKDAY(C11)=WEEKDAY($P$7),$R$7, IF(WEEKDAY(C11)=WEEKDAY($P$8),$R$8, IF(WEEKDAY(C11)=WEEKDAY($P$9),$R$9, IF(WEEKDAY(C11)=WEEKDAY($P$10),$R$10, IF(WEEKDAY(C11)=WEEKDAY($P$11),$R$11, IF(WEEKDAY(C11)=WEEKDAY($P$12),$R$12,""))))))),"") -> 0.020833333 | AZ11: =IF(F11,IF(E11,IF(E11>F11,F11+"24:00"-E11,F11-E11),0),0)+IF(G11,IF(G11,IF(G11>H11,H11+"24:00"-G11,H11-G11),0),0) -> 0 | BA11: =AZ11*24 -> 0 | BB11: =IFERROR(IF(WEEKDAY(C11)=WEEKDAY($P$6),$Q$6, IF(WEEKDAY(C11)=WEEKDAY($P$7),$Q$7, IF(WEEKDAY(C11)=WEEKDAY($P$8),$Q$8, IF(WEEKDAY(C11)=WEEKDAY($P$9),$Q$9, IF(WEEKDAY(C11)=WEEKDAY($P$10),$Q$10, IF(WEEKDAY(C11)=WEEKDAY($P$11),$Q$11, IF(WEEKDAY(C11)=WEEKDAY($P$12),$Q$12,""))))))),"") -> 0.33333333
B12: =B11+1 -> 41677 | C12: =B12 -> 41677 | I12: =IF(AZ12=0,"",IF(AY12=0,"",IF(OR(B12<=TODAY(),AZ12),AY12,""))) | J12: =IF(AND(Feiertage!$G$2<>"ja",AV12=1),IF(AZ12>0,BB12+AZ12,BB12),IF(AZ12=0,0, IF(I12<>"",AZ12-I12,AZ12)))+AX12 -> 0 | K12: =IF(AV12=0,BB12,IF(Feiertage!$G$2="ja","00:00",BB12)) -> 0.33333333 | L12: =IF(OR(B12<=TODAY(),J12,AW12="G"),IF(J12<>"",IF(J12-K12=0,"",J12-K12),IF(K12<>"",-K12,"")),"") | M12: =IF(LOWER(AW12)=LOWER(Urlaub!$W$19),Urlaub!$S$19, IF(LOWER(AW12)=LOWER(Urlaub!$W$20),Urlaub!$S$20, IF(LOWER(AW12)=LOWER(Urlaub!$W$21),Urlaub!$S$21, IF(LOWER(AW12)=LOWER(Urlaub!$W$22),Urlaub!$S$22, IF(LOWER(AW12)=LOWER(Urlaub!$W$23),Urlaub!$S$23, IF(LOWER(AW12)=LOWER(Urlaub!$W$24),Urlaub!$S$24,""))))))&IF(AND(EXACT(LOWER(AW12),AW12),AW12<>0)," 1/2","") | N12: =24*J12*IF(WEEKDAY(C12)=WEEKDAY($P$6),$S$6, IF(WEEKDAY(C12)=WEEKDAY($P$7),$S$7, IF(WEEKDAY(C12)=WEEKDAY($P$8),$S$8, IF(WEEKDAY(C12)=WEEKDAY($P$9),$S$9, IF(WEEKDAY(C12)=WEEKDAY($P$10),$S$10, IF(WEEKDAY(C12)=WEEKDAY($P$11),$S$11, IF(WEEKDAY(C12)=WEEKDAY($P$12),$S$12,""))))))) -> 0 | P12: 41645 | Q12: 0 | R12: 0.020833333 | AV12: =IF(IFERROR(MATCH($B12,Feiertage!$B$2:$B$34,0)>0,0),1,0) -> 0 | AW12: =IFERROR(HLOOKUP(DAY(B12),Urlaub!$C$4:$AG$16,MONTH(B12)+1,0),0) -> 0 | AX12: =IFERROR(IF(AW12=0,0,IF(EXACT(LOWER(AW12),AW12),0.5*BB12,BB12)),"") -> 0 | AY12: =IFERROR(IF(WEEKDAY(C12)=WEEKDAY($P$6),$R$6, IF(WEEKDAY(C12)=WEEKDAY($P$7),$R$7, IF(WEEKDAY(C12)=WEEKDAY($P$8),$R$8, IF(WEEKDAY(C12)=WEEKDAY($P$9),$R$9, IF(WEEKDAY(C12)=WEEKDAY($P$10),$R$10, IF(WEEKDAY(C12)=WEEKDAY($P$11),$R$11, IF(WEEKDAY(C12)=WEEKDAY($P$12),$R$12,""))))))),"") -> 0.020833333 | AZ12: =IF(F12,IF(E12,IF(E12>F12,F12+"24:00"-E12,F12-E12),0),0)+IF(G12,IF(G12,IF(G12>H12,H12+"24:00"-G12,H12-G12),0),0) -> 0 | BA12: =AZ12*24 -> 0 | BB12: =IFERROR(IF(WEEKDAY(C12)=WEEKDAY($P$6),$Q$6, IF(WEEKDAY(C12)=WEEKDAY($P$7),$Q$7, IF(WEEKDAY(C12)=WEEKDAY($P$8),$Q$8, IF(WEEKDAY(C12)=WEEKDAY($P$9),$Q$9, IF(WEEKDAY(C12)=WEEKDAY($P$10),$Q$10, IF(WEEKDAY(C12)=WEEKDAY($P$11),$Q$11, IF(WEEKDAY(C12)=WEEKDAY($P$12),$Q$12,""))))))),"") -> 0.33333333
B13: =B12+1 -> 41678 | C13: =B13 -> 41678 | I13: =IF(AZ13=0,"",IF(AY13=0,"",IF(OR(B13<=TODAY(),AZ13),AY13,""))) | J13: =IF(AND(Feiertage!$G$2<>"ja",AV13=1),IF(AZ13>0,BB13+AZ13,BB13),IF(AZ13=0,0, IF(I13<>"",AZ13-I13,AZ13)))+AX13 -> 0 | K13: =IF(AV13=0,BB13,IF(Feiertage!$G$2="ja","00:00",BB13)) -> 0.25 | L13: =IF(OR(B13<=TODAY(),J13,AW13="G"),IF(J13<>"",IF(J13-K13=0,"",J13-K13),IF(K13<>"",-K13,"")),"") | M13: =IF(LOWER(AW13)=LOWER(Urlaub!$W$19),Urlaub!$S$19, IF(LOWER(AW13)=LOWER(Urlaub!$W$20),Urlaub!$S$20, IF(LOWER(AW13)=LOWER(Urlaub!$W$21),Urlaub!$S$21, IF(LOWER(AW13)=LOWER(Urlaub!$W$22),Urlaub!$S$22, IF(LOWER(AW13)=LOWER(Urlaub!$W$23),Urlaub!$S$23, IF(LOWER(AW13)=LOWER(Urlaub!$W$24),Urlaub!$S$24,""))))))&IF(AND(EXACT(LOWER(AW13),AW13),AW13<>0)," 1/2","") | N13: =24*J13*IF(WEEKDAY(C13)=WEEKDAY($P$6),$S$6, IF(WEEKDAY(C13)=WEEKDAY($P$7),$S$7, IF(WEEKDAY(C13)=WEEKDAY($P$8),$S$8, IF(WEEKDAY(C13)=WEEKDAY($P$9),$S$9, IF(WEEKDAY(C13)=WEEKDAY($P$10),$S$10, IF(WEEKDAY(C13)=WEEKDAY($P$11),$S$11, IF(WEEKDAY(C13)=WEEKDAY($P$12),$S$12,""))))))) -> 0 | P13: Wochensoll | Q13: =SUM(Q6:Q12) -> 1.5833333 | AV13: =IF(IFERROR(MATCH($B13,Feiertage!$B$2:$B$34,0)>0,0),1,0) -> 0 | AW13: =IFERROR(HLOOKUP(DAY(B13),Urlaub!$C$4:$AG$16,MONTH(B13)+1,0),0) -> 0 | AX13: =IFERROR(IF(AW13=0,0,IF(EXACT(LOWER(AW13),AW13),0.5*BB13,BB13)),"") -> 0 | AY13: =IFERROR(IF(WEEKDAY(C13)=WEEKDAY($P$6),$R$6, IF(WEEKDAY(C13)=WEEKDAY($P$7),$R$7, IF(WEEKDAY(C13)=WEEKDAY($P$8),$R$8, IF(WEEKDAY(C13)=WEEKDAY($P$9),$R$9, IF(WEEKDAY(C13)=WEEKDAY($P$10),$R$10, IF(WEEKDAY(C13)=WEEKDAY($P$11),$R$11, IF(WEEKDAY(C13)=WEEKDAY($P$12),$R$12,""))))))),"") -> 0.020833333 | AZ13: =IF(F13,IF(E13,IF(E13>F13,F13+"24:00"-E13,F13-E13),0),0)+IF(G13,IF(G13,IF(G13>H13,H13+"24:00"-G13,H13-G13),0),0) -> 0 | BA13: =AZ13*24 -> 0 | BB13: =IFERROR(IF(WEEKDAY(C13)=WEEKDAY($P$6),$Q$6, IF(WEEKDAY(C13)=WEEKDAY($P$7),$Q$7, IF(WEEKDAY(C13)=WEEKDAY($P$8),$Q$8, IF(WEEKDAY(C13)=WEEKDAY($P$9),$Q$9, IF(WEEKDAY(C13)=WEEKDAY($P$10),$Q$10, IF(WEEKDAY(C13)=WEEKDAY($P$11),$Q$11, IF(WEEKDAY(C13)=WEEKDAY($P$12),$Q$12,""))))))),"") -> 0.25
B14: =B13+1 -> 41679 | C14: =B14 -> 41679 | I14: =IF(AZ14=0,"",IF(AY14=0,"",IF(OR(B14<=TODAY(),AZ14),AY14,""))) | J14: =IF(AND(Feiertage!$G$2<>"ja",AV14=1),IF(AZ14>0,BB14+AZ14,BB14),IF(AZ14=0,0, IF(I14<>"",AZ14-I14,AZ14)))+AX14 -> 0 | K14: =IF(AV14=0,BB14,IF(Feiertage!$G$2="ja","00:00",BB14)) -> 0 | L14: =IF(OR(B14<=TODAY(),J14,AW14="G"),IF(J14<>"",IF(J14-K14=0,"",J14-K14),IF(K14<>"",-K14,"")),"") | M14: =IF(LOWER(AW14)=LOWER(Urlaub!$W$19),Urlaub!$S$19, IF(LOWER(AW14)=LOWER(Urlaub!$W$20),Urlaub!$S$20, IF(LOWER(AW14)=LOWER(Urlaub!$W$21),Urlaub!$S$21, IF(LOWER(AW14)=LOWER(Urlaub!$W$22),Urlaub!$S$22, IF(LOWER(AW14)=LOWER(Urlaub!$W$23),Urlaub!$S$23, IF(LOWER(AW14)=LOWER(Urlaub!$W$24),Urlaub!$S$24,""))))))&IF(AND(EXACT(LOWER(AW14),AW14),AW14<>0)," 1/2","") | N14: =24*J14*IF(WEEKDAY(C14)=WEEKDAY($P$6),$S$6, IF(WEEKDAY(C14)=WEEKDAY($P$7),$S$7, IF(WEEKDAY(C14)=WEEKDAY($P$8),$S$8, IF(WEEKDAY(C14)=WEEKDAY($P$9),$S$9, IF(WEEKDAY(C14)=WEEKDAY($P$10),$S$10, IF(WEEKDAY(C14)=WEEKDAY($P$11),$S$11, IF(WEEKDAY(C14)=WEEKDAY($P$12),$S$12,""))))))) -> 0 | AV14: =IF(IFERROR(MATCH($B14,Feiertage!$B$2:$B$34,0)>0,0),1,0) -> 0 | AW14: =IFERROR(HLOOKUP(DAY(B14),Urlaub!$C$4:$AG$16,MONTH(B14)+1,0),0) -> 0 | AX14: =IFERROR(IF(AW14=0,0,IF(EXACT(LOWER(AW14),AW14),0.5*BB14,BB14)),"") -> 0 | AY14: =IFERROR(IF(WEEKDAY(C14)=WEEKDAY($P$6),$R$6, IF(WEEKDAY(C14)=WEEKDAY($P$7),$R$7, IF(WEEKDAY(C14)=WEEKDAY($P$8),$R$8, IF(WEEKDAY(C14)=WEEKDAY($P$9),$R$9, IF(WEEKDAY(C14)=WEEKDAY($P$10),$R$10, IF(WEEKDAY(C14)=WEEKDAY($P$11),$R$11, IF(WEEKDAY(C14)=WEEKDAY($P$12),$R$12,""))))))),"") -> 0.020833333 | AZ14: =IF(F14,IF(E14,IF(E14>F14,F14+"24:00"-E14,F14-E14),0),0)+IF(G14,IF(G14,IF(G14>H14,H14+"24:00"-G14,H14-G14),0),0) -> 0 | BA14: =AZ14*24 -> 0 | BB14: =IFERROR(IF(WEEKDAY(C14)=WEEKDAY($P$6),$Q$6, IF(WEEKDAY(C14)=WEEKDAY($P$7),$Q$7, IF(WEEKDAY(C14)=WEEKDAY($P$8),$Q$8, IF(WEEKDAY(C14)=WEEKDAY($P$9),$Q$9, IF(WEEKDAY(C14)=WEEKDAY($P$10),$Q$10, IF(WEEKDAY(C14)=WEEKDAY($P$11),$Q$11, IF(WEEKDAY(C14)=WEEKDAY($P$12),$Q$12,""))))))),"") -> 0
B15: =B14+1 -> 41680 | C15: =B15 -> 41680 | I15: =IF(AZ15=0,"",IF(AY15=0,"",IF(OR(B15<=TODAY(),AZ15),AY15,""))) | J15: =IF(AND(Feiertage!$G$2<>"ja",AV15=1),IF(AZ15>0,BB15+AZ15,BB15),IF(AZ15=0,0, IF(I15<>"",AZ15-I15,AZ15)))+AX15 -> 0 | K15: =IF(AV15=0,BB15,IF(Feiertage!$G$2="ja","00:00",BB15)) -> 0 | L15: =IF(OR(B15<=TODAY(),J15,AW15="G"),IF(J15<>"",IF(J15-K15=0,"",J15-K15),IF(K15<>"",-K15,"")),"") | M15: =IF(LOWER(AW15)=LOWER(Urlaub!$W$19),Urlaub!$S$19, IF(LOWER(AW15)=LOWER(Urlaub!$W$20),Urlaub!$S$20, IF(LOWER(AW15)=LOWER(Urlaub!$W$21),Urlaub!$S$21, IF(LOWER(AW15)=LOWER(Urlaub!$W$22),Urlaub!$S$22, IF(LOWER(AW15)=LOWER(Urlaub!$W$23),Urlaub!$S$23, IF(LOWER(AW15)=LOWER(Urlaub!$W$24),Urlaub!$S$24,""))))))&IF(AND(EXACT(LOWER(AW15),AW15),AW15<>0)," 1/2","") | N15: =24*J15*IF(WEEKDAY(C15)=WEEKDAY($P$6),$S$6, IF(WEEKDAY(C15)=WEEKDAY($P$7),$S$7, IF(WEEKDAY(C15)=WEEKDAY($P$8),$S$8, IF(WEEKDAY(C15)=WEEKDAY($P$9),$S$9, IF(WEEKDAY(C15)=WEEKDAY($P$10),$S$10, IF(WEEKDAY(C15)=WEEKDAY($P$11),$S$11, IF(WEEKDAY(C15)=WEEKDAY($P$12),$S$12,""))))))) -> 0 | AV15: =IF(IFERROR(MATCH($B15,Feiertage!$B$2:$B$34,0)>0,0),1,0) -> 0 | AW15: =IFERROR(HLOOKUP(DAY(B15),Urlaub!$C$4:$AG$16,MONTH(B15)+1,0),0) -> 0 | AX15: =IFERROR(IF(AW15=0,0,IF(EXACT(LOWER(AW15),AW15),0.5*BB15,BB15)),"") -> 0 | AY15: =IFERROR(IF(WEEKDAY(C15)=WEEKDAY($P$6),$R$6, IF(WEEKDAY(C15)=WEEKDAY($P$7),$R$7, IF(WEEKDAY(C15)=WEEKDAY($P$8),$R$8, IF(WEEKDAY(C15)=WEEKDAY($P$9),$R$9, IF(WEEKDAY(C15)=WEEKDAY($P$10),$R$10, IF(WEEKDAY(C15)=WEEKDAY($P$11),$R$11, IF(WEEKDAY(C15)=WEEKDAY($P$12),$R$12,""))))))),"") -> 0.020833333 | AZ15: =IF(F15,IF(E15,IF(E15>F15,F15+"24:00"-E15,F15-E15),0),0)+IF(G15,IF(G15,IF(G15>H15,H15+"24:00"-G15,H15-G15),0),0) -> 0 | BA15: =AZ15*24 -> 0 | BB15: =IFERROR(IF(WEEKDAY(C15)=WEEKDAY($P$6),$Q$6, IF(WEEKDAY(C15)=WEEKDAY($P$7),$Q$7, IF(WEEKDAY(C15)=WEEKDAY($P$8),$Q$8, IF(WEEKDAY(C15)=WEEKDAY($P$9),$Q$9, IF(WEEKDAY(C15)=WEEKDAY($P$10),$Q$10, IF(WEEKDAY(C15)=WEEKDAY($P$11),$Q$11, IF(WEEKDAY(C15)=WEEKDAY($P$12),$Q$12,""))))))),"") -> 0
B16: =B15+1 -> 41681 | C16: =B16 -> 41681 | I16: =IF(AZ16=0,"",IF(AY16=0,"",IF(OR(B16<=TODAY(),AZ16),AY16,""))) | J16: =IF(AND(Feiertage!$G$2<>"ja",AV16=1),IF(AZ16>0,BB16+AZ16,BB16),IF(AZ16=0,0, IF(I16<>"",AZ16-I16,AZ16)))+AX16 -> 0 | K16: =IF(AV16=0,BB16,IF(Feiertage!$G$2="ja","00:00",BB16)) -> 0.33333333 | L16: =IF(OR(B16<=TODAY(),J16,AW16="G"),IF(J16<>"",IF(J16-K16=0,"",J16-K16),IF(K16<>"",-K16,"")),"") | M16: =IF(LOWER(AW16)=LOWER(Urlaub!$W$19),Urlaub!$S$19, IF(LOWER(AW16)=LOWER(Urlaub!$W$20),Urlaub!$S$20, IF(LOWER(AW16)=LOWER(Urlaub!$W$21),Urlaub!$S$21, IF(LOWER(AW16)=LOWER(Urlaub!$W$22),Urlaub!$S$22, IF(LOWER(AW16)=LOWER(Urlaub!$W$23),Urlaub!$S$23, IF(LOWER(AW16)=LOWER(Urlaub!$W$24),Urlaub!$S$24,""))))))&IF(AND(EXACT(LOWER(AW16),AW16),AW16<>0)," 1/2","") | N16: =24*J16*IF(WEEKDAY(C16)=WEEKDAY($P$6),$S$6, IF(WEEKDAY(C16)=WEEKDAY($P$7),$S$7, IF(WEEKDAY(C16)=WEEKDAY($P$8),$S$8, IF(WEEKDAY(C16)=WEEKDAY($P$9),$S$9, IF(WEEKDAY(C16)=WEEKDAY($P$10),$S$10, IF(WEEKDAY(C16)=WEEKDAY($P$11),$S$11, IF(WEEKDAY(C16)=WEEKDAY($P$12),$S$12,""))))))) -> 0 | AV16: =IF(IFERROR(MATCH($B16,Feiertage!$B$2:$B$34,0)>0,0),1,0) -> 0 | AW16: =IFERROR(HLOOKUP(DAY(B16),Urlaub!$C$4:$AG$16,MONTH(B16)+1,0),0) -> 0 | AX16: =IFERROR(IF(AW16=0,0,IF(EXACT(LOWER(AW16),AW16),0.5*BB16,BB16)),"") -> 0 | AY16: =IFERROR(IF(WEEKDAY(C16)=WEEKDAY($P$6),$R$6, IF(WEEKDAY(C16)=WEEKDAY($P$7),$R$7, IF(WEEKDAY(C16)=WEEKDAY($P$8),$R$8, IF(WEEKDAY(C16)=WEEKDAY($P$9),$R$9, IF(WEEKDAY(C16)=WEEKDAY($P$10),$R$10, IF(WEEKDAY(C16)=WEEKDAY($P$11),$R$11, IF(WEEKDAY(C16)=WEEKDAY($P$12),$R$12,""))))))),"") -> 0.020833333 | AZ16: =IF(F16,IF(E16,IF(E16>F16,F16+"24:00"-E16,F16-E16),0),0)+IF(G16,IF(G16,IF(G16>H16,H16+"24:00"-G16,H16-G16),0),0) -> 0 | BA16: =AZ16*24 -> 0 | BB16: =IFERROR(IF(WEEKDAY(C16)=WEEKDAY($P$6),$Q$6, IF(WEEKDAY(C16)=WEEKDAY($P$7),$Q$7, IF(WEEKDAY(C16)=WEEKDAY($P$8),$Q$8, IF(WEEKDAY(C16)=WEEKDAY($P$9),$Q$9, IF(WEEKDAY(C16)=WEEKDAY($P$10),$Q$10, IF(WEEKDAY(C16)=WEEKDAY($P$11),$Q$11, IF(WEEKDAY(C16)=WEEKDAY($P$12),$Q$12,""))))))),"") -> 0.33333333
B17: =B16+1 -> 41682 | C17: =B17 -> 41682 | I17: =IF(AZ17=0,"",IF(AY17=0,"",IF(OR(B17<=TODAY(),AZ17),AY17,""))) | J17: =IF(AND(Feiertage!$G$2<>"ja",AV17=1),IF(AZ17>0,BB17+AZ17,BB17),IF(AZ17=0,0, IF(I17<>"",AZ17-I17,AZ17)))+AX17 -> 0 | K17: =IF(AV17=0,BB17,IF(Feiertage!$G$2="ja","00:00",BB17)) -> 0.33333333 | L17: =IF(OR(B17<=TODAY(),J17,AW17="G"),IF(J17<>"",IF(J17-K17=0,"",J17-K17),IF(K17<>"",-K17,"")),"") | M17: =IF(LOWER(AW17)=LOWER(Urlaub!$W$19),Urlaub!$S$19, IF(LOWER(AW17)=LOWER(Urlaub!$W$20),Urlaub!$S$20, IF(LOWER(AW17)=LOWER(Urlaub!$W$21),Urlaub!$S$21, IF(LOWER(AW17)=LOWER(Urlaub!$W$22),Urlaub!$S$22, IF(LOWER(AW17)=LOWER(Urlaub!$W$23),Urlaub!$S$23, IF(LOWER(AW17)=LOWER(Urlaub!$W$24),Urlaub!$S$24,""))))))&IF(AND(EXACT(LOWER(AW17),AW17),AW17<>0)," 1/2","") | N17: =24*J17*IF(WEEKDAY(C17)=WEEKDAY($P$6),$S$6, IF(WEEKDAY(C17)=WEEKDAY($P$7),$S$7, IF(WEEKDAY(C17)=WEEKDAY($P$8),$S$8, IF(WEEKDAY(C17)=WEEKDAY($P$9),$S$9, IF(WEEKDAY(C17)=WEEKDAY($P$10),$S$10, IF(WEEKDAY(C17)=WEEKDAY($P$11),$S$11, IF(WEEKDAY(C17)=WEEKDAY($P$12),$S$12,""))))))) -> 0 | AV17: =IF(IFERROR(MATCH($B17,Feiertage!$B$2:$B$34,0)>0,0),1,0) -> 0 | AW17: =IFERROR(HLOOKUP(DAY(B17),Urlaub!$C$4:$AG$16,MONTH(B17)+1,0),0) -> 0 | AX17: =IFERROR(IF(OR(AW17=0,AW17="G"),0,IF(EXACT(LOWER(AW17),AW17),0.5*BB17,BB17)),"") -> 0 | AY17: =IFERROR(IF(WEEKDAY(C17)=WEEKDAY($P$6),$R$6, IF(WEEKDAY(C17)=WEEKDAY($P$7),$R$7, IF(WEEKDAY(C17)=WEEKDAY($P$8),$R$8, IF(WEEKDAY(C17)=WEEKDAY($P$9),$R$9, IF(WEEKDAY(C17)=WEEKDAY($P$10),$R$10, IF(WEEKDAY(C17)=WEEKDAY($P$11),$R$11, IF(WEEKDAY(C17)=WEEKDAY($P$12),$R$12,""))))))),"") -> 0.020833333 | AZ17: =IF(F17,IF(E17,IF(E17>F17,F17+"24:00"-E17,F17-E17),0),0)+IF(G17,IF(G17,IF(G17>H17,H17+"24:00"-G17,H17-G17),0),0) -> 0 | BA17: =AZ17*24 -> 0 | BB17: =IFERROR(IF(WEEKDAY(C17)=WEEKDAY($P$6),$Q$6, IF(WEEKDAY(C17)=WEEKDAY($P$7),$Q$7, IF(WEEKDAY(C17)=WEEKDAY($P$8),$Q$8, IF(WEEKDAY(C17)=WEEKDAY($P$9),$Q$9, IF(WEEKDAY(C17)=WEEKDAY($P$10),$Q$10, IF(WEEKDAY(C17)=WEEKDAY($P$11),$Q$11, IF(WEEKDAY(C17)=WEEKDAY($P$12),$Q$12,""))))))),"") -> 0.33333333
B18: =B17+1 -> 41683 | C18: =B18 -> 41683 | I18: =IF(AZ18=0,"",IF(AY18=0,"",IF(OR(B18<=TODAY(),AZ18),AY18,""))) | J18: =IF(AND(Feiertage!$G$2<>"ja",AV18=1),IF(AZ18>0,BB18+AZ18,BB18),IF(AZ18=0,0, IF(I18<>"",AZ18-I18,AZ18)))+AX18 -> 0 | K18: =IF(AV18=0,BB18,IF(Feiertage!$G$2="ja","00:00",BB18)) -> 0.33333333 | L18: =IF(OR(B18<=TODAY(),J18,AW18="G"),IF(J18<>"",IF(J18-K18=0,"",J18-K18),IF(K18<>"",-K18,"")),"") | M18: =IF(LOWER(AW18)=LOWER(Urlaub!$W$19),Urlaub!$S$19, IF(LOWER(AW18)=LOWER(Urlaub!$W$20),Urlaub!$S$20, IF(LOWER(AW18)=LOWER(Urlaub!$W$21),Urlaub!$S$21, IF(LOWER(AW18)=LOWER(Urlaub!$W$22),Urlaub!$S$22, IF(LOWER(AW18)=LOWER(Urlaub!$W$23),Urlaub!$S$23, IF(LOWER(AW18)=LOWER(Urlaub!$W$24),Urlaub!$S$24,""))))))&IF(AND(EXACT(LOWER(AW18),AW18),AW18<>0)," 1/2","") | N18: =24*J18*IF(WEEKDAY(C18)=WEEKDAY($P$6),$S$6, IF(WEEKDAY(C18)=WEEKDAY($P$7),$S$7, IF(WEEKDAY(C18)=WEEKDAY($P$8),$S$8, IF(WEEKDAY(C18)=WEEKDAY($P$9),$S$9, IF(WEEKDAY(C18)=WEEKDAY($P$10),$S$10, IF(WEEKDAY(C18)=WEEKDAY($P$11),$S$11, IF(WEEKDAY(C18)=WEEKDAY($P$12),$S$12,""))))))) -> 0 | AV18: =IF(IFERROR(MATCH($B18,Feiertage!$B$2:$B$34,0)>0,0),1,0) -> 0 | AW18: =IFERROR(HLOOKUP(DAY(B18),Urlaub!$C$4:$AG$16,MONTH(B18)+1,0),0) -> 0 | AX18: =IFERROR(IF(OR(AW18=0,AW18="G"),0,IF(EXACT(LOWER(AW18),AW18),0.5*BB18,BB18)),"") -> 0 | AY18: =IFERROR(IF(WEEKDAY(C18)=WEEKDAY($P$6),$R$6, IF(WEEKDAY(C18)=WEEKDAY($P$7),$R$7, IF(WEEKDAY(C18)=WEEKDAY($P$8),$R$8, IF(WEEKDAY(C18)=WEEKDAY($P$9),$R$9, IF(WEEKDAY(C18)=WEEKDAY($P$10),$R$10, IF(WEEKDAY(C18)=WEEKDAY($P$11),$R$11, IF(WEEKDAY(C18)=WEEKDAY($P$12),$R$12,""))))))),"") -> 0.020833333 | AZ18: =IF(F18,IF(E18,IF(E18>F18,F18+"24:00"-E18,F18-E18),0),0)+IF(G18,IF(G18,IF(G18>H18,H18+"24:00"-G18,H18-G18),0),0) -> 0 | BA18: =AZ18*24 -> 0 | BB18: =IFERROR(IF(WEEKDAY(C18)=WEEKDAY($P$6),$Q$6, IF(WEEKDAY(C18)=WEEKDAY($P$7),$Q$7, IF(WEEKDAY(C18)=WEEKDAY($P$8),$Q$8, IF(WEEKDAY(C18)=WEEKDAY($P$9),$Q$9, IF(WEEKDAY(C18)=WEEKDAY($P$10),$Q$10, IF(WEEKDAY(C18)=WEEKDAY($P$11),$Q$11, IF(WEEKDAY(C18)=WEEKDAY($P$12),$Q$12,""))))))),"") -> 0.33333333
B19: =B18+1 -> 41684 | C19: =B19 -> 41684 | I19: =IF(AZ19=0,"",IF(AY19=0,"",IF(OR(B19<=TODAY(),AZ19),AY19,""))) | J19: =IF(AND(Feiertage!$G$2<>"ja",AV19=1),IF(AZ19>0,BB19+AZ19,BB19),IF(AZ19=0,0, IF(I19<>"",AZ19-I19,AZ19)))+AX19 -> 0 | K19: =IF(AV19=0,BB19,IF(Feiertage!$G$2="ja","00:00",BB19)) -> 0.33333333 | L19: =IF(OR(B19<=TODAY(),J19,AW19="G"),IF(J19<>"",IF(J19-K19=0,"",J19-K19),IF(K19<>"",-K19,"")),"") | M19: =IF(LOWER(AW19)=LOWER(Urlaub!$W$19),Urlaub!$S$19, IF(LOWER(AW19)=LOWER(Urlaub!$W$20),Urlaub!$S$20, IF(LOWER(AW19)=LOWER(Urlaub!$W$21),Urlaub!$S$21, IF(LOWER(AW19)=LOWER(Urlaub!$W$22),Urlaub!$S$22, IF(LOWER(AW19)=LOWER(Urlaub!$W$23),Urlaub!$S$23, IF(LOWER(AW19)=LOWER(Urlaub!$W$24),Urlaub!$S$24,""))))))&IF(AND(EXACT(LOWER(AW19),AW19),AW19<>0)," 1/2","") | N19: =24*J19*IF(WEEKDAY(C19)=WEEKDAY($P$6),$S$6, IF(WEEKDAY(C19)=WEEKDAY($P$7),$S$7, IF(WEEKDAY(C19)=WEEKDAY($P$8),$S$8, IF(WEEKDAY(C19)=WEEKDAY($P$9),$S$9, IF(WEEKDAY(C19)=WEEKDAY($P$10),$S$10, IF(WEEKDAY(C19)=WEEKDAY($P$11),$S$11, IF(WEEKDAY(C19)=WEEKDAY($P$12),$S$12,""))))))) -> 0 | AV19: =IF(IFERROR(MATCH($B19,Feiertage!$B$2:$B$34,0)>0,0),1,0) -> 0 | AW19: =IFERROR(HLOOKUP(DAY(B19),Urlaub!$C$4:$AG$16,MONTH(B19)+1,0),0) -> 0 | AX19: =IFERROR(IF(OR(AW19=0,AW19="G"),0,IF(EXACT(LOWER(AW19),AW19),0.5*BB19,BB19)),"") -> 0 | AY19: =IFERROR(IF(WEEKDAY(C19)=WEEKDAY($P$6),$R$6, IF(WEEKDAY(C19)=WEEKDAY($P$7),$R$7, IF(WEEKDAY(C19)=WEEKDAY($P$8),$R$8, IF(WEEKDAY(C19)=WEEKDAY($P$9),$R$9, IF(WEEKDAY(C19)=WEEKDAY($P$10),$R$10, IF(WEEKDAY(C19)=WEEKDAY($P$11),$R$11, IF(WEEKDAY(C19)=WEEKDAY($P$12),$R$12,""))))))),"") -> 0.020833333 | AZ19: =IF(F19,IF(E19,IF(E19>F19,F19+"24:00"-E19,F19-E19),0),0)+IF(G19,IF(G19,IF(G19>H19,H19+"24:00"-G19,H19-G19),0),0) -> 0 | BA19: =AZ19*24 -> 0 | BB19: =IFERROR(IF(WEEKDAY(C19)=WEEKDAY($P$6),$Q$6, IF(WEEKDAY(C19)=WEEKDAY($P$7),$Q$7, IF(WEEKDAY(C19)=WEEKDAY($P$8),$Q$8, IF(WEEKDAY(C19)=WEEKDAY($P$9),$Q$9, IF(WEEKDAY(C19)=WEEKDAY($P$10),$Q$10, IF(WEEKDAY(C19)=WEEKDAY($P$11),$Q$11, IF(WEEKDAY(C19)=WEEKDAY($P$12),$Q$12,""))))))),"") -> 0.33333333
B20: =B19+1 -> 41685 | C20: =B20 -> 41685 | I20: =IF(AZ20=0,"",IF(AY20=0,"",IF(OR(B20<=TODAY(),AZ20),AY20,""))) | J20: =IF(AND(Feiertage!$G$2<>"ja",AV20=1),IF(AZ20>0,BB20+AZ20,BB20),IF(AZ20=0,0, IF(I20<>"",AZ20-I20,AZ20)))+AX20 -> 0 | K20: =IF(AV20=0,BB20,IF(Feiertage!$G$2="ja","00:00",BB20)) -> 0.25 | L20: =IF(OR(B20<=TODAY(),J20,AW20="G"),IF(J20<>"",IF(J20-K20=0,"",J20-K20),IF(K20<>"",-K20,"")),"") | M20: =IF(LOWER(AW20)=LOWER(Urlaub!$W$19),Urlaub!$S$19, IF(LOWER(AW20)=LOWER(Urlaub!$W$20),Urlaub!$S$20, IF(LOWER(AW20)=LOWER(Urlaub!$W$21),Urlaub!$S$21, IF(LOWER(AW20)=LOWER(Urlaub!$W$22),Urlaub!$S$22, IF(LOWER(AW20)=LOWER(Urlaub!$W$23),Urlaub!$S$23, IF(LOWER(AW20)=LOWER(Urlaub!$W$24),Urlaub!$S$24,""))))))&IF(AND(EXACT(LOWER(AW20),AW20),AW20<>0)," 1/2","") | N20: =24*J20*IF(WEEKDAY(C20)=WEEKDAY($P$6),$S$6, IF(WEEKDAY(C20)=WEEKDAY($P$7),$S$7, IF(WEEKDAY(C20)=WEEKDAY($P$8),$S$8, IF(WEEKDAY(C20)=WEEKDAY($P$9),$S$9, IF(WEEKDAY(C20)=WEEKDAY($P$10),$S$10, IF(WEEKDAY(C20)=WEEKDAY($P$11),$S$11, IF(WEEKDAY(C20)=WEEKDAY($P$12),$S$12,""))))))) -> 0 | AV20: =IF(IFERROR(MATCH($B20,Feiertage!$B$2:$B$34,0)>0,0),1,0) -> 0 | AW20: =IFERROR(HLOOKUP(DAY(B20),Urlaub!$C$4:$AG$16,MONTH(B20)+1,0),0) -> 0 | AX20: =IFERROR(IF(OR(AW20=0,AW20="G"),0,IF(EXACT(LOWER(AW20),AW20),0.5*BB20,BB20)),"") -> 0 | AY20: =IFERROR(IF(WEEKDAY(C20)=WEEKDAY($P$6),$R$6, IF(WEEKDAY(C20)=WEEKDAY($P$7),$R$7, IF(WEEKDAY(C20)=WEEKDAY($P$8),$R$8, IF(WEEKDAY(C20)=WEEKDAY($P$9),$R$9, IF(WEEKDAY(C20)=WEEKDAY($P$10),$R$10, IF(WEEKDAY(C20)=WEEKDAY($P$11),$R$11, IF(WEEKDAY(C20)=WEEKDAY($P$12),$R$12,""))))))),"") -> 0.020833333 | AZ20: =IF(F20,IF(E20,IF(E20>F20,F20+"24:00"-E20,F20-E20),0),0)+IF(G20,IF(G20,IF(G20>H20,H20+"24:00"-G20,H20-G20),0),0) -> 0 | BA20: =AZ20*24 -> 0 | BB20: =IFERROR(IF(WEEKDAY(C20)=WEEKDAY($P$6),$Q$6, IF(WEEKDAY(C20)=WEEKDAY($P$7),$Q$7, IF(WEEKDAY(C20)=WEEKDAY($P$8),$Q$8, IF(WEEKDAY(C20)=WEEKDAY($P$9),$Q$9, IF(WEEKDAY(C20)=WEEKDAY($P$10),$Q$10, IF(WEEKDAY(C20)=WEEKDAY($P$11),$Q$11, IF(WEEKDAY(C20)=WEEKDAY($P$12),$Q$12,""))))))),"") -> 0.25
B21: =B20+1 -> 41686 | C21: =B21 -> 41686 | I21: =IF(AZ21=0,"",IF(AY21=0,"",IF(OR(B21<=TODAY(),AZ21),AY21,""))) | J21: =IF(AND(Feiertage!$G$2<>"ja",AV21=1),IF(AZ21>0,BB21+AZ21,BB21),IF(AZ21=0,0, IF(I21<>"",AZ21-I21,AZ21)))+AX21 -> 0 | K21: =IF(AV21=0,BB21,IF(Feiertage!$G$2="ja","00:00",BB21)) -> 0 | L21: =IF(OR(B21<=TODAY(),J21,AW21="G"),IF(J21<>"",IF(J21-K21=0,"",J21-K21),IF(K21<>"",-K21,"")),"") | M21: =IF(LOWER(AW21)=LOWER(Urlaub!$W$19),Urlaub!$S$19, IF(LOWER(AW21)=LOWER(Urlaub!$W$20),Urlaub!$S$20, IF(LOWER(AW21)=LOWER(Urlaub!$W$21),Urlaub!$S$21, IF(LOWER(AW21)=LOWER(Urlaub!$W$22),Urlaub!$S$22, IF(LOWER(AW21)=LOWER(Urlaub!$W$23),Urlaub!$S$23, IF(LOWER(AW21)=LOWER(Urlaub!$W$24),Urlaub!$S$24,""))))))&IF(AND(EXACT(LOWER(AW21),AW21),AW21<>0)," 1/2","") | N21: =24*J21*IF(WEEKDAY(C21)=WEEKDAY($P$6),$S$6, IF(WEEKDAY(C21)=WEEKDAY($P$7),$S$7, IF(WEEKDAY(C21)=WEEKDAY($P$8),$S$8, IF(WEEKDAY(C21)=WEEKDAY($P$9),$S$9, IF(WEEKDAY(C21)=WEEKDAY($P$10),$S$10, IF(WEEKDAY(C21)=WEEKDAY($P$11),$S$11, IF(WEEKDAY(C21)=WEEKDAY($P$12),$S$12,""))))))) -> 0 | AV21: =IF(IFERROR(MATCH($B21,Feiertage!$B$2:$B$34,0)>0,0),1,0) -> 0 | AW21: =IFERROR(HLOOKUP(DAY(B21),Urlaub!$C$4:$AG$16,MONTH(B21)+1,0),0) -> 0 | AX21: =IFERROR(IF(OR(AW21=0,AW21="G"),0,IF(EXACT(LOWER(AW21),AW21),0.5*BB21,BB21)),"") -> 0 | AY21: =IFERROR(IF(WEEKDAY(C21)=WEEKDAY($P$6),$R$6, IF(WEEKDAY(C21)=WEEKDAY($P$7),$R$7, IF(WEEKDAY(C21)=WEEKDAY($P$8),$R$8, IF(WEEKDAY(C21)=WEEKDAY($P$9),$R$9, IF(WEEKDAY(C21)=WEEKDAY($P$10),$R$10, IF(WEEKDAY(C21)=WEEKDAY($P$11),$R$11, IF(WEEKDAY(C21)=WEEKDAY($P$12),$R$12,""))))))),"") -> 0.020833333 | AZ21: =IF(F21,IF(E21,IF(E21>F21,F21+"24:00"-E21,F21-E21),0),0)+IF(G21,IF(G21,IF(G21>H21,H21+"24:00"-G21,H21-G21),0),0) -> 0 | BA21: =AZ21*24 -> 0 | BB21: =IFERROR(IF(WEEKDAY(C21)=WEEKDAY($P$6),$Q$6, IF(WEEKDAY(C21)=WEEKDAY($P$7),$Q$7, IF(WEEKDAY(C21)=WEEKDAY($P$8),$Q$8, IF(WEEKDAY(C21)=WEEKDAY($P$9),$Q$9, IF(WEEKDAY(C21)=WEEKDAY($P$10),$Q$10, IF(WEEKDAY(C21)=WEEKDAY($P$11),$Q$11, IF(WEEKDAY(C21)=WEEKDAY($P$12),$Q$12,""))))))),"") -> 0
B22: =B21+1 -> 41687 | C22: =B22 -> 41687 | I22: =IF(AZ22=0,"",IF(AY22=0,"",IF(OR(B22<=TODAY(),AZ22),AY22,""))) | J22: =IF(AND(Feiertage!$G$2<>"ja",AV22=1),IF(AZ22>0,BB22+AZ22,BB22),IF(AZ22=0,0, IF(I22<>"",AZ22-I22,AZ22)))+AX22 -> 0 | K22: =IF(AV22=0,BB22,IF(Feiertage!$G$2="ja","00:00",BB22)) -> 0 | L22: =IF(OR(B22<=TODAY(),J22,AW22="G"),IF(J22<>"",IF(J22-K22=0,"",J22-K22),IF(K22<>"",-K22,"")),"") | M22: =IF(LOWER(AW22)=LOWER(Urlaub!$W$19),Urlaub!$S$19, IF(LOWER(AW22)=LOWER(Urlaub!$W$20),Urlaub!$S$20, IF(LOWER(AW22)=LOWER(Urlaub!$W$21),Urlaub!$S$21, IF(LOWER(AW22)=LOWER(Urlaub!$W$22),Urlaub!$S$22, IF(LOWER(AW22)=LOWER(Urlaub!$W$23),Urlaub!$S$23, IF(LOWER(AW22)=LOWER(Urlaub!$W$24),Urlaub!$S$24,""))))))&IF(AND(EXACT(LOWER(AW22),AW22),AW22<>0)," 1/2","") | N22: =24*J22*IF(WEEKDAY(C22)=WEEKDAY($P$6),$S$6, IF(WEEKDAY(C22)=WEEKDAY($P$7),$S$7, IF(WEEKDAY(C22)=WEEKDAY($P$8),$S$8, IF(WEEKDAY(C22)=WEEKDAY($P$9),$S$9, IF(WEEKDAY(C22)=WEEKDAY($P$10),$S$10, IF(WEEKDAY(C22)=WEEKDAY($P$11),$S$11, IF(WEEKDAY(C22)=WEEKDAY($P$12),$S$12,""))))))) -> 0 | AV22: =IF(IFERROR(MATCH($B22,Feiertage!$B$2:$B$34,0)>0,0),1,0) -> 0 | AW22: =IFERROR(HLOOKUP(DAY(B22),Urlaub!$C$4:$AG$16,MONTH(B22)+1,0),0) -> 0 | AX22: =IFERROR(IF(OR(AW22=0,AW22="G"),0,IF(EXACT(LOWER(AW22),AW22),0.5*BB22,BB22)),"") -> 0 | AY22: =IFERROR(IF(WEEKDAY(C22)=WEEKDAY($P$6),$R$6, IF(WEEKDAY(C22)=WEEKDAY($P$7),$R$7, IF(WEEKDAY(C22)=WEEKDAY($P$8),$R$8, IF(WEEKDAY(C22)=WEEKDAY($P$9),$R$9, IF(WEEKDAY(C22)=WEEKDAY($P$10),$R$10, IF(WEEKDAY(C22)=WEEKDAY($P$11),$R$11, IF(WEEKDAY(C22)=WEEKDAY($P$12),$R$12,""))))))),"") -> 0.020833333 | AZ22: =IF(F22,IF(E22,IF(E22>F22,F22+"24:00"-E22,F22-E22),0),0)+IF(G22,IF(G22,IF(G22>H22,H22+"24:00"-G22,H22-G22),0),0) -> 0 | BA22: =AZ22*24 -> 0 | BB22: =IFERROR(IF(WEEKDAY(C22)=WEEKDAY($P$6),$Q$6, IF(WEEKDAY(C22)=WEEKDAY($P$7),$Q$7, IF(WEEKDAY(C22)=WEEKDAY($P$8),$Q$8, IF(WEEKDAY(C22)=WEEKDAY($P$9),$Q$9, IF(WEEKDAY(C22)=WEEKDAY($P$10),$Q$10, IF(WEEKDAY(C22)=WEEKDAY($P$11),$Q$11, IF(WEEKDAY(C22)=WEEKDAY($P$12),$Q$12,""))))))),"") -> 0
B23: =B22+1 -> 41688 | C23: =B23 -> 41688 | I23: =IF(AZ23=0,"",IF(AY23=0,"",IF(OR(B23<=TODAY(),AZ23),AY23,""))) | J23: =IF(AND(Feiertage!$G$2<>"ja",AV23=1),IF(AZ23>0,BB23+AZ23,BB23),IF(AZ23=0,0, IF(I23<>"",AZ23-I23,AZ23)))+AX23 -> 0 | K23: =IF(AV23=0,BB23,IF(Feiertage!$G$2="ja","00:00",BB23)) -> 0.33333333 | L23: =IF(OR(B23<=TODAY(),J23,AW23="G"),IF(J23<>"",IF(J23-K23=0,"",J23-K23),IF(K23<>"",-K23,"")),"") | M23: =IF(LOWER(AW23)=LOWER(Urlaub!$W$19),Urlaub!$S$19, IF(LOWER(AW23)=LOWER(Urlaub!$W$20),Urlaub!$S$20, IF(LOWER(AW23)=LOWER(Urlaub!$W$21),Urlaub!$S$21, IF(LOWER(AW23)=LOWER(Urlaub!$W$22),Urlaub!$S$22, IF(LOWER(AW23)=LOWER(Urlaub!$W$23),Urlaub!$S$23, IF(LOWER(AW23)=LOWER(Urlaub!$W$24),Urlaub!$S$24,""))))))&IF(AND(EXACT(LOWER(AW23),AW23),AW23<>0)," 1/2","") | N23: =24*J23*IF(WEEKDAY(C23)=WEEKDAY($P$6),$S$6, IF(WEEKDAY(C23)=WEEKDAY($P$7),$S$7, IF(WEEKDAY(C23)=WEEKDAY($P$8),$S$8, IF(WEEKDAY(C23)=WEEKDAY($P$9),$S$9, IF(WEEKDAY(C23)=WEEKDAY($P$10),$S$10, IF(WEEKDAY(C23)=WEEKDAY($P$11),$S$11, IF(WEEKDAY(C23)=WEEKDAY($P$12),$S$12,""))))))) -> 0 | AV23: =IF(IFERROR(MATCH($B23,Feiertage!$B$2:$B$34,0)>0,0),1,0) -> 0 | AW23: =IFERROR(HLOOKUP(DAY(B23),Urlaub!$C$4:$AG$16,MONTH(B23)+1,0),0) -> 0 | AX23: =IFERROR(IF(OR(AW23=0,AW23="G"),0,IF(EXACT(LOWER(AW23),AW23),0.5*BB23,BB23)),"") -> 0 | AY23: =IFERROR(IF(WEEKDAY(C23)=WEEKDAY($P$6),$R$6, IF(WEEKDAY(C23)=WEEKDAY($P$7),$R$7, IF(WEEKDAY(C23)=WEEKDAY($P$8),$R$8, IF(WEEKDAY(C23)=WEEKDAY($P$9),$R$9, IF(WEEKDAY(C23)=WEEKDAY($P$10),$R$10, IF(WEEKDAY(C23)=WEEKDAY($P$11),$R$11, IF(WEEKDAY(C23)=WEEKDAY($P$12),$R$12,""))))))),"") -> 0.020833333 | AZ23: =IF(F23,IF(E23,IF(E23>F23,F23+"24:00"-E23,F23-E23),0),0)+IF(G23,IF(G23,IF(G23>H23,H23+"24:00"-G23,H23-G23),0),0) -> 0 | BA23: =AZ23*24 -> 0 | BB23: =IFERROR(IF(WEEKDAY(C23)=WEEKDAY($P$6),$Q$6, IF(WEEKDAY(C23)=WEEKDAY($P$7),$Q$7, IF(WEEKDAY(C23)=WEEKDAY($P$8),$Q$8, IF(WEEKDAY(C23)=WEEKDAY($P$9),$Q$9, IF(WEEKDAY(C23)=WEEKDAY($P$10),$Q$10, IF(WEEKDAY(C23)=WEEKDAY($P$11),$Q$11, IF(WEEKDAY(C23)=WEEKDAY($P$12),$Q$12,""))))))),"") -> 0.33333333
B24: =B23+1 -> 41689 | C24: =B24 -> 41689 | I24: =IF(AZ24=0,"",IF(AY24=0,"",IF(OR(B24<=TODAY(),AZ24),AY24,""))) | J24: =IF(AND(Feiertage!$G$2<>"ja",AV24=1),IF(AZ24>0,BB24+AZ24,BB24),IF(AZ24=0,0, IF(I24<>"",AZ24-I24,AZ24)))+AX24 -> 0 | K24: =IF(AV24=0,BB24,IF(Feiertage!$G$2="ja","00:00",BB24)) -> 0.33333333 | L24: =IF(OR(B24<=TODAY(),J24,AW24="G"),IF(J24<>"",IF(J24-K24=0,"",J24-K24),IF(K24<>"",-K24,"")),"") | M24: =IF(LOWER(AW24)=LOWER(Urlaub!$W$19),Urlaub!$S$19, IF(LOWER(AW24)=LOWER(Urlaub!$W$20),Urlaub!$S$20, IF(LOWER(AW24)=LOWER(Urlaub!$W$21),Urlaub!$S$21, IF(LOWER(AW24)=LOWER(Urlaub!$W$22),Urlaub!$S$22, IF(LOWER(AW24)=LOWER(Urlaub!$W$23),Urlaub!$S$23, IF(LOWER(AW24)=LOWER(Urlaub!$W$24),Urlaub!$S$24,""))))))&IF(AND(EXACT(LOWER(AW24),AW24),AW24<>0)," 1/2","") | N24: =24*J24*IF(WEEKDAY(C24)=WEEKDAY($P$6),$S$6, IF(WEEKDAY(C24)=WEEKDAY($P$7),$S$7, IF(WEEKDAY(C24)=WEEKDAY($P$8),$S$8, IF(WEEKDAY(C24)=WEEKDAY($P$9),$S$9, IF(WEEKDAY(C24)=WEEKDAY($P$10),$S$10, IF(WEEKDAY(C24)=WEEKDAY($P$11),$S$11, IF(WEEKDAY(C24)=WEEKDAY($P$12),$S$12,""))))))) -> 0 | AV24: =IF(IFERROR(MATCH($B24,Feiertage!$B$2:$B$34,0)>0,0),1,0) -> 0 | AW24: =IFERROR(HLOOKUP(DAY(B24),Urlaub!$C$4:$AG$16,MONTH(B24)+1,0),0) -> 0 | AX24: =IFERROR(IF(OR(AW24=0,AW24="G"),0,IF(EXACT(LOWER(AW24),AW24),0.5*BB24,BB24)),"") -> 0 | AY24: =IFERROR(IF(WEEKDAY(C24)=WEEKDAY($P$6),$R$6, IF(WEEKDAY(C24)=WEEKDAY($P$7),$R$7, IF(WEEKDAY(C24)=WEEKDAY($P$8),$R$8, IF(WEEKDAY(C24)=WEEKDAY($P$9),$R$9, IF(WEEKDAY(C24)=WEEKDAY($P$10),$R$10, IF(WEEKDAY(C24)=WEEKDAY($P$11),$R$11, IF(WEEKDAY(C24)=WEEKDAY($P$12),$R$12,""))))))),"") -> 0.020833333 | AZ24: =IF(F24,IF(E24,IF(E24>F24,F24+"24:00"-E24,F24-E24),0),0)+IF(G24,IF(G24,IF(G24>H24,H24+"24:00"-G24,H24-G24),0),0) -> 0 | BA24: =AZ24*24 -> 0 | BB24: =IFERROR(IF(WEEKDAY(C24)=WEEKDAY($P$6),$Q$6, IF(WEEKDAY(C24)=WEEKDAY($P$7),$Q$7, IF(WEEKDAY(C24)=WEEKDAY($P$8),$Q$8, IF(WEEKDAY(C24)=WEEKDAY($P$9),$Q$9, IF(WEEKDAY(C24)=WEEKDAY($P$10),$Q$10, IF(WEEKDAY(C24)=WEEKDAY($P$11),$Q$11, IF(WEEKDAY(C24)=WEEKDAY($P$12),$Q$12,""))))))),"") -> 0.33333333
B25: =B24+1 -> 41690 | C25: =B25 -> 41690 | I25: =IF(AZ25=0,"",IF(AY25=0,"",IF(OR(B25<=TODAY(),AZ25),AY25,""))) | J25: =IF(AND(Feiertage!$G$2<>"ja",AV25=1),IF(AZ25>0,BB25+AZ25,BB25),IF(AZ25=0,0, IF(I25<>"",AZ25-I25,AZ25)))+AX25 -> 0 | K25: =IF(AV25=0,BB25,IF(Feiertage!$G$2="ja","00:00",BB25)) -> 0.33333333 | L25: =IF(OR(B25<=TODAY(),J25,AW25="G"),IF(J25<>"",IF(J25-K25=0,"",J25-K25),IF(K25<>"",-K25,"")),"") | M25: =IF(LOWER(AW25)=LOWER(Urlaub!$W$19),Urlaub!$S$19, IF(LOWER(AW25)=LOWER(Urlaub!$W$20),Urlaub!$S$20, IF(LOWER(AW25)=LOWER(Urlaub!$W$21),Urlaub!$S$21, IF(LOWER(AW25)=LOWER(Urlaub!$W$22),Urlaub!$S$22, IF(LOWER(AW25)=LOWER(Urlaub!$W$23),Urlaub!$S$23, IF(LOWER(AW25)=LOWER(Urlaub!$W$24),Urlaub!$S$24,""))))))&IF(AND(EXACT(LOWER(AW25),AW25),AW25<>0)," 1/2","") | N25: =24*J25*IF(WEEKDAY(C25)=WEEKDAY($P$6),$S$6, IF(WEEKDAY(C25)=WEEKDAY($P$7),$S$7, IF(WEEKDAY(C25)=WEEKDAY($P$8),$S$8, IF(WEEKDAY(C25)=WEEKDAY($P$9),$S$9, IF(WEEKDAY(C25)=WEEKDAY($P$10),$S$10, IF(WEEKDAY(C25)=WEEKDAY($P$11),$S$11, IF(WEEKDAY(C25)=WEEKDAY($P$12),$S$12,""))))))) -> 0 | AV25: =IF(IFERROR(MATCH($B25,Feiertage!$B$2:$B$34,0)>0,0),1,0) -> 0 | AW25: =IFERROR(HLOOKUP(DAY(B25),Urlaub!$C$4:$AG$16,MONTH(B25)+1,0),0) -> 0 | AX25: =IFERROR(IF(OR(AW25=0,AW25="G"),0,IF(EXACT(LOWER(AW25),AW25),0.5*BB25,BB25)),"") -> 0 | AY25: =IFERROR(IF(WEEKDAY(C25)=WEEKDAY($P$6),$R$6, IF(WEEKDAY(C25)=WEEKDAY($P$7),$R$7, IF(WEEKDAY(C25)=WEEKDAY($P$8),$R$8, IF(WEEKDAY(C25)=WEEKDAY($P$9),$R$9, IF(WEEKDAY(C25)=WEEKDAY($P$10),$R$10, IF(WEEKDAY(C25)=WEEKDAY($P$11),$R$11, IF(WEEKDAY(C25)=WEEKDAY($P$12),$R$12,""))))))),"") -> 0.020833333 | AZ25: =IF(F25,IF(E25,IF(E25>F25,F25+"24:00"-E25,F25-E25),0),0)+IF(G25,IF(G25,IF(G25>H25,H25+"24:00"-G25,H25-G25),0),0) -> 0 | BA25: =AZ25*24 -> 0 | BB25: =IFERROR(IF(WEEKDAY(C25)=WEEKDAY($P$6),$Q$6, IF(WEEKDAY(C25)=WEEKDAY($P$7),$Q$7, IF(WEEKDAY(C25)=WEEKDAY($P$8),$Q$8, IF(WEEKDAY(C25)=WEEKDAY($P$9),$Q$9, IF(WEEKDAY(C25)=WEEKDAY($P$10),$Q$10, IF(WEEKDAY(C25)=WEEKDAY($P$11),$Q$11, IF(WEEKDAY(C25)=WEEKDAY($P$12),$Q$12,""))))))),"") -> 0.33333333
B26: =B25+1 -> 41691 | C26: =B26 -> 41691 | I26: =IF(AZ26=0,"",IF(AY26=0,"",IF(OR(B26<=TODAY(),AZ26),AY26,""))) | J26: =IF(AND(Feiertage!$G$2<>"ja",AV26=1),IF(AZ26>0,BB26+AZ26,BB26),IF(AZ26=0,0, IF(I26<>"",AZ26-I26,AZ26)))+AX26 -> 0 | K26: =IF(AV26=0,BB26,IF(Feiertage!$G$2="ja","00:00",BB26)) -> 0.33333333 | L26: =IF(OR(B26<=TODAY(),J26,AW26="G"),IF(J26<>"",IF(J26-K26=0,"",J26-K26),IF(K26<>"",-K26,"")),"") | M26: =IF(LOWER(AW26)=LOWER(Urlaub!$W$19),Urlaub!$S$19, IF(LOWER(AW26)=LOWER(Urlaub!$W$20),Urlaub!$S$20, IF(LOWER(AW26)=LOWER(Urlaub!$W$21),Urlaub!$S$21, IF(LOWER(AW26)=LOWER(Urlaub!$W$22),Urlaub!$S$22, IF(LOWER(AW26)=LOWER(Urlaub!$W$23),Urlaub!$S$23, IF(LOWER(AW26)=LOWER(Urlaub!$W$24),Urlaub!$S$24,""))))))&IF(AND(EXACT(LOWER(AW26),AW26),AW26<>0)," 1/2","") | N26: =24*J26*IF(WEEKDAY(C26)=WEEKDAY($P$6),$S$6, IF(WEEKDAY(C26)=WEEKDAY($P$7),$S$7, IF(WEEKDAY(C26)=WEEKDAY($P$8),$S$8, IF(WEEKDAY(C26)=WEEKDAY($P$9),$S$9, IF(WEEKDAY(C26)=WEEKDAY($P$10),$S$10, IF(WEEKDAY(C26)=WEEKDAY($P$11),$S$11, IF(WEEKDAY(C26)=WEEKDAY($P$12),$S$12,""))))))) -> 0 | AV26: =IF(IFERROR(MATCH($B26,Feiertage!$B$2:$B$34,0)>0,0),1,0) -> 0 | AW26: =IFERROR(HLOOKUP(DAY(B26),Urlaub!$C$4:$AG$16,MONTH(B26)+1,0),0) -> 0 | AX26: =IFERROR(IF(OR(AW26=0,AW26="G"),0,IF(EXACT(LOWER(AW26),AW26),0.5*BB26,BB26)),"") -> 0 | AY26: =IFERROR(IF(WEEKDAY(C26)=WEEKDAY($P$6),$R$6, IF(WEEKDAY(C26)=WEEKDAY($P$7),$R$7, IF(WEEKDAY(C26)=WEEKDAY($P$8),$R$8, IF(WEEKDAY(C26)=WEEKDAY($P$9),$R$9, IF(WEEKDAY(C26)=WEEKDAY($P$10),$R$10, IF(WEEKDAY(C26)=WEEKDAY($P$11),$R$11, IF(WEEKDAY(C26)=WEEKDAY($P$12),$R$12,""))))))),"") -> 0.020833333 | AZ26: =IF(F26,IF(E26,IF(E26>F26,F26+"24:00"-E26,F26-E26),0),0)+IF(G26,IF(G26,IF(G26>H26,H26+"24:00"-G26,H26-G26),0),0) -> 0 | BA26: =AZ26*24 -> 0 | BB26: =IFERROR(IF(WEEKDAY(C26)=WEEKDAY($P$6),$Q$6, IF(WEEKDAY(C26)=WEEKDAY($P$7),$Q$7, IF(WEEKDAY(C26)=WEEKDAY($P$8),$Q$8, IF(WEEKDAY(C26)=WEEKDAY($P$9),$Q$9, IF(WEEKDAY(C26)=WEEKDAY($P$10),$Q$10, IF(WEEKDAY(C26)=WEEKDAY($P$11),$Q$11, IF(WEEKDAY(C26)=WEEKDAY($P$12),$Q$12,""))))))),"") -> 0.33333333
B27: =B26+1 -> 41692 | C27: =B27 -> 41692 | I27: =IF(AZ27=0,"",IF(AY27=0,"",IF(OR(B27<=TODAY(),AZ27),AY27,""))) | J27: =IF(AND(Feiertage!$G$2<>"ja",AV27=1),IF(AZ27>0,BB27+AZ27,BB27),IF(AZ27=0,0, IF(I27<>"",AZ27-I27,AZ27)))+AX27 -> 0 | K27: =IF(AV27=0,BB27,IF(Feiertage!$G$2="ja","00:00",BB27)) -> 0.25 | L27: =IF(OR(B27<=TODAY(),J27,AW27="G"),IF(J27<>"",IF(J27-K27=0,"",J27-K27),IF(K27<>"",-K27,"")),"") | M27: =IF(LOWER(AW27)=LOWER(Urlaub!$W$19),Urlaub!$S$19, IF(LOWER(AW27)=LOWER(Urlaub!$W$20),Urlaub!$S$20, IF(LOWER(AW27)=LOWER(Urlaub!$W$21),Urlaub!$S$21, IF(LOWER(AW27)=LOWER(Urlaub!$W$22),Urlaub!$S$22, IF(LOWER(AW27)=LOWER(Urlaub!$W$23),Urlaub!$S$23, IF(LOWER(AW27)=LOWER(Urlaub!$W$24),Urlaub!$S$24,""))))))&IF(AND(EXACT(LOWER(AW27),AW27),AW27<>0)," 1/2","") | N27: =24*J27*IF(WEEKDAY(C27)=WEEKDAY($P$6),$S$6, IF(WEEKDAY(C27)=WEEKDAY($P$7),$S$7, IF(WEEKDAY(C27)=WEEKDAY($P$8),$S$8, IF(WEEKDAY(C27)=WEEKDAY($P$9),$S$9, IF(WEEKDAY(C27)=WEEKDAY($P$10),$S$10, IF(WEEKDAY(C27)=WEEKDAY($P$11),$S$11, IF(WEEKDAY(C27)=WEEKDAY($P$12),$S$12,""))))))) -> 0 | AV27: =IF(IFERROR(MATCH($B27,Feiertage!$B$2:$B$34,0)>0,0),1,0) -> 0 | AW27: =IFERROR(HLOOKUP(DAY(B27),Urlaub!$C$4:$AG$16,MONTH(B27)+1,0),0) -> 0 | AX27: =IFERROR(IF(OR(AW27=0,AW27="G"),0,IF(EXACT(LOWER(AW27),AW27),0.5*BB27,BB27)),"") -> 0 | AY27: =IFERROR(IF(WEEKDAY(C27)=WEEKDAY($P$6),$R$6, IF(WEEKDAY(C27)=WEEKDAY($P$7),$R$7, IF(WEEKDAY(C27)=WEEKDAY($P$8),$R$8, IF(WEEKDAY(C27)=WEEKDAY($P$9),$R$9, IF(WEEKDAY(C27)=WEEKDAY($P$10),$R$10, IF(WEEKDAY(C27)=WEEKDAY($P$11),$R$11, IF(WEEKDAY(C27)=WEEKDAY($P$12),$R$12,""))))))),"") -> 0.020833333 | AZ27: =IF(F27,IF(E27,IF(E27>F27,F27+"24:00"-E27,F27-E27),0),0)+IF(G27,IF(G27,IF(G27>H27,H27+"24:00"-G27,H27-G27),0),0) -> 0 | BA27: =AZ27*24 -> 0 | BB27: =IFERROR(IF(WEEKDAY(C27)=WEEKDAY($P$6),$Q$6, IF(WEEKDAY(C27)=WEEKDAY($P$7),$Q$7, IF(WEEKDAY(C27)=WEEKDAY($P$8),$Q$8, IF(WEEKDAY(C27)=WEEKDAY($P$9),$Q$9, IF(WEEKDAY(C27)=WEEKDAY($P$10),$Q$10, IF(WEEKDAY(C27)=WEEKDAY($P$11),$Q$11, IF(WEEKDAY(C27)=WEEKDAY($P$12),$Q$12,""))))))),"") -> 0.25
B28: =B27+1 -> 41693 | C28: =B28 -> 41693 | I28: =IF(AZ28=0,"",IF(AY28=0,"",IF(OR(B28<=TODAY(),AZ28),AY28,""))) | J28: =IF(AND(Feiertage!$G$2<>"ja",AV28=1),IF(AZ28>0,BB28+AZ28,BB28),IF(AZ28=0,0, IF(I28<>"",AZ28-I28,AZ28)))+AX28 -> 0 | K28: =IF(AV28=0,BB28,IF(Feiertage!$G$2="ja","00:00",BB28)) -> 0 | L28: =IF(OR(B28<=TODAY(),J28,AW28="G"),IF(J28<>"",IF(J28-K28=0,"",J28-K28),IF(K28<>"",-K28,"")),"") | M28: =IF(LOWER(AW28)=LOWER(Urlaub!$W$19),Urlaub!$S$19, IF(LOWER(AW28)=LOWER(Urlaub!$W$20),Urlaub!$S$20, IF(LOWER(AW28)=LOWER(Urlaub!$W$21),Urlaub!$S$21, IF(LOWER(AW28)=LOWER(Urlaub!$W$22),Urlaub!$S$22, IF(LOWER(AW28)=LOWER(Urlaub!$W$23),Urlaub!$S$23, IF(LOWER(AW28)=LOWER(Urlaub!$W$24),Urlaub!$S$24,""))))))&IF(AND(EXACT(LOWER(AW28),AW28),AW28<>0)," 1/2","") | N28: =24*J28*IF(WEEKDAY(C28)=WEEKDAY($P$6),$S$6, IF(WEEKDAY(C28)=WEEKDAY($P$7),$S$7, IF(WEEKDAY(C28)=WEEKDAY($P$8),$S$8, IF(WEEKDAY(C28)=WEEKDAY($P$9),$S$9, IF(WEEKDAY(C28)=WEEKDAY($P$10),$S$10, IF(WEEKDAY(C28)=WEEKDAY($P$11),$S$11, IF(WEEKDAY(C28)=WEEKDAY($P$12),$S$12,""))))))) -> 0 | AV28: =IF(IFERROR(MATCH($B28,Feiertage!$B$2:$B$34,0)>0,0),1,0) -> 0 | AW28: =IFERROR(HLOOKUP(DAY(B28),Urlaub!$C$4:$AG$16,MONTH(B28)+1,0),0) -> 0 | AX28: =IFERROR(IF(OR(AW28=0,AW28="G"),0,IF(EXACT(LOWER(AW28),AW28),0.5*BB28,BB28)),"") -> 0 | AY28: =IFERROR(IF(WEEKDAY(C28)=WEEKDAY($P$6),$R$6, IF(WEEKDAY(C28)=WEEKDAY($P$7),$R$7, IF(WEEKDAY(C28)=WEEKDAY($P$8),$R$8, IF(WEEKDAY(C28)=WEEKDAY($P$9),$R$9, IF(WEEKDAY(C28)=WEEKDAY($P$10),$R$10, IF(WEEKDAY(C28)=WEEKDAY($P$11),$R$11, IF(WEEKDAY(C28)=WEEKDAY($P$12),$R$12,""))))))),"") -> 0.020833333 | AZ28: =IF(F28,IF(E28,IF(E28>F28,F28+"24:00"-E28,F28-E28),0),0)+IF(G28,IF(G28,IF(G28>H28,H28+"24:00"-G28,H28-G28),0),0) -> 0 | BA28: =AZ28*24 -> 0 | BB28: =IFERROR(IF(WEEKDAY(C28)=WEEKDAY($P$6),$Q$6, IF(WEEKDAY(C28)=WEEKDAY($P$7),$Q$7, IF(WEEKDAY(C28)=WEEKDAY($P$8),$Q$8, IF(WEEKDAY(C28)=WEEKDAY($P$9),$Q$9, IF(WEEKDAY(C28)=WEEKDAY($P$10),$Q$10, IF(WEEKDAY(C28)=WEEKDAY($P$11),$Q$11, IF(WEEKDAY(C28)=WEEKDAY($P$12),$Q$12,""))))))),"") -> 0
... B32: =B31+1 -> 41697 | C32: =B32 -> 41697 | I32: =IF(AZ32=0,"",IF(AY32=0,"",IF(OR(B32<=TODAY(),AZ32),AY32,""))) | J32: =IF(AND(Feiertage!$G$2<>"ja",AV32=1),IF(AZ32>0,BB32+AZ32,BB32),IF(AZ32=0,0, IF(I32<>"",AZ32-I32,AZ32)))+AX32 -> 0 | K32: =IF(AV32=0,BB32,IF(Feiertage!$G$2="ja","00:00",BB32)) -> 0.33333333 | L32: =IF(OR(B32<=TODAY(),J32,AW32="G"),IF(J32<>"",IF(J32-K32=0,"",J32-K32),IF(K32<>"",-K32,"")),"") | M32: =IF(LOWER(AW32)=LOWER(Urlaub!$W$19),Urlaub!$S$19, IF(LOWER(AW32)=LOWER(Urlaub!$W$20),Urlaub!$S$20, IF(LOWER(AW32)=LOWER(Urlaub!$W$21),Urlaub!$S$21, IF(LOWER(AW32)=LOWER(Urlaub!$W$22),Urlaub!$S$22, IF(LOWER(AW32)=LOWER(Urlaub!$W$23),Urlaub!$S$23, IF(LOWER(AW32)=LOWER(Urlaub!$W$24),Urlaub!$S$24,""))))))&IF(AND(EXACT(LOWER(AW32),AW32),AW32<>0)," 1/2","") | N32: =24*J32*IF(WEEKDAY(C32)=WEEKDAY($P$6),$S$6, IF(WEEKDAY(C32)=WEEKDAY($P$7),$S$7, IF(WEEKDAY(C32)=WEEKDAY($P$8),$S$8, IF(WEEKDAY(C32)=WEEKDAY($P$9),$S$9, IF(WEEKDAY(C32)=WEEKDAY($P$10),$S$10, IF(WEEKDAY(C32)=WEEKDAY($P$11),$S$11, IF(WEEKDAY(C32)=WEEKDAY($P$12),$S$12,""))))))) -> 0 | AV32: =IF(IFERROR(MATCH($B32,Feiertage!$B$2:$B$34,0)>0,0),1,0) -> 0 | AW32: =IFERROR(HLOOKUP(DAY(B32),Urlaub!$C$4:$AG$16,MONTH(B32)+1,0),0) -> 0 | AX32: =IFERROR(IF(OR(AW32=0,AW32="G"),0,IF(EXACT(LOWER(AW32),AW32),0.5*BB32,BB32)),"") -> 0 | AY32: =IFERROR(IF(WEEKDAY(C32)=WEEKDAY($P$6),$R$6, IF(WEEKDAY(C32)=WEEKDAY($P$7),$R$7, IF(WEEKDAY(C32)=WEEKDAY($P$8),$R$8, IF(WEEKDAY(C32)=WEEKDAY($P$9),$R$9, IF(WEEKDAY(C32)=WEEKDAY($P$10),$R$10, IF(WEEKDAY(C32)=WEEKDAY($P$11),$R$11, IF(WEEKDAY(C32)=WEEKDAY($P$12),$R$12,""))))))),"") -> 0.020833333 | AZ32: =IF(F32,IF(E32,IF(E32>F32,F32+"24:00"-E32,F32-E32),0),0)+IF(G32,IF(G32,IF(G32>H32,H32+"24:00"-G32,H32-G32),0),0) -> 0 | BA32: =AZ32*24 -> 0 | BB32: =IFERROR(IF(WEEKDAY(C32)=WEEKDAY($P$6),$Q$6, IF(WEEKDAY(C32)=WEEKDAY($P$7),$Q$7, IF(WEEKDAY(C32)=WEEKDAY($P$8),$Q$8, IF(WEEKDAY(C32)=WEEKDAY($P$9),$Q$9, IF(WEEKDAY(C32)=WEEKDAY($P$10),$Q$10, IF(WEEKDAY(C32)=WEEKDAY($P$11),$Q$11, IF(WEEKDAY(C32)=WEEKDAY($P$12),$Q$12,""))))))),"") -> 0.33333333
B33: =IF(B32<>"",IF(MONTH($B$1)<MONTH(B32+1),"",B32+1),"") | C33: =B33 | I33: =IF(AZ33=0,"",IF(AY33=0,"",IF(OR(B33<=TODAY(),AZ33),AY33,""))) | J33: =IF(B33<>"",IF(AND(Feiertage!$G$2<>"ja",AV33=1),IF(AZ33>0,BB33+AZ33,BB33),IF(AZ33=0,0, IF(I33<>"",AZ33-I33,AZ33)))+AX33,"") | K33: =IF(B33<>"",IF(AV33=0,BB33,IF(Feiertage!$G$2="ja","00:00",BB33)),"") | L33: =IF(OR(B33<=TODAY(),J33,AW33="G"),IF(J33<>"",IF(J33-K33=0,"",J33-K33),IF(K33<>"",-K33,"")),"") | M33: =IF(LOWER(AW33)=LOWER(Urlaub!$W$19),Urlaub!$S$19, IF(LOWER(AW33)=LOWER(Urlaub!$W$20),Urlaub!$S$20, IF(LOWER(AW33)=LOWER(Urlaub!$W$21),Urlaub!$S$21, IF(LOWER(AW33)=LOWER(Urlaub!$W$22),Urlaub!$S$22, IF(LOWER(AW33)=LOWER(Urlaub!$W$23),Urlaub!$S$23, IF(LOWER(AW33)=LOWER(Urlaub!$W$24),Urlaub!$S$24,""))))))&IF(AND(EXACT(LOWER(AW33),AW33),AW33<>0)," 1/2","") | N33: =IF(J33<>"",24*J33*IF(WEEKDAY(C33)=WEEKDAY($P$6),$S$6, IF(WEEKDAY(C33)=WEEKDAY($P$7),$S$7, IF(WEEKDAY(C33)=WEEKDAY($P$8),$S$8, IF(WEEKDAY(C33)=WEEKDAY($P$9),$S$9, IF(WEEKDAY(C33)=WEEKDAY($P$10),$S$10, IF(WEEKDAY(C33)=WEEKDAY($P$11),$S$11, IF(WEEKDAY(C33)=WEEKDAY($P$12),$S$12,""))))))),"") | AV33: =IF(IFERROR(MATCH($B33,Feiertage!$B$2:$B$34,0)>0,0),1,0) -> 0 | AW33: =IFERROR(HLOOKUP(DAY(B33),Urlaub!$C$4:$AG$16,MONTH(B33)+1,0),0) -> 0 | AX33: =IFERROR(IF(OR(AW33=0,AW33="G"),0,IF(EXACT(LOWER(AW33),AW33),0.5*BB33,BB33)),"") -> 0 | AY33: =IFERROR(IF(WEEKDAY(C33)=WEEKDAY($P$6),$R$6, IF(WEEKDAY(C33)=WEEKDAY($P$7),$R$7, IF(WEEKDAY(C33)=WEEKDAY($P$8),$R$8, IF(WEEKDAY(C33)=WEEKDAY($P$9),$R$9, IF(WEEKDAY(C33)=WEEKDAY($P$10),$R$10, IF(WEEKDAY(C33)=WEEKDAY($P$11),$R$11, IF(WEEKDAY(C33)=WEEKDAY($P$12),$R$12,""))))))),"") | AZ33: =IF(F33,IF(E33,IF(E33>F33,F33+"24:00"-E33,F33-E33),0),0)+IF(G33,IF(G33,IF(G33>H33,H33+"24:00"-G33,H33-G33),0),0) -> 0 | BA33: =AZ33*24 -> 0 | BB33: =IFERROR(IF(WEEKDAY(C33)=WEEKDAY($P$6),$Q$6, IF(WEEKDAY(C33)=WEEKDAY($P$7),$Q$7, IF(WEEKDAY(C33)=WEEKDAY($P$8),$Q$8, IF(WEEKDAY(C33)=WEEKDAY($P$9),$Q$9, IF(WEEKDAY(C33)=WEEKDAY($P$10),$Q$10, IF(WEEKDAY(C33)=WEEKDAY($P$11),$Q$11, IF(WEEKDAY(C33)=WEEKDAY($P$12),$Q$12,""))))))),"")
B34: =IF(B33<>"",IF(MONTH($B$1)<MONTH(B33+1),"",B33+1),"") | C34: =B34 | I34: =IF(AZ34=0,"",IF(AY34=0,"",IF(OR(B34<=TODAY(),AZ34),AY34,""))) | J34: =IF(B34<>"",IF(AND(Feiertage!$G$2<>"ja",AV34=1),IF(AZ34>0,BB34+AZ34,BB34),IF(AZ34=0,0, IF(I34<>"",AZ34-I34,AZ34)))+AX34,"") | K34: =IF(B34<>"",IF(AV34=0,BB34,IF(Feiertage!$G$2="ja","00:00",BB34)),"") | L34: =IF(OR(B34<=TODAY(),J34,AW34="G"),IF(J34<>"",IF(J34-K34=0,"",J34-K34),IF(K34<>"",-K34,"")),"") | M34: =IF(LOWER(AW34)=LOWER(Urlaub!$W$19),Urlaub!$S$19, IF(LOWER(AW34)=LOWER(Urlaub!$W$20),Urlaub!$S$20, IF(LOWER(AW34)=LOWER(Urlaub!$W$21),Urlaub!$S$21, IF(LOWER(AW34)=LOWER(Urlaub!$W$22),Urlaub!$S$22, IF(LOWER(AW34)=LOWER(Urlaub!$W$23),Urlaub!$S$23, IF(LOWER(AW34)=LOWER(Urlaub!$W$24),Urlaub!$S$24,""))))))&IF(AND(EXACT(LOWER(AW34),AW34),AW34<>0)," 1/2","") | N34: =IF(J34<>"",24*J34*IF(WEEKDAY(C34)=WEEKDAY($P$6),$S$6, IF(WEEKDAY(C34)=WEEKDAY($P$7),$S$7, IF(WEEKDAY(C34)=WEEKDAY($P$8),$S$8, IF(WEEKDAY(C34)=WEEKDAY($P$9),$S$9, IF(WEEKDAY(C34)=WEEKDAY($P$10),$S$10, IF(WEEKDAY(C34)=WEEKDAY($P$11),$S$11, IF(WEEKDAY(C34)=WEEKDAY($P$12),$S$12,""))))))),"") | AV34: =IF(IFERROR(MATCH($B34,Feiertage!$B$2:$B$34,0)>0,0),1,0) -> 0 | AW34: =IFERROR(HLOOKUP(DAY(B34),Urlaub!$C$4:$AG$16,MONTH(B34)+1,0),0) -> 0 | AX34: =IFERROR(IF(OR(AW34=0,AW34="G"),0,IF(EXACT(LOWER(AW34),AW34),0.5*BB34,BB34)),"") -> 0 | AY34: =IFERROR(IF(WEEKDAY(C34)=WEEKDAY($P$6),$R$6, IF(WEEKDAY(C34)=WEEKDAY($P$7),$R$7, IF(WEEKDAY(C34)=WEEKDAY($P$8),$R$8, IF(WEEKDAY(C34)=WEEKDAY($P$9),$R$9, IF(WEEKDAY(C34)=WEEKDAY($P$10),$R$10, IF(WEEKDAY(C34)=WEEKDAY($P$11),$R$11, IF(WEEKDAY(C34)=WEEKDAY($P$12),$R$12,""))))))),"") | AZ34: =IF(F34,IF(E34,IF(E34>F34,F34+"24:00"-E34,F34-E34),0),0)+IF(G34,IF(G34,IF(G34>H34,H34+"24:00"-G34,H34-G34),0),0) -> 0 | BA34: =AZ34*24 -> 0 | BB34: =IFERROR(IF(WEEKDAY(C34)=WEEKDAY($P$6),$Q$6, IF(WEEKDAY(C34)=WEEKDAY($P$7),$Q$7, IF(WEEKDAY(C34)=WEEKDAY($P$8),$Q$8, IF(WEEKDAY(C34)=WEEKDAY($P$9),$Q$9, IF(WEEKDAY(C34)=WEEKDAY($P$10),$Q$10, IF(WEEKDAY(C34)=WEEKDAY($P$11),$Q$11, IF(WEEKDAY(C34)=WEEKDAY($P$12),$Q$12,""))))))),"")
B35: =IF(B34<>"",IF(MONTH($B$1)<MONTH(B34+1),"",B34+1),"") | C35: =B35 | I35: =IF(AZ35=0,"",IF(AY35=0,"",IF(OR(B35<=TODAY(),AZ35),AY35,""))) | J35: =IF(B35<>"",IF(AND(Feiertage!$G$2<>"ja",AV35=1),IF(AZ35>0,BB35+AZ35,BB35),IF(AZ35=0,0, IF(I35<>"",AZ35-I35,AZ35)))+AX35,"") | K35: =IF(B35<>"",IF(AV35=0,BB35,IF(Feiertage!$G$2="ja","00:00",BB35)),"") | L35: =IF(OR(B35<=TODAY(),J35,AW35="G"),IF(J35<>"",IF(J35-K35=0,"",J35-K35),IF(K35<>"",-K35,"")),"") | M35: =IF(LOWER(AW35)=LOWER(Urlaub!$W$19),Urlaub!$S$19, IF(LOWER(AW35)=LOWER(Urlaub!$W$20),Urlaub!$S$20, IF(LOWER(AW35)=LOWER(Urlaub!$W$21),Urlaub!$S$21, IF(LOWER(AW35)=LOWER(Urlaub!$W$22),Urlaub!$S$22, IF(LOWER(AW35)=LOWER(Urlaub!$W$23),Urlaub!$S$23, IF(LOWER(AW35)=LOWER(Urlaub!$W$24),Urlaub!$S$24,""))))))&IF(AND(EXACT(LOWER(AW35),AW35),AW35<>0)," 1/2","") | N35: =IF(J35<>"",24*J35*IF(WEEKDAY(C35)=WEEKDAY($P$6),$S$6, IF(WEEKDAY(C35)=WEEKDAY($P$7),$S$7, IF(WEEKDAY(C35)=WEEKDAY($P$8),$S$8, IF(WEEKDAY(C35)=WEEKDAY($P$9),$S$9, IF(WEEKDAY(C35)=WEEKDAY($P$10),$S$10, IF(WEEKDAY(C35)=WEEKDAY($P$11),$S$11, IF(WEEKDAY(C35)=WEEKDAY($P$12),$S$12,""))))))),"") | AV35: =IF(IFERROR(MATCH($B35,Feiertage!$B$2:$B$34,0)>0,0),1,0) -> 0 | AW35: =IFERROR(HLOOKUP(DAY(B35),Urlaub!$C$4:$AG$16,MONTH(B35)+1,0),0) -> 0 | AX35: =IFERROR(IF(OR(AW35=0,AW35="G"),0,IF(EXACT(LOWER(AW35),AW35),0.5*BB35,BB35)),"") -> 0 | AY35: =IFERROR(IF(WEEKDAY(C35)=WEEKDAY($P$6),$R$6, IF(WEEKDAY(C35)=WEEKDAY($P$7),$R$7, IF(WEEKDAY(C35)=WEEKDAY($P$8),$R$8, IF(WEEKDAY(C35)=WEEKDAY($P$9),$R$9, IF(WEEKDAY(C35)=WEEKDAY($P$10),$R$10, IF(WEEKDAY(C35)=WEEKDAY($P$11),$R$11, IF(WEEKDAY(C35)=WEEKDAY($P$12),$R$12,""))))))),"") | AZ35: =IF(F35,IF(E35,IF(E35>F35,F35+"24:00"-E35,F35-E35),0),0)+IF(G35,IF(G35,IF(G35>H35,H35+"24:00"-G35,H35-G35),0),0) -> 0 | BA35: =AZ35*24 -> 0 | BB35: =IFERROR(IF(WEEKDAY(C35)=WEEKDAY($P$6),$Q$6, IF(WEEKDAY(C35)=WEEKDAY($P$7),$Q$7, IF(WEEKDAY(C35)=WEEKDAY($P$8),$Q$8, IF(WEEKDAY(C35)=WEEKDAY($P$9),$Q$9, IF(WEEKDAY(C35)=WEEKDAY($P$10),$Q$10, IF(WEEKDAY(C35)=WEEKDAY($P$11),$Q$11, IF(WEEKDAY(C35)=WEEKDAY($P$12),$Q$12,""))))))),"")
B37: Gesamt | J37: =SUM(J5:J35) -> 0 | K37: =SUM(K5:K35) -> 6.3333333 | L37: =SUM(L5:L35) -> 0 | M37: =SUM(AX5:AX35) -> 0 | N37: =SUM(N5:N35) -> 0

Sheet März
A1: 41639 | B1: =DATEVALUE("1 " & RIGHT(CELL("dateiname",$A$1),LEN(CELL("dateiname",$A$1))-FIND("]",CELL("dateiname",$A$1))) & " " & YEAR(Januar!$A$1)) -> 41698
E3: Arbeitszeit
B4: Datum | C4: Tag | E4: von | F4: bis | G4: von | H4: bis | I4: Pause | J4: Istzeit | K4: Sollzeit | L4: Differenz | M4: Abwesenheit | N4: Lohn | P4: Wochenplan | U4: Monatssaldo | AV4: Feiertag | AW4: Abws | AX4: Abws Dauer | AY4: Pause | AZ4: Istzeit | BA4: Ist Dez | BB4: Sollzeit
B5: =B1 -> 41698 | C5: =B5 -> 41698 | I5: =IF(AZ5=0,"",IF(AY5=0,"",IF(OR(B5<=TODAY(),AZ5),AY5,""))) | J5: =IF(AND(Feiertage!$G$2<>"ja",AV5=1),IF(AZ5>0,BB5+AZ5,BB5),IF(AZ5=0,0, IF(I5<>"",AZ5-I5,AZ5)))+AX5 -> 0 | K5: =IF(AV5=0,BB5,IF(Feiertage!$G$2="ja","00:00",BB5)) -> 0.33333333 | L5: =IF(OR(B5<=TODAY(),J5,AW5="G"),IF(J5<>"",IF(J5-K5=0,"",J5-K5),IF(K5<>"",-K5,"")),"") | M5: =IF(LOWER(AW5)=LOWER(Urlaub!$W$19),Urlaub!$S$19, IF(LOWER(AW5)=LOWER(Urlaub!$W$20),Urlaub!$S$20, IF(LOWER(AW5)=LOWER(Urlaub!$W$21),Urlaub!$S$21, IF(LOWER(AW5)=LOWER(Urlaub!$W$22),Urlaub!$S$22, IF(LOWER(AW5)=LOWER(Urlaub!$W$23),Urlaub!$S$23, IF(LOWER(AW5)=LOWER(Urlaub!$W$24),Urlaub!$S$24,""))))))&IF(AND(EXACT(LOWER(AW5),AW5),AW5<>0)," 1/2","") | N5: =24*J5*IF(WEEKDAY(C5)=WEEKDAY($P$6),$S$6, IF(WEEKDAY(C5)=WEEKDAY($P$7),$S$7, IF(WEEKDAY(C5)=WEEKDAY($P$8),$S$8, IF(WEEKDAY(C5)=WEEKDAY($P$9),$S$9, IF(WEEKDAY(C5)=WEEKDAY($P$10),$S$10, IF(WEEKDAY(C5)=WEEKDAY($P$11),$S$11, IF(WEEKDAY(C5)=WEEKDAY($P$12),$S$12,""))))))) -> 0 | P5: Wochentag | Q5: Sollzeit | R5: Pause | S5: Stundenlohn | U5: ="Übertrag aus " & IF( MONTH(B1)=1, YEAR(B1)-1, TEXT(EDATE(B1,-1),"MMMM")) -> Übertrag aus Februar | V5: =IF(MONTH(B1)>1,INDIRECT(TEXT(EDATE(B1,-1),"MMMM")&"!v9"),"") -> -0.13541667 | AV5: =IF(IFERROR(MATCH($B5,Feiertage!$B$2:$B$34,0)>0,0),1,0) -> 0 | AW5: =IFERROR(HLOOKUP(DAY(B5),Urlaub!$C$4:$AG$16,MONTH(B5)+1,0),0) -> 0 | AX5: =IFERROR(IF(AW5=0,0,IF(EXACT(LOWER(AW5),AW5),0.5*BB5,BB5)),"") -> 0 | AY5: =IFERROR(IF(WEEKDAY(C5)=WEEKDAY($P$6),$R$6, IF(WEEKDAY(C5)=WEEKDAY($P$7),$R$7, IF(WEEKDAY(C5)=WEEKDAY($P$8),$R$8, IF(WEEKDAY(C5)=WEEKDAY($P$9),$R$9, IF(WEEKDAY(C5)=WEEKDAY($P$10),$R$10, IF(WEEKDAY(C5)=WEEKDAY($P$11),$R$11, IF(WEEKDAY(C5)=WEEKDAY($P$12),$R$12,""))))))),"") -> 0.020833333 | AZ5: =IF(F5,IF(E5,IF(E5>F5,F5+"24:00"-E5,F5-E5),0),0)+IF(G5,IF(G5,IF(G5>H5,H5+"24:00"-G5,H5-G5),0),0) -> 0 | BA5: =AZ5*24 -> 0 | BB5: =IFERROR(IF(WEEKDAY(C5)=WEEKDAY($P$6),$Q$6, IF(WEEKDAY(C5)=WEEKDAY($P$7),$Q$7, IF(WEEKDAY(C5)=WEEKDAY($P$8),$Q$8, IF(WEEKDAY(C5)=WEEKDAY($P$9),$Q$9, IF(WEEKDAY(C5)=WEEKDAY($P$10),$Q$10, IF(WEEKDAY(C5)=WEEKDAY($P$11),$Q$11, IF(WEEKDAY(C5)=WEEKDAY($P$12),$Q$12,""))))))),"") -> 0.33333333
B6: =B5+1 -> 41699 | C6: =B6 -> 41699 | I6: =IF(AZ6=0,"",IF(AY6=0,"",IF(OR(B6<=TODAY(),AZ6),AY6,""))) | J6: =IF(AND(Feiertage!$G$2<>"ja",AV6=1),IF(AZ6>0,BB6+AZ6,BB6),IF(AZ6=0,0, IF(I6<>"",AZ6-I6,AZ6)))+AX6 -> 0 | K6: =IF(AV6=0,BB6,IF(Feiertage!$G$2="ja","00:00",BB6)) -> 0.25 | L6: =IF(OR(B6<=TODAY(),J6,AW6="G"),IF(J6<>"",IF(J6-K6=0,"",J6-K6),IF(K6<>"",-K6,"")),"") | M6: =IF(LOWER(AW6)=LOWER(Urlaub!$W$19),Urlaub!$S$19, IF(LOWER(AW6)=LOWER(Urlaub!$W$20),Urlaub!$S$20, IF(LOWER(AW6)=LOWER(Urlaub!$W$21),Urlaub!$S$21, IF(LOWER(AW6)=LOWER(Urlaub!$W$22),Urlaub!$S$22, IF(LOWER(AW6)=LOWER(Urlaub!$W$23),Urlaub!$S$23, IF(LOWER(AW6)=LOWER(Urlaub!$W$24),Urlaub!$S$24,""))))))&IF(AND(EXACT(LOWER(AW6),AW6),AW6<>0)," 1/2","") | N6: =24*J6*IF(WEEKDAY(C6)=WEEKDAY($P$6),$S$6, IF(WEEKDAY(C6)=WEEKDAY($P$7),$S$7, IF(WEEKDAY(C6)=WEEKDAY($P$8),$S$8, IF(WEEKDAY(C6)=WEEKDAY($P$9),$S$9, IF(WEEKDAY(C6)=WEEKDAY($P$10),$S$10, IF(WEEKDAY(C6)=WEEKDAY($P$11),$S$11, IF(WEEKDAY(C6)=WEEKDAY($P$12),$S$12,""))))))) -> 0 | P6: 41639 | Q6: 0.33333333 | R6: 0.020833333 | U6: Sollzeit | V6: =SUM(K5:K35) -> 6.6666667 | AV6: =IF(IFERROR(MATCH($B6,Feiertage!$B$2:$B$34,0)>0,0),1,0) -> 0 | AW6: =IFERROR(HLOOKUP(DAY(B6),Urlaub!$C$4:$AG$16,MONTH(B6)+1,0),0) -> 0 | AX6: =IFERROR(IF(AW6=0,0,IF(EXACT(LOWER(AW6),AW6),0.5*BB6,BB6)),"") -> 0 | AY6: =IFERROR(IF(WEEKDAY(C6)=WEEKDAY($P$6),$R$6, IF(WEEKDAY(C6)=WEEKDAY($P$7),$R$7, IF(WEEKDAY(C6)=WEEKDAY($P$8),$R$8, IF(WEEKDAY(C6)=WEEKDAY($P$9),$R$9, IF(WEEKDAY(C6)=WEEKDAY($P$10),$R$10, IF(WEEKDAY(C6)=WEEKDAY($P$11),$R$11, IF(WEEKDAY(C6)=WEEKDAY($P$12),$R$12,""))))))),"") -> 0.020833333 | AZ6: =IF(F6,IF(E6,IF(E6>F6,F6+"24:00"-E6,F6-E6),0),0)+IF(G6,IF(G6,IF(G6>H6,H6+"24:00"-G6,H6-G6),0),0) -> 0 | BA6: =AZ6*24 -> 0 | BB6: =IFERROR(IF(WEEKDAY(C6)=WEEKDAY($P$6),$Q$6, IF(WEEKDAY(C6)=WEEKDAY($P$7),$Q$7, IF(WEEKDAY(C6)=WEEKDAY($P$8),$Q$8, IF(WEEKDAY(C6)=WEEKDAY($P$9),$Q$9, IF(WEEKDAY(C6)=WEEKDAY($P$10),$Q$10, IF(WEEKDAY(C6)=WEEKDAY($P$11),$Q$11, IF(WEEKDAY(C6)=WEEKDAY($P$12),$Q$12,""))))))),"") -> 0.25
B7: =B6+1 -> 41700 | C7: =B7 -> 41700 | I7: =IF(AZ7=0,"",IF(AY7=0,"",IF(OR(B7<=TODAY(),AZ7),AY7,""))) | J7: =IF(AND(Feiertage!$G$2<>"ja",AV7=1),IF(AZ7>0,BB7+AZ7,BB7),IF(AZ7=0,0, IF(I7<>"",AZ7-I7,AZ7)))+AX7 -> 0 | K7: =IF(AV7=0,BB7,IF(Feiertage!$G$2="ja","00:00",BB7)) -> 0 | L7: =IF(OR(B7<=TODAY(),J7,AW7="G"),IF(J7<>"",IF(J7-K7=0,"",J7-K7),IF(K7<>"",-K7,"")),"") | M7: =IF(LOWER(AW7)=LOWER(Urlaub!$W$19),Urlaub!$S$19, IF(LOWER(AW7)=LOWER(Urlaub!$W$20),Urlaub!$S$20, IF(LOWER(AW7)=LOWER(Urlaub!$W$21),Urlaub!$S$21, IF(LOWER(AW7)=LOWER(Urlaub!$W$22),Urlaub!$S$22, IF(LOWER(AW7)=LOWER(Urlaub!$W$23),Urlaub!$S$23, IF(LOWER(AW7)=LOWER(Urlaub!$W$24),Urlaub!$S$24,""))))))&IF(AND(EXACT(LOWER(AW7),AW7),AW7<>0)," 1/2","") | N7: =24*J7*IF(WEEKDAY(C7)=WEEKDAY($P$6),$S$6, IF(WEEKDAY(C7)=WEEKDAY($P$7),$S$7, IF(WEEKDAY(C7)=WEEKDAY($P$8),$S$8, IF(WEEKDAY(C7)=WEEKDAY($P$9),$S$9, IF(WEEKDAY(C7)=WEEKDAY($P$10),$S$10, IF(WEEKDAY(C7)=WEEKDAY($P$11),$S$11, IF(WEEKDAY(C7)=WEEKDAY($P$12),$S$12,""))))))) -> 0 | P7: 41640 | Q7: 0.33333333 | R7: 0.020833333 | U7: Istzeit | V7: =SUM(J5:J35) -> 0 | AV7: =IF(IFERROR(MATCH($B7,Feiertage!$B$2:$B$34,0)>0,0),1,0) -> 0 | AW7: =IFERROR(HLOOKUP(DAY(B7),Urlaub!$C$4:$AG$16,MONTH(B7)+1,0),0) -> 0 | AX7: =IFERROR(IF(AW7=0,0,IF(EXACT(LOWER(AW7),AW7),0.5*BB7,BB7)),"") -> 0 | AY7: =IFERROR(IF(WEEKDAY(C7)=WEEKDAY($P$6),$R$6, IF(WEEKDAY(C7)=WEEKDAY($P$7),$R$7, IF(WEEKDAY(C7)=WEEKDAY($P$8),$R$8, IF(WEEKDAY(C7)=WEEKDAY($P$9),$R$9, IF(WEEKDAY(C7)=WEEKDAY($P$10),$R$10, IF(WEEKDAY(C7)=WEEKDAY($P$11),$R$11, IF(WEEKDAY(C7)=WEEKDAY($P$12),$R$12,""))))))),"") -> 0.020833333 | AZ7: =IF(F7,IF(E7,IF(E7>F7,F7+"24:00"-E7,F7-E7),0),0)+IF(G7,IF(G7,IF(G7>H7,H7+"24:00"-G7,H7-G7),0),0) -> 0 | BA7: =AZ7*24 -> 0 | BB7: =IFERROR(IF(WEEKDAY(C7)=WEEKDAY($P$6),$Q$6, IF(WEEKDAY(C7)=WEEKDAY($P$7),$Q$7, IF(WEEKDAY(C7)=WEEKDAY($P$8),$Q$8, IF(WEEKDAY(C7)=WEEKDAY($P$9),$Q$9, IF(WEEKDAY(C7)=WEEKDAY($P$10),$Q$10, IF(WEEKDAY(C7)=WEEKDAY($P$11),$Q$11, IF(WEEKDAY(C7)=WEEKDAY($P$12),$Q$12,""))))))),"") -> 0
B8: =B7+1 -> 41701 | C8: =B8 -> 41701 | I8: =IF(AZ8=0,"",IF(AY8=0,"",IF(OR(B8<=TODAY(),AZ8),AY8,""))) | J8: =IF(AND(Feiertage!$G$2<>"ja",AV8=1),IF(AZ8>0,BB8+AZ8,BB8),IF(AZ8=0,0, IF(I8<>"",AZ8-I8,AZ8)))+AX8 -> 0 | K8: =IF(AV8=0,BB8,IF(Feiertage!$G$2="ja","00:00",BB8)) -> 0 | L8: =IF(OR(B8<=TODAY(),J8,AW8="G"),IF(J8<>"",IF(J8-K8=0,"",J8-K8),IF(K8<>"",-K8,"")),"") | M8: =IF(LOWER(AW8)=LOWER(Urlaub!$W$19),Urlaub!$S$19, IF(LOWER(AW8)=LOWER(Urlaub!$W$20),Urlaub!$S$20, IF(LOWER(AW8)=LOWER(Urlaub!$W$21),Urlaub!$S$21, IF(LOWER(AW8)=LOWER(Urlaub!$W$22),Urlaub!$S$22, IF(LOWER(AW8)=LOWER(Urlaub!$W$23),Urlaub!$S$23, IF(LOWER(AW8)=LOWER(Urlaub!$W$24),Urlaub!$S$24,""))))))&IF(AND(EXACT(LOWER(AW8),AW8),AW8<>0)," 1/2","") | N8: =24*J8*IF(WEEKDAY(C8)=WEEKDAY($P$6),$S$6, IF(WEEKDAY(C8)=WEEKDAY($P$7),$S$7, IF(WEEKDAY(C8)=WEEKDAY($P$8),$S$8, IF(WEEKDAY(C8)=WEEKDAY($P$9),$S$9, IF(WEEKDAY(C8)=WEEKDAY($P$10),$S$10, IF(WEEKDAY(C8)=WEEKDAY($P$11),$S$11, IF(WEEKDAY(C8)=WEEKDAY($P$12),$S$12,""))))))) -> 0 | P8: 41641 | Q8: 0.33333333 | R8: 0.020833333 | U8: ="Saldo " & TEXT(B1,"MMMM") -> Saldo März | V8: =SUM(L5:L35) -> 0 | AV8: =IF(IFERROR(MATCH($B8,Feiertage!$B$2:$B$34,0)>0,0),1,0) -> 0 | AW8: =IFERROR(HLOOKUP(DAY(B8),Urlaub!$C$4:$AG$16,MONTH(B8)+1,0),0) -> 0 | AX8: =IFERROR(IF(AW8=0,0,IF(EXACT(LOWER(AW8),AW8),0.5*BB8,BB8)),"") -> 0 | AY8: =IFERROR(IF(WEEKDAY(C8)=WEEKDAY($P$6),$R$6, IF(WEEKDAY(C8)=WEEKDAY($P$7),$R$7, IF(WEEKDAY(C8)=WEEKDAY($P$8),$R$8, IF(WEEKDAY(C8)=WEEKDAY($P$9),$R$9, IF(WEEKDAY(C8)=WEEKDAY($P$10),$R$10, IF(WEEKDAY(C8)=WEEKDAY($P$11),$R$11, IF(WEEKDAY(C8)=WEEKDAY($P$12),$R$12,""))))))),"") -> 0.020833333 | AZ8: =IF(F8,IF(E8,IF(E8>F8,F8+"24:00"-E8,F8-E8),0),0)+IF(G8,IF(G8,IF(G8>H8,H8+"24:00"-G8,H8-G8),0),0) -> 0 | BA8: =AZ8*24 -> 0 | BB8: =IFERROR(IF(WEEKDAY(C8)=WEEKDAY($P$6),$Q$6, IF(WEEKDAY(C8)=WEEKDAY($P$7),$Q$7, IF(WEEKDAY(C8)=WEEKDAY($P$8),$Q$8, IF(WEEKDAY(C8)=WEEKDAY($P$9),$Q$9, IF(WEEKDAY(C8)=WEEKDAY($P$10),$Q$10, IF(WEEKDAY(C8)=WEEKDAY($P$11),$Q$11, IF(WEEKDAY(C8)=WEEKDAY($P$12),$Q$12,""))))))),"") -> 0
B9: =B8+1 -> 41702 | C9: =B9 -> 41702 | I9: =IF(AZ9=0,"",IF(AY9=0,"",IF(OR(B9<=TODAY(),AZ9),AY9,""))) | J9: =IF(AND(Feiertage!$G$2<>"ja",AV9=1),IF(AZ9>0,BB9+AZ9,BB9),IF(AZ9=0,0, IF(I9<>"",AZ9-I9,AZ9)))+AX9 -> 0 | K9: =IF(AV9=0,BB9,IF(Feiertage!$G$2="ja","00:00",BB9)) -> 0.33333333 | L9: =IF(OR(B9<=TODAY(),J9,AW9="G"),IF(J9<>"",IF(J9-K9=0,"",J9-K9),IF(K9<>"",-K9,"")),"") | M9: =IF(LOWER(AW9)=LOWER(Urlaub!$W$19),Urlaub!$S$19, IF(LOWER(AW9)=LOWER(Urlaub!$W$20),Urlaub!$S$20, IF(LOWER(AW9)=LOWER(Urlaub!$W$21),Urlaub!$S$21, IF(LOWER(AW9)=LOWER(Urlaub!$W$22),Urlaub!$S$22, IF(LOWER(AW9)=LOWER(Urlaub!$W$23),Urlaub!$S$23, IF(LOWER(AW9)=LOWER(Urlaub!$W$24),Urlaub!$S$24,""))))))&IF(AND(EXACT(LOWER(AW9),AW9),AW9<>0)," 1/2","") | N9: =24*J9*IF(WEEKDAY(C9)=WEEKDAY($P$6),$S$6, IF(WEEKDAY(C9)=WEEKDAY($P$7),$S$7, IF(WEEKDAY(C9)=WEEKDAY($P$8),$S$8, IF(WEEKDAY(C9)=WEEKDAY($P$9),$S$9, IF(WEEKDAY(C9)=WEEKDAY($P$10),$S$10, IF(WEEKDAY(C9)=WEEKDAY($P$11),$S$11, IF(WEEKDAY(C9)=WEEKDAY($P$12),$S$12,""))))))) -> 0 | P9: 41642 | Q9: 0.33333333 | R9: 0.020833333 | U9: ="Übertrag in " & IF( MONTH(B1)=12, YEAR(B1)+1, TEXT(EDATE(B1,1),"MMMM")) -> Übertrag in April | V9: =IF(V5="",0,V5)+V8 -> -0.13541667 | AV9: =IF(IFERROR(MATCH($B9,Feiertage!$B$2:$B$34,0)>0,0),1,0) -> 0 | AW9: =IFERROR(HLOOKUP(DAY(B9),Urlaub!$C$4:$AG$16,MONTH(B9)+1,0),0) -> 0 | AX9: =IFERROR(IF(AW9=0,0,IF(EXACT(LOWER(AW9),AW9),0.5*BB9,BB9)),"") -> 0 | AY9: =IFERROR(IF(WEEKDAY(C9)=WEEKDAY($P$6),$R$6, IF(WEEKDAY(C9)=WEEKDAY($P$7),$R$7, IF(WEEKDAY(C9)=WEEKDAY($P$8),$R$8, IF(WEEKDAY(C9)=WEEKDAY($P$9),$R$9, IF(WEEKDAY(C9)=WEEKDAY($P$10),$R$10, IF(WEEKDAY(C9)=WEEKDAY($P$11),$R$11, IF(WEEKDAY(C9)=WEEKDAY($P$12),$R$12,""))))))),"") -> 0.020833333 | AZ9: =IF(F9,IF(E9,IF(E9>F9,F9+"24:00"-E9,F9-E9),0),0)+IF(G9,IF(G9,IF(G9>H9,H9+"24:00"-G9,H9-G9),0),0) -> 0 | BA9: =AZ9*24 -> 0 | BB9: =IFERROR(IF(WEEKDAY(C9)=WEEKDAY($P$6),$Q$6, IF(WEEKDAY(C9)=WEEKDAY($P$7),$Q$7, IF(WEEKDAY(C9)=WEEKDAY($P$8),$Q$8, IF(WEEKDAY(C9)=WEEKDAY($P$9),$Q$9, IF(WEEKDAY(C9)=WEEKDAY($P$10),$Q$10, IF(WEEKDAY(C9)=WEEKDAY($P$11),$Q$11, IF(WEEKDAY(C9)=WEEKDAY($P$12),$Q$12,""))))))),"") -> 0.33333333
B10: =B9+1 -> 41703 | C10: =B10 -> 41703 | I10: =IF(AZ10=0,"",IF(AY10=0,"",IF(OR(B10<=TODAY(),AZ10),AY10,""))) | J10: =IF(AND(Feiertage!$G$2<>"ja",AV10=1),IF(AZ10>0,BB10+AZ10,BB10),IF(AZ10=0,0, IF(I10<>"",AZ10-I10,AZ10)))+AX10 -> 0 | K10: =IF(AV10=0,BB10,IF(Feiertage!$G$2="ja","00:00",BB10)) -> 0.33333333 | L10: =IF(OR(B10<=TODAY(),J10,AW10="G"),IF(J10<>"",IF(J10-K10=0,"",J10-K10),IF(K10<>"",-K10,"")),"") | M10: =IF(LOWER(AW10)=LOWER(Urlaub!$W$19),Urlaub!$S$19, IF(LOWER(AW10)=LOWER(Urlaub!$W$20),Urlaub!$S$20, IF(LOWER(AW10)=LOWER(Urlaub!$W$21),Urlaub!$S$21, IF(LOWER(AW10)=LOWER(Urlaub!$W$22),Urlaub!$S$22, IF(LOWER(AW10)=LOWER(Urlaub!$W$23),Urlaub!$S$23, IF(LOWER(AW10)=LOWER(Urlaub!$W$24),Urlaub!$S$24,""))))))&IF(AND(EXACT(LOWER(AW10),AW10),AW10<>0)," 1/2","") | N10: =24*J10*IF(WEEKDAY(C10)=WEEKDAY($P$6),$S$6, IF(WEEKDAY(C10)=WEEKDAY($P$7),$S$7, IF(WEEKDAY(C10)=WEEKDAY($P$8),$S$8, IF(WEEKDAY(C10)=WEEKDAY($P$9),$S$9, IF(WEEKDAY(C10)=WEEKDAY($P$10),$S$10, IF(WEEKDAY(C10)=WEEKDAY($P$11),$S$11, IF(WEEKDAY(C10)=WEEKDAY($P$12),$S$12,""))))))) -> 0 | P10: 41643 | Q10: 0.25 | R10: 0.020833333 | AV10: =IF(IFERROR(MATCH($B10,Feiertage!$B$2:$B$34,0)>0,0),1,0) -> 0 | AW10: =IFERROR(HLOOKUP(DAY(B10),Urlaub!$C$4:$AG$16,MONTH(B10)+1,0),0) -> 0 | AX10: =IFERROR(IF(AW10=0,0,IF(EXACT(LOWER(AW10),AW10),0.5*BB10,BB10)),"") -> 0 | AY10: =IFERROR(IF(WEEKDAY(C10)=WEEKDAY($P$6),$R$6, IF(WEEKDAY(C10)=WEEKDAY($P$7),$R$7, IF(WEEKDAY(C10)=WEEKDAY($P$8),$R$8, IF(WEEKDAY(C10)=WEEKDAY($P$9),$R$9, IF(WEEKDAY(C10)=WEEKDAY($P$10),$R$10, IF(WEEKDAY(C10)=WEEKDAY($P$11),$R$11, IF(WEEKDAY(C10)=WEEKDAY($P$12),$R$12,""))))))),"") -> 0.020833333 | AZ10: =IF(F10,IF(E10,IF(E10>F10,F10+"24:00"-E10,F10-E10),0),0)+IF(G10,IF(G10,IF(G10>H10,H10+"24:00"-G10,H10-G10),0),0) -> 0 | BA10: =AZ10*24 -> 0 | BB10: =IFERROR(IF(WEEKDAY(C10)=WEEKDAY($P$6),$Q$6, IF(WEEKDAY(C10)=WEEKDAY($P$7),$Q$7, IF(WEEKDAY(C10)=WEEKDAY($P$8),$Q$8, IF(WEEKDAY(C10)=WEEKDAY($P$9),$Q$9, IF(WEEKDAY(C10)=WEEKDAY($P$10),$Q$10, IF(WEEKDAY(C10)=WEEKDAY($P$11),$Q$11, IF(WEEKDAY(C10)=WEEKDAY($P$12),$Q$12,""))))))),"") -> 0.33333333
B11: =B10+1 -> 41704 | C11: =B11 -> 41704 | I11: =IF(AZ11=0,"",IF(AY11=0,"",IF(OR(B11<=TODAY(),AZ11),AY11,""))) | J11: =IF(AND(Feiertage!$G$2<>"ja",AV11=1),IF(AZ11>0,BB11+AZ11,BB11),IF(AZ11=0,0, IF(I11<>"",AZ11-I11,AZ11)))+AX11 -> 0 | K11: =IF(AV11=0,BB11,IF(Feiertage!$G$2="ja","00:00",BB11)) -> 0.33333333 | L11: =IF(OR(B11<=TODAY(),J11,AW11="G"),IF(J11<>"",IF(J11-K11=0,"",J11-K11),IF(K11<>"",-K11,"")),"") | M11: =IF(LOWER(AW11)=LOWER(Urlaub!$W$19),Urlaub!$S$19, IF(LOWER(AW11)=LOWER(Urlaub!$W$20),Urlaub!$S$20, IF(LOWER(AW11)=LOWER(Urlaub!$W$21),Urlaub!$S$21, IF(LOWER(AW11)=LOWER(Urlaub!$W$22),Urlaub!$S$22, IF(LOWER(AW11)=LOWER(Urlaub!$W$23),Urlaub!$S$23, IF(LOWER(AW11)=LOWER(Urlaub!$W$24),Urlaub!$S$24,""))))))&IF(AND(EXACT(LOWER(AW11),AW11),AW11<>0)," 1/2","") | N11: =24*J11*IF(WEEKDAY(C11)=WEEKDAY($P$6),$S$6, IF(WEEKDAY(C11)=WEEKDAY($P$7),$S$7, IF(WEEKDAY(C11)=WEEKDAY($P$8),$S$8, IF(WEEKDAY(C11)=WEEKDAY($P$9),$S$9, IF(WEEKDAY(C11)=WEEKDAY($P$10),$S$10, IF(WEEKDAY(C11)=WEEKDAY($P$11),$S$11, IF(WEEKDAY(C11)=WEEKDAY($P$12),$S$12,""))))))) -> 0 | P11: 41644 | Q11: 0 | R11: 0.020833333 | AV11: =IF(IFERROR(MATCH($B11,Feiertage!$B$2:$B$34,0)>0,0),1,0) -> 0 | AW11: =IFERROR(HLOOKUP(DAY(B11),Urlaub!$C$4:$AG$16,MONTH(B11)+1,0),0) -> 0 | AX11: =IFERROR(IF(AW11=0,0,IF(EXACT(LOWER(AW11),AW11),0.5*BB11,BB11)),"") -> 0 | AY11: =IFERROR(IF(WEEKDAY(C11)=WEEKDAY($P$6),$R$6, IF(WEEKDAY(C11)=WEEKDAY($P$7),$R$7, IF(WEEKDAY(C11)=WEEKDAY($P$8),$R$8, IF(WEEKDAY(C11)=WEEKDAY($P$9),$R$9, IF(WEEKDAY(C11)=WEEKDAY($P$10),$R$10, IF(WEEKDAY(C11)=WEEKDAY($P$11),$R$11, IF(WEEKDAY(C11)=WEEKDAY($P$12),$R$12,""))))))),"") -> 0.020833333 | AZ11: =IF(F11,IF(E11,IF(E11>F11,F11+"24:00"-E11,F11-E11),0),0)+IF(G11,IF(G11,IF(G11>H11,H11+"24:00"-G11,H11-G11),0),0) -> 0 | BA11: =AZ11*24 -> 0 | BB11: =IFERROR(IF(WEEKDAY(C11)=WEEKDAY($P$6),$Q$6, IF(WEEKDAY(C11)=WEEKDAY($P$7),$Q$7, IF(WEEKDAY(C11)=WEEKDAY($P$8),$Q$8, IF(WEEKDAY(C11)=WEEKDAY($P$9),$Q$9, IF(WEEKDAY(C11)=WEEKDAY($P$10),$Q$10, IF(WEEKDAY(C11)=WEEKDAY($P$11),$Q$11, IF(WEEKDAY(C11)=WEEKDAY($P$12),$Q$12,""))))))),"") -> 0.33333333
B12: =B11+1 -> 41705 | C12: =B12 -> 41705 | I12: =IF(AZ12=0,"",IF(AY12=0,"",IF(OR(B12<=TODAY(),AZ12),AY12,""))) | J12: =IF(AND(Feiertage!$G$2<>"ja",AV12=1),IF(AZ12>0,BB12+AZ12,BB12),IF(AZ12=0,0, IF(I12<>"",AZ12-I12,AZ12)))+AX12 -> 0 | K12: =IF(AV12=0,BB12,IF(Feiertage!$G$2="ja","00:00",BB12)) -> 0.33333333 | L12: =IF(OR(B12<=TODAY(),J12,AW12="G"),IF(J12<>"",IF(J12-K12=0,"",J12-K12),IF(K12<>"",-K12,"")),"") | M12: =IF(LOWER(AW12)=LOWER(Urlaub!$W$19),Urlaub!$S$19, IF(LOWER(AW12)=LOWER(Urlaub!$W$20),Urlaub!$S$20, IF(LOWER(AW12)=LOWER(Urlaub!$W$21),Urlaub!$S$21, IF(LOWER(AW12)=LOWER(Urlaub!$W$22),Urlaub!$S$22, IF(LOWER(AW12)=LOWER(Urlaub!$W$23),Urlaub!$S$23, IF(LOWER(AW12)=LOWER(Urlaub!$W$24),Urlaub!$S$24,""))))))&IF(AND(EXACT(LOWER(AW12),AW12),AW12<>0)," 1/2","") | N12: =24*J12*IF(WEEKDAY(C12)=WEEKDAY($P$6),$S$6, IF(WEEKDAY(C12)=WEEKDAY($P$7),$S$7, IF(WEEKDAY(C12)=WEEKDAY($P$8),$S$8, IF(WEEKDAY(C12)=WEEKDAY($P$9),$S$9, IF(WEEKDAY(C12)=WEEKDAY($P$10),$S$10, IF(WEEKDAY(C12)=WEEKDAY($P$11),$S$11, IF(WEEKDAY(C12)=WEEKDAY($P$12),$S$12,""))))))) -> 0 | P12: 41645 | Q12: 0 | R12: 0.020833333 | AV12: =IF(IFERROR(MATCH($B12,Feiertage!$B$2:$B$34,0)>0,0),1,0) -> 0 | AW12: =IFERROR(HLOOKUP(DAY(B12),Urlaub!$C$4:$AG$16,MONTH(B12)+1,0),0) -> 0 | AX12: =IFERROR(IF(AW12=0,0,IF(EXACT(LOWER(AW12),AW12),0.5*BB12,BB12)),"") -> 0 | AY12: =IFERROR(IF(WEEKDAY(C12)=WEEKDAY($P$6),$R$6, IF(WEEKDAY(C12)=WEEKDAY($P$7),$R$7, IF(WEEKDAY(C12)=WEEKDAY($P$8),$R$8, IF(WEEKDAY(C12)=WEEKDAY($P$9),$R$9, IF(WEEKDAY(C12)=WEEKDAY($P$10),$R$10, IF(WEEKDAY(C12)=WEEKDAY($P$11),$R$11, IF(WEEKDAY(C12)=WEEKDAY($P$12),$R$12,""))))))),"") -> 0.020833333 | AZ12: =IF(F12,IF(E12,IF(E12>F12,F12+"24:00"-E12,F12-E12),0),0)+IF(G12,IF(G12,IF(G12>H12,H12+"24:00"-G12,H12-G12),0),0) -> 0 | BA12: =AZ12*24 -> 0 | BB12: =IFERROR(IF(WEEKDAY(C12)=WEEKDAY($P$6),$Q$6, IF(WEEKDAY(C12)=WEEKDAY($P$7),$Q$7, IF(WEEKDAY(C12)=WEEKDAY($P$8),$Q$8, IF(WEEKDAY(C12)=WEEKDAY($P$9),$Q$9, IF(WEEKDAY(C12)=WEEKDAY($P$10),$Q$10, IF(WEEKDAY(C12)=WEEKDAY($P$11),$Q$11, IF(WEEKDAY(C12)=WEEKDAY($P$12),$Q$12,""))))))),"") -> 0.33333333
B13: =B12+1 -> 41706 | C13: =B13 -> 41706 | I13: =IF(AZ13=0,"",IF(AY13=0,"",IF(OR(B13<=TODAY(),AZ13),AY13,""))) | J13: =IF(AND(Feiertage!$G$2<>"ja",AV13=1),IF(AZ13>0,BB13+AZ13,BB13),IF(AZ13=0,0, IF(I13<>"",AZ13-I13,AZ13)))+AX13 -> 0 | K13: =IF(AV13=0,BB13,IF(Feiertage!$G$2="ja","00:00",BB13)) -> 0.25 | L13: =IF(OR(B13<=TODAY(),J13,AW13="G"),IF(J13<>"",IF(J13-K13=0,"",J13-K13),IF(K13<>"",-K13,"")),"") | M13: =IF(LOWER(AW13)=LOWER(Urlaub!$W$19),Urlaub!$S$19, IF(LOWER(AW13)=LOWER(Urlaub!$W$20),Urlaub!$S$20, IF(LOWER(AW13)=LOWER(Urlaub!$W$21),Urlaub!$S$21, IF(LOWER(AW13)=LOWER(Urlaub!$W$22),Urlaub!$S$22, IF(LOWER(AW13)=LOWER(Urlaub!$W$23),Urlaub!$S$23, IF(LOWER(AW13)=LOWER(Urlaub!$W$24),Urlaub!$S$24,""))))))&IF(AND(EXACT(LOWER(AW13),AW13),AW13<>0)," 1/2","") | N13: =24*J13*IF(WEEKDAY(C13)=WEEKDAY($P$6),$S$6, IF(WEEKDAY(C13)=WEEKDAY($P$7),$S$7, IF(WEEKDAY(C13)=WEEKDAY($P$8),$S$8, IF(WEEKDAY(C13)=WEEKDAY($P$9),$S$9, IF(WEEKDAY(C13)=WEEKDAY($P$10),$S$10, IF(WEEKDAY(C13)=WEEKDAY($P$11),$S$11, IF(WEEKDAY(C13)=WEEKDAY($P$12),$S$12,""))))))) -> 0 | P13: Wochensoll | Q13: =SUM(Q6:Q12) -> 1.5833333 | AV13: =IF(IFERROR(MATCH($B13,Feiertage!$B$2:$B$34,0)>0,0),1,0) -> 0 | AW13: =IFERROR(HLOOKUP(DAY(B13),Urlaub!$C$4:$AG$16,MONTH(B13)+1,0),0) -> 0 | AX13: =IFERROR(IF(AW13=0,0,IF(EXACT(LOWER(AW13),AW13),0.5*BB13,BB13)),"") -> 0 | AY13: =IFERROR(IF(WEEKDAY(C13)=WEEKDAY($P$6),$R$6, IF(WEEKDAY(C13)=WEEKDAY($P$7),$R$7, IF(WEEKDAY(C13)=WEEKDAY($P$8),$R$8, IF(WEEKDAY(C13)=WEEKDAY($P$9),$R$9, IF(WEEKDAY(C13)=WEEKDAY($P$10),$R$10, IF(WEEKDAY(C13)=WEEKDAY($P$11),$R$11, IF(WEEKDAY(C13)=WEEKDAY($P$12),$R$12,""))))))),"") -> 0.020833333 | AZ13: =IF(F13,IF(E13,IF(E13>F13,F13+"24:00"-E13,F13-E13),0),0)+IF(G13,IF(G13,IF(G13>H13,H13+"24:00"-G13,H13-G13),0),0) -> 0 | BA13: =AZ13*24 -> 0 | BB13: =IFERROR(IF(WEEKDAY(C13)=WEEKDAY($P$6),$Q$6, IF(WEEKDAY(C13)=WEEKDAY($P$7),$Q$7, IF(WEEKDAY(C13)=WEEKDAY($P$8),$Q$8, IF(WEEKDAY(C13)=WEEKDAY($P$9),$Q$9, IF(WEEKDAY(C13)=WEEKDAY($P$10),$Q$10, IF(WEEKDAY(C13)=WEEKDAY($P$11),$Q$11, IF(WEEKDAY(C13)=WEEKDAY($P$12),$Q$12,""))))))),"") -> 0.25
B14: =B13+1 -> 41707 | C14: =B14 -> 41707 | I14: =IF(AZ14=0,"",IF(AY14=0,"",IF(OR(B14<=TODAY(),AZ14),AY14,""))) | J14: =IF(AND(Feiertage!$G$2<>"ja",AV14=1),IF(AZ14>0,BB14+AZ14,BB14),IF(AZ14=0,0, IF(I14<>"",AZ14-I14,AZ14)))+AX14 -> 0 | K14: =IF(AV14=0,BB14,IF(Feiertage!$G$2="ja","00:00",BB14)) -> 0 | L14: =IF(OR(B14<=TODAY(),J14,AW14="G"),IF(J14<>"",IF(J14-K14=0,"",J14-K14),IF(K14<>"",-K14,"")),"") | M14: =IF(LOWER(AW14)=LOWER(Urlaub!$W$19),Urlaub!$S$19, IF(LOWER(AW14)=LOWER(Urlaub!$W$20),Urlaub!$S$20, IF(LOWER(AW14)=LOWER(Urlaub!$W$21),Urlaub!$S$21, IF(LOWER(AW14)=LOWER(Urlaub!$W$22),Urlaub!$S$22, IF(LOWER(AW14)=LOWER(Urlaub!$W$23),Urlaub!$S$23, IF(LOWER(AW14)=LOWER(Urlaub!$W$24),Urlaub!$S$24,""))))))&IF(AND(EXACT(LOWER(AW14),AW14),AW14<>0)," 1/2","") | N14: =24*J14*IF(WEEKDAY(C14)=WEEKDAY($P$6),$S$6, IF(WEEKDAY(C14)=WEEKDAY($P$7),$S$7, IF(WEEKDAY(C14)=WEEKDAY($P$8),$S$8, IF(WEEKDAY(C14)=WEEKDAY($P$9),$S$9, IF(WEEKDAY(C14)=WEEKDAY($P$10),$S$10, IF(WEEKDAY(C14)=WEEKDAY($P$11),$S$11, IF(WEEKDAY(C14)=WEEKDAY($P$12),$S$12,""))))))) -> 0 | AV14: =IF(IFERROR(MATCH($B14,Feiertage!$B$2:$B$34,0)>0,0),1,0) -> 0 | AW14: =IFERROR(HLOOKUP(DAY(B14),Urlaub!$C$4:$AG$16,MONTH(B14)+1,0),0) -> 0 | AX14: =IFERROR(IF(AW14=0,0,IF(EXACT(LOWER(AW14),AW14),0.5*BB14,BB14)),"") -> 0 | AY14: =IFERROR(IF(WEEKDAY(C14)=WEEKDAY($P$6),$R$6, IF(WEEKDAY(C14)=WEEKDAY($P$7),$R$7, IF(WEEKDAY(C14)=WEEKDAY($P$8),$R$8, IF(WEEKDAY(C14)=WEEKDAY($P$9),$R$9, IF(WEEKDAY(C14)=WEEKDAY($P$10),$R$10, IF(WEEKDAY(C14)=WEEKDAY($P$11),$R$11, IF(WEEKDAY(C14)=WEEKDAY($P$12),$R$12,""))))))),"") -> 0.020833333 | AZ14: =IF(F14,IF(E14,IF(E14>F14,F14+"24:00"-E14,F14-E14),0),0)+IF(G14,IF(G14,IF(G14>H14,H14+"24:00"-G14,H14-G14),0),0) -> 0 | BA14: =AZ14*24 -> 0 | BB14: =IFERROR(IF(WEEKDAY(C14)=WEEKDAY($P$6),$Q$6, IF(WEEKDAY(C14)=WEEKDAY($P$7),$Q$7, IF(WEEKDAY(C14)=WEEKDAY($P$8),$Q$8, IF(WEEKDAY(C14)=WEEKDAY($P$9),$Q$9, IF(WEEKDAY(C14)=WEEKDAY($P$10),$Q$10, IF(WEEKDAY(C14)=WEEKDAY($P$11),$Q$11, IF(WEEKDAY(C14)=WEEKDAY($P$12),$Q$12,""))))))),"") -> 0
B15: =B14+1 -> 41708 | C15: =B15 -> 41708 | I15: =IF(AZ15=0,"",IF(AY15=0,"",IF(OR(B15<=TODAY(),AZ15),AY15,""))) | J15: =IF(AND(Feiertage!$G$2<>"ja",AV15=1),IF(AZ15>0,BB15+AZ15,BB15),IF(AZ15=0,0, IF(I15<>"",AZ15-I15,AZ15)))+AX15 -> 0 | K15: =IF(AV15=0,BB15,IF(Feiertage!$G$2="ja","00:00",BB15)) -> 0 | L15: =IF(OR(B15<=TODAY(),J15,AW15="G"),IF(J15<>"",IF(J15-K15=0,"",J15-K15),IF(K15<>"",-K15,"")),"") | M15: =IF(LOWER(AW15)=LOWER(Urlaub!$W$19),Urlaub!$S$19, IF(LOWER(AW15)=LOWER(Urlaub!$W$20),Urlaub!$S$20, IF(LOWER(AW15)=LOWER(Urlaub!$W$21),Urlaub!$S$21, IF(LOWER(AW15)=LOWER(Urlaub!$W$22),Urlaub!$S$22, IF(LOWER(AW15)=LOWER(Urlaub!$W$23),Urlaub!$S$23, IF(LOWER(AW15)=LOWER(Urlaub!$W$24),Urlaub!$S$24,""))))))&IF(AND(EXACT(LOWER(AW15),AW15),AW15<>0)," 1/2","") | N15: =24*J15*IF(WEEKDAY(C15)=WEEKDAY($P$6),$S$6, IF(WEEKDAY(C15)=WEEKDAY($P$7),$S$7, IF(WEEKDAY(C15)=WEEKDAY($P$8),$S$8, IF(WEEKDAY(C15)=WEEKDAY($P$9),$S$9, IF(WEEKDAY(C15)=WEEKDAY($P$10),$S$10, IF(WEEKDAY(C15)=WEEKDAY($P$11),$S$11, IF(WEEKDAY(C15)=WEEKDAY($P$12),$S$12,""))))))) -> 0 | AV15: =IF(IFERROR(MATCH($B15,Feiertage!$B$2:$B$34,0)>0,0),1,0) -> 0 | AW15: =IFERROR(HLOOKUP(DAY(B15),Urlaub!$C$4:$AG$16,MONTH(B15)+1,0),0) -> 0 | AX15: =IFERROR(IF(AW15=0,0,IF(EXACT(LOWER(AW15),AW15),0.5*BB15,BB15)),"") -> 0 | AY15: =IFERROR(IF(WEEKDAY(C15)=WEEKDAY($P$6),$R$6, IF(WEEKDAY(C15)=WEEKDAY($P$7),$R$7, IF(WEEKDAY(C15)=WEEKDAY($P$8),$R$8, IF(WEEKDAY(C15)=WEEKDAY($P$9),$R$9, IF(WEEKDAY(C15)=WEEKDAY($P$10),$R$10, IF(WEEKDAY(C15)=WEEKDAY($P$11),$R$11, IF(WEEKDAY(C15)=WEEKDAY($P$12),$R$12,""))))))),"") -> 0.020833333 | AZ15: =IF(F15,IF(E15,IF(E15>F15,F15+"24:00"-E15,F15-E15),0),0)+IF(G15,IF(G15,IF(G15>H15,H15+"24:00"-G15,H15-G15),0),0) -> 0 | BA15: =AZ15*24 -> 0 | BB15: =IFERROR(IF(WEEKDAY(C15)=WEEKDAY($P$6),$Q$6, IF(WEEKDAY(C15)=WEEKDAY($P$7),$Q$7, IF(WEEKDAY(C15)=WEEKDAY($P$8),$Q$8, IF(WEEKDAY(C15)=WEEKDAY($P$9),$Q$9, IF(WEEKDAY(C15)=WEEKDAY($P$10),$Q$10, IF(WEEKDAY(C15)=WEEKDAY($P$11),$Q$11, IF(WEEKDAY(C15)=WEEKDAY($P$12),$Q$12,""))))))),"") -> 0
B16: =B15+1 -> 41709 | C16: =B16 -> 41709 | I16: =IF(AZ16=0,"",IF(AY16=0,"",IF(OR(B16<=TODAY(),AZ16),AY16,""))) | J16: =IF(AND(Feiertage!$G$2<>"ja",AV16=1),IF(AZ16>0,BB16+AZ16,BB16),IF(AZ16=0,0, IF(I16<>"",AZ16-I16,AZ16)))+AX16 -> 0 | K16: =IF(AV16=0,BB16,IF(Feiertage!$G$2="ja","00:00",BB16)) -> 0.33333333 | L16: =IF(OR(B16<=TODAY(),J16,AW16="G"),IF(J16<>"",IF(J16-K16=0,"",J16-K16),IF(K16<>"",-K16,"")),"") | M16: =IF(LOWER(AW16)=LOWER(Urlaub!$W$19),Urlaub!$S$19, IF(LOWER(AW16)=LOWER(Urlaub!$W$20),Urlaub!$S$20, IF(LOWER(AW16)=LOWER(Urlaub!$W$21),Urlaub!$S$21, IF(LOWER(AW16)=LOWER(Urlaub!$W$22),Urlaub!$S$22, IF(LOWER(AW16)=LOWER(Urlaub!$W$23),Urlaub!$S$23, IF(LOWER(AW16)=LOWER(Urlaub!$W$24),Urlaub!$S$24,""))))))&IF(AND(EXACT(LOWER(AW16),AW16),AW16<>0)," 1/2","") | N16: =24*J16*IF(WEEKDAY(C16)=WEEKDAY($P$6),$S$6, IF(WEEKDAY(C16)=WEEKDAY($P$7),$S$7, IF(WEEKDAY(C16)=WEEKDAY($P$8),$S$8, IF(WEEKDAY(C16)=WEEKDAY($P$9),$S$9, IF(WEEKDAY(C16)=WEEKDAY($P$10),$S$10, IF(WEEKDAY(C16)=WEEKDAY($P$11),$S$11, IF(WEEKDAY(C16)=WEEKDAY($P$12),$S$12,""))))))) -> 0 | AV16: =IF(IFERROR(MATCH($B16,Feiertage!$B$2:$B$34,0)>0,0),1,0) -> 0 | AW16: =IFERROR(HLOOKUP(DAY(B16),Urlaub!$C$4:$AG$16,MONTH(B16)+1,0),0) -> 0 | AX16: =IFERROR(IF(AW16=0,0,IF(EXACT(LOWER(AW16),AW16),0.5*BB16,BB16)),"") -> 0 | AY16: =IFERROR(IF(WEEKDAY(C16)=WEEKDAY($P$6),$R$6, IF(WEEKDAY(C16)=WEEKDAY($P$7),$R$7, IF(WEEKDAY(C16)=WEEKDAY($P$8),$R$8, IF(WEEKDAY(C16)=WEEKDAY($P$9),$R$9, IF(WEEKDAY(C16)=WEEKDAY($P$10),$R$10, IF(WEEKDAY(C16)=WEEKDAY($P$11),$R$11, IF(WEEKDAY(C16)=WEEKDAY($P$12),$R$12,""))))))),"") -> 0.020833333 | AZ16: =IF(F16,IF(E16,IF(E16>F16,F16+"24:00"-E16,F16-E16),0),0)+IF(G16,IF(G16,IF(G16>H16,H16+"24:00"-G16,H16-G16),0),0) -> 0 | BA16: =AZ16*24 -> 0 | BB16: =IFERROR(IF(WEEKDAY(C16)=WEEKDAY($P$6),$Q$6, IF(WEEKDAY(C16)=WEEKDAY($P$7),$Q$7, IF(WEEKDAY(C16)=WEEKDAY($P$8),$Q$8, IF(WEEKDAY(C16)=WEEKDAY($P$9),$Q$9, IF(WEEKDAY(C16)=WEEKDAY($P$10),$Q$10, IF(WEEKDAY(C16)=WEEKDAY($P$11),$Q$11, IF(WEEKDAY(C16)=WEEKDAY($P$12),$Q$12,""))))))),"") -> 0.33333333
B17: =B16+1 -> 41710 | C17: =B17 -> 41710 | I17: =IF(AZ17=0,"",IF(AY17=0,"",IF(OR(B17<=TODAY(),AZ17),AY17,""))) | J17: =IF(AND(Feiertage!$G$2<>"ja",AV17=1),IF(AZ17>0,BB17+AZ17,BB17),IF(AZ17=0,0, IF(I17<>"",AZ17-I17,AZ17)))+AX17 -> 0 | K17: =IF(AV17=0,BB17,IF(Feiertage!$G$2="ja","00:00",BB17)) -> 0.33333333 | L17: =IF(OR(B17<=TODAY(),J17,AW17="G"),IF(J17<>"",IF(J17-K17=0,"",J17-K17),IF(K17<>"",-K17,"")),"") | M17: =IF(LOWER(AW17)=LOWER(Urlaub!$W$19),Urlaub!$S$19, IF(LOWER(AW17)=LOWER(Urlaub!$W$20),Urlaub!$S$20, IF(LOWER(AW17)=LOWER(Urlaub!$W$21),Urlaub!$S$21, IF(LOWER(AW17)=LOWER(Urlaub!$W$22),Urlaub!$S$22, IF(LOWER(AW17)=LOWER(Urlaub!$W$23),Urlaub!$S$23, IF(LOWER(AW17)=LOWER(Urlaub!$W$24),Urlaub!$S$24,""))))))&IF(AND(EXACT(LOWER(AW17),AW17),AW17<>0)," 1/2","") | N17: =24*J17*IF(WEEKDAY(C17)=WEEKDAY($P$6),$S$6, IF(WEEKDAY(C17)=WEEKDAY($P$7),$S$7, IF(WEEKDAY(C17)=WEEKDAY($P$8),$S$8, IF(WEEKDAY(C17)=WEEKDAY($P$9),$S$9, IF(WEEKDAY(C17)=WEEKDAY($P$10),$S$10, IF(WEEKDAY(C17)=WEEKDAY($P$11),$S$11, IF(WEEKDAY(C17)=WEEKDAY($P$12),$S$12,""))))))) -> 0 | AV17: =IF(IFERROR(MATCH($B17,Feiertage!$B$2:$B$34,0)>0,0),1,0) -> 0 | AW17: =IFERROR(HLOOKUP(DAY(B17),Urlaub!$C$4:$AG$16,MONTH(B17)+1,0),0) -> 0 | AX17: =IFERROR(IF(OR(AW17=0,AW17="G"),0,IF(EXACT(LOWER(AW17),AW17),0.5*BB17,BB17)),"") -> 0 | AY17: =IFERROR(IF(WEEKDAY(C17)=WEEKDAY($P$6),$R$6, IF(WEEKDAY(C17)=WEEKDAY($P$7),$R$7, IF(WEEKDAY(C17)=WEEKDAY($P$8),$R$8, IF(WEEKDAY(C17)=WEEKDAY($P$9),$R$9, IF(WEEKDAY(C17)=WEEKDAY($P$10),$R$10, IF(WEEKDAY(C17)=WEEKDAY($P$11),$R$11, IF(WEEKDAY(C17)=WEEKDAY($P$12),$R$12,""))))))),"") -> 0.020833333 | AZ17: =IF(F17,IF(E17,IF(E17>F17,F17+"24:00"-E17,F17-E17),0),0)+IF(G17,IF(G17,IF(G17>H17,H17+"24:00"-G17,H17-G17),0),0) -> 0 | BA17: =AZ17*24 -> 0 | BB17: =IFERROR(IF(WEEKDAY(C17)=WEEKDAY($P$6),$Q$6, IF(WEEKDAY(C17)=WEEKDAY($P$7),$Q$7, IF(WEEKDAY(C17)=WEEKDAY($P$8),$Q$8, IF(WEEKDAY(C17)=WEEKDAY($P$9),$Q$9, IF(WEEKDAY(C17)=WEEKDAY($P$10),$Q$10, IF(WEEKDAY(C17)=WEEKDAY($P$11),$Q$11, IF(WEEKDAY(C17)=WEEKDAY($P$12),$Q$12,""))))))),"") -> 0.33333333
B18: =B17+1 -> 41711 | C18: =B18 -> 41711 | I18: =IF(AZ18=0,"",IF(AY18=0,"",IF(OR(B18<=TODAY(),AZ18),AY18,""))) | J18: =IF(AND(Feiertage!$G$2<>"ja",AV18=1),IF(AZ18>0,BB18+AZ18,BB18),IF(AZ18=0,0, IF(I18<>"",AZ18-I18,AZ18)))+AX18 -> 0 | K18: =IF(AV18=0,BB18,IF(Feiertage!$G$2="ja","00:00",BB18)) -> 0.33333333 | L18: =IF(OR(B18<=TODAY(),J18,AW18="G"),IF(J18<>"",IF(J18-K18=0,"",J18-K18),IF(K18<>"",-K18,"")),"") | M18: =IF(LOWER(AW18)=LOWER(Urlaub!$W$19),Urlaub!$S$19, IF(LOWER(AW18)=LOWER(Urlaub!$W$20),Urlaub!$S$20, IF(LOWER(AW18)=LOWER(Urlaub!$W$21),Urlaub!$S$21, IF(LOWER(AW18)=LOWER(Urlaub!$W$22),Urlaub!$S$22, IF(LOWER(AW18)=LOWER(Urlaub!$W$23),Urlaub!$S$23, IF(LOWER(AW18)=LOWER(Urlaub!$W$24),Urlaub!$S$24,""))))))&IF(AND(EXACT(LOWER(AW18),AW18),AW18<>0)," 1/2","") | N18: =24*J18*IF(WEEKDAY(C18)=WEEKDAY($P$6),$S$6, IF(WEEKDAY(C18)=WEEKDAY($P$7),$S$7, IF(WEEKDAY(C18)=WEEKDAY($P$8),$S$8, IF(WEEKDAY(C18)=WEEKDAY($P$9),$S$9, IF(WEEKDAY(C18)=WEEKDAY($P$10),$S$10, IF(WEEKDAY(C18)=WEEKDAY($P$11),$S$11, IF(WEEKDAY(C18)=WEEKDAY($P$12),$S$12,""))))))) -> 0 | AV18: =IF(IFERROR(MATCH($B18,Feiertage!$B$2:$B$34,0)>0,0),1,0) -> 0 | AW18: =IFERROR(HLOOKUP(DAY(B18),Urlaub!$C$4:$AG$16,MONTH(B18)+1,0),0) -> 0 | AX18: =IFERROR(IF(OR(AW18=0,AW18="G"),0,IF(EXACT(LOWER(AW18),AW18),0.5*BB18,BB18)),"") -> 0 | AY18: =IFERROR(IF(WEEKDAY(C18)=WEEKDAY($P$6),$R$6, IF(WEEKDAY(C18)=WEEKDAY($P$7),$R$7, IF(WEEKDAY(C18)=WEEKDAY($P$8),$R$8, IF(WEEKDAY(C18)=WEEKDAY($P$9),$R$9, IF(WEEKDAY(C18)=WEEKDAY($P$10),$R$10, IF(WEEKDAY(C18)=WEEKDAY($P$11),$R$11, IF(WEEKDAY(C18)=WEEKDAY($P$12),$R$12,""))))))),"") -> 0.020833333 | AZ18: =IF(F18,IF(E18,IF(E18>F18,F18+"24:00"-E18,F18-E18),0),0)+IF(G18,IF(G18,IF(G18>H18,H18+"24:00"-G18,H18-G18),0),0) -> 0 | BA18: =AZ18*24 -> 0 | BB18: =IFERROR(IF(WEEKDAY(C18)=WEEKDAY($P$6),$Q$6, IF(WEEKDAY(C18)=WEEKDAY($P$7),$Q$7, IF(WEEKDAY(C18)=WEEKDAY($P$8),$Q$8, IF(WEEKDAY(C18)=WEEKDAY($P$9),$Q$9, IF(WEEKDAY(C18)=WEEKDAY($P$10),$Q$10, IF(WEEKDAY(C18)=WEEKDAY($P$11),$Q$11, IF(WEEKDAY(C18)=WEEKDAY($P$12),$Q$12,""))))))),"") -> 0.33333333
B19: =B18+1 -> 41712 | C19: =B19 -> 41712 | I19: =IF(AZ19=0,"",IF(AY19=0,"",IF(OR(B19<=TODAY(),AZ19),AY19,""))) | J19: =IF(AND(Feiertage!$G$2<>"ja",AV19=1),IF(AZ19>0,BB19+AZ19,BB19),IF(AZ19=0,0, IF(I19<>"",AZ19-I19,AZ19)))+AX19 -> 0 | K19: =IF(AV19=0,BB19,IF(Feiertage!$G$2="ja","00:00",BB19)) -> 0.33333333 | L19: =IF(OR(B19<=TODAY(),J19,AW19="G"),IF(J19<>"",IF(J19-K19=0,"",J19-K19),IF(K19<>"",-K19,"")),"") | M19: =IF(LOWER(AW19)=LOWER(Urlaub!$W$19),Urlaub!$S$19, IF(LOWER(AW19)=LOWER(Urlaub!$W$20),Urlaub!$S$20, IF(LOWER(AW19)=LOWER(Urlaub!$W$21),Urlaub!$S$21, IF(LOWER(AW19)=LOWER(Urlaub!$W$22),Urlaub!$S$22, IF(LOWER(AW19)=LOWER(Urlaub!$W$23),Urlaub!$S$23, IF(LOWER(AW19)=LOWER(Urlaub!$W$24),Urlaub!$S$24,""))))))&IF(AND(EXACT(LOWER(AW19),AW19),AW19<>0)," 1/2","") | N19: =24*J19*IF(WEEKDAY(C19)=WEEKDAY($P$6),$S$6, IF(WEEKDAY(C19)=WEEKDAY($P$7),$S$7, IF(WEEKDAY(C19)=WEEKDAY($P$8),$S$8, IF(WEEKDAY(C19)=WEEKDAY($P$9),$S$9, IF(WEEKDAY(C19)=WEEKDAY($P$10),$S$10, IF(WEEKDAY(C19)=WEEKDAY($P$11),$S$11, IF(WEEKDAY(C19)=WEEKDAY($P$12),$S$12,""))))))) -> 0 | AV19: =IF(IFERROR(MATCH($B19,Feiertage!$B$2:$B$34,0)>0,0),1,0) -> 0 | AW19: =IFERROR(HLOOKUP(DAY(B19),Urlaub!$C$4:$AG$16,MONTH(B19)+1,0),0) -> 0 | AX19: =IFERROR(IF(OR(AW19=0,AW19="G"),0,IF(EXACT(LOWER(AW19),AW19),0.5*BB19,BB19)),"") -> 0 | AY19: =IFERROR(IF(WEEKDAY(C19)=WEEKDAY($P$6),$R$6, IF(WEEKDAY(C19)=WEEKDAY($P$7),$R$7, IF(WEEKDAY(C19)=WEEKDAY($P$8),$R$8, IF(WEEKDAY(C19)=WEEKDAY($P$9),$R$9, IF(WEEKDAY(C19)=WEEKDAY($P$10),$R$10, IF(WEEKDAY(C19)=WEEKDAY($P$11),$R$11, IF(WEEKDAY(C19)=WEEKDAY($P$12),$R$12,""))))))),"") -> 0.020833333 | AZ19: =IF(F19,IF(E19,IF(E19>F19,F19+"24:00"-E19,F19-E19),0),0)+IF(G19,IF(G19,IF(G19>H19,H19+"24:00"-G19,H19-G19),0),0) -> 0 | BA19: =AZ19*24 -> 0 | BB19: =IFERROR(IF(WEEKDAY(C19)=WEEKDAY($P$6),$Q$6, IF(WEEKDAY(C19)=WEEKDAY($P$7),$Q$7, IF(WEEKDAY(C19)=WEEKDAY($P$8),$Q$8, IF(WEEKDAY(C19)=WEEKDAY($P$9),$Q$9, IF(WEEKDAY(C19)=WEEKDAY($P$10),$Q$10, IF(WEEKDAY(C19)=WEEKDAY($P$11),$Q$11, IF(WEEKDAY(C19)=WEEKDAY($P$12),$Q$12,""))))))),"") -> 0.33333333
B20: =B19+1 -> 41713 | C20: =B20 -> 41713 | I20: =IF(AZ20=0,"",IF(AY20=0,"",IF(OR(B20<=TODAY(),AZ20),AY20,""))) | J20: =IF(AND(Feiertage!$G$2<>"ja",AV20=1),IF(AZ20>0,BB20+AZ20,BB20),IF(AZ20=0,0, IF(I20<>"",AZ20-I20,AZ20)))+AX20 -> 0 | K20: =IF(AV20=0,BB20,IF(Feiertage!$G$2="ja","00:00",BB20)) -> 0.25 | L20: =IF(OR(B20<=TODAY(),J20,AW20="G"),IF(J20<>"",IF(J20-K20=0,"",J20-K20),IF(K20<>"",-K20,"")),"") | M20: =IF(LOWER(AW20)=LOWER(Urlaub!$W$19),Urlaub!$S$19, IF(LOWER(AW20)=LOWER(Urlaub!$W$20),Urlaub!$S$20, IF(LOWER(AW20)=LOWER(Urlaub!$W$21),Urlaub!$S$21, IF(LOWER(AW20)=LOWER(Urlaub!$W$22),Urlaub!$S$22, IF(LOWER(AW20)=LOWER(Urlaub!$W$23),Urlaub!$S$23, IF(LOWER(AW20)=LOWER(Urlaub!$W$24),Urlaub!$S$24,""))))))&IF(AND(EXACT(LOWER(AW20),AW20),AW20<>0)," 1/2","") | N20: =24*J20*IF(WEEKDAY(C20)=WEEKDAY($P$6),$S$6, IF(WEEKDAY(C20)=WEEKDAY($P$7),$S$7, IF(WEEKDAY(C20)=WEEKDAY($P$8),$S$8, IF(WEEKDAY(C20)=WEEKDAY($P$9),$S$9, IF(WEEKDAY(C20)=WEEKDAY($P$10),$S$10, IF(WEEKDAY(C20)=WEEKDAY($P$11),$S$11, IF(WEEKDAY(C20)=WEEKDAY($P$12),$S$12,""))))))) -> 0 | AV20: =IF(IFERROR(MATCH($B20,Feiertage!$B$2:$B$34,0)>0,0),1,0) -> 0 | AW20: =IFERROR(HLOOKUP(DAY(B20),Urlaub!$C$4:$AG$16,MONTH(B20)+1,0),0) -> 0 | AX20: =IFERROR(IF(OR(AW20=0,AW20="G"),0,IF(EXACT(LOWER(AW20),AW20),0.5*BB20,BB20)),"") -> 0 | AY20: =IFERROR(IF(WEEKDAY(C20)=WEEKDAY($P$6),$R$6, IF(WEEKDAY(C20)=WEEKDAY($P$7),$R$7, IF(WEEKDAY(C20)=WEEKDAY($P$8),$R$8, IF(WEEKDAY(C20)=WEEKDAY($P$9),$R$9, IF(WEEKDAY(C20)=WEEKDAY($P$10),$R$10, IF(WEEKDAY(C20)=WEEKDAY($P$11),$R$11, IF(WEEKDAY(C20)=WEEKDAY($P$12),$R$12,""))))))),"") -> 0.020833333 | AZ20: =IF(F20,IF(E20,IF(E20>F20,F20+"24:00"-E20,F20-E20),0),0)+IF(G20,IF(G20,IF(G20>H20,H20+"24:00"-G20,H20-G20),0),0) -> 0 | BA20: =AZ20*24 -> 0 | BB20: =IFERROR(IF(WEEKDAY(C20)=WEEKDAY($P$6),$Q$6, IF(WEEKDAY(C20)=WEEKDAY($P$7),$Q$7, IF(WEEKDAY(C20)=WEEKDAY($P$8),$Q$8, IF(WEEKDAY(C20)=WEEKDAY($P$9),$Q$9, IF(WEEKDAY(C20)=WEEKDAY($P$10),$Q$10, IF(WEEKDAY(C20)=WEEKDAY($P$11),$Q$11, IF(WEEKDAY(C20)=WEEKDAY($P$12),$Q$12,""))))))),"") -> 0.25
B21: =B20+1 -> 41714 | C21: =B21 -> 41714 | I21: =IF(AZ21=0,"",IF(AY21=0,"",IF(OR(B21<=TODAY(),AZ21),AY21,""))) | J21: =IF(AND(Feiertage!$G$2<>"ja",AV21=1),IF(AZ21>0,BB21+AZ21,BB21),IF(AZ21=0,0, IF(I21<>"",AZ21-I21,AZ21)))+AX21 -> 0 | K21: =IF(AV21=0,BB21,IF(Feiertage!$G$2="ja","00:00",BB21)) -> 0 | L21: =IF(OR(B21<=TODAY(),J21,AW21="G"),IF(J21<>"",IF(J21-K21=0,"",J21-K21),IF(K21<>"",-K21,"")),"") | M21: =IF(LOWER(AW21)=LOWER(Urlaub!$W$19),Urlaub!$S$19, IF(LOWER(AW21)=LOWER(Urlaub!$W$20),Urlaub!$S$20, IF(LOWER(AW21)=LOWER(Urlaub!$W$21),Urlaub!$S$21, IF(LOWER(AW21)=LOWER(Urlaub!$W$22),Urlaub!$S$22, IF(LOWER(AW21)=LOWER(Urlaub!$W$23),Urlaub!$S$23, IF(LOWER(AW21)=LOWER(Urlaub!$W$24),Urlaub!$S$24,""))))))&IF(AND(EXACT(LOWER(AW21),AW21),AW21<>0)," 1/2","") | N21: =24*J21*IF(WEEKDAY(C21)=WEEKDAY($P$6),$S$6, IF(WEEKDAY(C21)=WEEKDAY($P$7),$S$7, IF(WEEKDAY(C21)=WEEKDAY($P$8),$S$8, IF(WEEKDAY(C21)=WEEKDAY($P$9),$S$9, IF(WEEKDAY(C21)=WEEKDAY($P$10),$S$10, IF(WEEKDAY(C21)=WEEKDAY($P$11),$S$11, IF(WEEKDAY(C21)=WEEKDAY($P$12),$S$12,""))))))) -> 0 | AV21: =IF(IFERROR(MATCH($B21,Feiertage!$B$2:$B$34,0)>0,0),1,0) -> 0 | AW21: =IFERROR(HLOOKUP(DAY(B21),Urlaub!$C$4:$AG$16,MONTH(B21)+1,0),0) -> 0 | AX21: =IFERROR(IF(OR(AW21=0,AW21="G"),0,IF(EXACT(LOWER(AW21),AW21),0.5*BB21,BB21)),"") -> 0 | AY21: =IFERROR(IF(WEEKDAY(C21)=WEEKDAY($P$6),$R$6, IF(WEEKDAY(C21)=WEEKDAY($P$7),$R$7, IF(WEEKDAY(C21)=WEEKDAY($P$8),$R$8, IF(WEEKDAY(C21)=WEEKDAY($P$9),$R$9, IF(WEEKDAY(C21)=WEEKDAY($P$10),$R$10, IF(WEEKDAY(C21)=WEEKDAY($P$11),$R$11, IF(WEEKDAY(C21)=WEEKDAY($P$12),$R$12,""))))))),"") -> 0.020833333 | AZ21: =IF(F21,IF(E21,IF(E21>F21,F21+"24:00"-E21,F21-E21),0),0)+IF(G21,IF(G21,IF(G21>H21,H21+"24:00"-G21,H21-G21),0),0) -> 0 | BA21: =AZ21*24 -> 0 | BB21: =IFERROR(IF(WEEKDAY(C21)=WEEKDAY($P$6),$Q$6, IF(WEEKDAY(C21)=WEEKDAY($P$7),$Q$7, IF(WEEKDAY(C21)=WEEKDAY($P$8),$Q$8, IF(WEEKDAY(C21)=WEEKDAY($P$9),$Q$9, IF(WEEKDAY(C21)=WEEKDAY($P$10),$Q$10, IF(WEEKDAY(C21)=WEEKDAY($P$11),$Q$11, IF(WEEKDAY(C21)=WEEKDAY($P$12),$Q$12,""))))))),"") -> 0
B22: =B21+1 -> 41715 | C22: =B22 -> 41715 | I22: =IF(AZ22=0,"",IF(AY22=0,"",IF(OR(B22<=TODAY(),AZ22),AY22,""))) | J22: =IF(AND(Feiertage!$G$2<>"ja",AV22=1),IF(AZ22>0,BB22+AZ22,BB22),IF(AZ22=0,0, IF(I22<>"",AZ22-I22,AZ22)))+AX22 -> 0 | K22: =IF(AV22=0,BB22,IF(Feiertage!$G$2="ja","00:00",BB22)) -> 0 | L22: =IF(OR(B22<=TODAY(),J22,AW22="G"),IF(J22<>"",IF(J22-K22=0,"",J22-K22),IF(K22<>"",-K22,"")),"") | M22: =IF(LOWER(AW22)=LOWER(Urlaub!$W$19),Urlaub!$S$19, IF(LOWER(AW22)=LOWER(Urlaub!$W$20),Urlaub!$S$20, IF(LOWER(AW22)=LOWER(Urlaub!$W$21),Urlaub!$S$21, IF(LOWER(AW22)=LOWER(Urlaub!$W$22),Urlaub!$S$22, IF(LOWER(AW22)=LOWER(Urlaub!$W$23),Urlaub!$S$23, IF(LOWER(AW22)=LOWER(Urlaub!$W$24),Urlaub!$S$24,""))))))&IF(AND(EXACT(LOWER(AW22),AW22),AW22<>0)," 1/2","") | N22: =24*J22*IF(WEEKDAY(C22)=WEEKDAY($P$6),$S$6, IF(WEEKDAY(C22)=WEEKDAY($P$7),$S$7, IF(WEEKDAY(C22)=WEEKDAY($P$8),$S$8, IF(WEEKDAY(C22)=WEEKDAY($P$9),$S$9, IF(WEEKDAY(C22)=WEEKDAY($P$10),$S$10, IF(WEEKDAY(C22)=WEEKDAY($P$11),$S$11, IF(WEEKDAY(C22)=WEEKDAY($P$12),$S$12,""))))))) -> 0 | AV22: =IF(IFERROR(MATCH($B22,Feiertage!$B$2:$B$34,0)>0,0),1,0) -> 0 | AW22: =IFERROR(HLOOKUP(DAY(B22),Urlaub!$C$4:$AG$16,MONTH(B22)+1,0),0) -> 0 | AX22: =IFERROR(IF(OR(AW22=0,AW22="G"),0,IF(EXACT(LOWER(AW22),AW22),0.5*BB22,BB22)),"") -> 0 | AY22: =IFERROR(IF(WEEKDAY(C22)=WEEKDAY($P$6),$R$6, IF(WEEKDAY(C22)=WEEKDAY($P$7),$R$7, IF(WEEKDAY(C22)=WEEKDAY($P$8),$R$8, IF(WEEKDAY(C22)=WEEKDAY($P$9),$R$9, IF(WEEKDAY(C22)=WEEKDAY($P$10),$R$10, IF(WEEKDAY(C22)=WEEKDAY($P$11),$R$11, IF(WEEKDAY(C22)=WEEKDAY($P$12),$R$12,""))))))),"") -> 0.020833333 | AZ22: =IF(F22,IF(E22,IF(E22>F22,F22+"24:00"-E22,F22-E22),0),0)+IF(G22,IF(G22,IF(G22>H22,H22+"24:00"-G22,H22-G22),0),0) -> 0 | BA22: =AZ22*24 -> 0 | BB22: =IFERROR(IF(WEEKDAY(C22)=WEEKDAY($P$6),$Q$6, IF(WEEKDAY(C22)=WEEKDAY($P$7),$Q$7, IF(WEEKDAY(C22)=WEEKDAY($P$8),$Q$8, IF(WEEKDAY(C22)=WEEKDAY($P$9),$Q$9, IF(WEEKDAY(C22)=WEEKDAY($P$10),$Q$10, IF(WEEKDAY(C22)=WEEKDAY($P$11),$Q$11, IF(WEEKDAY(C22)=WEEKDAY($P$12),$Q$12,""))))))),"") -> 0
B23: =B22+1 -> 41716 | C23: =B23 -> 41716 | I23: =IF(AZ23=0,"",IF(AY23=0,"",IF(OR(B23<=TODAY(),AZ23),AY23,""))) | J23: =IF(AND(Feiertage!$G$2<>"ja",AV23=1),IF(AZ23>0,BB23+AZ23,BB23),IF(AZ23=0,0, IF(I23<>"",AZ23-I23,AZ23)))+AX23 -> 0 | K23: =IF(AV23=0,BB23,IF(Feiertage!$G$2="ja","00:00",BB23)) -> 0.33333333 | L23: =IF(OR(B23<=TODAY(),J23,AW23="G"),IF(J23<>"",IF(J23-K23=0,"",J23-K23),IF(K23<>"",-K23,"")),"") | M23: =IF(LOWER(AW23)=LOWER(Urlaub!$W$19),Urlaub!$S$19, IF(LOWER(AW23)=LOWER(Urlaub!$W$20),Urlaub!$S$20, IF(LOWER(AW23)=LOWER(Urlaub!$W$21),Urlaub!$S$21, IF(LOWER(AW23)=LOWER(Urlaub!$W$22),Urlaub!$S$22, IF(LOWER(AW23)=LOWER(Urlaub!$W$23),Urlaub!$S$23, IF(LOWER(AW23)=LOWER(Urlaub!$W$24),Urlaub!$S$24,""))))))&IF(AND(EXACT(LOWER(AW23),AW23),AW23<>0)," 1/2","") | N23: =24*J23*IF(WEEKDAY(C23)=WEEKDAY($P$6),$S$6, IF(WEEKDAY(C23)=WEEKDAY($P$7),$S$7, IF(WEEKDAY(C23)=WEEKDAY($P$8),$S$8, IF(WEEKDAY(C23)=WEEKDAY($P$9),$S$9, IF(WEEKDAY(C23)=WEEKDAY($P$10),$S$10, IF(WEEKDAY(C23)=WEEKDAY($P$11),$S$11, IF(WEEKDAY(C23)=WEEKDAY($P$12),$S$12,""))))))) -> 0 | AV23: =IF(IFERROR(MATCH($B23,Feiertage!$B$2:$B$34,0)>0,0),1,0) -> 0 | AW23: =IFERROR(HLOOKUP(DAY(B23),Urlaub!$C$4:$AG$16,MONTH(B23)+1,0),0) -> 0 | AX23: =IFERROR(IF(OR(AW23=0,AW23="G"),0,IF(EXACT(LOWER(AW23),AW23),0.5*BB23,BB23)),"") -> 0 | AY23: =IFERROR(IF(WEEKDAY(C23)=WEEKDAY($P$6),$R$6, IF(WEEKDAY(C23)=WEEKDAY($P$7),$R$7, IF(WEEKDAY(C23)=WEEKDAY($P$8),$R$8, IF(WEEKDAY(C23)=WEEKDAY($P$9),$R$9, IF(WEEKDAY(C23)=WEEKDAY($P$10),$R$10, IF(WEEKDAY(C23)=WEEKDAY($P$11),$R$11, IF(WEEKDAY(C23)=WEEKDAY($P$12),$R$12,""))))))),"") -> 0.020833333 | AZ23: =IF(F23,IF(E23,IF(E23>F23,F23+"24:00"-E23,F23-E23),0),0)+IF(G23,IF(G23,IF(G23>H23,H23+"24:00"-G23,H23-G23),0),0) -> 0 | BA23: =AZ23*24 -> 0 | BB23: =IFERROR(IF(WEEKDAY(C23)=WEEKDAY($P$6),$Q$6, IF(WEEKDAY(C23)=WEEKDAY($P$7),$Q$7, IF(WEEKDAY(C23)=WEEKDAY($P$8),$Q$8, IF(WEEKDAY(C23)=WEEKDAY($P$9),$Q$9, IF(WEEKDAY(C23)=WEEKDAY($P$10),$Q$10, IF(WEEKDAY(C23)=WEEKDAY($P$11),$Q$11, IF(WEEKDAY(C23)=WEEKDAY($P$12),$Q$12,""))))))),"") -> 0.33333333
B24: =B23+1 -> 41717 | C24: =B24 -> 41717 | I24: =IF(AZ24=0,"",IF(AY24=0,"",IF(OR(B24<=TODAY(),AZ24),AY24,""))) | J24: =IF(AND(Feiertage!$G$2<>"ja",AV24=1),IF(AZ24>0,BB24+AZ24,BB24),IF(AZ24=0,0, IF(I24<>"",AZ24-I24,AZ24)))+AX24 -> 0 | K24: =IF(AV24=0,BB24,IF(Feiertage!$G$2="ja","00:00",BB24)) -> 0.33333333 | L24: =IF(OR(B24<=TODAY(),J24,AW24="G"),IF(J24<>"",IF(J24-K24=0,"",J24-K24),IF(K24<>"",-K24,"")),"") | M24: =IF(LOWER(AW24)=LOWER(Urlaub!$W$19),Urlaub!$S$19, IF(LOWER(AW24)=LOWER(Urlaub!$W$20),Urlaub!$S$20, IF(LOWER(AW24)=LOWER(Urlaub!$W$21),Urlaub!$S$21, IF(LOWER(AW24)=LOWER(Urlaub!$W$22),Urlaub!$S$22, IF(LOWER(AW24)=LOWER(Urlaub!$W$23),Urlaub!$S$23, IF(LOWER(AW24)=LOWER(Urlaub!$W$24),Urlaub!$S$24,""))))))&IF(AND(EXACT(LOWER(AW24),AW24),AW24<>0)," 1/2","") | N24: =24*J24*IF(WEEKDAY(C24)=WEEKDAY($P$6),$S$6, IF(WEEKDAY(C24)=WEEKDAY($P$7),$S$7, IF(WEEKDAY(C24)=WEEKDAY($P$8),$S$8, IF(WEEKDAY(C24)=WEEKDAY($P$9),$S$9, IF(WEEKDAY(C24)=WEEKDAY($P$10),$S$10, IF(WEEKDAY(C24)=WEEKDAY($P$11),$S$11, IF(WEEKDAY(C24)=WEEKDAY($P$12),$S$12,""))))))) -> 0 | AV24: =IF(IFERROR(MATCH($B24,Feiertage!$B$2:$B$34,0)>0,0),1,0) -> 0 | AW24: =IFERROR(HLOOKUP(DAY(B24),Urlaub!$C$4:$AG$16,MONTH(B24)+1,0),0) -> 0 | AX24: =IFERROR(IF(OR(AW24=0,AW24="G"),0,IF(EXACT(LOWER(AW24),AW24),0.5*BB24,BB24)),"") -> 0 | AY24: =IFERROR(IF(WEEKDAY(C24)=WEEKDAY($P$6),$R$6, IF(WEEKDAY(C24)=WEEKDAY($P$7),$R$7, IF(WEEKDAY(C24)=WEEKDAY($P$8),$R$8, IF(WEEKDAY(C24)=WEEKDAY($P$9),$R$9, IF(WEEKDAY(C24)=WEEKDAY($P$10),$R$10, IF(WEEKDAY(C24)=WEEKDAY($P$11),$R$11, IF(WEEKDAY(C24)=WEEKDAY($P$12),$R$12,""))))))),"") -> 0.020833333 | AZ24: =IF(F24,IF(E24,IF(E24>F24,F24+"24:00"-E24,F24-E24),0),0)+IF(G24,IF(G24,IF(G24>H24,H24+"24:00"-G24,H24-G24),0),0) -> 0 | BA24: =AZ24*24 -> 0 | BB24: =IFERROR(IF(WEEKDAY(C24)=WEEKDAY($P$6),$Q$6, IF(WEEKDAY(C24)=WEEKDAY($P$7),$Q$7, IF(WEEKDAY(C24)=WEEKDAY($P$8),$Q$8, IF(WEEKDAY(C24)=WEEKDAY($P$9),$Q$9, IF(WEEKDAY(C24)=WEEKDAY($P$10),$Q$10, IF(WEEKDAY(C24)=WEEKDAY($P$11),$Q$11, IF(WEEKDAY(C24)=WEEKDAY($P$12),$Q$12,""))))))),"") -> 0.33333333
B25: =B24+1 -> 41718 | C25: =B25 -> 41718 | I25: =IF(AZ25=0,"",IF(AY25=0,"",IF(OR(B25<=TODAY(),AZ25),AY25,""))) | J25: =IF(AND(Feiertage!$G$2<>"ja",AV25=1),IF(AZ25>0,BB25+AZ25,BB25),IF(AZ25=0,0, IF(I25<>"",AZ25-I25,AZ25)))+AX25 -> 0 | K25: =IF(AV25=0,BB25,IF(Feiertage!$G$2="ja","00:00",BB25)) -> 0.33333333 | L25: =IF(OR(B25<=TODAY(),J25,AW25="G"),IF(J25<>"",IF(J25-K25=0,"",J25-K25),IF(K25<>"",-K25,"")),"") | M25: =IF(LOWER(AW25)=LOWER(Urlaub!$W$19),Urlaub!$S$19, IF(LOWER(AW25)=LOWER(Urlaub!$W$20),Urlaub!$S$20, IF(LOWER(AW25)=LOWER(Urlaub!$W$21),Urlaub!$S$21, IF(LOWER(AW25)=LOWER(Urlaub!$W$22),Urlaub!$S$22, IF(LOWER(AW25)=LOWER(Urlaub!$W$23),Urlaub!$S$23, IF(LOWER(AW25)=LOWER(Urlaub!$W$24),Urlaub!$S$24,""))))))&IF(AND(EXACT(LOWER(AW25),AW25),AW25<>0)," 1/2","") | N25: =24*J25*IF(WEEKDAY(C25)=WEEKDAY($P$6),$S$6, IF(WEEKDAY(C25)=WEEKDAY($P$7),$S$7, IF(WEEKDAY(C25)=WEEKDAY($P$8),$S$8, IF(WEEKDAY(C25)=WEEKDAY($P$9),$S$9, IF(WEEKDAY(C25)=WEEKDAY($P$10),$S$10, IF(WEEKDAY(C25)=WEEKDAY($P$11),$S$11, IF(WEEKDAY(C25)=WEEKDAY($P$12),$S$12,""))))))) -> 0 | AV25: =IF(IFERROR(MATCH($B25,Feiertage!$B$2:$B$34,0)>0,0),1,0) -> 0 | AW25: =IFERROR(HLOOKUP(DAY(B25),Urlaub!$C$4:$AG$16,MONTH(B25)+1,0),0) -> 0 | AX25: =IFERROR(IF(OR(AW25=0,AW25="G"),0,IF(EXACT(LOWER(AW25),AW25),0.5*BB25,BB25)),"") -> 0 | AY25: =IFERROR(IF(WEEKDAY(C25)=WEEKDAY($P$6),$R$6, IF(WEEKDAY(C25)=WEEKDAY($P$7),$R$7, IF(WEEKDAY(C25)=WEEKDAY($P$8),$R$8, IF(WEEKDAY(C25)=WEEKDAY($P$9),$R$9, IF(WEEKDAY(C25)=WEEKDAY($P$10),$R$10, IF(WEEKDAY(C25)=WEEKDAY($P$11),$R$11, IF(WEEKDAY(C25)=WEEKDAY($P$12),$R$12,""))))))),"") -> 0.020833333 | AZ25: =IF(F25,IF(E25,IF(E25>F25,F25+"24:00"-E25,F25-E25),0),0)+IF(G25,IF(G25,IF(G25>H25,H25+"24:00"-G25,H25-G25),0),0) -> 0 | BA25: =AZ25*24 -> 0 | BB25: =IFERROR(IF(WEEKDAY(C25)=WEEKDAY($P$6),$Q$6, IF(WEEKDAY(C25)=WEEKDAY($P$7),$Q$7, IF(WEEKDAY(C25)=WEEKDAY($P$8),$Q$8, IF(WEEKDAY(C25)=WEEKDAY($P$9),$Q$9, IF(WEEKDAY(C25)=WEEKDAY($P$10),$Q$10, IF(WEEKDAY(C25)=WEEKDAY($P$11),$Q$11, IF(WEEKDAY(C25)=WEEKDAY($P$12),$Q$12,""))))))),"") -> 0.33333333
B26: =B25+1 -> 41719 | C26: =B26 -> 41719 | I26: =IF(AZ26=0,"",IF(AY26=0,"",IF(OR(B26<=TODAY(),AZ26),AY26,""))) | J26: =IF(AND(Feiertage!$G$2<>"ja",AV26=1),IF(AZ26>0,BB26+AZ26,BB26),IF(AZ26=0,0, IF(I26<>"",AZ26-I26,AZ26)))+AX26 -> 0 | K26: =IF(AV26=0,BB26,IF(Feiertage!$G$2="ja","00:00",BB26)) -> 0.33333333 | L26: =IF(OR(B26<=TODAY(),J26,AW26="G"),IF(J26<>"",IF(J26-K26=0,"",J26-K26),IF(K26<>"",-K26,"")),"") | M26: =IF(LOWER(AW26)=LOWER(Urlaub!$W$19),Urlaub!$S$19, IF(LOWER(AW26)=LOWER(Urlaub!$W$20),Urlaub!$S$20, IF(LOWER(AW26)=LOWER(Urlaub!$W$21),Urlaub!$S$21, IF(LOWER(AW26)=LOWER(Urlaub!$W$22),Urlaub!$S$22, IF(LOWER(AW26)=LOWER(Urlaub!$W$23),Urlaub!$S$23, IF(LOWER(AW26)=LOWER(Urlaub!$W$24),Urlaub!$S$24,""))))))&IF(AND(EXACT(LOWER(AW26),AW26),AW26<>0)," 1/2","") | N26: =24*J26*IF(WEEKDAY(C26)=WEEKDAY($P$6),$S$6, IF(WEEKDAY(C26)=WEEKDAY($P$7),$S$7, IF(WEEKDAY(C26)=WEEKDAY($P$8),$S$8, IF(WEEKDAY(C26)=WEEKDAY($P$9),$S$9, IF(WEEKDAY(C26)=WEEKDAY($P$10),$S$10, IF(WEEKDAY(C26)=WEEKDAY($P$11),$S$11, IF(WEEKDAY(C26)=WEEKDAY($P$12),$S$12,""))))))) -> 0 | AV26: =IF(IFERROR(MATCH($B26,Feiertage!$B$2:$B$34,0)>0,0),1,0) -> 0 | AW26: =IFERROR(HLOOKUP(DAY(B26),Urlaub!$C$4:$AG$16,MONTH(B26)+1,0),0) -> 0 | AX26: =IFERROR(IF(OR(AW26=0,AW26="G"),0,IF(EXACT(LOWER(AW26),AW26),0.5*BB26,BB26)),"") -> 0 | AY26: =IFERROR(IF(WEEKDAY(C26)=WEEKDAY($P$6),$R$6, IF(WEEKDAY(C26)=WEEKDAY($P$7),$R$7, IF(WEEKDAY(C26)=WEEKDAY($P$8),$R$8, IF(WEEKDAY(C26)=WEEKDAY($P$9),$R$9, IF(WEEKDAY(C26)=WEEKDAY($P$10),$R$10, IF(WEEKDAY(C26)=WEEKDAY($P$11),$R$11, IF(WEEKDAY(C26)=WEEKDAY($P$12),$R$12,""))))))),"") -> 0.020833333 | AZ26: =IF(F26,IF(E26,IF(E26>F26,F26+"24:00"-E26,F26-E26),0),0)+IF(G26,IF(G26,IF(G26>H26,H26+"24:00"-G26,H26-G26),0),0) -> 0 | BA26: =AZ26*24 -> 0 | BB26: =IFERROR(IF(WEEKDAY(C26)=WEEKDAY($P$6),$Q$6, IF(WEEKDAY(C26)=WEEKDAY($P$7),$Q$7, IF(WEEKDAY(C26)=WEEKDAY($P$8),$Q$8, IF(WEEKDAY(C26)=WEEKDAY($P$9),$Q$9, IF(WEEKDAY(C26)=WEEKDAY($P$10),$Q$10, IF(WEEKDAY(C26)=WEEKDAY($P$11),$Q$11, IF(WEEKDAY(C26)=WEEKDAY($P$12),$Q$12,""))))))),"") -> 0.33333333
B27: =B26+1 -> 41720 | C27: =B27 -> 41720 | I27: =IF(AZ27=0,"",IF(AY27=0,"",IF(OR(B27<=TODAY(),AZ27),AY27,""))) | J27: =IF(AND(Feiertage!$G$2<>"ja",AV27=1),IF(AZ27>0,BB27+AZ27,BB27),IF(AZ27=0,0, IF(I27<>"",AZ27-I27,AZ27)))+AX27 -> 0 | K27: =IF(AV27=0,BB27,IF(Feiertage!$G$2="ja","00:00",BB27)) -> 0.25 | L27: =IF(OR(B27<=TODAY(),J27,AW27="G"),IF(J27<>"",IF(J27-K27=0,"",J27-K27),IF(K27<>"",-K27,"")),"") | M27: =IF(LOWER(AW27)=LOWER(Urlaub!$W$19),Urlaub!$S$19, IF(LOWER(AW27)=LOWER(Urlaub!$W$20),Urlaub!$S$20, IF(LOWER(AW27)=LOWER(Urlaub!$W$21),Urlaub!$S$21, IF(LOWER(AW27)=LOWER(Urlaub!$W$22),Urlaub!$S$22, IF(LOWER(AW27)=LOWER(Urlaub!$W$23),Urlaub!$S$23, IF(LOWER(AW27)=LOWER(Urlaub!$W$24),Urlaub!$S$24,""))))))&IF(AND(EXACT(LOWER(AW27),AW27),AW27<>0)," 1/2","") | N27: =24*J27*IF(WEEKDAY(C27)=WEEKDAY($P$6),$S$6, IF(WEEKDAY(C27)=WEEKDAY($P$7),$S$7, IF(WEEKDAY(C27)=WEEKDAY($P$8),$S$8, IF(WEEKDAY(C27)=WEEKDAY($P$9),$S$9, IF(WEEKDAY(C27)=WEEKDAY($P$10),$S$10, IF(WEEKDAY(C27)=WEEKDAY($P$11),$S$11, IF(WEEKDAY(C27)=WEEKDAY($P$12),$S$12,""))))))) -> 0 | AV27: =IF(IFERROR(MATCH($B27,Feiertage!$B$2:$B$34,0)>0,0),1,0) -> 0 | AW27: =IFERROR(HLOOKUP(DAY(B27),Urlaub!$C$4:$AG$16,MONTH(B27)+1,0),0) -> 0 | AX27: =IFERROR(IF(OR(AW27=0,AW27="G"),0,IF(EXACT(LOWER(AW27),AW27),0.5*BB27,BB27)),"") -> 0 | AY27: =IFERROR(IF(WEEKDAY(C27)=WEEKDAY($P$6),$R$6, IF(WEEKDAY(C27)=WEEKDAY($P$7),$R$7, IF(WEEKDAY(C27)=WEEKDAY($P$8),$R$8, IF(WEEKDAY(C27)=WEEKDAY($P$9),$R$9, IF(WEEKDAY(C27)=WEEKDAY($P$10),$R$10, IF(WEEKDAY(C27)=WEEKDAY($P$11),$R$11, IF(WEEKDAY(C27)=WEEKDAY($P$12),$R$12,""))))))),"") -> 0.020833333 | AZ27: =IF(F27,IF(E27,IF(E27>F27,F27+"24:00"-E27,F27-E27),0),0)+IF(G27,IF(G27,IF(G27>H27,H27+"24:00"-G27,H27-G27),0),0) -> 0 | BA27: =AZ27*24 -> 0 | BB27: =IFERROR(IF(WEEKDAY(C27)=WEEKDAY($P$6),$Q$6, IF(WEEKDAY(C27)=WEEKDAY($P$7),$Q$7, IF(WEEKDAY(C27)=WEEKDAY($P$8),$Q$8, IF(WEEKDAY(C27)=WEEKDAY($P$9),$Q$9, IF(WEEKDAY(C27)=WEEKDAY($P$10),$Q$10, IF(WEEKDAY(C27)=WEEKDAY($P$11),$Q$11, IF(WEEKDAY(C27)=WEEKDAY($P$12),$Q$12,""))))))),"") -> 0.25
B28: =B27+1 -> 41721 | C28: =B28 -> 41721 | I28: =IF(AZ28=0,"",IF(AY28=0,"",IF(OR(B28<=TODAY(),AZ28),AY28,""))) | J28: =IF(AND(Feiertage!$G$2<>"ja",AV28=1),IF(AZ28>0,BB28+AZ28,BB28),IF(AZ28=0,0, IF(I28<>"",AZ28-I28,AZ28)))+AX28 -> 0 | K28: =IF(AV28=0,BB28,IF(Feiertage!$G$2="ja","00:00",BB28)) -> 0 | L28: =IF(OR(B28<=TODAY(),J28,AW28="G"),IF(J28<>"",IF(J28-K28=0,"",J28-K28),IF(K28<>"",-K28,"")),"") | M28: =IF(LOWER(AW28)=LOWER(Urlaub!$W$19),Urlaub!$S$19, IF(LOWER(AW28)=LOWER(Urlaub!$W$20),Urlaub!$S$20, IF(LOWER(AW28)=LOWER(Urlaub!$W$21),Urlaub!$S$21, IF(LOWER(AW28)=LOWER(Urlaub!$W$22),Urlaub!$S$22, IF(LOWER(AW28)=LOWER(Urlaub!$W$23),Urlaub!$S$23, IF(LOWER(AW28)=LOWER(Urlaub!$W$24),Urlaub!$S$24,""))))))&IF(AND(EXACT(LOWER(AW28),AW28),AW28<>0)," 1/2","") | N28: =24*J28*IF(WEEKDAY(C28)=WEEKDAY($P$6),$S$6, IF(WEEKDAY(C28)=WEEKDAY($P$7),$S$7, IF(WEEKDAY(C28)=WEEKDAY($P$8),$S$8, IF(WEEKDAY(C28)=WEEKDAY($P$9),$S$9, IF(WEEKDAY(C28)=WEEKDAY($P$10),$S$10, IF(WEEKDAY(C28)=WEEKDAY($P$11),$S$11, IF(WEEKDAY(C28)=WEEKDAY($P$12),$S$12,""))))))) -> 0 | AV28: =IF(IFERROR(MATCH($B28,Feiertage!$B$2:$B$34,0)>0,0),1,0) -> 0 | AW28: =IFERROR(HLOOKUP(DAY(B28),Urlaub!$C$4:$AG$16,MONTH(B28)+1,0),0) -> 0 | AX28: =IFERROR(IF(OR(AW28=0,AW28="G"),0,IF(EXACT(LOWER(AW28),AW28),0.5*BB28,BB28)),"") -> 0 | AY28: =IFERROR(IF(WEEKDAY(C28)=WEEKDAY($P$6),$R$6, IF(WEEKDAY(C28)=WEEKDAY($P$7),$R$7, IF(WEEKDAY(C28)=WEEKDAY($P$8),$R$8, IF(WEEKDAY(C28)=WEEKDAY($P$9),$R$9, IF(WEEKDAY(C28)=WEEKDAY($P$10),$R$10, IF(WEEKDAY(C28)=WEEKDAY($P$11),$R$11, IF(WEEKDAY(C28)=WEEKDAY($P$12),$R$12,""))))))),"") -> 0.020833333 | AZ28: =IF(F28,IF(E28,IF(E28>F28,F28+"24:00"-E28,F28-E28),0),0)+IF(G28,IF(G28,IF(G28>H28,H28+"24:00"-G28,H28-G28),0),0) -> 0 | BA28: =AZ28*24 -> 0 | BB28: =IFERROR(IF(WEEKDAY(C28)=WEEKDAY($P$6),$Q$6, IF(WEEKDAY(C28)=WEEKDAY($P$7),$Q$7, IF(WEEKDAY(C28)=WEEKDAY($P$8),$Q$8, IF(WEEKDAY(C28)=WEEKDAY($P$9),$Q$9, IF(WEEKDAY(C28)=WEEKDAY($P$10),$Q$10, IF(WEEKDAY(C28)=WEEKDAY($P$11),$Q$11, IF(WEEKDAY(C28)=WEEKDAY($P$12),$Q$12,""))))))),"") -> 0
... B32: =B31+1 -> 41725 | C32: =B32 -> 41725 | I32: =IF(AZ32=0,"",IF(AY32=0,"",IF(OR(B32<=TODAY(),AZ32),AY32,""))) | J32: =IF(AND(Feiertage!$G$2<>"ja",AV32=1),IF(AZ32>0,BB32+AZ32,BB32),IF(AZ32=0,0, IF(I32<>"",AZ32-I32,AZ32)))+AX32 -> 0 | K32: =IF(AV32=0,BB32,IF(Feiertage!$G$2="ja","00:00",BB32)) -> 0.33333333 | L32: =IF(OR(B32<=TODAY(),J32,AW32="G"),IF(J32<>"",IF(J32-K32=0,"",J32-K32),IF(K32<>"",-K32,"")),"") | M32: =IF(LOWER(AW32)=LOWER(Urlaub!$W$19),Urlaub!$S$19, IF(LOWER(AW32)=LOWER(Urlaub!$W$20),Urlaub!$S$20, IF(LOWER(AW32)=LOWER(Urlaub!$W$21),Urlaub!$S$21, IF(LOWER(AW32)=LOWER(Urlaub!$W$22),Urlaub!$S$22, IF(LOWER(AW32)=LOWER(Urlaub!$W$23),Urlaub!$S$23, IF(LOWER(AW32)=LOWER(Urlaub!$W$24),Urlaub!$S$24,""))))))&IF(AND(EXACT(LOWER(AW32),AW32),AW32<>0)," 1/2","") | N32: =24*J32*IF(WEEKDAY(C32)=WEEKDAY($P$6),$S$6, IF(WEEKDAY(C32)=WEEKDAY($P$7),$S$7, IF(WEEKDAY(C32)=WEEKDAY($P$8),$S$8, IF(WEEKDAY(C32)=WEEKDAY($P$9),$S$9, IF(WEEKDAY(C32)=WEEKDAY($P$10),$S$10, IF(WEEKDAY(C32)=WEEKDAY($P$11),$S$11, IF(WEEKDAY(C32)=WEEKDAY($P$12),$S$12,""))))))) -> 0 | AV32: =IF(IFERROR(MATCH($B32,Feiertage!$B$2:$B$34,0)>0,0),1,0) -> 0 | AW32: =IFERROR(HLOOKUP(DAY(B32),Urlaub!$C$4:$AG$16,MONTH(B32)+1,0),0) -> 0 | AX32: =IFERROR(IF(OR(AW32=0,AW32="G"),0,IF(EXACT(LOWER(AW32),AW32),0.5*BB32,BB32)),"") -> 0 | AY32: =IFERROR(IF(WEEKDAY(C32)=WEEKDAY($P$6),$R$6, IF(WEEKDAY(C32)=WEEKDAY($P$7),$R$7, IF(WEEKDAY(C32)=WEEKDAY($P$8),$R$8, IF(WEEKDAY(C32)=WEEKDAY($P$9),$R$9, IF(WEEKDAY(C32)=WEEKDAY($P$10),$R$10, IF(WEEKDAY(C32)=WEEKDAY($P$11),$R$11, IF(WEEKDAY(C32)=WEEKDAY($P$12),$R$12,""))))))),"") -> 0.020833333 | AZ32: =IF(F32,IF(E32,IF(E32>F32,F32+"24:00"-E32,F32-E32),0),0)+IF(G32,IF(G32,IF(G32>H32,H32+"24:00"-G32,H32-G32),0),0) -> 0 | BA32: =AZ32*24 -> 0 | BB32: =IFERROR(IF(WEEKDAY(C32)=WEEKDAY($P$6),$Q$6, IF(WEEKDAY(C32)=WEEKDAY($P$7),$Q$7, IF(WEEKDAY(C32)=WEEKDAY($P$8),$Q$8, IF(WEEKDAY(C32)=WEEKDAY($P$9),$Q$9, IF(WEEKDAY(C32)=WEEKDAY($P$10),$Q$10, IF(WEEKDAY(C32)=WEEKDAY($P$11),$Q$11, IF(WEEKDAY(C32)=WEEKDAY($P$12),$Q$12,""))))))),"") -> 0.33333333
B33: =IF(B32<>"",IF(MONTH($B$1)<MONTH(B32+1),"",B32+1),"") -> 41726 | C33: =B33 -> 41726 | I33: =IF(AZ33=0,"",IF(AY33=0,"",IF(OR(B33<=TODAY(),AZ33),AY33,""))) | J33: =IF(B33<>"",IF(AND(Feiertage!$G$2<>"ja",AV33=1),IF(AZ33>0,BB33+AZ33,BB33),IF(AZ33=0,0, IF(I33<>"",AZ33-I33,AZ33)))+AX33,"") -> 0 | K33: =IF(B33<>"",IF(AV33=0,BB33,IF(Feiertage!$G$2="ja","00:00",BB33)),"") -> 0.33333333 | L33: =IF(OR(B33<=TODAY(),J33,AW33="G"),IF(J33<>"",IF(J33-K33=0,"",J33-K33),IF(K33<>"",-K33,"")),"") | M33: =IF(LOWER(AW33)=LOWER(Urlaub!$W$19),Urlaub!$S$19, IF(LOWER(AW33)=LOWER(Urlaub!$W$20),Urlaub!$S$20, IF(LOWER(AW33)=LOWER(Urlaub!$W$21),Urlaub!$S$21, IF(LOWER(AW33)=LOWER(Urlaub!$W$22),Urlaub!$S$22, IF(LOWER(AW33)=LOWER(Urlaub!$W$23),Urlaub!$S$23, IF(LOWER(AW33)=LOWER(Urlaub!$W$24),Urlaub!$S$24,""))))))&IF(AND(EXACT(LOWER(AW33),AW33),AW33<>0)," 1/2","") | N33: =IF(J33<>"",24*J33*IF(WEEKDAY(C33)=WEEKDAY($P$6),$S$6, IF(WEEKDAY(C33)=WEEKDAY($P$7),$S$7, IF(WEEKDAY(C33)=WEEKDAY($P$8),$S$8, IF(WEEKDAY(C33)=WEEKDAY($P$9),$S$9, IF(WEEKDAY(C33)=WEEKDAY($P$10),$S$10, IF(WEEKDAY(C33)=WEEKDAY($P$11),$S$11, IF(WEEKDAY(C33)=WEEKDAY($P$12),$S$12,""))))))),"") -> 0 | AV33: =IF(IFERROR(MATCH($B33,Feiertage!$B$2:$B$34,0)>0,0),1,0) -> 0 | AW33: =IFERROR(HLOOKUP(DAY(B33),Urlaub!$C$4:$AG$16,MONTH(B33)+1,0),0) -> 0 | AX33: =IFERROR(IF(OR(AW33=0,AW33="G"),0,IF(EXACT(LOWER(AW33),AW33),0.5*BB33,BB33)),"") -> 0 | AY33: =IFERROR(IF(WEEKDAY(C33)=WEEKDAY($P$6),$R$6, IF(WEEKDAY(C33)=WEEKDAY($P$7),$R$7, IF(WEEKDAY(C33)=WEEKDAY($P$8),$R$8, IF(WEEKDAY(C33)=WEEKDAY($P$9),$R$9, IF(WEEKDAY(C33)=WEEKDAY($P$10),$R$10, IF(WEEKDAY(C33)=WEEKDAY($P$11),$R$11, IF(WEEKDAY(C33)=WEEKDAY($P$12),$R$12,""))))))),"") -> 0.020833333 | AZ33: =IF(F33,IF(E33,IF(E33>F33,F33+"24:00"-E33,F33-E33),0),0)+IF(G33,IF(G33,IF(G33>H33,H33+"24:00"-G33,H33-G33),0),0) -> 0 | BA33: =AZ33*24 -> 0 | BB33: =IFERROR(IF(WEEKDAY(C33)=WEEKDAY($P$6),$Q$6, IF(WEEKDAY(C33)=WEEKDAY($P$7),$Q$7, IF(WEEKDAY(C33)=WEEKDAY($P$8),$Q$8, IF(WEEKDAY(C33)=WEEKDAY($P$9),$Q$9, IF(WEEKDAY(C33)=WEEKDAY($P$10),$Q$10, IF(WEEKDAY(C33)=WEEKDAY($P$11),$Q$11, IF(WEEKDAY(C33)=WEEKDAY($P$12),$Q$12,""))))))),"") -> 0.33333333
B34: =IF(B33<>"",IF(MONTH($B$1)<MONTH(B33+1),"",B33+1),"") -> 41727 | C34: =B34 -> 41727 | I34: =IF(AZ34=0,"",IF(AY34=0,"",IF(OR(B34<=TODAY(),AZ34),AY34,""))) | J34: =IF(B34<>"",IF(AND(Feiertage!$G$2<>"ja",AV34=1),IF(AZ34>0,BB34+AZ34,BB34),IF(AZ34=0,0, IF(I34<>"",AZ34-I34,AZ34)))+AX34,"") -> 0 | K34: =IF(B34<>"",IF(AV34=0,BB34,IF(Feiertage!$G$2="ja","00:00",BB34)),"") -> 00:00 | L34: =IF(OR(B34<=TODAY(),J34,AW34="G"),IF(J34<>"",IF(J34-K34=0,"",J34-K34),IF(K34<>"",-K34,"")),"") | M34: =IF(LOWER(AW34)=LOWER(Urlaub!$W$19),Urlaub!$S$19, IF(LOWER(AW34)=LOWER(Urlaub!$W$20),Urlaub!$S$20, IF(LOWER(AW34)=LOWER(Urlaub!$W$21),Urlaub!$S$21, IF(LOWER(AW34)=LOWER(Urlaub!$W$22),Urlaub!$S$22, IF(LOWER(AW34)=LOWER(Urlaub!$W$23),Urlaub!$S$23, IF(LOWER(AW34)=LOWER(Urlaub!$W$24),Urlaub!$S$24,""))))))&IF(AND(EXACT(LOWER(AW34),AW34),AW34<>0)," 1/2","") | N34: =IF(J34<>"",24*J34*IF(WEEKDAY(C34)=WEEKDAY($P$6),$S$6, IF(WEEKDAY(C34)=WEEKDAY($P$7),$S$7, IF(WEEKDAY(C34)=WEEKDAY($P$8),$S$8, IF(WEEKDAY(C34)=WEEKDAY($P$9),$S$9, IF(WEEKDAY(C34)=WEEKDAY($P$10),$S$10, IF(WEEKDAY(C34)=WEEKDAY($P$11),$S$11, IF(WEEKDAY(C34)=WEEKDAY($P$12),$S$12,""))))))),"") -> 0 | AV34: =IF(IFERROR(MATCH($B34,Feiertage!$B$2:$B$34,0)>0,0),1,0) -> 1 | AW34: =IFERROR(HLOOKUP(DAY(B34),Urlaub!$C$4:$AG$16,MONTH(B34)+1,0),0) -> 0 | AX34: =IFERROR(IF(OR(AW34=0,AW34="G"),0,IF(EXACT(LOWER(AW34),AW34),0.5*BB34,BB34)),"") -> 0 | AY34: =IFERROR(IF(WEEKDAY(C34)=WEEKDAY($P$6),$R$6, IF(WEEKDAY(C34)=WEEKDAY($P$7),$R$7, IF(WEEKDAY(C34)=WEEKDAY($P$8),$R$8, IF(WEEKDAY(C34)=WEEKDAY($P$9),$R$9, IF(WEEKDAY(C34)=WEEKDAY($P$10),$R$10, IF(WEEKDAY(C34)=WEEKDAY($P$11),$R$11, IF(WEEKDAY(C34)=WEEKDAY($P$12),$R$12,""))))))),"") -> 0.020833333 | AZ34: =IF(F34,IF(E34,IF(E34>F34,F34+"24:00"-E34,F34-E34),0),0)+IF(G34,IF(G34,IF(G34>H34,H34+"24:00"-G34,H34-G34),0),0) -> 0 | BA34: =AZ34*24 -> 0 | BB34: =IFERROR(IF(WEEKDAY(C34)=WEEKDAY($P$6),$Q$6, IF(WEEKDAY(C34)=WEEKDAY($P$7),$Q$7, IF(WEEKDAY(C34)=WEEKDAY($P$8),$Q$8, IF(WEEKDAY(C34)=WEEKDAY($P$9),$Q$9, IF(WEEKDAY(C34)=WEEKDAY($P$10),$Q$10, IF(WEEKDAY(C34)=WEEKDAY($P$11),$Q$11, IF(WEEKDAY(C34)=WEEKDAY($P$12),$Q$12,""))))))),"") -> 0.25
B35: =IF(B34<>"",IF(MONTH($B$1)<MONTH(B34+1),"",B34+1),"") -> 41728 | C35: =B35 -> 41728 | I35: =IF(AZ35=0,"",IF(AY35=0,"",IF(OR(B35<=TODAY(),AZ35),AY35,""))) | J35: =IF(B35<>"",IF(AND(Feiertage!$G$2<>"ja",AV35=1),IF(AZ35>0,BB35+AZ35,BB35),IF(AZ35=0,0, IF(I35<>"",AZ35-I35,AZ35)))+AX35,"") -> 0 | K35: =IF(B35<>"",IF(AV35=0,BB35,IF(Feiertage!$G$2="ja","00:00",BB35)),"") -> 0 | L35: =IF(OR(B35<=TODAY(),J35,AW35="G"),IF(J35<>"",IF(J35-K35=0,"",J35-K35),IF(K35<>"",-K35,"")),"") | M35: =IF(LOWER(AW35)=LOWER(Urlaub!$W$19),Urlaub!$S$19, IF(LOWER(AW35)=LOWER(Urlaub!$W$20),Urlaub!$S$20, IF(LOWER(AW35)=LOWER(Urlaub!$W$21),Urlaub!$S$21, IF(LOWER(AW35)=LOWER(Urlaub!$W$22),Urlaub!$S$22, IF(LOWER(AW35)=LOWER(Urlaub!$W$23),Urlaub!$S$23, IF(LOWER(AW35)=LOWER(Urlaub!$W$24),Urlaub!$S$24,""))))))&IF(AND(EXACT(LOWER(AW35),AW35),AW35<>0)," 1/2","") | N35: =IF(J35<>"",24*J35*IF(WEEKDAY(C35)=WEEKDAY($P$6),$S$6, IF(WEEKDAY(C35)=WEEKDAY($P$7),$S$7, IF(WEEKDAY(C35)=WEEKDAY($P$8),$S$8, IF(WEEKDAY(C35)=WEEKDAY($P$9),$S$9, IF(WEEKDAY(C35)=WEEKDAY($P$10),$S$10, IF(WEEKDAY(C35)=WEEKDAY($P$11),$S$11, IF(WEEKDAY(C35)=WEEKDAY($P$12),$S$12,""))))))),"") -> 0 | AV35: =IF(IFERROR(MATCH($B35,Feiertage!$B$2:$B$34,0)>0,0),1,0) -> 0 | AW35: =IFERROR(HLOOKUP(DAY(B35),Urlaub!$C$4:$AG$16,MONTH(B35)+1,0),0) -> 0 | AX35: =IFERROR(IF(OR(AW35=0,AW35="G"),0,IF(EXACT(LOWER(AW35),AW35),0.5*BB35,BB35)),"") -> 0 | AY35: =IFERROR(IF(WEEKDAY(C35)=WEEKDAY($P$6),$R$6, IF(WEEKDAY(C35)=WEEKDAY($P$7),$R$7, IF(WEEKDAY(C35)=WEEKDAY($P$8),$R$8, IF(WEEKDAY(C35)=WEEKDAY($P$9),$R$9, IF(WEEKDAY(C35)=WEEKDAY($P$10),$R$10, IF(WEEKDAY(C35)=WEEKDAY($P$11),$R$11, IF(WEEKDAY(C35)=WEEKDAY($P$12),$R$12,""))))))),"") -> 0.020833333 | AZ35: =IF(F35,IF(E35,IF(E35>F35,F35+"24:00"-E35,F35-E35),0),0)+IF(G35,IF(G35,IF(G35>H35,H35+"24:00"-G35,H35-G35),0),0) -> 0 | BA35: =AZ35*24 -> 0 | BB35: =IFERROR(IF(WEEKDAY(C35)=WEEKDAY($P$6),$Q$6, IF(WEEKDAY(C35)=WEEKDAY($P$7),$Q$7, IF(WEEKDAY(C35)=WEEKDAY($P$8),$Q$8, IF(WEEKDAY(C35)=WEEKDAY($P$9),$Q$9, IF(WEEKDAY(C35)=WEEKDAY($P$10),$Q$10, IF(WEEKDAY(C35)=WEEKDAY($P$11),$Q$11, IF(WEEKDAY(C35)=WEEKDAY($P$12),$Q$12,""))))))),"") -> 0
B37: Gesamt | J37: =SUM(J5:J35) -> 0 | K37: =SUM(K5:K35) -> 6.6666667 | L37: =SUM(L5:L35) -> 0 | M37: =SUM(AX5:AX35) -> 0 | N37: =SUM(N5:N35) -> 0

Sheet April
A1: 41639 | B1: =DATEVALUE("1 " & RIGHT(CELL("dateiname",$A$1),LEN(CELL("dateiname",$A$1))-FIND("]",CELL("dateiname",$A$1))) & " " & YEAR(Januar!$A$1)) -> 41729
E3: Arbeitszeit
B4: Datum | C4: Tag | E4: von | F4: bis | G4: von | H4: bis | I4: Pause | J4: Istzeit | K4: Sollzeit | L4: Differenz | M4: Abwesenheit | N4: Lohn | P4: Wochenplan | U4: Monatssaldo | AV4: Feiertag | AW4: Abws | AX4: Abws Dauer | AY4: Pause | AZ4: Istzeit | BA4: Ist Dez | BB4: Sollzeit
B5: =B1 -> 41729 | C5: =B5 -> 41729 | I5: =IF(AZ5=0,"",IF(AY5=0,"",IF(OR(B5<=TODAY(),AZ5),AY5,""))) | J5: =IF(AND(Feiertage!$G$2<>"ja",AV5=1),IF(AZ5>0,BB5+AZ5,BB5),IF(AZ5=0,0, IF(I5<>"",AZ5-I5,AZ5)))+AX5 -> 0 | K5: =IF(AV5=0,BB5,IF(Feiertage!$G$2="ja","00:00",BB5)) -> 00:00 | L5: =IF(OR(B5<=TODAY(),J5,AW5="G"),IF(J5<>"",IF(J5-K5=0,"",J5-K5),IF(K5<>"",-K5,"")),"") | M5: =IF(LOWER(AW5)=LOWER(Urlaub!$W$19),Urlaub!$S$19, IF(LOWER(AW5)=LOWER(Urlaub!$W$20),Urlaub!$S$20, IF(LOWER(AW5)=LOWER(Urlaub!$W$21),Urlaub!$S$21, IF(LOWER(AW5)=LOWER(Urlaub!$W$22),Urlaub!$S$22, IF(LOWER(AW5)=LOWER(Urlaub!$W$23),Urlaub!$S$23, IF(LOWER(AW5)=LOWER(Urlaub!$W$24),Urlaub!$S$24,""))))))&IF(AND(EXACT(LOWER(AW5),AW5),AW5<>0)," 1/2","") | N5: =24*J5*IF(WEEKDAY(C5)=WEEKDAY($P$6),$S$6, IF(WEEKDAY(C5)=WEEKDAY($P$7),$S$7, IF(WEEKDAY(C5)=WEEKDAY($P$8),$S$8, IF(WEEKDAY(C5)=WEEKDAY($P$9),$S$9, IF(WEEKDAY(C5)=WEEKDAY($P$10),$S$10, IF(WEEKDAY(C5)=WEEKDAY($P$11),$S$11, IF(WEEKDAY(C5)=WEEKDAY($P$12),$S$12,""))))))) -> 0 | P5: Wochentag | Q5: Sollzeit | R5: Pause | S5: Stundenlohn | U5: ="Übertrag aus " & IF( MONTH(B1)=1, YEAR(B1)-1, TEXT(EDATE(B1,-1),"MMMM")) -> Übertrag aus März | V5: =IF(MONTH(B1)>1,INDIRECT(TEXT(EDATE(B1,-1),"MMMM")&"!v9"),"") -> -0.13541667 | AV5: =IF(IFERROR(MATCH($B5,Feiertage!$B$2:$B$34,0)>0,0),1,0) -> 1 | AW5: =IFERROR(HLOOKUP(DAY(B5),Urlaub!$C$4:$AG$16,MONTH(B5)+1,0),0) -> 0 | AX5: =IFERROR(IF(AW5=0,0,IF(EXACT(LOWER(AW5),AW5),0.5*BB5,BB5)),"") -> 0 | AY5: =IFERROR(IF(WEEKDAY(C5)=WEEKDAY($P$6),$R$6, IF(WEEKDAY(C5)=WEEKDAY($P$7),$R$7, IF(WEEKDAY(C5)=WEEKDAY($P$8),$R$8, IF(WEEKDAY(C5)=WEEKDAY($P$9),$R$9, IF(WEEKDAY(C5)=WEEKDAY($P$10),$R$10, IF(WEEKDAY(C5)=WEEKDAY($P$11),$R$11, IF(WEEKDAY(C5)=WEEKDAY($P$12),$R$12,""))))))),"") -> 0.020833333 | AZ5: =IF(F5,IF(E5,IF(E5>F5,F5+"24:00"-E5,F5-E5),0),0)+IF(G5,IF(G5,IF(G5>H5,H5+"24:00"-G5,H5-G5),0),0) -> 0 | BA5: =AZ5*24 -> 0 | BB5: =IFERROR(IF(WEEKDAY(C5)=WEEKDAY($P$6),$Q$6, IF(WEEKDAY(C5)=WEEKDAY($P$7),$Q$7, IF(WEEKDAY(C5)=WEEKDAY($P$8),$Q$8, IF(WEEKDAY(C5)=WEEKDAY($P$9),$Q$9, IF(WEEKDAY(C5)=WEEKDAY($P$10),$Q$10, IF(WEEKDAY(C5)=WEEKDAY($P$11),$Q$11, IF(WEEKDAY(C5)=WEEKDAY($P$12),$Q$12,""))))))),"") -> 0
B6: =B5+1 -> 41730 | C6: =B6 -> 41730 | I6: =IF(AZ6=0,"",IF(AY6=0,"",IF(OR(B6<=TODAY(),AZ6),AY6,""))) | J6: =IF(AND(Feiertage!$G$2<>"ja",AV6=1),IF(AZ6>0,BB6+AZ6,BB6),IF(AZ6=0,0, IF(I6<>"",AZ6-I6,AZ6)))+AX6 -> 0 | K6: =IF(AV6=0,BB6,IF(Feiertage!$G$2="ja","00:00",BB6)) -> 00:00 | L6: =IF(OR(B6<=TODAY(),J6,AW6="G"),IF(J6<>"",IF(J6-K6=0,"",J6-K6),IF(K6<>"",-K6,"")),"") | M6: =IF(LOWER(AW6)=LOWER(Urlaub!$W$19),Urlaub!$S$19, IF(LOWER(AW6)=LOWER(Urlaub!$W$20),Urlaub!$S$20, IF(LOWER(AW6)=LOWER(Urlaub!$W$21),Urlaub!$S$21, IF(LOWER(AW6)=LOWER(Urlaub!$W$22),Urlaub!$S$22, IF(LOWER(AW6)=LOWER(Urlaub!$W$23),Urlaub!$S$23, IF(LOWER(AW6)=LOWER(Urlaub!$W$24),Urlaub!$S$24,""))))))&IF(AND(EXACT(LOWER(AW6),AW6),AW6<>0)," 1/2","") | N6: =24*J6*IF(WEEKDAY(C6)=WEEKDAY($P$6),$S$6, IF(WEEKDAY(C6)=WEEKDAY($P$7),$S$7, IF(WEEKDAY(C6)=WEEKDAY($P$8),$S$8, IF(WEEKDAY(C6)=WEEKDAY($P$9),$S$9, IF(WEEKDAY(C6)=WEEKDAY($P$10),$S$10, IF(WEEKDAY(C6)=WEEKDAY($P$11),$S$11, IF(WEEKDAY(C6)=WEEKDAY($P$12),$S$12,""))))))) -> 0 | P6: 41639 | Q6: 0.33333333 | R6: 0.020833333 | U6: Sollzeit | V6: =SUM(K5:K35) -> 6.3333333 | AV6: =IF(IFERROR(MATCH($B6,Feiertage!$B$2:$B$34,0)>0,0),1,0) -> 1 | AW6: =IFERROR(HLOOKUP(DAY(B6),Urlaub!$C$4:$AG$16,MONTH(B6)+1,0),0) -> 0 | AX6: =IFERROR(IF(AW6=0,0,IF(EXACT(LOWER(AW6),AW6),0.5*BB6,BB6)),"") -> 0 | AY6: =IFERROR(IF(WEEKDAY(C6)=WEEKDAY($P$6),$R$6, IF(WEEKDAY(C6)=WEEKDAY($P$7),$R$7, IF(WEEKDAY(C6)=WEEKDAY($P$8),$R$8, IF(WEEKDAY(C6)=WEEKDAY($P$9),$R$9, IF(WEEKDAY(C6)=WEEKDAY($P$10),$R$10, IF(WEEKDAY(C6)=WEEKDAY($P$11),$R$11, IF(WEEKDAY(C6)=WEEKDAY($P$12),$R$12,""))))))),"") -> 0.020833333 | AZ6: =IF(F6,IF(E6,IF(E6>F6,F6+"24:00"-E6,F6-E6),0),0)+IF(G6,IF(G6,IF(G6>H6,H6+"24:00"-G6,H6-G6),0),0) -> 0 | BA6: =AZ6*24 -> 0 | BB6: =IFERROR(IF(WEEKDAY(C6)=WEEKDAY($P$6),$Q$6, IF(WEEKDAY(C6)=WEEKDAY($P$7),$Q$7, IF(WEEKDAY(C6)=WEEKDAY($P$8),$Q$8, IF(WEEKDAY(C6)=WEEKDAY($P$9),$Q$9, IF(WEEKDAY(C6)=WEEKDAY($P$10),$Q$10, IF(WEEKDAY(C6)=WEEKDAY($P$11),$Q$11, IF(WEEKDAY(C6)=WEEKDAY($P$12),$Q$12,""))))))),"") -> 0.33333333
B7: =B6+1 -> 41731 | C7: =B7 -> 41731 | I7: =IF(AZ7=0,"",IF(AY7=0,"",IF(OR(B7<=TODAY(),AZ7),AY7,""))) | J7: =IF(AND(Feiertage!$G$2<>"ja",AV7=1),IF(AZ7>0,BB7+AZ7,BB7),IF(AZ7=0,0, IF(I7<>"",AZ7-I7,AZ7)))+AX7 -> 0 | K7: =IF(AV7=0,BB7,IF(Feiertage!$G$2="ja","00:00",BB7)) -> 0.33333333 | L7: =IF(OR(B7<=TODAY(),J7,AW7="G"),IF(J7<>"",IF(J7-K7=0,"",J7-K7),IF(K7<>"",-K7,"")),"") | M7: =IF(LOWER(AW7)=LOWER(Urlaub!$W$19),Urlaub!$S$19, IF(LOWER(AW7)=LOWER(Urlaub!$W$20),Urlaub!$S$20, IF(LOWER(AW7)=LOWER(Urlaub!$W$21),Urlaub!$S$21, IF(LOWER(AW7)=LOWER(Urlaub!$W$22),Urlaub!$S$22, IF(LOWER(AW7)=LOWER(Urlaub!$W$23),Urlaub!$S$23, IF(LOWER(AW7)=LOWER(Urlaub!$W$24),Urlaub!$S$24,""))))))&IF(AND(EXACT(LOWER(AW7),AW7),AW7<>0)," 1/2","") | N7: =24*J7*IF(WEEKDAY(C7)=WEEKDAY($P$6),$S$6, IF(WEEKDAY(C7)=WEEKDAY($P$7),$S$7, IF(WEEKDAY(C7)=WEEKDAY($P$8),$S$8, IF(WEEKDAY(C7)=WEEKDAY($P$9),$S$9, IF(WEEKDAY(C7)=WEEKDAY($P$10),$S$10, IF(WEEKDAY(C7)=WEEKDAY($P$11),$S$11, IF(WEEKDAY(C7)=WEEKDAY($P$12),$S$12,""))))))) -> 0 | P7: 41640 | Q7: 0.33333333 | R7: 0.020833333 | U7: Istzeit | V7: =SUM(J5:J35) -> 0 | AV7: =IF(IFERROR(MATCH($B7,Feiertage!$B$2:$B$34,0)>0,0),1,0) -> 0 | AW7: =IFERROR(HLOOKUP(DAY(B7),Urlaub!$C$4:$AG$16,MONTH(B7)+1,0),0) -> 0 | AX7: =IFERROR(IF(AW7=0,0,IF(EXACT(LOWER(AW7),AW7),0.5*BB7,BB7)),"") -> 0 | AY7: =IFERROR(IF(WEEKDAY(C7)=WEEKDAY($P$6),$R$6, IF(WEEKDAY(C7)=WEEKDAY($P$7),$R$7, IF(WEEKDAY(C7)=WEEKDAY($P$8),$R$8, IF(WEEKDAY(C7)=WEEKDAY($P$9),$R$9, IF(WEEKDAY(C7)=WEEKDAY($P$10),$R$10, IF(WEEKDAY(C7)=WEEKDAY($P$11),$R$11, IF(WEEKDAY(C7)=WEEKDAY($P$12),$R$12,""))))))),"") -> 0.020833333 | AZ7: =IF(F7,IF(E7,IF(E7>F7,F7+"24:00"-E7,F7-E7),0),0)+IF(G7,IF(G7,IF(G7>H7,H7+"24:00"-G7,H7-G7),0),0) -> 0 | BA7: =AZ7*24 -> 0 | BB7: =IFERROR(IF(WEEKDAY(C7)=WEEKDAY($P$6),$Q$6, IF(WEEKDAY(C7)=WEEKDAY($P$7),$Q$7, IF(WEEKDAY(C7)=WEEKDAY($P$8),$Q$8, IF(WEEKDAY(C7)=WEEKDAY($P$9),$Q$9, IF(WEEKDAY(C7)=WEEKDAY($P$10),$Q$10, IF(WEEKDAY(C7)=WEEKDAY($P$11),$Q$11, IF(WEEKDAY(C7)=WEEKDAY($P$12),$Q$12,""))))))),"") -> 0.33333333
B8: =B7+1 -> 41732 | C8: =B8 -> 41732 | I8: =IF(AZ8=0,"",IF(AY8=0,"",IF(OR(B8<=TODAY(),AZ8),AY8,""))) | J8: =IF(AND(Feiertage!$G$2<>"ja",AV8=1),IF(AZ8>0,BB8+AZ8,BB8),IF(AZ8=0,0, IF(I8<>"",AZ8-I8,AZ8)))+AX8 -> 0 | K8: =IF(AV8=0,BB8,IF(Feiertage!$G$2="ja","00:00",BB8)) -> 0.33333333 | L8: =IF(OR(B8<=TODAY(),J8,AW8="G"),IF(J8<>"",IF(J8-K8=0,"",J8-K8),IF(K8<>"",-K8,"")),"") | M8: =IF(LOWER(AW8)=LOWER(Urlaub!$W$19),Urlaub!$S$19, IF(LOWER(AW8)=LOWER(Urlaub!$W$20),Urlaub!$S$20, IF(LOWER(AW8)=LOWER(Urlaub!$W$21),Urlaub!$S$21, IF(LOWER(AW8)=LOWER(Urlaub!$W$22),Urlaub!$S$22, IF(LOWER(AW8)=LOWER(Urlaub!$W$23),Urlaub!$S$23, IF(LOWER(AW8)=LOWER(Urlaub!$W$24),Urlaub!$S$24,""))))))&IF(AND(EXACT(LOWER(AW8),AW8),AW8<>0)," 1/2","") | N8: =24*J8*IF(WEEKDAY(C8)=WEEKDAY($P$6),$S$6, IF(WEEKDAY(C8)=WEEKDAY($P$7),$S$7, IF(WEEKDAY(C8)=WEEKDAY($P$8),$S$8, IF(WEEKDAY(C8)=WEEKDAY($P$9),$S$9, IF(WEEKDAY(C8)=WEEKDAY($P$10),$S$10, IF(WEEKDAY(C8)=WEEKDAY($P$11),$S$11, IF(WEEKDAY(C8)=WEEKDAY($P$12),$S$12,""))))))) -> 0 | P8: 41641 | Q8: 0.33333333 | R8: 0.020833333 | U8: ="Saldo " & TEXT(B1,"MMMM") -> Saldo April | V8: =SUM(L5:L35) -> 0 | AV8: =IF(IFERROR(MATCH($B8,Feiertage!$B$2:$B$34,0)>0,0),1,0) -> 0 | AW8: =IFERROR(HLOOKUP(DAY(B8),Urlaub!$C$4:$AG$16,MONTH(B8)+1,0),0) -> 0 | AX8: =IFERROR(IF(AW8=0,0,IF(EXACT(LOWER(AW8),AW8),0.5*BB8,BB8)),"") -> 0 | AY8: =IFERROR(IF(WEEKDAY(C8)=WEEKDAY($P$6),$R$6, IF(WEEKDAY(C8)=WEEKDAY($P$7),$R$7, IF(WEEKDAY(C8)=WEEKDAY($P$8),$R$8, IF(WEEKDAY(C8)=WEEKDAY($P$9),$R$9, IF(WEEKDAY(C8)=WEEKDAY($P$10),$R$10, IF(WEEKDAY(C8)=WEEKDAY($P$11),$R$11, IF(WEEKDAY(C8)=WEEKDAY($P$12),$R$12,""))))))),"") -> 0.020833333 | AZ8: =IF(F8,IF(E8,IF(E8>F8,F8+"24:00"-E8,F8-E8),0),0)+IF(G8,IF(G8,IF(G8>H8,H8+"24:00"-G8,H8-G8),0),0) -> 0 | BA8: =AZ8*24 -> 0 | BB8: =IFERROR(IF(WEEKDAY(C8)=WEEKDAY($P$6),$Q$6, IF(WEEKDAY(C8)=WEEKDAY($P$7),$Q$7, IF(WEEKDAY(C8)=WEEKDAY($P$8),$Q$8, IF(WEEKDAY(C8)=WEEKDAY($P$9),$Q$9, IF(WEEKDAY(C8)=WEEKDAY($P$10),$Q$10, IF(WEEKDAY(C8)=WEEKDAY($P$11),$Q$11, IF(WEEKDAY(C8)=WEEKDAY($P$12),$Q$12,""))))))),"") -> 0.33333333
B9: =B8+1 -> 41733 | C9: =B9 -> 41733 | I9: =IF(AZ9=0,"",IF(AY9=0,"",IF(OR(B9<=TODAY(),AZ9),AY9,""))) | J9: =IF(AND(Feiertage!$G$2<>"ja",AV9=1),IF(AZ9>0,BB9+AZ9,BB9),IF(AZ9=0,0, IF(I9<>"",AZ9-I9,AZ9)))+AX9 -> 0 | K9: =IF(AV9=0,BB9,IF(Feiertage!$G$2="ja","00:00",BB9)) -> 0.33333333 | L9: =IF(OR(B9<=TODAY(),J9,AW9="G"),IF(J9<>"",IF(J9-K9=0,"",J9-K9),IF(K9<>"",-K9,"")),"") | M9: =IF(LOWER(AW9)=LOWER(Urlaub!$W$19),Urlaub!$S$19, IF(LOWER(AW9)=LOWER(Urlaub!$W$20),Urlaub!$S$20, IF(LOWER(AW9)=LOWER(Urlaub!$W$21),Urlaub!$S$21, IF(LOWER(AW9)=LOWER(Urlaub!$W$22),Urlaub!$S$22, IF(LOWER(AW9)=LOWER(Urlaub!$W$23),Urlaub!$S$23, IF(LOWER(AW9)=LOWER(Urlaub!$W$24),Urlaub!$S$24,""))))))&IF(AND(EXACT(LOWER(AW9),AW9),AW9<>0)," 1/2","") | N9: =24*J9*IF(WEEKDAY(C9)=WEEKDAY($P$6),$S$6, IF(WEEKDAY(C9)=WEEKDAY($P$7),$S$7, IF(WEEKDAY(C9)=WEEKDAY($P$8),$S$8, IF(WEEKDAY(C9)=WEEKDAY($P$9),$S$9, IF(WEEKDAY(C9)=WEEKDAY($P$10),$S$10, IF(WEEKDAY(C9)=WEEKDAY($P$11),$S$11, IF(WEEKDAY(C9)=WEEKDAY($P$12),$S$12,""))))))) -> 0 | P9: 41642 | Q9: 0.33333333 | R9: 0.020833333 | U9: ="Übertrag in " & IF( MONTH(B1)=12, YEAR(B1)+1, TEXT(EDATE(B1,1),"MMMM")) -> Übertrag in Mai | V9: =IF(V5="",0,V5)+V8 -> -0.13541667 | AV9: =IF(IFERROR(MATCH($B9,Feiertage!$B$2:$B$34,0)>0,0),1,0) -> 0 | AW9: =IFERROR(HLOOKUP(DAY(B9),Urlaub!$C$4:$AG$16,MONTH(B9)+1,0),0) -> 0 | AX9: =IFERROR(IF(AW9=0,0,IF(EXACT(LOWER(AW9),AW9),0.5*BB9,BB9)),"") -> 0 | AY9: =IFERROR(IF(WEEKDAY(C9)=WEEKDAY($P$6),$R$6, IF(WEEKDAY(C9)=WEEKDAY($P$7),$R$7, IF(WEEKDAY(C9)=WEEKDAY($P$8),$R$8, IF(WEEKDAY(C9)=WEEKDAY($P$9),$R$9, IF(WEEKDAY(C9)=WEEKDAY($P$10),$R$10, IF(WEEKDAY(C9)=WEEKDAY($P$11),$R$11, IF(WEEKDAY(C9)=WEEKDAY($P$12),$R$12,""))))))),"") -> 0.020833333 | AZ9: =IF(F9,IF(E9,IF(E9>F9,F9+"24:00"-E9,F9-E9),0),0)+IF(G9,IF(G9,IF(G9>H9,H9+"24:00"-G9,H9-G9),0),0) -> 0 | BA9: =AZ9*24 -> 0 | BB9: =IFERROR(IF(WEEKDAY(C9)=WEEKDAY($P$6),$Q$6, IF(WEEKDAY(C9)=WEEKDAY($P$7),$Q$7, IF(WEEKDAY(C9)=WEEKDAY($P$8),$Q$8, IF(WEEKDAY(C9)=WEEKDAY($P$9),$Q$9, IF(WEEKDAY(C9)=WEEKDAY($P$10),$Q$10, IF(WEEKDAY(C9)=WEEKDAY($P$11),$Q$11, IF(WEEKDAY(C9)=WEEKDAY($P$12),$Q$12,""))))))),"") -> 0.33333333
B10: =B9+1 -> 41734 | C10: =B10 -> 41734 | I10: =IF(AZ10=0,"",IF(AY10=0,"",IF(OR(B10<=TODAY(),AZ10),AY10,""))) | J10: =IF(AND(Feiertage!$G$2<>"ja",AV10=1),IF(AZ10>0,BB10+AZ10,BB10),IF(AZ10=0,0, IF(I10<>"",AZ10-I10,AZ10)))+AX10 -> 0 | K10: =IF(AV10=0,BB10,IF(Feiertage!$G$2="ja","00:00",BB10)) -> 0.25 | L10: =IF(OR(B10<=TODAY(),J10,AW10="G"),IF(J10<>"",IF(J10-K10=0,"",J10-K10),IF(K10<>"",-K10,"")),"") | M10: =IF(LOWER(AW10)=LOWER(Urlaub!$W$19),Urlaub!$S$19, IF(LOWER(AW10)=LOWER(Urlaub!$W$20),Urlaub!$S$20, IF(LOWER(AW10)=LOWER(Urlaub!$W$21),Urlaub!$S$21, IF(LOWER(AW10)=LOWER(Urlaub!$W$22),Urlaub!$S$22, IF(LOWER(AW10)=LOWER(Urlaub!$W$23),Urlaub!$S$23, IF(LOWER(AW10)=LOWER(Urlaub!$W$24),Urlaub!$S$24,""))))))&IF(AND(EXACT(LOWER(AW10),AW10),AW10<>0)," 1/2","") | N10: =24*J10*IF(WEEKDAY(C10)=WEEKDAY($P$6),$S$6, IF(WEEKDAY(C10)=WEEKDAY($P$7),$S$7, IF(WEEKDAY(C10)=WEEKDAY($P$8),$S$8, IF(WEEKDAY(C10)=WEEKDAY($P$9),$S$9, IF(WEEKDAY(C10)=WEEKDAY($P$10),$S$10, IF(WEEKDAY(C10)=WEEKDAY($P$11),$S$11, IF(WEEKDAY(C10)=WEEKDAY($P$12),$S$12,""))))))) -> 0 | P10: 41643 | Q10: 0.25 | R10: 0.020833333 | AV10: =IF(IFERROR(MATCH($B10,Feiertage!$B$2:$B$34,0)>0,0),1,0) -> 0 | AW10: =IFERROR(HLOOKUP(DAY(B10),Urlaub!$C$4:$AG$16,MONTH(B10)+1,0),0) -> 0 | AX10: =IFERROR(IF(AW10=0,0,IF(EXACT(LOWER(AW10),AW10),0.5*BB10,BB10)),"") -> 0 | AY10: =IFERROR(IF(WEEKDAY(C10)=WEEKDAY($P$6),$R$6, IF(WEEKDAY(C10)=WEEKDAY($P$7),$R$7, IF(WEEKDAY(C10)=WEEKDAY($P$8),$R$8, IF(WEEKDAY(C10)=WEEKDAY($P$9),$R$9, IF(WEEKDAY(C10)=WEEKDAY($P$10),$R$10, IF(WEEKDAY(C10)=WEEKDAY($P$11),$R$11, IF(WEEKDAY(C10)=WEEKDAY($P$12),$R$12,""))))))),"") -> 0.020833333 | AZ10: =IF(F10,IF(E10,IF(E10>F10,F10+"24:00"-E10,F10-E10),0),0)+IF(G10,IF(G10,IF(G10>H10,H10+"24:00"-G10,H10-G10),0),0) -> 0 | BA10: =AZ10*24 -> 0 | BB10: =IFERROR(IF(WEEKDAY(C10)=WEEKDAY($P$6),$Q$6, IF(WEEKDAY(C10)=WEEKDAY($P$7),$Q$7, IF(WEEKDAY(C10)=WEEKDAY($P$8),$Q$8, IF(WEEKDAY(C10)=WEEKDAY($P$9),$Q$9, IF(WEEKDAY(C10)=WEEKDAY($P$10),$Q$10, IF(WEEKDAY(C10)=WEEKDAY($P$11),$Q$11, IF(WEEKDAY(C10)=WEEKDAY($P$12),$Q$12,""))))))),"") -> 0.25
B11: =B10+1 -> 41735 | C11: =B11 -> 41735 | I11: =IF(AZ11=0,"",IF(AY11=0,"",IF(OR(B11<=TODAY(),AZ11),AY11,""))) | J11: =IF(AND(Feiertage!$G$2<>"ja",AV11=1),IF(AZ11>0,BB11+AZ11,BB11),IF(AZ11=0,0, IF(I11<>"",AZ11-I11,AZ11)))+AX11 -> 0 | K11: =IF(AV11=0,BB11,IF(Feiertage!$G$2="ja","00:00",BB11)) -> 0 | L11: =IF(OR(B11<=TODAY(),J11,AW11="G"),IF(J11<>"",IF(J11-K11=0,"",J11-K11),IF(K11<>"",-K11,"")),"") | M11: =IF(LOWER(AW11)=LOWER(Urlaub!$W$19),Urlaub!$S$19, IF(LOWER(AW11)=LOWER(Urlaub!$W$20),Urlaub!$S$20, IF(LOWER(AW11)=LOWER(Urlaub!$W$21),Urlaub!$S$21, IF(LOWER(AW11)=LOWER(Urlaub!$W$22),Urlaub!$S$22, IF(LOWER(AW11)=LOWER(Urlaub!$W$23),Urlaub!$S$23, IF(LOWER(AW11)=LOWER(Urlaub!$W$24),Urlaub!$S$24,""))))))&IF(AND(EXACT(LOWER(AW11),AW11),AW11<>0)," 1/2","") | N11: =24*J11*IF(WEEKDAY(C11)=WEEKDAY($P$6),$S$6, IF(WEEKDAY(C11)=WEEKDAY($P$7),$S$7, IF(WEEKDAY(C11)=WEEKDAY($P$8),$S$8, IF(WEEKDAY(C11)=WEEKDAY($P$9),$S$9, IF(WEEKDAY(C11)=WEEKDAY($P$10),$S$10, IF(WEEKDAY(C11)=WEEKDAY($P$11),$S$11, IF(WEEKDAY(C11)=WEEKDAY($P$12),$S$12,""))))))) -> 0 | P11: 41644 | Q11: 0 | R11: 0.020833333 | AV11: =IF(IFERROR(MATCH($B11,Feiertage!$B$2:$B$34,0)>0,0),1,0) -> 0 | AW11: =IFERROR(HLOOKUP(DAY(B11),Urlaub!$C$4:$AG$16,MONTH(B11)+1,0),0) -> 0 | AX11: =IFERROR(IF(AW11=0,0,IF(EXACT(LOWER(AW11),AW11),0.5*BB11,BB11)),"") -> 0 | AY11: =IFERROR(IF(WEEKDAY(C11)=WEEKDAY($P$6),$R$6, IF(WEEKDAY(C11)=WEEKDAY($P$7),$R$7, IF(WEEKDAY(C11)=WEEKDAY($P$8),$R$8, IF(WEEKDAY(C11)=WEEKDAY($P$9),$R$9, IF(WEEKDAY(C11)=WEEKDAY($P$10),$R$10, IF(WEEKDAY(C11)=WEEKDAY($P$11),$R$11, IF(WEEKDAY(C11)=WEEKDAY($P$12),$R$12,""))))))),"") -> 0.020833333 | AZ11: =IF(F11,IF(E11,IF(E11>F11,F11+"24:00"-E11,F11-E11),0),0)+IF(G11,IF(G11,IF(G11>H11,H11+"24:00"-G11,H11-G11),0),0) -> 0 | BA11: =AZ11*24 -> 0 | BB11: =IFERROR(IF(WEEKDAY(C11)=WEEKDAY($P$6),$Q$6, IF(WEEKDAY(C11)=WEEKDAY($P$7),$Q$7, IF(WEEKDAY(C11)=WEEKDAY($P$8),$Q$8, IF(WEEKDAY(C11)=WEEKDAY($P$9),$Q$9, IF(WEEKDAY(C11)=WEEKDAY($P$10),$Q$10, IF(WEEKDAY(C11)=WEEKDAY($P$11),$Q$11, IF(WEEKDAY(C11)=WEEKDAY($P$12),$Q$12,""))))))),"") -> 0
B12: =B11+1 -> 41736 | C12: =B12 -> 41736 | I12: =IF(AZ12=0,"",IF(AY12=0,"",IF(OR(B12<=TODAY(),AZ12),AY12,""))) | J12: =IF(AND(Feiertage!$G$2<>"ja",AV12=1),IF(AZ12>0,BB12+AZ12,BB12),IF(AZ12=0,0, IF(I12<>"",AZ12-I12,AZ12)))+AX12 -> 0 | K12: =IF(AV12=0,BB12,IF(Feiertage!$G$2="ja","00:00",BB12)) -> 0 | L12: =IF(OR(B12<=TODAY(),J12,AW12="G"),IF(J12<>"",IF(J12-K12=0,"",J12-K12),IF(K12<>"",-K12,"")),"") | M12: =IF(LOWER(AW12)=LOWER(Urlaub!$W$19),Urlaub!$S$19, IF(LOWER(AW12)=LOWER(Urlaub!$W$20),Urlaub!$S$20, IF(LOWER(AW12)=LOWER(Urlaub!$W$21),Urlaub!$S$21, IF(LOWER(AW12)=LOWER(Urlaub!$W$22),Urlaub!$S$22, IF(LOWER(AW12)=LOWER(Urlaub!$W$23),Urlaub!$S$23, IF(LOWER(AW12)=LOWER(Urlaub!$W$24),Urlaub!$S$24,""))))))&IF(AND(EXACT(LOWER(AW12),AW12),AW12<>0)," 1/2","") | N12: =24*J12*IF(WEEKDAY(C12)=WEEKDAY($P$6),$S$6, IF(WEEKDAY(C12)=WEEKDAY($P$7),$S$7, IF(WEEKDAY(C12)=WEEKDAY($P$8),$S$8, IF(WEEKDAY(C12)=WEEKDAY($P$9),$S$9, IF(WEEKDAY(C12)=WEEKDAY($P$10),$S$10, IF(WEEKDAY(C12)=WEEKDAY($P$11),$S$11, IF(WEEKDAY(C12)=WEEKDAY($P$12),$S$12,""))))))) -> 0 | P12: 41645 | Q12: 0 | R12: 0.020833333 | AV12: =IF(IFERROR(MATCH($B12,Feiertage!$B$2:$B$34,0)>0,0),1,0) -> 0 | AW12: =IFERROR(HLOOKUP(DAY(B12),Urlaub!$C$4:$AG$16,MONTH(B12)+1,0),0) -> 0 | AX12: =IFERROR(IF(AW12=0,0,IF(EXACT(LOWER(AW12),AW12),0.5*BB12,BB12)),"") -> 0 | AY12: =IFERROR(IF(WEEKDAY(C12)=WEEKDAY($P$6),$R$6, IF(WEEKDAY(C12)=WEEKDAY($P$7),$R$7, IF(WEEKDAY(C12)=WEEKDAY($P$8),$R$8, IF(WEEKDAY(C12)=WEEKDAY($P$9),$R$9, IF(WEEKDAY(C12)=WEEKDAY($P$10),$R$10, IF(WEEKDAY(C12)=WEEKDAY($P$11),$R$11, IF(WEEKDAY(C12)=WEEKDAY($P$12),$R$12,""))))))),"") -> 0.020833333 | AZ12: =IF(F12,IF(E12,IF(E12>F12,F12+"24:00"-E12,F12-E12),0),0)+IF(G12,IF(G12,IF(G12>H12,H12+"24:00"-G12,H12-G12),0),0) -> 0 | BA12: =AZ12*24 -> 0 | BB12: =IFERROR(IF(WEEKDAY(C12)=WEEKDAY($P$6),$Q$6, IF(WEEKDAY(C12)=WEEKDAY($P$7),$Q$7, IF(WEEKDAY(C12)=WEEKDAY($P$8),$Q$8, IF(WEEKDAY(C12)=WEEKDAY($P$9),$Q$9, IF(WEEKDAY(C12)=WEEKDAY($P$10),$Q$10, IF(WEEKDAY(C12)=WEEKDAY($P$11),$Q$11, IF(WEEKDAY(C12)=WEEKDAY($P$12),$Q$12,""))))))),"") -> 0
B13: =B12+1 -> 41737 | C13: =B13 -> 41737 | I13: =IF(AZ13=0,"",IF(AY13=0,"",IF(OR(B13<=TODAY(),AZ13),AY13,""))) | J13: =IF(AND(Feiertage!$G$2<>"ja",AV13=1),IF(AZ13>0,BB13+AZ13,BB13),IF(AZ13=0,0, IF(I13<>"",AZ13-I13,AZ13)))+AX13 -> 0 | K13: =IF(AV13=0,BB13,IF(Feiertage!$G$2="ja","00:00",BB13)) -> 0.33333333 | L13: =IF(OR(B13<=TODAY(),J13,AW13="G"),IF(J13<>"",IF(J13-K13=0,"",J13-K13),IF(K13<>"",-K13,"")),"") | M13: =IF(LOWER(AW13)=LOWER(Urlaub!$W$19),Urlaub!$S$19, IF(LOWER(AW13)=LOWER(Urlaub!$W$20),Urlaub!$S$20, IF(LOWER(AW13)=LOWER(Urlaub!$W$21),Urlaub!$S$21, IF(LOWER(AW13)=LOWER(Urlaub!$W$22),Urlaub!$S$22, IF(LOWER(AW13)=LOWER(Urlaub!$W$23),Urlaub!$S$23, IF(LOWER(AW13)=LOWER(Urlaub!$W$24),Urlaub!$S$24,""))))))&IF(AND(EXACT(LOWER(AW13),AW13),AW13<>0)," 1/2","") | N13: =24*J13*IF(WEEKDAY(C13)=WEEKDAY($P$6),$S$6, IF(WEEKDAY(C13)=WEEKDAY($P$7),$S$7, IF(WEEKDAY(C13)=WEEKDAY($P$8),$S$8, IF(WEEKDAY(C13)=WEEKDAY($P$9),$S$9, IF(WEEKDAY(C13)=WEEKDAY($P$10),$S$10, IF(WEEKDAY(C13)=WEEKDAY($P$11),$S$11, IF(WEEKDAY(C13)=WEEKDAY($P$12),$S$12,""))))))) -> 0 | P13: Wochensoll | Q13: =SUM(Q6:Q12) -> 1.5833333 | AV13: =IF(IFERROR(MATCH($B13,Feiertage!$B$2:$B$34,0)>0,0),1,0) -> 0 | AW13: =IFERROR(HLOOKUP(DAY(B13),Urlaub!$C$4:$AG$16,MONTH(B13)+1,0),0) -> 0 | AX13: =IFERROR(IF(AW13=0,0,IF(EXACT(LOWER(AW13),AW13),0.5*BB13,BB13)),"") -> 0 | AY13: =IFERROR(IF(WEEKDAY(C13)=WEEKDAY($P$6),$R$6, IF(WEEKDAY(C13)=WEEKDAY($P$7),$R$7, IF(WEEKDAY(C13)=WEEKDAY($P$8),$R$8, IF(WEEKDAY(C13)=WEEKDAY($P$9),$R$9, IF(WEEKDAY(C13)=WEEKDAY($P$10),$R$10, IF(WEEKDAY(C13)=WEEKDAY($P$11),$R$11, IF(WEEKDAY(C13)=WEEKDAY($P$12),$R$12,""))))))),"") -> 0.020833333 | AZ13: =IF(F13,IF(E13,IF(E13>F13,F13+"24:00"-E13,F13-E13),0),0)+IF(G13,IF(G13,IF(G13>H13,H13+"24:00"-G13,H13-G13),0),0) -> 0 | BA13: =AZ13*24 -> 0 | BB13: =IFERROR(IF(WEEKDAY(C13)=WEEKDAY($P$6),$Q$6, IF(WEEKDAY(C13)=WEEKDAY($P$7),$Q$7, IF(WEEKDAY(C13)=WEEKDAY($P$8),$Q$8, IF(WEEKDAY(C13)=WEEKDAY($P$9),$Q$9, IF(WEEKDAY(C13)=WEEKDAY($P$10),$Q$10, IF(WEEKDAY(C13)=WEEKDAY($P$11),$Q$11, IF(WEEKDAY(C13)=WEEKDAY($P$12),$Q$12,""))))))),"") -> 0.33333333
B14: =B13+1 -> 41738 | C14: =B14 -> 41738 | I14: =IF(AZ14=0,"",IF(AY14=0,"",IF(OR(B14<=TODAY(),AZ14),AY14,""))) | J14: =IF(AND(Feiertage!$G$2<>"ja",AV14=1),IF(AZ14>0,BB14+AZ14,BB14),IF(AZ14=0,0, IF(I14<>"",AZ14-I14,AZ14)))+AX14 -> 0 | K14: =IF(AV14=0,BB14,IF(Feiertage!$G$2="ja","00:00",BB14)) -> 0.33333333 | L14: =IF(OR(B14<=TODAY(),J14,AW14="G"),IF(J14<>"",IF(J14-K14=0,"",J14-K14),IF(K14<>"",-K14,"")),"") | M14: =IF(LOWER(AW14)=LOWER(Urlaub!$W$19),Urlaub!$S$19, IF(LOWER(AW14)=LOWER(Urlaub!$W$20),Urlaub!$S$20, IF(LOWER(AW14)=LOWER(Urlaub!$W$21),Urlaub!$S$21, IF(LOWER(AW14)=LOWER(Urlaub!$W$22),Urlaub!$S$22, IF(LOWER(AW14)=LOWER(Urlaub!$W$23),Urlaub!$S$23, IF(LOWER(AW14)=LOWER(Urlaub!$W$24),Urlaub!$S$24,""))))))&IF(AND(EXACT(LOWER(AW14),AW14),AW14<>0)," 1/2","") | N14: =24*J14*IF(WEEKDAY(C14)=WEEKDAY($P$6),$S$6, IF(WEEKDAY(C14)=WEEKDAY($P$7),$S$7, IF(WEEKDAY(C14)=WEEKDAY($P$8),$S$8, IF(WEEKDAY(C14)=WEEKDAY($P$9),$S$9, IF(WEEKDAY(C14)=WEEKDAY($P$10),$S$10, IF(WEEKDAY(C14)=WEEKDAY($P$11),$S$11, IF(WEEKDAY(C14)=WEEKDAY($P$12),$S$12,""))))))) -> 0 | AV14: =IF(IFERROR(MATCH($B14,Feiertage!$B$2:$B$34,0)>0,0),1,0) -> 0 | AW14: =IFERROR(HLOOKUP(DAY(B14),Urlaub!$C$4:$AG$16,MONTH(B14)+1,0),0) -> 0 | AX14: =IFERROR(IF(AW14=0,0,IF(EXACT(LOWER(AW14),AW14),0.5*BB14,BB14)),"") -> 0 | AY14: =IFERROR(IF(WEEKDAY(C14)=WEEKDAY($P$6),$R$6, IF(WEEKDAY(C14)=WEEKDAY($P$7),$R$7, IF(WEEKDAY(C14)=WEEKDAY($P$8),$R$8, IF(WEEKDAY(C14)=WEEKDAY($P$9),$R$9, IF(WEEKDAY(C14)=WEEKDAY($P$10),$R$10, IF(WEEKDAY(C14)=WEEKDAY($P$11),$R$11, IF(WEEKDAY(C14)=WEEKDAY($P$12),$R$12,""))))))),"") -> 0.020833333 | AZ14: =IF(F14,IF(E14,IF(E14>F14,F14+"24:00"-E14,F14-E14),0),0)+IF(G14,IF(G14,IF(G14>H14,H14+"24:00"-G14,H14-G14),0),0) -> 0 | BA14: =AZ14*24 -> 0 | BB14: =IFERROR(IF(WEEKDAY(C14)=WEEKDAY($P$6),$Q$6, IF(WEEKDAY(C14)=WEEKDAY($P$7),$Q$7, IF(WEEKDAY(C14)=WEEKDAY($P$8),$Q$8, IF(WEEKDAY(C14)=WEEKDAY($P$9),$Q$9, IF(WEEKDAY(C14)=WEEKDAY($P$10),$Q$10, IF(WEEKDAY(C14)=WEEKDAY($P$11),$Q$11, IF(WEEKDAY(C14)=WEEKDAY($P$12),$Q$12,""))))))),"") -> 0.33333333
B15: =B14+1 -> 41739 | C15: =B15 -> 41739 | I15: =IF(AZ15=0,"",IF(AY15=0,"",IF(OR(B15<=TODAY(),AZ15),AY15,""))) | J15: =IF(AND(Feiertage!$G$2<>"ja",AV15=1),IF(AZ15>0,BB15+AZ15,BB15),IF(AZ15=0,0, IF(I15<>"",AZ15-I15,AZ15)))+AX15 -> 0 | K15: =IF(AV15=0,BB15,IF(Feiertage!$G$2="ja","00:00",BB15)) -> 0.33333333 | L15: =IF(OR(B15<=TODAY(),J15,AW15="G"),IF(J15<>"",IF(J15-K15=0,"",J15-K15),IF(K15<>"",-K15,"")),"") | M15: =IF(LOWER(AW15)=LOWER(Urlaub!$W$19),Urlaub!$S$19, IF(LOWER(AW15)=LOWER(Urlaub!$W$20),Urlaub!$S$20, IF(LOWER(AW15)=LOWER(Urlaub!$W$21),Urlaub!$S$21, IF(LOWER(AW15)=LOWER(Urlaub!$W$22),Urlaub!$S$22, IF(LOWER(AW15)=LOWER(Urlaub!$W$23),Urlaub!$S$23, IF(LOWER(AW15)=LOWER(Urlaub!$W$24),Urlaub!$S$24,""))))))&IF(AND(EXACT(LOWER(AW15),AW15),AW15<>0)," 1/2","") | N15: =24*J15*IF(WEEKDAY(C15)=WEEKDAY($P$6),$S$6, IF(WEEKDAY(C15)=WEEKDAY($P$7),$S$7, IF(WEEKDAY(C15)=WEEKDAY($P$8),$S$8, IF(WEEKDAY(C15)=WEEKDAY($P$9),$S$9, IF(WEEKDAY(C15)=WEEKDAY($P$10),$S$10, IF(WEEKDAY(C15)=WEEKDAY($P$11),$S$11, IF(WEEKDAY(C15)=WEEKDAY($P$12),$S$12,""))))))) -> 0 | AV15: =IF(IFERROR(MATCH($B15,Feiertage!$B$2:$B$34,0)>0,0),1,0) -> 0 | AW15: =IFERROR(HLOOKUP(DAY(B15),Urlaub!$C$4:$AG$16,MONTH(B15)+1,0),0) -> 0 | AX15: =IFERROR(IF(AW15=0,0,IF(EXACT(LOWER(AW15),AW15),0.5*BB15,BB15)),"") -> 0 | AY15: =IFERROR(IF(WEEKDAY(C15)=WEEKDAY($P$6),$R$6, IF(WEEKDAY(C15)=WEEKDAY($P$7),$R$7, IF(WEEKDAY(C15)=WEEKDAY($P$8),$R$8, IF(WEEKDAY(C15)=WEEKDAY($P$9),$R$9, IF(WEEKDAY(C15)=WEEKDAY($P$10),$R$10, IF(WEEKDAY(C15)=WEEKDAY($P$11),$R$11, IF(WEEKDAY(C15)=WEEKDAY($P$12),$R$12,""))))))),"") -> 0.020833333 | AZ15: =IF(F15,IF(E15,IF(E15>F15,F15+"24:00"-E15,F15-E15),0),0)+IF(G15,IF(G15,IF(G15>H15,H15+"24:00"-G15,H15-G15),0),0) -> 0 | BA15: =AZ15*24 -> 0 | BB15: =IFERROR(IF(WEEKDAY(C15)=WEEKDAY($P$6),$Q$6, IF(WEEKDAY(C15)=WEEKDAY($P$7),$Q$7, IF(WEEKDAY(C15)=WEEKDAY($P$8),$Q$8, IF(WEEKDAY(C15)=WEEKDAY($P$9),$Q$9, IF(WEEKDAY(C15)=WEEKDAY($P$10),$Q$10, IF(WEEKDAY(C15)=WEEKDAY($P$11),$Q$11, IF(WEEKDAY(C15)=WEEKDAY($P$12),$Q$12,""))))))),"") -> 0.33333333
