Workbook
Name FEIERTAGSKALENDER: Kalender!$C$27:$P$32
Name Kalender: Kalender!$C$36:$BJ$41
Name Leistungen: Leistungen!$A$3:$F$52
Name Personal: Leistungen!$A$34:$G$54
Name summen: FP_002!$E$34
Name summen: FP_099!$E$34
Name summen: 'Franchisepartner total'!$E$31
Name summen: FP_001!$E$34
Name Tabellenblätter_FPs: Kalender!$A$47:$A$49

Sheet Franchisepartner total
A1: Prognose Franchisepartner 36 Monate (Total)
D2: Betrachtungsbeginn | E2: 43466
A5: Monat | E5: =E2 -> 43466 | F5: =DATEVALUE(CONCATENATE("01.",MONTH(E5+40),".",YEAR(E5+40))) -> 43497 | G5: =DATEVALUE(CONCATENATE("01.",MONTH(F5+40),".",YEAR(F5+40))) -> 43525 | H5: =DATEVALUE(CONCATENATE("01.",MONTH(G5+40),".",YEAR(G5+40))) -> 43556 | I5: =DATEVALUE(CONCATENATE("01.",MONTH(H5+40),".",YEAR(H5+40))) -> 43586 | J5: =DATEVALUE(CONCATENATE("01.",MONTH(I5+40),".",YEAR(I5+40))) -> 43617 | K5: =DATEVALUE(CONCATENATE("01.",MONTH(J5+40),".",YEAR(J5+40))) -> 43647 | L5: =DATEVALUE(CONCATENATE("01.",MONTH(K5+40),".",YEAR(K5+40))) -> 43678 | M5: =DATEVALUE(CONCATENATE("01.",MONTH(L5+40),".",YEAR(L5+40))) -> 43709 | ... AN5: =DATEVALUE(CONCATENATE("01.",MONTH(AM5+40),".",YEAR(AM5+40))) -> 44531
B6: Umsatzperformance | E6: 0.3 | F6: 0.6 | G6: 0.8 | H6: 0.9 | I6: 1 | J6: 1 | K6: 1 | L6: 1 | M6: 1 | N6: 1 | O6: 1 | P6: 1 | Q6: 1 | R6: 1 | S6: 1 | T6: 1 | U6: 1 | V6: 1 | W6: 1 | X6: 1 | Y6: 1 | Z6: 1 | AA6: 1 | AB6: 1 | AC6: 1 | AD6: 1 | AE6: 1 | AF6: 1 | AG6: 1 | AH6: 1 | AI6: 1 | AJ6: 1 | AK6: 1 | AL6: 1 | AM6: 1 | AN6: 1
B7: Jahresergebnisanteil | E7: =HLOOKUP(E$5,Kalender,6,0) -> 0.092592593 | F7: =HLOOKUP(F$5,Kalender,6,0) -> 0.078703704 | G7: =HLOOKUP(G$5,Kalender,6,0) -> 0.083333333 | H7: =HLOOKUP(H$5,Kalender,6,0) -> 0.078703704 | I7: =HLOOKUP(I$5,Kalender,6,0) -> 0.087962963 | J7: =HLOOKUP(J$5,Kalender,6,0) -> 0.069444444 | K7: =HLOOKUP(K$5,Kalender,6,0) -> 0.097222222 | L7: =HLOOKUP(L$5,Kalender,6,0) -> 0.083333333 | ... AN7: =HLOOKUP(AN$5,Kalender,6,0) -> 0.078703704
A9: Ergebnis | E9: {=SUM(SUMIF(INDIRECT("'"&TRANSPOSE(Tabellenblätter_FPs)&"'!$E$5:$AN$5"),E$5,INDIRECT("'"&TRANSPOSE(Tabellenblätter_FPs)&"'!$E$"&(ROW()-1)&":$AN$"&(ROW()-1))))} -> -74859.333 | F9: {=SUM(SUMIF(INDIRECT("'"&TRANSPOSE(Tabellenblätter_FPs)&"'!$E$5:$AN$5"),F$5,INDIRECT("'"&TRANSPOSE(Tabellenblätter_FPs)&"'!$E$"&(ROW()-1)&":$AN$"&(ROW()-1))))} -> -37161 | G9: {=SUM(SUMIF(INDIRECT("'"&TRANSPOSE(Tabellenblätter_FPs)&"'!$E$5:$AN$5"),G$5,INDIRECT("'"&TRANSPOSE(Tabellenblätter_FPs)&"'!$E$"&(ROW()-1)&":$AN$"&(ROW()-1))))} -> -34032 | H9: {=SUM(SUMIF(INDIRECT("'"&TRANSPOSE(Tabellenblätter_FPs)&"'!$E$5:$AN$5"),H$5,INDIRECT("'"&TRANSPOSE(Tabellenblätter_FPs)&"'!$E$"&(ROW()-1)&":$AN$"&(ROW()-1))))} -> -39893.333 | I9: {=SUM(SUMIF(INDIRECT("'"&TRANSPOSE(Tabellenblätter_FPs)&"'!$E$5:$AN$5"),I$5,INDIRECT("'"&TRANSPOSE(Tabellenblätter_FPs)&"'!$E$"&(ROW()-1)&":$AN$"&(ROW()-1))))} -> -38017.667 | J9: {=SUM(SUMIF(INDIRECT("'"&TRANSPOSE(Tabellenblätter_FPs)&"'!$E$5:$AN$5"),J$5,INDIRECT("'"&TRANSPOSE(Tabellenblätter_FPs)&"'!$E$"&(ROW()-1)&":$AN$"&(ROW()-1))))} -> -37114 | K9: {=SUM(SUMIF(INDIRECT("'"&TRANSPOSE(Tabellenblätter_FPs)&"'!$E$5:$AN$5"),K$5,INDIRECT("'"&TRANSPOSE(Tabellenblätter_FPs)&"'!$E$"&(ROW()-1)&":$AN$"&(ROW()-1))))} -> 31825 | L9: {=SUM(SUMIF(INDIRECT("'"&TRANSPOSE(Tabellenblätter_FPs)&"'!$E$5:$AN$5"),L$5,INDIRECT("'"&TRANSPOSE(Tabellenblätter_FPs)&"'!$E$"&(ROW()-1)&":$AN$"&(ROW()-1))))} -> 11934 | ... AN9: {=SUM(SUMIF(INDIRECT("'"&TRANSPOSE(Tabellenblätter_FPs)&"'!$E$5:$AN$5"),AN$5,INDIRECT("'"&TRANSPOSE(Tabellenblätter_FPs)&"'!$E$"&(ROW()-1)&":$AN$"&(ROW()-1))))} -> 59585.333
B10: kummuliert | E10: {=SUM(SUMIF(INDIRECT("'"&TRANSPOSE(Tabellenblätter_FPs)&"'!$E$5:$AN$5"),E$5,INDIRECT("'"&TRANSPOSE(Tabellenblätter_FPs)&"'!$E$"&(ROW()-1)&":$AN$"&(ROW()-1))))} -> -74859.333 | F10: {=SUM(SUMIF(INDIRECT("'"&TRANSPOSE(Tabellenblätter_FPs)&"'!$E$5:$AN$5"),F$5,INDIRECT("'"&TRANSPOSE(Tabellenblätter_FPs)&"'!$E$"&(ROW()-1)&":$AN$"&(ROW()-1))))} -> -112020.33 | G10: {=SUM(SUMIF(INDIRECT("'"&TRANSPOSE(Tabellenblätter_FPs)&"'!$E$5:$AN$5"),G$5,INDIRECT("'"&TRANSPOSE(Tabellenblätter_FPs)&"'!$E$"&(ROW()-1)&":$AN$"&(ROW()-1))))} -> -146052.33 | H10: {=SUM(SUMIF(INDIRECT("'"&TRANSPOSE(Tabellenblätter_FPs)&"'!$E$5:$AN$5"),H$5,INDIRECT("'"&TRANSPOSE(Tabellenblätter_FPs)&"'!$E$"&(ROW()-1)&":$AN$"&(ROW()-1))))} -> -185945.67 | I10: {=SUM(SUMIF(INDIRECT("'"&TRANSPOSE(Tabellenblätter_FPs)&"'!$E$5:$AN$5"),I$5,INDIRECT("'"&TRANSPOSE(Tabellenblätter_FPs)&"'!$E$"&(ROW()-1)&":$AN$"&(ROW()-1))))} -> -223963.33 | J10: {=SUM(SUMIF(INDIRECT("'"&TRANSPOSE(Tabellenblätter_FPs)&"'!$E$5:$AN$5"),J$5,INDIRECT("'"&TRANSPOSE(Tabellenblätter_FPs)&"'!$E$"&(ROW()-1)&":$AN$"&(ROW()-1))))} -> -261077.33 | K10: {=SUM(SUMIF(INDIRECT("'"&TRANSPOSE(Tabellenblätter_FPs)&"'!$E$5:$AN$5"),K$5,INDIRECT("'"&TRANSPOSE(Tabellenblätter_FPs)&"'!$E$"&(ROW()-1)&":$AN$"&(ROW()-1))))} -> -229252.33 | L10: {=SUM(SUMIF(INDIRECT("'"&TRANSPOSE(Tabellenblätter_FPs)&"'!$E$5:$AN$5"),L$5,INDIRECT("'"&TRANSPOSE(Tabellenblätter_FPs)&"'!$E$"&(ROW()-1)&":$AN$"&(ROW()-1))))} -> -217318.33 | ... AN10: {=SUM(SUMIF(INDIRECT("'"&TRANSPOSE(Tabellenblätter_FPs)&"'!$E$5:$AN$5"),AN$5,INDIRECT("'"&TRANSPOSE(Tabellenblätter_FPs)&"'!$E$"&(ROW()-1)&":$AN$"&(ROW()-1))))} -> 1648175.3
A11: Umsatz / Einnahmen | E11: {=SUM(SUMIF(INDIRECT("'"&TRANSPOSE(Tabellenblätter_FPs)&"'!$E$5:$AN$5"),E$5,INDIRECT("'"&TRANSPOSE(Tabellenblätter_FPs)&"'!$E$"&(ROW()-1)&":$AN$"&(ROW()-1))))} -> 39300 | F11: {=SUM(SUMIF(INDIRECT("'"&TRANSPOSE(Tabellenblätter_FPs)&"'!$E$5:$AN$5"),F$5,INDIRECT("'"&TRANSPOSE(Tabellenblätter_FPs)&"'!$E$"&(ROW()-1)&":$AN$"&(ROW()-1))))} -> 63570 | G11: {=SUM(SUMIF(INDIRECT("'"&TRANSPOSE(Tabellenblätter_FPs)&"'!$E$5:$AN$5"),G$5,INDIRECT("'"&TRANSPOSE(Tabellenblätter_FPs)&"'!$E$"&(ROW()-1)&":$AN$"&(ROW()-1))))} -> 69750 | H11: {=SUM(SUMIF(INDIRECT("'"&TRANSPOSE(Tabellenblätter_FPs)&"'!$E$5:$AN$5"),H$5,INDIRECT("'"&TRANSPOSE(Tabellenblätter_FPs)&"'!$E$"&(ROW()-1)&":$AN$"&(ROW()-1))))} -> 64440 | I11: {=SUM(SUMIF(INDIRECT("'"&TRANSPOSE(Tabellenblätter_FPs)&"'!$E$5:$AN$5"),I$5,INDIRECT("'"&TRANSPOSE(Tabellenblätter_FPs)&"'!$E$"&(ROW()-1)&":$AN$"&(ROW()-1))))} -> 71070 | J11: {=SUM(SUMIF(INDIRECT("'"&TRANSPOSE(Tabellenblätter_FPs)&"'!$E$5:$AN$5"),J$5,INDIRECT("'"&TRANSPOSE(Tabellenblätter_FPs)&"'!$E$"&(ROW()-1)&":$AN$"&(ROW()-1))))} -> 71040 | K11: {=SUM(SUMIF(INDIRECT("'"&TRANSPOSE(Tabellenblätter_FPs)&"'!$E$5:$AN$5"),K$5,INDIRECT("'"&TRANSPOSE(Tabellenblätter_FPs)&"'!$E$"&(ROW()-1)&":$AN$"&(ROW()-1))))} -> 166440 | L11: {=SUM(SUMIF(INDIRECT("'"&TRANSPOSE(Tabellenblätter_FPs)&"'!$E$5:$AN$5"),L$5,INDIRECT("'"&TRANSPOSE(Tabellenblätter_FPs)&"'!$E$"&(ROW()-1)&":$AN$"&(ROW()-1))))} -> 140820 | ... AN11: {=SUM(SUMIF(INDIRECT("'"&TRANSPOSE(Tabellenblätter_FPs)&"'!$E$5:$AN$5"),AN$5,INDIRECT("'"&TRANSPOSE(Tabellenblätter_FPs)&"'!$E$"&(ROW()-1)&":$AN$"&(ROW()-1))))} -> 201090
A12: Zielumsatz MA | E12: {=SUM(SUMIF(INDIRECT("'"&TRANSPOSE(Tabellenblätter_FPs)&"'!$E$5:$AN$5"),E$5,INDIRECT("'"&TRANSPOSE(Tabellenblätter_FPs)&"'!$E$"&(ROW()-1)&":$AN$"&(ROW()-1))))} -> 49205.556 | F12: {=SUM(SUMIF(INDIRECT("'"&TRANSPOSE(Tabellenblätter_FPs)&"'!$E$5:$AN$5"),F$5,INDIRECT("'"&TRANSPOSE(Tabellenblätter_FPs)&"'!$E$"&(ROW()-1)&":$AN$"&(ROW()-1))))} -> 47319.028 | G12: {=SUM(SUMIF(INDIRECT("'"&TRANSPOSE(Tabellenblätter_FPs)&"'!$E$5:$AN$5"),G$5,INDIRECT("'"&TRANSPOSE(Tabellenblätter_FPs)&"'!$E$"&(ROW()-1)&":$AN$"&(ROW()-1))))} -> 59302.5 | H12: {=SUM(SUMIF(INDIRECT("'"&TRANSPOSE(Tabellenblätter_FPs)&"'!$E$5:$AN$5"),H$5,INDIRECT("'"&TRANSPOSE(Tabellenblätter_FPs)&"'!$E$"&(ROW()-1)&":$AN$"&(ROW()-1))))} -> 70191.111 | I12: {=SUM(SUMIF(INDIRECT("'"&TRANSPOSE(Tabellenblätter_FPs)&"'!$E$5:$AN$5"),I$5,INDIRECT("'"&TRANSPOSE(Tabellenblätter_FPs)&"'!$E$"&(ROW()-1)&":$AN$"&(ROW()-1))))} -> 94300.694 | J12: {=SUM(SUMIF(INDIRECT("'"&TRANSPOSE(Tabellenblätter_FPs)&"'!$E$5:$AN$5"),J$5,INDIRECT("'"&TRANSPOSE(Tabellenblätter_FPs)&"'!$E$"&(ROW()-1)&":$AN$"&(ROW()-1))))} -> 86962.5 | K12: {=SUM(SUMIF(INDIRECT("'"&TRANSPOSE(Tabellenblätter_FPs)&"'!$E$5:$AN$5"),K$5,INDIRECT("'"&TRANSPOSE(Tabellenblätter_FPs)&"'!$E$"&(ROW()-1)&":$AN$"&(ROW()-1))))} -> 139267.92 | L12: {=SUM(SUMIF(INDIRECT("'"&TRANSPOSE(Tabellenblätter_FPs)&"'!$E$5:$AN$5"),L$5,INDIRECT("'"&TRANSPOSE(Tabellenblätter_FPs)&"'!$E$"&(ROW()-1)&":$AN$"&(ROW()-1))))} -> 134390 | ... AN12: {=SUM(SUMIF(INDIRECT("'"&TRANSPOSE(Tabellenblätter_FPs)&"'!$E$5:$AN$5"),AN$5,INDIRECT("'"&TRANSPOSE(Tabellenblätter_FPs)&"'!$E$"&(ROW()-1)&":$AN$"&(ROW()-1))))} -> 209123.61
B13: Immobilienfinanzierung | E13: {=SUM(SUMIF(INDIRECT("'"&TRANSPOSE(Tabellenblätter_FPs)&"'!$E$5:$AN$5"),E$5,INDIRECT("'"&TRANSPOSE(Tabellenblätter_FPs)&"'!$E$"&(ROW()-1)&":$AN$"&(ROW()-1))))} -> 15900 | F13: {=SUM(SUMIF(INDIRECT("'"&TRANSPOSE(Tabellenblätter_FPs)&"'!$E$5:$AN$5"),F$5,INDIRECT("'"&TRANSPOSE(Tabellenblätter_FPs)&"'!$E$"&(ROW()-1)&":$AN$"&(ROW()-1))))} -> 19170 | G13: {=SUM(SUMIF(INDIRECT("'"&TRANSPOSE(Tabellenblätter_FPs)&"'!$E$5:$AN$5"),G$5,INDIRECT("'"&TRANSPOSE(Tabellenblätter_FPs)&"'!$E$"&(ROW()-1)&":$AN$"&(ROW()-1))))} -> 15900 | H13: {=SUM(SUMIF(INDIRECT("'"&TRANSPOSE(Tabellenblätter_FPs)&"'!$E$5:$AN$5"),H$5,INDIRECT("'"&TRANSPOSE(Tabellenblätter_FPs)&"'!$E$"&(ROW()-1)&":$AN$"&(ROW()-1))))} -> 17640 | I13: {=SUM(SUMIF(INDIRECT("'"&TRANSPOSE(Tabellenblätter_FPs)&"'!$E$5:$AN$5"),I$5,INDIRECT("'"&TRANSPOSE(Tabellenblätter_FPs)&"'!$E$"&(ROW()-1)&":$AN$"&(ROW()-1))))} -> 35070 | J13: {=SUM(SUMIF(INDIRECT("'"&TRANSPOSE(Tabellenblätter_FPs)&"'!$E$5:$AN$5"),J$5,INDIRECT("'"&TRANSPOSE(Tabellenblätter_FPs)&"'!$E$"&(ROW()-1)&":$AN$"&(ROW()-1))))} -> 20040 | K13: {=SUM(SUMIF(INDIRECT("'"&TRANSPOSE(Tabellenblätter_FPs)&"'!$E$5:$AN$5"),K$5,INDIRECT("'"&TRANSPOSE(Tabellenblätter_FPs)&"'!$E$"&(ROW()-1)&":$AN$"&(ROW()-1))))} -> 51840 | L13: {=SUM(SUMIF(INDIRECT("'"&TRANSPOSE(Tabellenblätter_FPs)&"'!$E$5:$AN$5"),L$5,INDIRECT("'"&TRANSPOSE(Tabellenblätter_FPs)&"'!$E$"&(ROW()-1)&":$AN$"&(ROW()-1))))} -> 50970 | ... AN13: {=SUM(SUMIF(INDIRECT("'"&TRANSPOSE(Tabellenblätter_FPs)&"'!$E$5:$AN$5"),AN$5,INDIRECT("'"&TRANSPOSE(Tabellenblätter_FPs)&"'!$E$"&(ROW()-1)&":$AN$"&(ROW()-1))))} -> 51840
B15: IFOA | C15: =VLOOKUP(B15,Leistungen,2,0) -> Immobilienfinanzierung (Beratung ohne Abschluss) | E15: {=SUM(SUMIF(INDIRECT("'"&TRANSPOSE(Tabellenblätter_FPs)&"'!$E$5:$AN$5"),E$5,INDIRECT("'"&TRANSPOSE(Tabellenblätter_FPs)&"'!$E$"&(ROW()-1)&":$AN$"&(ROW()-1))))} -> 870 | F15: {=SUM(SUMIF(INDIRECT("'"&TRANSPOSE(Tabellenblätter_FPs)&"'!$E$5:$AN$5"),F$5,INDIRECT("'"&TRANSPOSE(Tabellenblätter_FPs)&"'!$E$"&(ROW()-1)&":$AN$"&(ROW()-1))))} -> 870 | G15: {=SUM(SUMIF(INDIRECT("'"&TRANSPOSE(Tabellenblätter_FPs)&"'!$E$5:$AN$5"),G$5,INDIRECT("'"&TRANSPOSE(Tabellenblätter_FPs)&"'!$E$"&(ROW()-1)&":$AN$"&(ROW()-1))))} -> 870 | H15: {=SUM(SUMIF(INDIRECT("'"&TRANSPOSE(Tabellenblätter_FPs)&"'!$E$5:$AN$5"),H$5,INDIRECT("'"&TRANSPOSE(Tabellenblätter_FPs)&"'!$E$"&(ROW()-1)&":$AN$"&(ROW()-1))))} -> 1740 | I15: {=SUM(SUMIF(INDIRECT("'"&TRANSPOSE(Tabellenblätter_FPs)&"'!$E$5:$AN$5"),I$5,INDIRECT("'"&TRANSPOSE(Tabellenblätter_FPs)&"'!$E$"&(ROW()-1)&":$AN$"&(ROW()-1))))} -> 1740 | J15: {=SUM(SUMIF(INDIRECT("'"&TRANSPOSE(Tabellenblätter_FPs)&"'!$E$5:$AN$5"),J$5,INDIRECT("'"&TRANSPOSE(Tabellenblätter_FPs)&"'!$E$"&(ROW()-1)&":$AN$"&(ROW()-1))))} -> 1740 | K15: {=SUM(SUMIF(INDIRECT("'"&TRANSPOSE(Tabellenblätter_FPs)&"'!$E$5:$AN$5"),K$5,INDIRECT("'"&TRANSPOSE(Tabellenblätter_FPs)&"'!$E$"&(ROW()-1)&":$AN$"&(ROW()-1))))} -> 3480 | L15: {=SUM(SUMIF(INDIRECT("'"&TRANSPOSE(Tabellenblätter_FPs)&"'!$E$5:$AN$5"),L$5,INDIRECT("'"&TRANSPOSE(Tabellenblätter_FPs)&"'!$E$"&(ROW()-1)&":$AN$"&(ROW()-1))))} -> 2610 | ... AN15: {=SUM(SUMIF(INDIRECT("'"&TRANSPOSE(Tabellenblätter_FPs)&"'!$E$5:$AN$5"),AN$5,INDIRECT("'"&TRANSPOSE(Tabellenblätter_FPs)&"'!$E$"&(ROW()-1)&":$AN$"&(ROW()-1))))} -> 3480
B16: IFMA | C16: =VLOOKUP(B16,Leistungen,2,0) -> Immobilienfinanzierung (Beratung mit Abschluss) | E16: {=SUM(SUMIF(INDIRECT("'"&TRANSPOSE(Tabellenblätter_FPs)&"'!$E$5:$AN$5"),E$5,INDIRECT("'"&TRANSPOSE(Tabellenblätter_FPs)&"'!$E$"&(ROW()-1)&":$AN$"&(ROW()-1))))} -> 13260 | F16: {=SUM(SUMIF(INDIRECT("'"&TRANSPOSE(Tabellenblätter_FPs)&"'!$E$5:$AN$5"),F$5,INDIRECT("'"&TRANSPOSE(Tabellenblätter_FPs)&"'!$E$"&(ROW()-1)&":$AN$"&(ROW()-1))))} -> 13260 | G16: {=SUM(SUMIF(INDIRECT("'"&TRANSPOSE(Tabellenblätter_FPs)&"'!$E$5:$AN$5"),G$5,INDIRECT("'"&TRANSPOSE(Tabellenblätter_FPs)&"'!$E$"&(ROW()-1)&":$AN$"&(ROW()-1))))} -> 13260 | H16: {=SUM(SUMIF(INDIRECT("'"&TRANSPOSE(Tabellenblätter_FPs)&"'!$E$5:$AN$5"),H$5,INDIRECT("'"&TRANSPOSE(Tabellenblätter_FPs)&"'!$E$"&(ROW()-1)&":$AN$"&(ROW()-1))))} -> 13260 | I16: {=SUM(SUMIF(INDIRECT("'"&TRANSPOSE(Tabellenblätter_FPs)&"'!$E$5:$AN$5"),I$5,INDIRECT("'"&TRANSPOSE(Tabellenblätter_FPs)&"'!$E$"&(ROW()-1)&":$AN$"&(ROW()-1))))} -> 26520 | J16: {=SUM(SUMIF(INDIRECT("'"&TRANSPOSE(Tabellenblätter_FPs)&"'!$E$5:$AN$5"),J$5,INDIRECT("'"&TRANSPOSE(Tabellenblätter_FPs)&"'!$E$"&(ROW()-1)&":$AN$"&(ROW()-1))))} -> 13260 | K16: {=SUM(SUMIF(INDIRECT("'"&TRANSPOSE(Tabellenblätter_FPs)&"'!$E$5:$AN$5"),K$5,INDIRECT("'"&TRANSPOSE(Tabellenblätter_FPs)&"'!$E$"&(ROW()-1)&":$AN$"&(ROW()-1))))} -> 39780 | L16: {=SUM(SUMIF(INDIRECT("'"&TRANSPOSE(Tabellenblätter_FPs)&"'!$E$5:$AN$5"),L$5,INDIRECT("'"&TRANSPOSE(Tabellenblätter_FPs)&"'!$E$"&(ROW()-1)&":$AN$"&(ROW()-1))))} -> 39780 | ... AN16: {=SUM(SUMIF(INDIRECT("'"&TRANSPOSE(Tabellenblätter_FPs)&"'!$E$5:$AN$5"),AN$5,INDIRECT("'"&TRANSPOSE(Tabellenblätter_FPs)&"'!$E$"&(ROW()-1)&":$AN$"&(ROW()-1))))} -> 39780
B17: FCPI | C17: =VLOOKUP(B17,Leistungen,2,0) -> Finanzierungscoaching für potentielle Immokäufer | E17: {=SUM(SUMIF(INDIRECT("'"&TRANSPOSE(Tabellenblätter_FPs)&"'!$E$5:$AN$5"),E$5,INDIRECT("'"&TRANSPOSE(Tabellenblätter_FPs)&"'!$E$"&(ROW()-1)&":$AN$"&(ROW()-1))))} -> 1770 | F17: {=SUM(SUMIF(INDIRECT("'"&TRANSPOSE(Tabellenblätter_FPs)&"'!$E$5:$AN$5"),F$5,INDIRECT("'"&TRANSPOSE(Tabellenblätter_FPs)&"'!$E$"&(ROW()-1)&":$AN$"&(ROW()-1))))} -> 1770 | G17: {=SUM(SUMIF(INDIRECT("'"&TRANSPOSE(Tabellenblätter_FPs)&"'!$E$5:$AN$5"),G$5,INDIRECT("'"&TRANSPOSE(Tabellenblätter_FPs)&"'!$E$"&(ROW()-1)&":$AN$"&(ROW()-1))))} -> 1770 | H17: {=SUM(SUMIF(INDIRECT("'"&TRANSPOSE(Tabellenblätter_FPs)&"'!$E$5:$AN$5"),H$5,INDIRECT("'"&TRANSPOSE(Tabellenblätter_FPs)&"'!$E$"&(ROW()-1)&":$AN$"&(ROW()-1))))} -> 1770 | I17: {=SUM(SUMIF(INDIRECT("'"&TRANSPOSE(Tabellenblätter_FPs)&"'!$E$5:$AN$5"),I$5,INDIRECT("'"&TRANSPOSE(Tabellenblätter_FPs)&"'!$E$"&(ROW()-1)&":$AN$"&(ROW()-1))))} -> 3540 | J17: {=SUM(SUMIF(INDIRECT("'"&TRANSPOSE(Tabellenblätter_FPs)&"'!$E$5:$AN$5"),J$5,INDIRECT("'"&TRANSPOSE(Tabellenblätter_FPs)&"'!$E$"&(ROW()-1)&":$AN$"&(ROW()-1))))} -> 1770 | K17: {=SUM(SUMIF(INDIRECT("'"&TRANSPOSE(Tabellenblätter_FPs)&"'!$E$5:$AN$5"),K$5,INDIRECT("'"&TRANSPOSE(Tabellenblätter_FPs)&"'!$E$"&(ROW()-1)&":$AN$"&(ROW()-1))))} -> 5310 | L17: {=SUM(SUMIF(INDIRECT("'"&TRANSPOSE(Tabellenblätter_FPs)&"'!$E$5:$AN$5"),L$5,INDIRECT("'"&TRANSPOSE(Tabellenblätter_FPs)&"'!$E$"&(ROW()-1)&":$AN$"&(ROW()-1))))} -> 5310 | ... AN17: {=SUM(SUMIF(INDIRECT("'"&TRANSPOSE(Tabellenblätter_FPs)&"'!$E$5:$AN$5"),AN$5,INDIRECT("'"&TRANSPOSE(Tabellenblätter_FPs)&"'!$E$"&(ROW()-1)&":$AN$"&(ROW()-1))))} -> 5310
B18: MWOA | C18: =VLOOKUP(B18,Leistungen,2,0) -> Modernisierungen inkl. Wintergarten (Beratung ohne Abschluss) | E18: {=SUM(SUMIF(INDIRECT("'"&TRANSPOSE(Tabellenblätter_FPs)&"'!$E$5:$AN$5"),E$5,INDIRECT("'"&TRANSPOSE(Tabellenblätter_FPs)&"'!$E$"&(ROW()-1)&":$AN$"&(ROW()-1))))} -> 0 | F18: {=SUM(SUMIF(INDIRECT("'"&TRANSPOSE(Tabellenblätter_FPs)&"'!$E$5:$AN$5"),F$5,INDIRECT("'"&TRANSPOSE(Tabellenblätter_FPs)&"'!$E$"&(ROW()-1)&":$AN$"&(ROW()-1))))} -> 870 | G18: {=SUM(SUMIF(INDIRECT("'"&TRANSPOSE(Tabellenblätter_FPs)&"'!$E$5:$AN$5"),G$5,INDIRECT("'"&TRANSPOSE(Tabellenblätter_FPs)&"'!$E$"&(ROW()-1)&":$AN$"&(ROW()-1))))} -> 0 | H18: {=SUM(SUMIF(INDIRECT("'"&TRANSPOSE(Tabellenblätter_FPs)&"'!$E$5:$AN$5"),H$5,INDIRECT("'"&TRANSPOSE(Tabellenblätter_FPs)&"'!$E$"&(ROW()-1)&":$AN$"&(ROW()-1))))} -> 870 | I18: {=SUM(SUMIF(INDIRECT("'"&TRANSPOSE(Tabellenblätter_FPs)&"'!$E$5:$AN$5"),I$5,INDIRECT("'"&TRANSPOSE(Tabellenblätter_FPs)&"'!$E$"&(ROW()-1)&":$AN$"&(ROW()-1))))} -> 870 | J18: {=SUM(SUMIF(INDIRECT("'"&TRANSPOSE(Tabellenblätter_FPs)&"'!$E$5:$AN$5"),J$5,INDIRECT("'"&TRANSPOSE(Tabellenblätter_FPs)&"'!$E$"&(ROW()-1)&":$AN$"&(ROW()-1))))} -> 870 | K18: {=SUM(SUMIF(INDIRECT("'"&TRANSPOSE(Tabellenblätter_FPs)&"'!$E$5:$AN$5"),K$5,INDIRECT("'"&TRANSPOSE(Tabellenblätter_FPs)&"'!$E$"&(ROW()-1)&":$AN$"&(ROW()-1))))} -> 870 | L18: {=SUM(SUMIF(INDIRECT("'"&TRANSPOSE(Tabellenblätter_FPs)&"'!$E$5:$AN$5"),L$5,INDIRECT("'"&TRANSPOSE(Tabellenblätter_FPs)&"'!$E$"&(ROW()-1)&":$AN$"&(ROW()-1))))} -> 870 | ... AN18: {=SUM(SUMIF(INDIRECT("'"&TRANSPOSE(Tabellenblätter_FPs)&"'!$E$5:$AN$5"),AN$5,INDIRECT("'"&TRANSPOSE(Tabellenblätter_FPs)&"'!$E$"&(ROW()-1)&":$AN$"&(ROW()-1))))} -> 870
B19: MWMA | C19: =VLOOKUP(B19,Leistungen,2,0) -> Modernisierungen inkl. Wintergarten (Beratung mit Abschluss) | E19: {=SUM(SUMIF(INDIRECT("'"&TRANSPOSE(Tabellenblätter_FPs)&"'!$E$5:$AN$5"),E$5,INDIRECT("'"&TRANSPOSE(Tabellenblätter_FPs)&"'!$E$"&(ROW()-1)&":$AN$"&(ROW()-1))))} -> 0 | F19: {=SUM(SUMIF(INDIRECT("'"&TRANSPOSE(Tabellenblätter_FPs)&"'!$E$5:$AN$5"),F$5,INDIRECT("'"&TRANSPOSE(Tabellenblätter_FPs)&"'!$E$"&(ROW()-1)&":$AN$"&(ROW()-1))))} -> 2400 | G19: {=SUM(SUMIF(INDIRECT("'"&TRANSPOSE(Tabellenblätter_FPs)&"'!$E$5:$AN$5"),G$5,INDIRECT("'"&TRANSPOSE(Tabellenblätter_FPs)&"'!$E$"&(ROW()-1)&":$AN$"&(ROW()-1))))} -> 0 | H19: {=SUM(SUMIF(INDIRECT("'"&TRANSPOSE(Tabellenblätter_FPs)&"'!$E$5:$AN$5"),H$5,INDIRECT("'"&TRANSPOSE(Tabellenblätter_FPs)&"'!$E$"&(ROW()-1)&":$AN$"&(ROW()-1))))} -> 0 | I19: {=SUM(SUMIF(INDIRECT("'"&TRANSPOSE(Tabellenblätter_FPs)&"'!$E$5:$AN$5"),I$5,INDIRECT("'"&TRANSPOSE(Tabellenblätter_FPs)&"'!$E$"&(ROW()-1)&":$AN$"&(ROW()-1))))} -> 2400 | J19: {=SUM(SUMIF(INDIRECT("'"&TRANSPOSE(Tabellenblätter_FPs)&"'!$E$5:$AN$5"),J$5,INDIRECT("'"&TRANSPOSE(Tabellenblätter_FPs)&"'!$E$"&(ROW()-1)&":$AN$"&(ROW()-1))))} -> 2400 | K19: {=SUM(SUMIF(INDIRECT("'"&TRANSPOSE(Tabellenblätter_FPs)&"'!$E$5:$AN$5"),K$5,INDIRECT("'"&TRANSPOSE(Tabellenblätter_FPs)&"'!$E$"&(ROW()-1)&":$AN$"&(ROW()-1))))} -> 2400 | L19: {=SUM(SUMIF(INDIRECT("'"&TRANSPOSE(Tabellenblätter_FPs)&"'!$E$5:$AN$5"),L$5,INDIRECT("'"&TRANSPOSE(Tabellenblätter_FPs)&"'!$E$"&(ROW()-1)&":$AN$"&(ROW()-1))))} -> 2400 | ... AN19: {=SUM(SUMIF(INDIRECT("'"&TRANSPOSE(Tabellenblätter_FPs)&"'!$E$5:$AN$5"),AN$5,INDIRECT("'"&TRANSPOSE(Tabellenblätter_FPs)&"'!$E$"&(ROW()-1)&":$AN$"&(ROW()-1))))} -> 2400
B21: IMMA | C21: =VLOOKUP(B21,Leistungen,2,0) -> Immobilienmakelei | E21: {=SUM(SUMIF(INDIRECT("'"&TRANSPOSE(Tabellenblätter_FPs)&"'!$E$5:$AN$5"),E$5,INDIRECT("'"&TRANSPOSE(Tabellenblätter_FPs)&"'!$E$"&ROW()&":$AN$"&ROW())))} -> 0 | F21: {=SUM(SUMIF(INDIRECT("'"&TRANSPOSE(Tabellenblätter_FPs)&"'!$E$5:$AN$5"),F$5,INDIRECT("'"&TRANSPOSE(Tabellenblätter_FPs)&"'!$E$"&ROW()&":$AN$"&ROW())))} -> 36000 | G21: {=SUM(SUMIF(INDIRECT("'"&TRANSPOSE(Tabellenblätter_FPs)&"'!$E$5:$AN$5"),G$5,INDIRECT("'"&TRANSPOSE(Tabellenblätter_FPs)&"'!$E$"&ROW()&":$AN$"&ROW())))} -> 0 | H21: {=SUM(SUMIF(INDIRECT("'"&TRANSPOSE(Tabellenblätter_FPs)&"'!$E$5:$AN$5"),H$5,INDIRECT("'"&TRANSPOSE(Tabellenblätter_FPs)&"'!$E$"&ROW()&":$AN$"&ROW())))} -> 0 | I21: {=SUM(SUMIF(INDIRECT("'"&TRANSPOSE(Tabellenblätter_FPs)&"'!$E$5:$AN$5"),I$5,INDIRECT("'"&TRANSPOSE(Tabellenblätter_FPs)&"'!$E$"&ROW()&":$AN$"&ROW())))} -> 0 | J21: {=SUM(SUMIF(INDIRECT("'"&TRANSPOSE(Tabellenblätter_FPs)&"'!$E$5:$AN$5"),J$5,INDIRECT("'"&TRANSPOSE(Tabellenblätter_FPs)&"'!$E$"&ROW()&":$AN$"&ROW())))} -> 0 | K21: {=SUM(SUMIF(INDIRECT("'"&TRANSPOSE(Tabellenblätter_FPs)&"'!$E$5:$AN$5"),K$5,INDIRECT("'"&TRANSPOSE(Tabellenblätter_FPs)&"'!$E$"&ROW()&":$AN$"&ROW())))} -> 36000 | L21: {=SUM(SUMIF(INDIRECT("'"&TRANSPOSE(Tabellenblätter_FPs)&"'!$E$5:$AN$5"),L$5,INDIRECT("'"&TRANSPOSE(Tabellenblätter_FPs)&"'!$E$"&ROW()&":$AN$"&ROW())))} -> 0 | ... AN21: {=SUM(SUMIF(INDIRECT("'"&TRANSPOSE(Tabellenblätter_FPs)&"'!$E$5:$AN$5"),AN$5,INDIRECT("'"&TRANSPOSE(Tabellenblätter_FPs)&"'!$E$"&ROW()&":$AN$"&ROW())))} -> 36000
B22: BVFM | C22: =VLOOKUP(B22,Leistungen,2,0) -> Beratung u. Vermittlung von Fertig- und Massivhäusern | E22: {=SUM(SUMIF(INDIRECT("'"&TRANSPOSE(Tabellenblätter_FPs)&"'!$E$5:$AN$5"),E$5,INDIRECT("'"&TRANSPOSE(Tabellenblätter_FPs)&"'!$E$"&ROW()&":$AN$"&ROW())))} -> 0 | F22: {=SUM(SUMIF(INDIRECT("'"&TRANSPOSE(Tabellenblätter_FPs)&"'!$E$5:$AN$5"),F$5,INDIRECT("'"&TRANSPOSE(Tabellenblätter_FPs)&"'!$E$"&ROW()&":$AN$"&ROW())))} -> 0 | G22: {=SUM(SUMIF(INDIRECT("'"&TRANSPOSE(Tabellenblätter_FPs)&"'!$E$5:$AN$5"),G$5,INDIRECT("'"&TRANSPOSE(Tabellenblätter_FPs)&"'!$E$"&ROW()&":$AN$"&ROW())))} -> 26250 | H22: {=SUM(SUMIF(INDIRECT("'"&TRANSPOSE(Tabellenblätter_FPs)&"'!$E$5:$AN$5"),H$5,INDIRECT("'"&TRANSPOSE(Tabellenblätter_FPs)&"'!$E$"&ROW()&":$AN$"&ROW())))} -> 0 | I22: {=SUM(SUMIF(INDIRECT("'"&TRANSPOSE(Tabellenblätter_FPs)&"'!$E$5:$AN$5"),I$5,INDIRECT("'"&TRANSPOSE(Tabellenblätter_FPs)&"'!$E$"&ROW()&":$AN$"&ROW())))} -> 0 | J22: {=SUM(SUMIF(INDIRECT("'"&TRANSPOSE(Tabellenblätter_FPs)&"'!$E$5:$AN$5"),J$5,INDIRECT("'"&TRANSPOSE(Tabellenblätter_FPs)&"'!$E$"&ROW()&":$AN$"&ROW())))} -> 0 | K22: {=SUM(SUMIF(INDIRECT("'"&TRANSPOSE(Tabellenblätter_FPs)&"'!$E$5:$AN$5"),K$5,INDIRECT("'"&TRANSPOSE(Tabellenblätter_FPs)&"'!$E$"&ROW()&":$AN$"&ROW())))} -> 0 | L22: {=SUM(SUMIF(INDIRECT("'"&TRANSPOSE(Tabellenblätter_FPs)&"'!$E$5:$AN$5"),L$5,INDIRECT("'"&TRANSPOSE(Tabellenblätter_FPs)&"'!$E$"&ROW()&":$AN$"&ROW())))} -> 26250 | ... AN22: {=SUM(SUMIF(INDIRECT("'"&TRANSPOSE(Tabellenblätter_FPs)&"'!$E$5:$AN$5"),AN$5,INDIRECT("'"&TRANSPOSE(Tabellenblätter_FPs)&"'!$E$"&ROW()&":$AN$"&ROW())))} -> 26250
B24: PHVO | C24: =VLOOKUP(B24,Leistungen,2,0) -> Photovoltaik | E24: {=SUM(SUMIF(INDIRECT("'"&TRANSPOSE(Tabellenblätter_FPs)&"'!$E$5:$AN$5"),E$5,INDIRECT("'"&TRANSPOSE(Tabellenblätter_FPs)&"'!$E$"&(ROW()+1)&":$AN$"&(ROW()+1))))} -> 2400 | F24: {=SUM(SUMIF(INDIRECT("'"&TRANSPOSE(Tabellenblätter_FPs)&"'!$E$5:$AN$5"),F$5,INDIRECT("'"&TRANSPOSE(Tabellenblätter_FPs)&"'!$E$"&(ROW()+1)&":$AN$"&(ROW()+1))))} -> 2400 | G24: {=SUM(SUMIF(INDIRECT("'"&TRANSPOSE(Tabellenblätter_FPs)&"'!$E$5:$AN$5"),G$5,INDIRECT("'"&TRANSPOSE(Tabellenblätter_FPs)&"'!$E$"&(ROW()+1)&":$AN$"&(ROW()+1))))} -> 3600 | H24: {=SUM(SUMIF(INDIRECT("'"&TRANSPOSE(Tabellenblätter_FPs)&"'!$E$5:$AN$5"),H$5,INDIRECT("'"&TRANSPOSE(Tabellenblätter_FPs)&"'!$E$"&(ROW()+1)&":$AN$"&(ROW()+1))))} -> 4800 | I24: {=SUM(SUMIF(INDIRECT("'"&TRANSPOSE(Tabellenblätter_FPs)&"'!$E$5:$AN$5"),I$5,INDIRECT("'"&TRANSPOSE(Tabellenblätter_FPs)&"'!$E$"&(ROW()+1)&":$AN$"&(ROW()+1))))} -> 6000 | J24: {=SUM(SUMIF(INDIRECT("'"&TRANSPOSE(Tabellenblätter_FPs)&"'!$E$5:$AN$5"),J$5,INDIRECT("'"&TRANSPOSE(Tabellenblätter_FPs)&"'!$E$"&(ROW()+1)&":$AN$"&(ROW()+1))))} -> 6000 | K24: {=SUM(SUMIF(INDIRECT("'"&TRANSPOSE(Tabellenblätter_FPs)&"'!$E$5:$AN$5"),K$5,INDIRECT("'"&TRANSPOSE(Tabellenblätter_FPs)&"'!$E$"&(ROW()+1)&":$AN$"&(ROW()+1))))} -> 9600 | L24: {=SUM(SUMIF(INDIRECT("'"&TRANSPOSE(Tabellenblätter_FPs)&"'!$E$5:$AN$5"),L$5,INDIRECT("'"&TRANSPOSE(Tabellenblätter_FPs)&"'!$E$"&(ROW()+1)&":$AN$"&(ROW()+1))))} -> 9600 | ... AN24: {=SUM(SUMIF(INDIRECT("'"&TRANSPOSE(Tabellenblätter_FPs)&"'!$E$5:$AN$5"),AN$5,INDIRECT("'"&TRANSPOSE(Tabellenblätter_FPs)&"'!$E$"&(ROW()+1)&":$AN$"&(ROW()+1))))} -> 12000
B25: HEUS | C25: =VLOOKUP(B25,Leistungen,2,0) -> Heizung und Solarthermie | E25: {=SUM(SUMIF(INDIRECT("'"&TRANSPOSE(Tabellenblätter_FPs)&"'!$E$5:$AN$5"),E$5,INDIRECT("'"&TRANSPOSE(Tabellenblätter_FPs)&"'!$E$"&(ROW()+1)&":$AN$"&(ROW()+1))))} -> 2400 | F25: {=SUM(SUMIF(INDIRECT("'"&TRANSPOSE(Tabellenblätter_FPs)&"'!$E$5:$AN$5"),F$5,INDIRECT("'"&TRANSPOSE(Tabellenblätter_FPs)&"'!$E$"&(ROW()+1)&":$AN$"&(ROW()+1))))} -> 2400 | G25: {=SUM(SUMIF(INDIRECT("'"&TRANSPOSE(Tabellenblätter_FPs)&"'!$E$5:$AN$5"),G$5,INDIRECT("'"&TRANSPOSE(Tabellenblätter_FPs)&"'!$E$"&(ROW()+1)&":$AN$"&(ROW()+1))))} -> 3600 | H25: {=SUM(SUMIF(INDIRECT("'"&TRANSPOSE(Tabellenblätter_FPs)&"'!$E$5:$AN$5"),H$5,INDIRECT("'"&TRANSPOSE(Tabellenblätter_FPs)&"'!$E$"&(ROW()+1)&":$AN$"&(ROW()+1))))} -> 4800 | I25: {=SUM(SUMIF(INDIRECT("'"&TRANSPOSE(Tabellenblätter_FPs)&"'!$E$5:$AN$5"),I$5,INDIRECT("'"&TRANSPOSE(Tabellenblätter_FPs)&"'!$E$"&(ROW()+1)&":$AN$"&(ROW()+1))))} -> 6000 | J25: {=SUM(SUMIF(INDIRECT("'"&TRANSPOSE(Tabellenblätter_FPs)&"'!$E$5:$AN$5"),J$5,INDIRECT("'"&TRANSPOSE(Tabellenblätter_FPs)&"'!$E$"&(ROW()+1)&":$AN$"&(ROW()+1))))} -> 6000 | K25: {=SUM(SUMIF(INDIRECT("'"&TRANSPOSE(Tabellenblätter_FPs)&"'!$E$5:$AN$5"),K$5,INDIRECT("'"&TRANSPOSE(Tabellenblätter_FPs)&"'!$E$"&(ROW()+1)&":$AN$"&(ROW()+1))))} -> 9600 | L25: {=SUM(SUMIF(INDIRECT("'"&TRANSPOSE(Tabellenblätter_FPs)&"'!$E$5:$AN$5"),L$5,INDIRECT("'"&TRANSPOSE(Tabellenblätter_FPs)&"'!$E$"&(ROW()+1)&":$AN$"&(ROW()+1))))} -> 9600 | ... AN25: {=SUM(SUMIF(INDIRECT("'"&TRANSPOSE(Tabellenblätter_FPs)&"'!$E$5:$AN$5"),AN$5,INDIRECT("'"&TRANSPOSE(Tabellenblätter_FPs)&"'!$E$"&(ROW()+1)&":$AN$"&(ROW()+1))))} -> 12000
B26: RAKR | C26: =VLOOKUP(B26,Leistungen,2,0) -> Ratenkredite (Konsumenten, Innendesign, Auto, Motorrad, IT) | E26: {=SUM(SUMIF(INDIRECT("'"&TRANSPOSE(Tabellenblätter_FPs)&"'!$E$5:$AN$5"),E$5,INDIRECT("'"&TRANSPOSE(Tabellenblätter_FPs)&"'!$E$"&(ROW()+1)&":$AN$"&(ROW()+1))))} -> 3600 | F26: {=SUM(SUMIF(INDIRECT("'"&TRANSPOSE(Tabellenblätter_FPs)&"'!$E$5:$AN$5"),F$5,INDIRECT("'"&TRANSPOSE(Tabellenblätter_FPs)&"'!$E$"&(ROW()+1)&":$AN$"&(ROW()+1))))} -> 3600 | G26: {=SUM(SUMIF(INDIRECT("'"&TRANSPOSE(Tabellenblätter_FPs)&"'!$E$5:$AN$5"),G$5,INDIRECT("'"&TRANSPOSE(Tabellenblätter_FPs)&"'!$E$"&(ROW()+1)&":$AN$"&(ROW()+1))))} -> 5400 | H26: {=SUM(SUMIF(INDIRECT("'"&TRANSPOSE(Tabellenblätter_FPs)&"'!$E$5:$AN$5"),H$5,INDIRECT("'"&TRANSPOSE(Tabellenblätter_FPs)&"'!$E$"&(ROW()+1)&":$AN$"&(ROW()+1))))} -> 7200 | I26: {=SUM(SUMIF(INDIRECT("'"&TRANSPOSE(Tabellenblätter_FPs)&"'!$E$5:$AN$5"),I$5,INDIRECT("'"&TRANSPOSE(Tabellenblätter_FPs)&"'!$E$"&(ROW()+1)&":$AN$"&(ROW()+1))))} -> 9000 | J26: {=SUM(SUMIF(INDIRECT("'"&TRANSPOSE(Tabellenblätter_FPs)&"'!$E$5:$AN$5"),J$5,INDIRECT("'"&TRANSPOSE(Tabellenblätter_FPs)&"'!$E$"&(ROW()+1)&":$AN$"&(ROW()+1))))} -> 9000 | K26: {=SUM(SUMIF(INDIRECT("'"&TRANSPOSE(Tabellenblätter_FPs)&"'!$E$5:$AN$5"),K$5,INDIRECT("'"&TRANSPOSE(Tabellenblätter_FPs)&"'!$E$"&(ROW()+1)&":$AN$"&(ROW()+1))))} -> 14400 | L26: {=SUM(SUMIF(INDIRECT("'"&TRANSPOSE(Tabellenblätter_FPs)&"'!$E$5:$AN$5"),L$5,INDIRECT("'"&TRANSPOSE(Tabellenblätter_FPs)&"'!$E$"&(ROW()+1)&":$AN$"&(ROW()+1))))} -> 14400 | ... AN26: {=SUM(SUMIF(INDIRECT("'"&TRANSPOSE(Tabellenblätter_FPs)&"'!$E$5:$AN$5"),AN$5,INDIRECT("'"&TRANSPOSE(Tabellenblätter_FPs)&"'!$E$"&(ROW()+1)&":$AN$"&(ROW()+1))))} -> 18000
B28: INDE | C28: =VLOOKUP(B28,Leistungen,2,0) -> Innendesign | E28: {=SUM(SUMIF(INDIRECT("'"&TRANSPOSE(Tabellenblätter_FPs)&"'!$E$5:$AN$5"),E$5,INDIRECT("'"&TRANSPOSE(Tabellenblätter_FPs)&"'!$E$"&(ROW()+2)&":$AN$"&(ROW()+2))))} -> 15000 | F28: {=SUM(SUMIF(INDIRECT("'"&TRANSPOSE(Tabellenblätter_FPs)&"'!$E$5:$AN$5"),F$5,INDIRECT("'"&TRANSPOSE(Tabellenblätter_FPs)&"'!$E$"&(ROW()+2)&":$AN$"&(ROW()+2))))} -> 0 | G28: {=SUM(SUMIF(INDIRECT("'"&TRANSPOSE(Tabellenblätter_FPs)&"'!$E$5:$AN$5"),G$5,INDIRECT("'"&TRANSPOSE(Tabellenblätter_FPs)&"'!$E$"&(ROW()+2)&":$AN$"&(ROW()+2))))} -> 15000 | H28: {=SUM(SUMIF(INDIRECT("'"&TRANSPOSE(Tabellenblätter_FPs)&"'!$E$5:$AN$5"),H$5,INDIRECT("'"&TRANSPOSE(Tabellenblätter_FPs)&"'!$E$"&(ROW()+2)&":$AN$"&(ROW()+2))))} -> 30000 | I28: {=SUM(SUMIF(INDIRECT("'"&TRANSPOSE(Tabellenblätter_FPs)&"'!$E$5:$AN$5"),I$5,INDIRECT("'"&TRANSPOSE(Tabellenblätter_FPs)&"'!$E$"&(ROW()+2)&":$AN$"&(ROW()+2))))} -> 15000 | J28: {=SUM(SUMIF(INDIRECT("'"&TRANSPOSE(Tabellenblätter_FPs)&"'!$E$5:$AN$5"),J$5,INDIRECT("'"&TRANSPOSE(Tabellenblätter_FPs)&"'!$E$"&(ROW()+2)&":$AN$"&(ROW()+2))))} -> 30000 | K28: {=SUM(SUMIF(INDIRECT("'"&TRANSPOSE(Tabellenblätter_FPs)&"'!$E$5:$AN$5"),K$5,INDIRECT("'"&TRANSPOSE(Tabellenblätter_FPs)&"'!$E$"&(ROW()+2)&":$AN$"&(ROW()+2))))} -> 45000 | L28: {=SUM(SUMIF(INDIRECT("'"&TRANSPOSE(Tabellenblätter_FPs)&"'!$E$5:$AN$5"),L$5,INDIRECT("'"&TRANSPOSE(Tabellenblätter_FPs)&"'!$E$"&(ROW()+2)&":$AN$"&(ROW()+2))))} -> 30000 | ... AN28: {=SUM(SUMIF(INDIRECT("'"&TRANSPOSE(Tabellenblätter_FPs)&"'!$E$5:$AN$5"),AN$5,INDIRECT("'"&TRANSPOSE(Tabellenblätter_FPs)&"'!$E$"&(ROW()+2)&":$AN$"&(ROW()+2))))} -> 45000
B29: LXBF | C29: =VLOOKUP(B29,Leistungen,2,0) -> ENTFÄLLT Luxusgüter (Boote, Flugzeuge etc.) | E29: {=SUM(SUMIF(INDIRECT("'"&TRANSPOSE(Tabellenblätter_FPs)&"'!$E$5:$AN$5"),E$5,INDIRECT("'"&TRANSPOSE(Tabellenblätter_FPs)&"'!$E$"&(ROW()+2)&":$AN$"&(ROW()+2))))} -> 0 | F29: {=SUM(SUMIF(INDIRECT("'"&TRANSPOSE(Tabellenblätter_FPs)&"'!$E$5:$AN$5"),F$5,INDIRECT("'"&TRANSPOSE(Tabellenblätter_FPs)&"'!$E$"&(ROW()+2)&":$AN$"&(ROW()+2))))} -> 0 | G29: {=SUM(SUMIF(INDIRECT("'"&TRANSPOSE(Tabellenblätter_FPs)&"'!$E$5:$AN$5"),G$5,INDIRECT("'"&TRANSPOSE(Tabellenblätter_FPs)&"'!$E$"&(ROW()+2)&":$AN$"&(ROW()+2))))} -> 0 | H29: {=SUM(SUMIF(INDIRECT("'"&TRANSPOSE(Tabellenblätter_FPs)&"'!$E$5:$AN$5"),H$5,INDIRECT("'"&TRANSPOSE(Tabellenblätter_FPs)&"'!$E$"&(ROW()+2)&":$AN$"&(ROW()+2))))} -> 0 | I29: {=SUM(SUMIF(INDIRECT("'"&TRANSPOSE(Tabellenblätter_FPs)&"'!$E$5:$AN$5"),I$5,INDIRECT("'"&TRANSPOSE(Tabellenblätter_FPs)&"'!$E$"&(ROW()+2)&":$AN$"&(ROW()+2))))} -> 0 | J29: {=SUM(SUMIF(INDIRECT("'"&TRANSPOSE(Tabellenblätter_FPs)&"'!$E$5:$AN$5"),J$5,INDIRECT("'"&TRANSPOSE(Tabellenblätter_FPs)&"'!$E$"&(ROW()+2)&":$AN$"&(ROW()+2))))} -> 0 | K29: {=SUM(SUMIF(INDIRECT("'"&TRANSPOSE(Tabellenblätter_FPs)&"'!$E$5:$AN$5"),K$5,INDIRECT("'"&TRANSPOSE(Tabellenblätter_FPs)&"'!$E$"&(ROW()+2)&":$AN$"&(ROW()+2))))} -> 0 | L29: {=SUM(SUMIF(INDIRECT("'"&TRANSPOSE(Tabellenblätter_FPs)&"'!$E$5:$AN$5"),L$5,INDIRECT("'"&TRANSPOSE(Tabellenblätter_FPs)&"'!$E$"&(ROW()+2)&":$AN$"&(ROW()+2))))} -> 0 | ... AN29: {=SUM(SUMIF(INDIRECT("'"&TRANSPOSE(Tabellenblätter_FPs)&"'!$E$5:$AN$5"),AN$5,INDIRECT("'"&TRANSPOSE(Tabellenblätter_FPs)&"'!$E$"&(ROW()+2)&":$AN$"&(ROW()+2))))} -> 0
A31: Kosten / Aufwand | E31: {=SUM(SUMIF(INDIRECT("'"&TRANSPOSE(Tabellenblätter_FPs)&"'!$E$5:$AN$5"),E$5,INDIRECT("'"&TRANSPOSE(Tabellenblätter_FPs)&"'!$E$"&(ROW()+3)&":$AN$"&(ROW()+3))))} -> 114159.33 | F31: {=SUM(SUMIF(INDIRECT("'"&TRANSPOSE(Tabellenblätter_FPs)&"'!$E$5:$AN$5"),F$5,INDIRECT("'"&TRANSPOSE(Tabellenblätter_FPs)&"'!$E$"&(ROW()+3)&":$AN$"&(ROW()+3))))} -> 100731 | G31: {=SUM(SUMIF(INDIRECT("'"&TRANSPOSE(Tabellenblätter_FPs)&"'!$E$5:$AN$5"),G$5,INDIRECT("'"&TRANSPOSE(Tabellenblätter_FPs)&"'!$E$"&(ROW()+3)&":$AN$"&(ROW()+3))))} -> 103782 | H31: {=SUM(SUMIF(INDIRECT("'"&TRANSPOSE(Tabellenblätter_FPs)&"'!$E$5:$AN$5"),H$5,INDIRECT("'"&TRANSPOSE(Tabellenblätter_FPs)&"'!$E$"&(ROW()+3)&":$AN$"&(ROW()+3))))} -> 104333.33 | I31: {=SUM(SUMIF(INDIRECT("'"&TRANSPOSE(Tabellenblätter_FPs)&"'!$E$5:$AN$5"),I$5,INDIRECT("'"&TRANSPOSE(Tabellenblätter_FPs)&"'!$E$"&(ROW()+3)&":$AN$"&(ROW()+3))))} -> 109087.67 | J31: {=SUM(SUMIF(INDIRECT("'"&TRANSPOSE(Tabellenblätter_FPs)&"'!$E$5:$AN$5"),J$5,INDIRECT("'"&TRANSPOSE(Tabellenblätter_FPs)&"'!$E$"&(ROW()+3)&":$AN$"&(ROW()+3))))} -> 108154 | K31: {=SUM(SUMIF(INDIRECT("'"&TRANSPOSE(Tabellenblätter_FPs)&"'!$E$5:$AN$5"),K$5,INDIRECT("'"&TRANSPOSE(Tabellenblätter_FPs)&"'!$E$"&(ROW()+3)&":$AN$"&(ROW()+3))))} -> 134615 | L31: {=SUM(SUMIF(INDIRECT("'"&TRANSPOSE(Tabellenblätter_FPs)&"'!$E$5:$AN$5"),L$5,INDIRECT("'"&TRANSPOSE(Tabellenblätter_FPs)&"'!$E$"&(ROW()+3)&":$AN$"&(ROW()+3))))} -> 128886 | ... AN31: {=SUM(SUMIF(INDIRECT("'"&TRANSPOSE(Tabellenblätter_FPs)&"'!$E$5:$AN$5"),AN$5,INDIRECT("'"&TRANSPOSE(Tabellenblätter_FPs)&"'!$E$"&(ROW()+3)&":$AN$"&(ROW()+3))))} -> 141504.67
A32: Franchisegebühren | E32: {=SUM(SUMIF(INDIRECT("'"&TRANSPOSE(Tabellenblätter_FPs)&"'!$E$5:$AN$5"),E$5,INDIRECT("'"&TRANSPOSE(Tabellenblätter_FPs)&"'!$E$"&(ROW()+3)&":$AN$"&(ROW()+3))))} -> 25860 | F32: {=SUM(SUMIF(INDIRECT("'"&TRANSPOSE(Tabellenblätter_FPs)&"'!$E$5:$AN$5"),F$5,INDIRECT("'"&TRANSPOSE(Tabellenblätter_FPs)&"'!$E$"&(ROW()+3)&":$AN$"&(ROW()+3))))} -> 12714 | G32: {=SUM(SUMIF(INDIRECT("'"&TRANSPOSE(Tabellenblätter_FPs)&"'!$E$5:$AN$5"),G$5,INDIRECT("'"&TRANSPOSE(Tabellenblätter_FPs)&"'!$E$"&(ROW()+3)&":$AN$"&(ROW()+3))))} -> 13950 | H32: {=SUM(SUMIF(INDIRECT("'"&TRANSPOSE(Tabellenblätter_FPs)&"'!$E$5:$AN$5"),H$5,INDIRECT("'"&TRANSPOSE(Tabellenblätter_FPs)&"'!$E$"&(ROW()+3)&":$AN$"&(ROW()+3))))} -> 12888 | I32: {=SUM(SUMIF(INDIRECT("'"&TRANSPOSE(Tabellenblätter_FPs)&"'!$E$5:$AN$5"),I$5,INDIRECT("'"&TRANSPOSE(Tabellenblätter_FPs)&"'!$E$"&(ROW()+3)&":$AN$"&(ROW()+3))))} -> 14214 | J32: {=SUM(SUMIF(INDIRECT("'"&TRANSPOSE(Tabellenblätter_FPs)&"'!$E$5:$AN$5"),J$5,INDIRECT("'"&TRANSPOSE(Tabellenblätter_FPs)&"'!$E$"&(ROW()+3)&":$AN$"&(ROW()+3))))} -> 14208 | K32: {=SUM(SUMIF(INDIRECT("'"&TRANSPOSE(Tabellenblätter_FPs)&"'!$E$5:$AN$5"),K$5,INDIRECT("'"&TRANSPOSE(Tabellenblätter_FPs)&"'!$E$"&(ROW()+3)&":$AN$"&(ROW()+3))))} -> 33288 | L32: {=SUM(SUMIF(INDIRECT("'"&TRANSPOSE(Tabellenblätter_FPs)&"'!$E$5:$AN$5"),L$5,INDIRECT("'"&TRANSPOSE(Tabellenblätter_FPs)&"'!$E$"&(ROW()+3)&":$AN$"&(ROW()+3))))} -> 28164 | ... AN32: {=SUM(SUMIF(INDIRECT("'"&TRANSPOSE(Tabellenblätter_FPs)&"'!$E$5:$AN$5"),AN$5,INDIRECT("'"&TRANSPOSE(Tabellenblätter_FPs)&"'!$E$"&(ROW()+3)&":$AN$"&(ROW()+3))))} -> 40218
B33: Grundgebühr | E33: {=SUM(SUMIF(INDIRECT("'"&TRANSPOSE(Tabellenblätter_FPs)&"'!$E$5:$AN$5"),E$5,INDIRECT("'"&TRANSPOSE(Tabellenblätter_FPs)&"'!$E$"&(ROW()+3)&":$AN$"&(ROW()+3))))} -> 18000 | F33: {=SUM(SUMIF(INDIRECT("'"&TRANSPOSE(Tabellenblätter_FPs)&"'!$E$5:$AN$5"),F$5,INDIRECT("'"&TRANSPOSE(Tabellenblätter_FPs)&"'!$E$"&(ROW()+3)&":$AN$"&(ROW()+3))))} -> 0 | G33: {=SUM(SUMIF(INDIRECT("'"&TRANSPOSE(Tabellenblätter_FPs)&"'!$E$5:$AN$5"),G$5,INDIRECT("'"&TRANSPOSE(Tabellenblätter_FPs)&"'!$E$"&(ROW()+3)&":$AN$"&(ROW()+3))))} -> 0 | H33: {=SUM(SUMIF(INDIRECT("'"&TRANSPOSE(Tabellenblätter_FPs)&"'!$E$5:$AN$5"),H$5,INDIRECT("'"&TRANSPOSE(Tabellenblätter_FPs)&"'!$E$"&(ROW()+3)&":$AN$"&(ROW()+3))))} -> 0 | I33: {=SUM(SUMIF(INDIRECT("'"&TRANSPOSE(Tabellenblätter_FPs)&"'!$E$5:$AN$5"),I$5,INDIRECT("'"&TRANSPOSE(Tabellenblätter_FPs)&"'!$E$"&(ROW()+3)&":$AN$"&(ROW()+3))))} -> 0 | J33: {=SUM(SUMIF(INDIRECT("'"&TRANSPOSE(Tabellenblätter_FPs)&"'!$E$5:$AN$5"),J$5,INDIRECT("'"&TRANSPOSE(Tabellenblätter_FPs)&"'!$E$"&(ROW()+3)&":$AN$"&(ROW()+3))))} -> 0 | K33: {=SUM(SUMIF(INDIRECT("'"&TRANSPOSE(Tabellenblätter_FPs)&"'!$E$5:$AN$5"),K$5,INDIRECT("'"&TRANSPOSE(Tabellenblätter_FPs)&"'!$E$"&(ROW()+3)&":$AN$"&(ROW()+3))))} -> 0 | L33: {=SUM(SUMIF(INDIRECT("'"&TRANSPOSE(Tabellenblätter_FPs)&"'!$E$5:$AN$5"),L$5,INDIRECT("'"&TRANSPOSE(Tabellenblätter_FPs)&"'!$E$"&(ROW()+3)&":$AN$"&(ROW()+3))))} -> 0 | ... AN33: {=SUM(SUMIF(INDIRECT("'"&TRANSPOSE(Tabellenblätter_FPs)&"'!$E$5:$AN$5"),AN$5,INDIRECT("'"&TRANSPOSE(Tabellenblätter_FPs)&"'!$E$"&(ROW()+3)&":$AN$"&(ROW()+3))))} -> 0
B34: variabel | E34: {=SUM(SUMIF(INDIRECT("'"&TRANSPOSE(Tabellenblätter_FPs)&"'!$E$5:$AN$5"),E$5,INDIRECT("'"&TRANSPOSE(Tabellenblätter_FPs)&"'!$E$"&(ROW()+3)&":$AN$"&(ROW()+3))))} -> 7860 | F34: {=SUM(SUMIF(INDIRECT("'"&TRANSPOSE(Tabellenblätter_FPs)&"'!$E$5:$AN$5"),F$5,INDIRECT("'"&TRANSPOSE(Tabellenblätter_FPs)&"'!$E$"&(ROW()+3)&":$AN$"&(ROW()+3))))} -> 12714 | G34: {=SUM(SUMIF(INDIRECT("'"&TRANSPOSE(Tabellenblätter_FPs)&"'!$E$5:$AN$5"),G$5,INDIRECT("'"&TRANSPOSE(Tabellenblätter_FPs)&"'!$E$"&(ROW()+3)&":$AN$"&(ROW()+3))))} -> 13950 | H34: {=SUM(SUMIF(INDIRECT("'"&TRANSPOSE(Tabellenblätter_FPs)&"'!$E$5:$AN$5"),H$5,INDIRECT("'"&TRANSPOSE(Tabellenblätter_FPs)&"'!$E$"&(ROW()+3)&":$AN$"&(ROW()+3))))} -> 12888 | I34: {=SUM(SUMIF(INDIRECT("'"&TRANSPOSE(Tabellenblätter_FPs)&"'!$E$5:$AN$5"),I$5,INDIRECT("'"&TRANSPOSE(Tabellenblätter_FPs)&"'!$E$"&(ROW()+3)&":$AN$"&(ROW()+3))))} -> 14214 | J34: {=SUM(SUMIF(INDIRECT("'"&TRANSPOSE(Tabellenblätter_FPs)&"'!$E$5:$AN$5"),J$5,INDIRECT("'"&TRANSPOSE(Tabellenblätter_FPs)&"'!$E$"&(ROW()+3)&":$AN$"&(ROW()+3))))} -> 14208 | K34: {=SUM(SUMIF(INDIRECT("'"&TRANSPOSE(Tabellenblätter_FPs)&"'!$E$5:$AN$5"),K$5,INDIRECT("'"&TRANSPOSE(Tabellenblätter_FPs)&"'!$E$"&(ROW()+3)&":$AN$"&(ROW()+3))))} -> 33288 | L34: {=SUM(SUMIF(INDIRECT("'"&TRANSPOSE(Tabellenblätter_FPs)&"'!$E$5:$AN$5"),L$5,INDIRECT("'"&TRANSPOSE(Tabellenblätter_FPs)&"'!$E$"&(ROW()+3)&":$AN$"&(ROW()+3))))} -> 28164 | ... AN34: {=SUM(SUMIF(INDIRECT("'"&TRANSPOSE(Tabellenblätter_FPs)&"'!$E$5:$AN$5"),AN$5,INDIRECT("'"&TRANSPOSE(Tabellenblätter_FPs)&"'!$E$"&(ROW()+3)&":$AN$"&(ROW()+3))))} -> 40218
A35: Personalkosten | E35: {=SUM(SUMIF(INDIRECT("'"&TRANSPOSE(Tabellenblätter_FPs)&"'!$E$5:$AN$5"),E$5,INDIRECT("'"&TRANSPOSE(Tabellenblätter_FPs)&"'!$E$"&(ROW()+3)&":$AN$"&(ROW()+3))))} -> 57999.333 | F35: {=SUM(SUMIF(INDIRECT("'"&TRANSPOSE(Tabellenblätter_FPs)&"'!$E$5:$AN$5"),F$5,INDIRECT("'"&TRANSPOSE(Tabellenblätter_FPs)&"'!$E$"&(ROW()+3)&":$AN$"&(ROW()+3))))} -> 57717 | G35: {=SUM(SUMIF(INDIRECT("'"&TRANSPOSE(Tabellenblätter_FPs)&"'!$E$5:$AN$5"),G$5,INDIRECT("'"&TRANSPOSE(Tabellenblätter_FPs)&"'!$E$"&(ROW()+3)&":$AN$"&(ROW()+3))))} -> 59532 | H35: {=SUM(SUMIF(INDIRECT("'"&TRANSPOSE(Tabellenblätter_FPs)&"'!$E$5:$AN$5"),H$5,INDIRECT("'"&TRANSPOSE(Tabellenblätter_FPs)&"'!$E$"&(ROW()+3)&":$AN$"&(ROW()+3))))} -> 61145.333 | I35: {=SUM(SUMIF(INDIRECT("'"&TRANSPOSE(Tabellenblätter_FPs)&"'!$E$5:$AN$5"),I$5,INDIRECT("'"&TRANSPOSE(Tabellenblätter_FPs)&"'!$E$"&(ROW()+3)&":$AN$"&(ROW()+3))))} -> 64573.667 | J35: {=SUM(SUMIF(INDIRECT("'"&TRANSPOSE(Tabellenblätter_FPs)&"'!$E$5:$AN$5"),J$5,INDIRECT("'"&TRANSPOSE(Tabellenblätter_FPs)&"'!$E$"&(ROW()+3)&":$AN$"&(ROW()+3))))} -> 63646 | K35: {=SUM(SUMIF(INDIRECT("'"&TRANSPOSE(Tabellenblätter_FPs)&"'!$E$5:$AN$5"),K$5,INDIRECT("'"&TRANSPOSE(Tabellenblätter_FPs)&"'!$E$"&(ROW()+3)&":$AN$"&(ROW()+3))))} -> 71027 | L35: {=SUM(SUMIF(INDIRECT("'"&TRANSPOSE(Tabellenblätter_FPs)&"'!$E$5:$AN$5"),L$5,INDIRECT("'"&TRANSPOSE(Tabellenblätter_FPs)&"'!$E$"&(ROW()+3)&":$AN$"&(ROW()+3))))} -> 70422 | ... AN35: {=SUM(SUMIF(INDIRECT("'"&TRANSPOSE(Tabellenblätter_FPs)&"'!$E$5:$AN$5"),AN$5,INDIRECT("'"&TRANSPOSE(Tabellenblätter_FPs)&"'!$E$"&(ROW()+3)&":$AN$"&(ROW()+3))))} -> 70986.667
A37: Gemeinkosten | E37: {=SUM(SUMIF(INDIRECT("'"&TRANSPOSE(Tabellenblätter_FPs)&"'!$E$5:$AN$5"),E$5,INDIRECT("'"&TRANSPOSE(Tabellenblätter_FPs)&"'!$E$"&(ROW()+32)&":$AN$"&(ROW()+32))))} -> 30300 | F37: {=SUM(SUMIF(INDIRECT("'"&TRANSPOSE(Tabellenblätter_FPs)&"'!$E$5:$AN$5"),F$5,INDIRECT("'"&TRANSPOSE(Tabellenblätter_FPs)&"'!$E$"&(ROW()+32)&":$AN$"&(ROW()+32))))} -> 30300 | G37: {=SUM(SUMIF(INDIRECT("'"&TRANSPOSE(Tabellenblätter_FPs)&"'!$E$5:$AN$5"),G$5,INDIRECT("'"&TRANSPOSE(Tabellenblätter_FPs)&"'!$E$"&(ROW()+32)&":$AN$"&(ROW()+32))))} -> 30300 | H37: {=SUM(SUMIF(INDIRECT("'"&TRANSPOSE(Tabellenblätter_FPs)&"'!$E$5:$AN$5"),H$5,INDIRECT("'"&TRANSPOSE(Tabellenblätter_FPs)&"'!$E$"&(ROW()+32)&":$AN$"&(ROW()+32))))} -> 30300 | I37: {=SUM(SUMIF(INDIRECT("'"&TRANSPOSE(Tabellenblätter_FPs)&"'!$E$5:$AN$5"),I$5,INDIRECT("'"&TRANSPOSE(Tabellenblätter_FPs)&"'!$E$"&(ROW()+32)&":$AN$"&(ROW()+32))))} -> 30300 | J37: {=SUM(SUMIF(INDIRECT("'"&TRANSPOSE(Tabellenblätter_FPs)&"'!$E$5:$AN$5"),J$5,INDIRECT("'"&TRANSPOSE(Tabellenblätter_FPs)&"'!$E$"&(ROW()+32)&":$AN$"&(ROW()+32))))} -> 30300 | K37: {=SUM(SUMIF(INDIRECT("'"&TRANSPOSE(Tabellenblätter_FPs)&"'!$E$5:$AN$5"),K$5,INDIRECT("'"&TRANSPOSE(Tabellenblätter_FPs)&"'!$E$"&(ROW()+32)&":$AN$"&(ROW()+32))))} -> 30300 | L37: {=SUM(SUMIF(INDIRECT("'"&TRANSPOSE(Tabellenblätter_FPs)&"'!$E$5:$AN$5"),L$5,INDIRECT("'"&TRANSPOSE(Tabellenblätter_FPs)&"'!$E$"&(ROW()+32)&":$AN$"&(ROW()+32))))} -> 30300 | ... AN37: {=SUM(SUMIF(INDIRECT("'"&TRANSPOSE(Tabellenblätter_FPs)&"'!$E$5:$AN$5"),AN$5,INDIRECT("'"&TRANSPOSE(Tabellenblätter_FPs)&"'!$E$"&(ROW()+32)&":$AN$"&(ROW()+32))))} -> 30300

Sheet FP_001
A1: Prognose Franchisepartner 36 Monate
A2: Beginn | E2: 43466
A5: Monat | E5: =E2 -> 43466 | F5: =DATEVALUE(CONCATENATE("01.",MONTH(E5+40),".",YEAR(E5+40))) -> 43497 | G5: =DATEVALUE(CONCATENATE("01.",MONTH(F5+40),".",YEAR(F5+40))) -> 43525 | H5: =DATEVALUE(CONCATENATE("01.",MONTH(G5+40),".",YEAR(G5+40))) -> 43556 | I5: =DATEVALUE(CONCATENATE("01.",MONTH(H5+40),".",YEAR(H5+40))) -> 43586 | J5: =DATEVALUE(CONCATENATE("01.",MONTH(I5+40),".",YEAR(I5+40))) -> 43617 | K5: =DATEVALUE(CONCATENATE("01.",MONTH(J5+40),".",YEAR(J5+40))) -> 43647 | L5: =DATEVALUE(CONCATENATE("01.",MONTH(K5+40),".",YEAR(K5+40))) -> 43678 | M5: =DATEVALUE(CONCATENATE("01.",MONTH(L5+40),".",YEAR(L5+40))) -> 43709 | ... AN5: =DATEVALUE(CONCATENATE("01.",MONTH(AM5+40),".",YEAR(AM5+40))) -> 44531
B6: Jahresergebnisanteil | E6: =HLOOKUP(E$5,Kalender,6,0) -> 0.092592593 | F6: =HLOOKUP(F$5,Kalender,6,0) -> 0.078703704 | G6: =HLOOKUP(G$5,Kalender,6,0) -> 0.083333333 | H6: =HLOOKUP(H$5,Kalender,6,0) -> 0.078703704 | I6: =HLOOKUP(I$5,Kalender,6,0) -> 0.087962963 | J6: =HLOOKUP(J$5,Kalender,6,0) -> 0.069444444 | K6: =HLOOKUP(K$5,Kalender,6,0) -> 0.097222222 | L6: =HLOOKUP(L$5,Kalender,6,0) -> 0.083333333 | ... AN6: =HLOOKUP(AN$5,Kalender,6,0) -> 0.078703704
A8: Ergebnis | E8: =E10-E34 -> -24953.111 | F8: =F10-F34 -> -12387 | G8: =G10-G34 -> -11344 | H8: =H10-H34 -> -13297.778 | I8: =I10-I34 -> -12672.556 | J8: =J10-J34 -> -12371.333 | K8: =K10-K34 -> 10608.333 | L8: =L10-L34 -> 3978 | ... AN8: =AN10-AN34 -> 19861.778
B9: kumuliert | E9: =SUM($E$8:E$8) -> -24953.111 | F9: =SUM($E$8:F$8) -> -37340.111 | G9: =SUM($E$8:G$8) -> -48684.111 | H9: =SUM($E$8:H$8) -> -61981.889 | I9: =SUM($E$8:I$8) -> -74654.444 | J9: =SUM($E$8:J$8) -> -87025.778 | K9: =SUM($E$8:K$8) -> -76417.444 | L9: =SUM($E$8:L$8) -> -72439.444 | ... AN9: =SUM($E$8:AN$8) -> 549391.78
A10: Umsatz / Einnahmen | E10: =SUM(E14:E18)+SUM(E21:E22)+SUM(E25:E27)+SUM(E30:E31) -> 13100 | F10: =SUM(F14:F18)+SUM(F21:F22)+SUM(F25:F27)+SUM(F30:F31) -> 21190 | G10: =SUM(G14:G18)+SUM(G21:G22)+SUM(G25:G27)+SUM(G30:G31) -> 23250 | H10: =SUM(H14:H18)+SUM(H21:H22)+SUM(H25:H27)+SUM(H30:H31) -> 21480 | I10: =SUM(I14:I18)+SUM(I21:I22)+SUM(I25:I27)+SUM(I30:I31) -> 23690 | J10: =SUM(J14:J18)+SUM(J21:J22)+SUM(J25:J27)+SUM(J30:J31) -> 23680 | K10: =SUM(K14:K18)+SUM(K21:K22)+SUM(K25:K27)+SUM(K30:K31) -> 55480 | L10: =SUM(L14:L18)+SUM(L21:L22)+SUM(L25:L27)+SUM(L30:L31) -> 46940 | ... AN10: =SUM(AN14:AN18)+SUM(AN21:AN22)+SUM(AN25:AN27)+SUM(AN30:AN31) -> 67030
A11: Zielumsatz MA | E11: =E41+E47+E53+E59+E65 -> 16401.852 | F11: =F41+F47+F53+F59+F65 -> 15773.009 | G11: =G41+G47+G53+G59+G65 -> 19767.5 | H11: =H41+H47+H53+H59+H65 -> 23397.037 | I11: =I41+I47+I53+I59+I65 -> 31433.565 | J11: =J41+J47+J53+J59+J65 -> 28987.5 | K11: =K41+K47+K53+K59+K65 -> 46422.639 | L11: =L41+L47+L53+L59+L65 -> 44796.667 | ... AN11: =AN41+AN47+AN53+AN59+AN65 -> 69707.87
B12: Immobilienfinanzierung | E12: =SUM(E14:E18) -> 5300 | F12: =SUM(F14:F18) -> 6390 | G12: =SUM(G14:G18) -> 5300 | H12: =SUM(H14:H18) -> 5880 | I12: =SUM(I14:I18) -> 11690 | J12: =SUM(J14:J18) -> 6680 | K12: =SUM(K14:K18) -> 17280 | L12: =SUM(L14:L18) -> 16990 | ... AN12: =SUM(AN14:AN18) -> 17280
C13: Umsatzperformance | E13: 0.2 | F13: 0.3 | G13: 0.3 | H13: 0.4 | I13: 0.5 | J13: 0.6 | K13: 0.7 | L13: 0.8 | M13: 0.9 | N13: 1 | O13: 1 | P13: 1 | Q13: 1 | R13: 1 | S13: 1 | T13: 1 | U13: 1 | V13: 1 | W13: 1 | X13: 1 | Y13: 1 | Z13: 1 | AA13: 1 | AB13: 1 | AC13: 1 | AD13: 1 | AE13: 1 | AF13: 1 | AG13: 1 | AH13: 1 | AI13: 1 | AJ13: 1 | AK13: 1 | AL13: 1 | AM13: 1 | AN13: 1
B14: IFOA | C14: =VLOOKUP(B14,Leistungen,2,0) -> Immobilienfinanzierung (Beratung ohne Abschluss) | E14: =ROUND(E$13*E$6*VLOOKUP($B14,Leistungen,5,0),0)*VLOOKUP($B14,Leistungen,4,0) -> 290 | F14: =ROUND(SUMPRODUCT($E$13:F$13,$E$6:F$6)*VLOOKUP($B14,Leistungen,5,0),0)*VLOOKUP($B14,Leistungen,4,0)-SUM($E14:E14) -> 290 | G14: =ROUND(SUMPRODUCT($E$13:G$13,$E$6:G$6)*VLOOKUP($B14,Leistungen,5,0),0)*VLOOKUP($B14,Leistungen,4,0)-SUM($E14:F14) -> 290 | H14: =ROUND(SUMPRODUCT($E$13:H$13,$E$6:H$6)*VLOOKUP($B14,Leistungen,5,0),0)*VLOOKUP($B14,Leistungen,4,0)-SUM($E14:G14) -> 580 | I14: =ROUND(SUMPRODUCT($E$13:I$13,$E$6:I$6)*VLOOKUP($B14,Leistungen,5,0),0)*VLOOKUP($B14,Leistungen,4,0)-SUM($E14:H14) -> 580 | J14: =ROUND(SUMPRODUCT($E$13:J$13,$E$6:J$6)*VLOOKUP($B14,Leistungen,5,0),0)*VLOOKUP($B14,Leistungen,4,0)-SUM($E14:I14) -> 580 | K14: =ROUND(SUMPRODUCT($E$13:K$13,$E$6:K$6)*VLOOKUP($B14,Leistungen,5,0),0)*VLOOKUP($B14,Leistungen,4,0)-SUM($E14:J14) -> 1160 | L14: =ROUND(SUMPRODUCT($E$13:L$13,$E$6:L$6)*VLOOKUP($B14,Leistungen,5,0),0)*VLOOKUP($B14,Leistungen,4,0)-SUM($E14:K14) -> 870 | M14: =ROUND(SUMPRODUCT($E$13:M$13,$E$6:M$6)*VLOOKUP($B14,Leistungen,5,0),0)*VLOOKUP($B14,Leistungen,4,0)-SUM($E14:L14) -> 1160 | ... AN14: =ROUND(SUMPRODUCT($E$13:AN$13,$E$6:AN$6)*VLOOKUP($B14,Leistungen,5,0),0)*VLOOKUP($B14,Leistungen,4,0)-SUM($E14:AM14) -> 1160
B15: IFMA | C15: =VLOOKUP(B15,Leistungen,2,0) -> Immobilienfinanzierung (Beratung mit Abschluss) | E15: =ROUND(E$13*E$6*VLOOKUP($B15,Leistungen,5,0),0)*VLOOKUP($B15,Leistungen,4,0) -> 4420 | F15: =ROUND(SUMPRODUCT($E$13:F$13,$E$6:F$6)*VLOOKUP($B15,Leistungen,5,0),0)*VLOOKUP($B15,Leistungen,4,0)-SUM($E15:E15) -> 4420 | G15: =ROUND(SUMPRODUCT($E$13:G$13,$E$6:G$6)*VLOOKUP($B15,Leistungen,5,0),0)*VLOOKUP($B15,Leistungen,4,0)-SUM($E15:F15) -> 4420 | H15: =ROUND(SUMPRODUCT($E$13:H$13,$E$6:H$6)*VLOOKUP($B15,Leistungen,5,0),0)*VLOOKUP($B15,Leistungen,4,0)-SUM($E15:G15) -> 4420 | I15: =ROUND(SUMPRODUCT($E$13:I$13,$E$6:I$6)*VLOOKUP($B15,Leistungen,5,0),0)*VLOOKUP($B15,Leistungen,4,0)-SUM($E15:H15) -> 8840 | J15: =ROUND(SUMPRODUCT($E$13:J$13,$E$6:J$6)*VLOOKUP($B15,Leistungen,5,0),0)*VLOOKUP($B15,Leistungen,4,0)-SUM($E15:I15) -> 4420 | K15: =ROUND(SUMPRODUCT($E$13:K$13,$E$6:K$6)*VLOOKUP($B15,Leistungen,5,0),0)*VLOOKUP($B15,Leistungen,4,0)-SUM($E15:J15) -> 13260 | L15: =ROUND(SUMPRODUCT($E$13:L$13,$E$6:L$6)*VLOOKUP($B15,Leistungen,5,0),0)*VLOOKUP($B15,Leistungen,4,0)-SUM($E15:K15) -> 13260 | M15: =ROUND(SUMPRODUCT($E$13:M$13,$E$6:M$6)*VLOOKUP($B15,Leistungen,5,0),0)*VLOOKUP($B15,Leistungen,4,0)-SUM($E15:L15) -> 13260 | ... AN15: =ROUND(SUMPRODUCT($E$13:AN$13,$E$6:AN$6)*VLOOKUP($B15,Leistungen,5,0),0)*VLOOKUP($B15,Leistungen,4,0)-SUM($E15:AM15) -> 13260
B16: FCPI | C16: =VLOOKUP(B16,Leistungen,2,0) -> Finanzierungscoaching für potentielle Immokäufer | E16: =ROUND(E$13*E$6*VLOOKUP($B16,Leistungen,5,0),0)*VLOOKUP($B16,Leistungen,4,0) -> 590 | F16: =ROUND(SUMPRODUCT($E$13:F$13,$E$6:F$6)*VLOOKUP($B16,Leistungen,5,0),0)*VLOOKUP($B16,Leistungen,4,0)-SUM($E16:E16) -> 590 | G16: =ROUND(SUMPRODUCT($E$13:G$13,$E$6:G$6)*VLOOKUP($B16,Leistungen,5,0),0)*VLOOKUP($B16,Leistungen,4,0)-SUM($E16:F16) -> 590 | H16: =ROUND(SUMPRODUCT($E$13:H$13,$E$6:H$6)*VLOOKUP($B16,Leistungen,5,0),0)*VLOOKUP($B16,Leistungen,4,0)-SUM($E16:G16) -> 590 | I16: =ROUND(SUMPRODUCT($E$13:I$13,$E$6:I$6)*VLOOKUP($B16,Leistungen,5,0),0)*VLOOKUP($B16,Leistungen,4,0)-SUM($E16:H16) -> 1180 | J16: =ROUND(SUMPRODUCT($E$13:J$13,$E$6:J$6)*VLOOKUP($B16,Leistungen,5,0),0)*VLOOKUP($B16,Leistungen,4,0)-SUM($E16:I16) -> 590 | K16: =ROUND(SUMPRODUCT($E$13:K$13,$E$6:K$6)*VLOOKUP($B16,Leistungen,5,0),0)*VLOOKUP($B16,Leistungen,4,0)-SUM($E16:J16) -> 1770 | L16: =ROUND(SUMPRODUCT($E$13:L$13,$E$6:L$6)*VLOOKUP($B16,Leistungen,5,0),0)*VLOOKUP($B16,Leistungen,4,0)-SUM($E16:K16) -> 1770 | M16: =ROUND(SUMPRODUCT($E$13:M$13,$E$6:M$6)*VLOOKUP($B16,Leistungen,5,0),0)*VLOOKUP($B16,Leistungen,4,0)-SUM($E16:L16) -> 1770 | ... AN16: =ROUND(SUMPRODUCT($E$13:AN$13,$E$6:AN$6)*VLOOKUP($B16,Leistungen,5,0),0)*VLOOKUP($B16,Leistungen,4,0)-SUM($E16:AM16) -> 1770
B17: MWOA | C17: =VLOOKUP(B17,Leistungen,2,0) -> Modernisierungen inkl. Wintergarten (Beratung ohne Abschluss) | E17: =ROUND(E$13*E$6*VLOOKUP($B17,Leistungen,5,0),0)*VLOOKUP($B17,Leistungen,4,0) -> 0 | F17: =ROUND(SUMPRODUCT($E$13:F$13,$E$6:F$6)*VLOOKUP($B17,Leistungen,5,0),0)*VLOOKUP($B17,Leistungen,4,0)-SUM($E17:E17) -> 290 | G17: =ROUND(SUMPRODUCT($E$13:G$13,$E$6:G$6)*VLOOKUP($B17,Leistungen,5,0),0)*VLOOKUP($B17,Leistungen,4,0)-SUM($E17:F17) -> 0 | H17: =ROUND(SUMPRODUCT($E$13:H$13,$E$6:H$6)*VLOOKUP($B17,Leistungen,5,0),0)*VLOOKUP($B17,Leistungen,4,0)-SUM($E17:G17) -> 290 | I17: =ROUND(SUMPRODUCT($E$13:I$13,$E$6:I$6)*VLOOKUP($B17,Leistungen,5,0),0)*VLOOKUP($B17,Leistungen,4,0)-SUM($E17:H17) -> 290 | J17: =ROUND(SUMPRODUCT($E$13:J$13,$E$6:J$6)*VLOOKUP($B17,Leistungen,5,0),0)*VLOOKUP($B17,Leistungen,4,0)-SUM($E17:I17) -> 290 | K17: =ROUND(SUMPRODUCT($E$13:K$13,$E$6:K$6)*VLOOKUP($B17,Leistungen,5,0),0)*VLOOKUP($B17,Leistungen,4,0)-SUM($E17:J17) -> 290 | L17: =ROUND(SUMPRODUCT($E$13:L$13,$E$6:L$6)*VLOOKUP($B17,Leistungen,5,0),0)*VLOOKUP($B17,Leistungen,4,0)-SUM($E17:K17) -> 290 | M17: =ROUND(SUMPRODUCT($E$13:M$13,$E$6:M$6)*VLOOKUP($B17,Leistungen,5,0),0)*VLOOKUP($B17,Leistungen,4,0)-SUM($E17:L17) -> 580 | ... AN17: =ROUND(SUMPRODUCT($E$13:AN$13,$E$6:AN$6)*VLOOKUP($B17,Leistungen,5,0),0)*VLOOKUP($B17,Leistungen,4,0)-SUM($E17:AM17) -> 290
B18: MWMA | C18: =VLOOKUP(B18,Leistungen,2,0) -> Modernisierungen inkl. Wintergarten (Beratung mit Abschluss) | E18: =ROUND(E$13*E$6*VLOOKUP($B18,Leistungen,5,0),0)*VLOOKUP($B18,Leistungen,4,0) -> 0 | F18: =ROUND(SUMPRODUCT($E$13:F$13,$E$6:F$6)*VLOOKUP($B18,Leistungen,5,0),0)*VLOOKUP($B18,Leistungen,4,0)-SUM($E18:E18) -> 800 | G18: =ROUND(SUMPRODUCT($E$13:G$13,$E$6:G$6)*VLOOKUP($B18,Leistungen,5,0),0)*VLOOKUP($B18,Leistungen,4,0)-SUM($E18:F18) -> 0 | H18: =ROUND(SUMPRODUCT($E$13:H$13,$E$6:H$6)*VLOOKUP($B18,Leistungen,5,0),0)*VLOOKUP($B18,Leistungen,4,0)-SUM($E18:G18) -> 0 | I18: =ROUND(SUMPRODUCT($E$13:I$13,$E$6:I$6)*VLOOKUP($B18,Leistungen,5,0),0)*VLOOKUP($B18,Leistungen,4,0)-SUM($E18:H18) -> 800 | J18: =ROUND(SUMPRODUCT($E$13:J$13,$E$6:J$6)*VLOOKUP($B18,Leistungen,5,0),0)*VLOOKUP($B18,Leistungen,4,0)-SUM($E18:I18) -> 800 | K18: =ROUND(SUMPRODUCT($E$13:K$13,$E$6:K$6)*VLOOKUP($B18,Leistungen,5,0),0)*VLOOKUP($B18,Leistungen,4,0)-SUM($E18:J18) -> 800 | L18: =ROUND(SUMPRODUCT($E$13:L$13,$E$6:L$6)*VLOOKUP($B18,Leistungen,5,0),0)*VLOOKUP($B18,Leistungen,4,0)-SUM($E18:K18) -> 800 | M18: =ROUND(SUMPRODUCT($E$13:M$13,$E$6:M$6)*VLOOKUP($B18,Leistungen,5,0),0)*VLOOKUP($B18,Leistungen,4,0)-SUM($E18:L18) -> 800 | ... AN18: =ROUND(SUMPRODUCT($E$13:AN$13,$E$6:AN$6)*VLOOKUP($B18,Leistungen,5,0),0)*VLOOKUP($B18,Leistungen,4,0)-SUM($E18:AM18) -> 800
C20: Umsatzperformance | E20: 0.2 | F20: 0.2 | G20: 0.2 | H20: 0.2 | I20: 0.2 | J20: 0.2 | K20: 0.2 | L20: 0.2 | M20: 0.5 | N20: 0.5 | O20: 0.5 | P20: 0.5 | Q20: 0.5 | R20: 0.5 | S20: 0.5 | T20: 0.7 | U20: 0.7 | V20: 0.7 | W20: 1 | X20: 1 | Y20: 1 | Z20: 1 | AA20: 1 | AB20: 1 | AC20: 1 | AD20: 1 | AE20: 1 | AF20: 1 | AG20: 1 | AH20: 1 | AI20: 1 | AJ20: 1 | AK20: 1 | AL20: 1 | AM20: 1 | AN20: 1
B21: IMMA | C21: =VLOOKUP(B21,Leistungen,2,0) -> Immobilienmakelei | E21: =ROUND(E$20*E$6*VLOOKUP($B21,Leistungen,5,0),0)*VLOOKUP($B21,Leistungen,4,0) -> 0 | F21: =ROUND(SUMPRODUCT($E$20:F$20,$E$6:F$6)*VLOOKUP($B21,Leistungen,5,0),0)*VLOOKUP($B21,Leistungen,4,0)-SUM($E21:E21) -> 12000 | G21: =ROUND(SUMPRODUCT($E$20:G$20,$E$6:G$6)*VLOOKUP($B21,Leistungen,5,0),0)*VLOOKUP($B21,Leistungen,4,0)-SUM($E21:F21) -> 0 | H21: =ROUND(SUMPRODUCT($E$20:H$20,$E$6:H$6)*VLOOKUP($B21,Leistungen,5,0),0)*VLOOKUP($B21,Leistungen,4,0)-SUM($E21:G21) -> 0 | I21: =ROUND(SUMPRODUCT($E$20:I$20,$E$6:I$6)*VLOOKUP($B21,Leistungen,5,0),0)*VLOOKUP($B21,Leistungen,4,0)-SUM($E21:H21) -> 0 | J21: =ROUND(SUMPRODUCT($E$20:J$20,$E$6:J$6)*VLOOKUP($B21,Leistungen,5,0),0)*VLOOKUP($B21,Leistungen,4,0)-SUM($E21:I21) -> 0 | K21: =ROUND(SUMPRODUCT($E$20:K$20,$E$6:K$6)*VLOOKUP($B21,Leistungen,5,0),0)*VLOOKUP($B21,Leistungen,4,0)-SUM($E21:J21) -> 12000 | L21: =ROUND(SUMPRODUCT($E$20:L$20,$E$6:L$6)*VLOOKUP($B21,Leistungen,5,0),0)*VLOOKUP($B21,Leistungen,4,0)-SUM($E21:K21) -> 0 | M21: =ROUND(SUMPRODUCT($E$20:M$20,$E$6:M$6)*VLOOKUP($B21,Leistungen,5,0),0)*VLOOKUP($B21,Leistungen,4,0)-SUM($E21:L21) -> 12000 | ... AN21: =ROUND(SUMPRODUCT($E$20:AN$20,$E$6:AN$6)*VLOOKUP($B21,Leistungen,5,0),0)*VLOOKUP($B21,Leistungen,4,0)-SUM($E21:AM21) -> 12000
B22: BVFM | C22: =VLOOKUP(B22,Leistungen,2,0) -> Beratung u. Vermittlung von Fertig- und Massivhäusern | E22: =ROUND(E$20*E$6*VLOOKUP($B22,Leistungen,5,0),0)*VLOOKUP($B22,Leistungen,4,0) -> 0 | F22: =ROUND(SUMPRODUCT($E$20:F$20,$E$6:F$6)*VLOOKUP($B22,Leistungen,5,0),0)*VLOOKUP($B22,Leistungen,4,0)-SUM($E22:E22) -> 0 | G22: =ROUND(SUMPRODUCT($E$20:G$20,$E$6:G$6)*VLOOKUP($B22,Leistungen,5,0),0)*VLOOKUP($B22,Leistungen,4,0)-SUM($E22:F22) -> 8750 | H22: =ROUND(SUMPRODUCT($E$20:H$20,$E$6:H$6)*VLOOKUP($B22,Leistungen,5,0),0)*VLOOKUP($B22,Leistungen,4,0)-SUM($E22:G22) -> 0 | I22: =ROUND(SUMPRODUCT($E$20:I$20,$E$6:I$6)*VLOOKUP($B22,Leistungen,5,0),0)*VLOOKUP($B22,Leistungen,4,0)-SUM($E22:H22) -> 0 | J22: =ROUND(SUMPRODUCT($E$20:J$20,$E$6:J$6)*VLOOKUP($B22,Leistungen,5,0),0)*VLOOKUP($B22,Leistungen,4,0)-SUM($E22:I22) -> 0 | K22: =ROUND(SUMPRODUCT($E$20:K$20,$E$6:K$6)*VLOOKUP($B22,Leistungen,5,0),0)*VLOOKUP($B22,Leistungen,4,0)-SUM($E22:J22) -> 0 | L22: =ROUND(SUMPRODUCT($E$20:L$20,$E$6:L$6)*VLOOKUP($B22,Leistungen,5,0),0)*VLOOKUP($B22,Leistungen,4,0)-SUM($E22:K22) -> 8750 | M22: =ROUND(SUMPRODUCT($E$20:M$20,$E$6:M$6)*VLOOKUP($B22,Leistungen,5,0),0)*VLOOKUP($B22,Leistungen,4,0)-SUM($E22:L22) -> 0 | ... AN22: =ROUND(SUMPRODUCT($E$20:AN$20,$E$6:AN$6)*VLOOKUP($B22,Leistungen,5,0),0)*VLOOKUP($B22,Leistungen,4,0)-SUM($E22:AM22) -> 8750
C24: Umsatzperformance | E24: 0.2 | F24: 0.2 | G24: 0.3 | H24: 0.4 | I24: 0.5 | J24: 0.6 | K24: 0.7 | L24: 0.8 | M24: 0.9 | N24: 1 | O24: 1 | P24: 1 | Q24: 1 | R24: 1 | S24: 1 | T24: 1 | U24: 1 | V24: 1 | W24: 1 | X24: 1 | Y24: 1 | Z24: 1 | AA24: 1 | AB24: 1 | AC24: 1 | AD24: 1 | AE24: 1 | AF24: 1 | AG24: 1 | AH24: 1 | AI24: 1 | AJ24: 1 | AK24: 1 | AL24: 1 | AM24: 1 | AN24: 1
B25: PHVO | C25: =VLOOKUP(B25,Leistungen,2,0) -> Photovoltaik | E25: =ROUND(E$24*E$6*VLOOKUP($B25,Leistungen,5,0),0)*VLOOKUP($B25,Leistungen,4,0) -> 800 | F25: =ROUND(SUMPRODUCT($E$24:F$24,$E$6:F$6)*VLOOKUP($B25,Leistungen,5,0),0)*VLOOKUP($B25,Leistungen,4,0)-SUM($E25:E25) -> 800 | G25: =ROUND(SUMPRODUCT($E$24:G$24,$E$6:G$6)*VLOOKUP($B25,Leistungen,5,0),0)*VLOOKUP($B25,Leistungen,4,0)-SUM($E25:F25) -> 1200 | H25: =ROUND(SUMPRODUCT($E$24:H$24,$E$6:H$6)*VLOOKUP($B25,Leistungen,5,0),0)*VLOOKUP($B25,Leistungen,4,0)-SUM($E25:G25) -> 1600 | I25: =ROUND(SUMPRODUCT($E$24:I$24,$E$6:I$6)*VLOOKUP($B25,Leistungen,5,0),0)*VLOOKUP($B25,Leistungen,4,0)-SUM($E25:H25) -> 2000 | J25: =ROUND(SUMPRODUCT($E$24:J$24,$E$6:J$6)*VLOOKUP($B25,Leistungen,5,0),0)*VLOOKUP($B25,Leistungen,4,0)-SUM($E25:I25) -> 2000 | K25: =ROUND(SUMPRODUCT($E$24:K$24,$E$6:K$6)*VLOOKUP($B25,Leistungen,5,0),0)*VLOOKUP($B25,Leistungen,4,0)-SUM($E25:J25) -> 3200 | L25: =ROUND(SUMPRODUCT($E$24:L$24,$E$6:L$6)*VLOOKUP($B25,Leistungen,5,0),0)*VLOOKUP($B25,Leistungen,4,0)-SUM($E25:K25) -> 3200 | M25: =ROUND(SUMPRODUCT($E$24:M$24,$E$6:M$6)*VLOOKUP($B25,Leistungen,5,0),0)*VLOOKUP($B25,Leistungen,4,0)-SUM($E25:L25) -> 4000 | ... AN25: =ROUND(SUMPRODUCT($E$24:AN$24,$E$6:AN$6)*VLOOKUP($B25,Leistungen,5,0),0)*VLOOKUP($B25,Leistungen,4,0)-SUM($E25:AM25) -> 4000
B26: HEUS | C26: =VLOOKUP(B26,Leistungen,2,0) -> Heizung und Solarthermie | E26: =ROUND(E$24*E$6*VLOOKUP($B26,Leistungen,5,0),0)*VLOOKUP($B26,Leistungen,4,0) -> 800 | F26: =ROUND(SUMPRODUCT($E$24:F$24,$E$6:F$6)*VLOOKUP($B26,Leistungen,5,0),0)*VLOOKUP($B26,Leistungen,4,0)-SUM($E26:E26) -> 800 | G26: =ROUND(SUMPRODUCT($E$24:G$24,$E$6:G$6)*VLOOKUP($B26,Leistungen,5,0),0)*VLOOKUP($B26,Leistungen,4,0)-SUM($E26:F26) -> 1200 | H26: =ROUND(SUMPRODUCT($E$24:H$24,$E$6:H$6)*VLOOKUP($B26,Leistungen,5,0),0)*VLOOKUP($B26,Leistungen,4,0)-SUM($E26:G26) -> 1600 | I26: =ROUND(SUMPRODUCT($E$24:I$24,$E$6:I$6)*VLOOKUP($B26,Leistungen,5,0),0)*VLOOKUP($B26,Leistungen,4,0)-SUM($E26:H26) -> 2000 | J26: =ROUND(SUMPRODUCT($E$24:J$24,$E$6:J$6)*VLOOKUP($B26,Leistungen,5,0),0)*VLOOKUP($B26,Leistungen,4,0)-SUM($E26:I26) -> 2000 | K26: =ROUND(SUMPRODUCT($E$24:K$24,$E$6:K$6)*VLOOKUP($B26,Leistungen,5,0),0)*VLOOKUP($B26,Leistungen,4,0)-SUM($E26:J26) -> 3200 | L26: =ROUND(SUMPRODUCT($E$24:L$24,$E$6:L$6)*VLOOKUP($B26,Leistungen,5,0),0)*VLOOKUP($B26,Leistungen,4,0)-SUM($E26:K26) -> 3200 | M26: =ROUND(SUMPRODUCT($E$24:M$24,$E$6:M$6)*VLOOKUP($B26,Leistungen,5,0),0)*VLOOKUP($B26,Leistungen,4,0)-SUM($E26:L26) -> 4000 | ... AN26: =ROUND(SUMPRODUCT($E$24:AN$24,$E$6:AN$6)*VLOOKUP($B26,Leistungen,5,0),0)*VLOOKUP($B26,Leistungen,4,0)-SUM($E26:AM26) -> 4000
B27: RAKR | C27: =VLOOKUP(B27,Leistungen,2,0) -> Ratenkredite (Konsumenten, Innendesign, Auto, Motorrad, IT) | E27: =ROUND(E$24*E$6*VLOOKUP($B27,Leistungen,5,0),0)*VLOOKUP($B27,Leistungen,4,0) -> 1200 | F27: =ROUND(SUMPRODUCT($E$24:F$24,$E$6:F$6)*VLOOKUP($B27,Leistungen,5,0),0)*VLOOKUP($B27,Leistungen,4,0)-SUM($E27:E27) -> 1200 | G27: =ROUND(SUMPRODUCT($E$24:G$24,$E$6:G$6)*VLOOKUP($B27,Leistungen,5,0),0)*VLOOKUP($B27,Leistungen,4,0)-SUM($E27:F27) -> 1800 | H27: =ROUND(SUMPRODUCT($E$24:H$24,$E$6:H$6)*VLOOKUP($B27,Leistungen,5,0),0)*VLOOKUP($B27,Leistungen,4,0)-SUM($E27:G27) -> 2400 | I27: =ROUND(SUMPRODUCT($E$24:I$24,$E$6:I$6)*VLOOKUP($B27,Leistungen,5,0),0)*VLOOKUP($B27,Leistungen,4,0)-SUM($E27:H27) -> 3000 | J27: =ROUND(SUMPRODUCT($E$24:J$24,$E$6:J$6)*VLOOKUP($B27,Leistungen,5,0),0)*VLOOKUP($B27,Leistungen,4,0)-SUM($E27:I27) -> 3000 | K27: =ROUND(SUMPRODUCT($E$24:K$24,$E$6:K$6)*VLOOKUP($B27,Leistungen,5,0),0)*VLOOKUP($B27,Leistungen,4,0)-SUM($E27:J27) -> 4800 | L27: =ROUND(SUMPRODUCT($E$24:L$24,$E$6:L$6)*VLOOKUP($B27,Leistungen,5,0),0)*VLOOKUP($B27,Leistungen,4,0)-SUM($E27:K27) -> 4800 | M27: =ROUND(SUMPRODUCT($E$24:M$24,$E$6:M$6)*VLOOKUP($B27,Leistungen,5,0),0)*VLOOKUP($B27,Leistungen,4,0)-SUM($E27:L27) -> 6000 | ... AN27: =ROUND(SUMPRODUCT($E$24:AN$24,$E$6:AN$6)*VLOOKUP($B27,Leistungen,5,0),0)*VLOOKUP($B27,Leistungen,4,0)-SUM($E27:AM27) -> 6000
C29: Umsatzperformance | E29: 0.2 | F29: 0.2 | G29: 0.3 | H29: 0.4 | I29: 0.5 | J29: 0.6 | K29: 0.7 | L29: 0.8 | M29: 1 | N29: 1 | O29: 1 | P29: 1 | Q29: 1 | R29: 1 | S29: 1 | T29: 1 | U29: 1 | V29: 1 | W29: 1 | X29: 1 | Y29: 1 | Z29: 1 | AA29: 1 | AB29: 1 | AC29: 1 | AD29: 1 | AE29: 1 | AF29: 1 | AG29: 1 | AH29: 1 | AI29: 1 | AJ29: 1 | AK29: 1 | AL29: 1 | AM29: 1 | AN29: 1
B30: INDE | C30: =VLOOKUP(B30,Leistungen,2,0) -> Innendesign | E30: =ROUND(E$29*E$6*VLOOKUP($B30,Leistungen,5,0),0)*VLOOKUP($B30,Leistungen,4,0) -> 5000 | F30: =ROUND(SUMPRODUCT($E$29:F$29,$E$6:F$6)*VLOOKUP($B30,Leistungen,5,0),0)*VLOOKUP($B30,Leistungen,4,0)-SUM($E30:E30) -> 0 | G30: =ROUND(SUMPRODUCT($E$29:G$29,$E$6:G$6)*VLOOKUP($B30,Leistungen,5,0),0)*VLOOKUP($B30,Leistungen,4,0)-SUM($E30:F30) -> 5000 | H30: =ROUND(SUMPRODUCT($E$29:H$29,$E$6:H$6)*VLOOKUP($B30,Leistungen,5,0),0)*VLOOKUP($B30,Leistungen,4,0)-SUM($E30:G30) -> 10000 | I30: =ROUND(SUMPRODUCT($E$29:I$29,$E$6:I$6)*VLOOKUP($B30,Leistungen,5,0),0)*VLOOKUP($B30,Leistungen,4,0)-SUM($E30:H30) -> 5000 | J30: =ROUND(SUMPRODUCT($E$29:J$29,$E$6:J$6)*VLOOKUP($B30,Leistungen,5,0),0)*VLOOKUP($B30,Leistungen,4,0)-SUM($E30:I30) -> 10000 | K30: =ROUND(SUMPRODUCT($E$29:K$29,$E$6:K$6)*VLOOKUP($B30,Leistungen,5,0),0)*VLOOKUP($B30,Leistungen,4,0)-SUM($E30:J30) -> 15000 | L30: =ROUND(SUMPRODUCT($E$29:L$29,$E$6:L$6)*VLOOKUP($B30,Leistungen,5,0),0)*VLOOKUP($B30,Leistungen,4,0)-SUM($E30:K30) -> 10000 | M30: =ROUND(SUMPRODUCT($E$29:M$29,$E$6:M$6)*VLOOKUP($B30,Leistungen,5,0),0)*VLOOKUP($B30,Leistungen,4,0)-SUM($E30:L30) -> 20000 | ... AN30: =ROUND(SUMPRODUCT($E$29:AN$29,$E$6:AN$6)*VLOOKUP($B30,Leistungen,5,0),0)*VLOOKUP($B30,Leistungen,4,0)-SUM($E30:AM30) -> 15000
